BEGIN:VCALENDAR
VERSION:2.0
PRODID:-//Freedom Benchrest - ECPv6.15.18//NONSGML v1.0//EN
CALSCALE:GREGORIAN
METHOD:PUBLISH
X-WR-CALNAME:Freedom Benchrest
X-ORIGINAL-URL:https://freedombenchrest.com
X-WR-CALDESC:Events for Freedom Benchrest
REFRESH-INTERVAL;VALUE=DURATION:PT1H
X-Robots-Tag:noindex
X-PUBLISHED-TTL:PT1H
BEGIN:VTIMEZONE
TZID:America/Chicago
BEGIN:DAYLIGHT
TZOFFSETFROM:-0600
TZOFFSETTO:-0500
TZNAME:CDT
DTSTART:20250309T080000
END:DAYLIGHT
BEGIN:STANDARD
TZOFFSETFROM:-0500
TZOFFSETTO:-0600
TZNAME:CST
DTSTART:20251102T070000
END:STANDARD
BEGIN:DAYLIGHT
TZOFFSETFROM:-0600
TZOFFSETTO:-0500
TZNAME:CDT
DTSTART:20260308T080000
END:DAYLIGHT
BEGIN:STANDARD
TZOFFSETFROM:-0500
TZOFFSETTO:-0600
TZNAME:CST
DTSTART:20261101T070000
END:STANDARD
BEGIN:DAYLIGHT
TZOFFSETFROM:-0600
TZOFFSETTO:-0500
TZNAME:CDT
DTSTART:20270314T080000
END:DAYLIGHT
BEGIN:STANDARD
TZOFFSETFROM:-0500
TZOFFSETTO:-0600
TZNAME:CST
DTSTART:20271107T070000
END:STANDARD
END:VTIMEZONE
BEGIN:VEVENT
DTSTART;TZID=America/Chicago:20260516T080000
DTEND;TZID=America/Chicago:20260516T170000
DTSTAMP:20260423T070823
CREATED:20251108T015143Z
LAST-MODIFIED:20260318T133802Z
UID:10000340-1778918400-1778950800@freedombenchrest.com
SUMMARY:600 Yard Match #3
DESCRIPTION:
URL:https://freedombenchrest.com/event/600-yard-match-3-13/
LOCATION:Red White and Blue Range\, 631 Avant Cemetery RD\, Tennille\, GA\, 31089\, United States
CATEGORIES:600 Yard
GEO:32.8633809;-82.8838366
X-APPLE-STRUCTURED-LOCATION;VALUE=URI;X-ADDRESS=Red White and Blue Range 631 Avant Cemetery RD Tennille GA 31089 United States;X-APPLE-RADIUS=500;X-TITLE=631 Avant Cemetery RD:geo:-82.8838366,32.8633809
END:VEVENT
BEGIN:VEVENT
DTSTART;TZID=America/Chicago:20260516T090000
DTEND;TZID=America/Chicago:20260516T170000
DTSTAMP:20260423T070823
CREATED:20251112T033937Z
LAST-MODIFIED:20251112T034045Z
UID:10000364-1778922000-1778950800@freedombenchrest.com
SUMMARY:1000 Yard Match #1 & #2
DESCRIPTION:
URL:https://freedombenchrest.com/event/1000-yard-match-1-2-5/
LOCATION:Vapor Trail Valley Range\, MO\, United States
CATEGORIES:1000 Yard
GEO:40.288366;-93.449902
END:VEVENT
BEGIN:VEVENT
DTSTART;TZID=America/Chicago:20260516T090000
DTEND;TZID=America/Chicago:20260516T170000
DTSTAMP:20260423T070823
CREATED:20260316T155621Z
LAST-MODIFIED:20260316T155621Z
UID:10000455-1778922000-1778950800@freedombenchrest.com
SUMMARY:1000 Yard Match #3 & #4
DESCRIPTION:
URL:https://freedombenchrest.com/event/1000-yard-match-3-4-7/
LOCATION:Harry Jones Memorial Range\, 3673-3653 Co Rd 17\, Fairview\, WV\, 26570\, United States
CATEGORIES:1000 Yard
GEO:39.6037528;-80.2679889
X-APPLE-STRUCTURED-LOCATION;VALUE=URI;X-ADDRESS=Harry Jones Memorial Range 3673-3653 Co Rd 17 Fairview WV 26570 United States;X-APPLE-RADIUS=500;X-TITLE=3673-3653 Co Rd 17:geo:-80.2679889,39.6037528
END:VEVENT
BEGIN:VEVENT
DTSTART;TZID=America/Chicago:20260516T090000
DTEND;TZID=America/Chicago:20260517T170000
DTSTAMP:20260423T070823
CREATED:20260225T160512Z
LAST-MODIFIED:20260225T160512Z
UID:10000444-1778922000-1779037200@freedombenchrest.com
SUMMARY:1000 Yard Match #3
DESCRIPTION:Light Gun and Tactical – Saturday\nHeavy Gun – Sunday
URL:https://freedombenchrest.com/event/1000-yard-match-3-8/
LOCATION:Original Pennsylvania 1000 yd Benchrest Club\, 197 Kelly Rd.\, Trout Run\, PA\, 17771\, United States
CATEGORIES:1000 Yard
GEO:41.4456417;-76.8777426
X-APPLE-STRUCTURED-LOCATION;VALUE=URI;X-ADDRESS=Original Pennsylvania 1000 yd Benchrest Club 197 Kelly Rd. Trout Run PA 17771 United States;X-APPLE-RADIUS=500;X-TITLE=197 Kelly Rd.:geo:-76.8777426,41.4456417
END:VEVENT
END:VCALENDAR