BEGIN:VCALENDAR
VERSION:2.0
PRODID:-//Freedom Benchrest - ECPv6.15.18//NONSGML v1.0//EN
CALSCALE:GREGORIAN
METHOD:PUBLISH
X-WR-CALNAME:Freedom Benchrest
X-ORIGINAL-URL:https://freedombenchrest.com
X-WR-CALDESC:Events for Freedom Benchrest
REFRESH-INTERVAL;VALUE=DURATION:PT1H
X-Robots-Tag:noindex
X-PUBLISHED-TTL:PT1H
BEGIN:VTIMEZONE
TZID:America/Chicago
BEGIN:DAYLIGHT
TZOFFSETFROM:-0600
TZOFFSETTO:-0500
TZNAME:CDT
DTSTART:20250309T080000
END:DAYLIGHT
BEGIN:STANDARD
TZOFFSETFROM:-0500
TZOFFSETTO:-0600
TZNAME:CST
DTSTART:20251102T070000
END:STANDARD
BEGIN:DAYLIGHT
TZOFFSETFROM:-0600
TZOFFSETTO:-0500
TZNAME:CDT
DTSTART:20260308T080000
END:DAYLIGHT
BEGIN:STANDARD
TZOFFSETFROM:-0500
TZOFFSETTO:-0600
TZNAME:CST
DTSTART:20261101T070000
END:STANDARD
BEGIN:DAYLIGHT
TZOFFSETFROM:-0600
TZOFFSETTO:-0500
TZNAME:CDT
DTSTART:20270314T080000
END:DAYLIGHT
BEGIN:STANDARD
TZOFFSETFROM:-0500
TZOFFSETTO:-0600
TZNAME:CST
DTSTART:20271107T070000
END:STANDARD
END:VTIMEZONE
BEGIN:VEVENT
DTSTART;TZID=America/Chicago:20260704T080000
DTEND;TZID=America/Chicago:20260704T170000
DTSTAMP:20260423T122905
CREATED:20260110T165542Z
LAST-MODIFIED:20260110T170434Z
UID:10000426-1783152000-1783184400@freedombenchrest.com
SUMMARY:600 Yard Match #3
DESCRIPTION:
URL:https://freedombenchrest.com/event/600-yard-match-3-21/
LOCATION:White Horse Firearms & Outdoor Education Center\, 127 White Horse Ln\, Philippi\, WV\, 26416\, United States
CATEGORIES:600 Yard
GEO:39.119741;-80.218792
X-APPLE-STRUCTURED-LOCATION;VALUE=URI;X-ADDRESS=White Horse Firearms & Outdoor Education Center 127 White Horse Ln Philippi WV 26416 United States;X-APPLE-RADIUS=500;X-TITLE=127 White Horse Ln:geo:-80.218792,39.119741
END:VEVENT
BEGIN:VEVENT
DTSTART;TZID=America/Chicago:20260704T090000
DTEND;TZID=America/Chicago:20260704T170000
DTSTAMP:20260423T122905
CREATED:20251119T002842Z
LAST-MODIFIED:20251119T002842Z
UID:10000396-1783155600-1783184400@freedombenchrest.com
SUMMARY:600 Yard Match #4
DESCRIPTION:
URL:https://freedombenchrest.com/event/600-yard-match-4-15/
LOCATION:Columbus Sportmans’ Association\, W10924 Breyer Rd\, Columbus\, WI\, 53925\, United States
CATEGORIES:600 Yard
GEO:43.344779;-88.93506
X-APPLE-STRUCTURED-LOCATION;VALUE=URI;X-ADDRESS=Columbus Sportmans’ Association W10924 Breyer Rd Columbus WI 53925 United States;X-APPLE-RADIUS=500;X-TITLE=W10924 Breyer Rd:geo:-88.93506,43.344779
END:VEVENT
END:VCALENDAR