BEGIN:VCALENDAR
VERSION:2.0
PRODID:-//Freedom Benchrest - ECPv6.15.18//NONSGML v1.0//EN
CALSCALE:GREGORIAN
METHOD:PUBLISH
X-ORIGINAL-URL:https://freedombenchrest.com
X-WR-CALDESC:Events for Freedom Benchrest
REFRESH-INTERVAL;VALUE=DURATION:PT1H
X-Robots-Tag:noindex
X-PUBLISHED-TTL:PT1H
BEGIN:VTIMEZONE
TZID:America/Chicago
BEGIN:DAYLIGHT
TZOFFSETFROM:-0600
TZOFFSETTO:-0500
TZNAME:CDT
DTSTART:20250309T080000
END:DAYLIGHT
BEGIN:STANDARD
TZOFFSETFROM:-0500
TZOFFSETTO:-0600
TZNAME:CST
DTSTART:20251102T070000
END:STANDARD
BEGIN:DAYLIGHT
TZOFFSETFROM:-0600
TZOFFSETTO:-0500
TZNAME:CDT
DTSTART:20260308T080000
END:DAYLIGHT
BEGIN:STANDARD
TZOFFSETFROM:-0500
TZOFFSETTO:-0600
TZNAME:CST
DTSTART:20261101T070000
END:STANDARD
BEGIN:DAYLIGHT
TZOFFSETFROM:-0600
TZOFFSETTO:-0500
TZNAME:CDT
DTSTART:20270314T080000
END:DAYLIGHT
BEGIN:STANDARD
TZOFFSETFROM:-0500
TZOFFSETTO:-0600
TZNAME:CST
DTSTART:20271107T070000
END:STANDARD
END:VTIMEZONE
BEGIN:VEVENT
DTSTART;TZID=America/Chicago:20260502T080000
DTEND;TZID=America/Chicago:20260502T170000
DTSTAMP:20260425T123952
CREATED:20251108T015409Z
LAST-MODIFIED:20260306T144437Z
UID:10000342-1777708800-1777741200@freedombenchrest.com
SUMMARY:600 Yard Match #5
DESCRIPTION:
URL:https://freedombenchrest.com/event/600-yard-match-5-13/
LOCATION:Red White and Blue Range\, 631 Avant Cemetery RD\, Tennille\, GA\, 31089\, United States
CATEGORIES:600 Yard
GEO:32.8633809;-82.8838366
X-APPLE-STRUCTURED-LOCATION;VALUE=URI;X-ADDRESS=Red White and Blue Range 631 Avant Cemetery RD Tennille GA 31089 United States;X-APPLE-RADIUS=500;X-TITLE=631 Avant Cemetery RD:geo:-82.8838366,32.8633809
END:VEVENT
BEGIN:VEVENT
DTSTART;TZID=America/Chicago:20260502T080000
DTEND;TZID=America/Chicago:20260502T170000
DTSTAMP:20260425T123952
CREATED:20260110T165457Z
LAST-MODIFIED:20260110T170815Z
UID:10000424-1777708800-1777741200@freedombenchrest.com
SUMMARY:600 Yard Match #1
DESCRIPTION:
URL:https://freedombenchrest.com/event/600-yard-match-1-20/
LOCATION:White Horse Firearms & Outdoor Education Center\, 127 White Horse Ln\, Philippi\, WV\, 26416\, United States
CATEGORIES:600 Yard
GEO:39.119741;-80.218792
X-APPLE-STRUCTURED-LOCATION;VALUE=URI;X-ADDRESS=White Horse Firearms & Outdoor Education Center 127 White Horse Ln Philippi WV 26416 United States;X-APPLE-RADIUS=500;X-TITLE=127 White Horse Ln:geo:-80.218792,39.119741
END:VEVENT
BEGIN:VEVENT
DTSTART;TZID=America/Chicago:20260502T090000
DTEND;TZID=America/Chicago:20260502T170000
DTSTAMP:20260425T123952
CREATED:20251119T002715Z
LAST-MODIFIED:20251119T002715Z
UID:10000394-1777712400-1777741200@freedombenchrest.com
SUMMARY:600 Yard Match #2
DESCRIPTION:
URL:https://freedombenchrest.com/event/600-yard-match-2-17/
LOCATION:Columbus Sportmans’ Association\, W10924 Breyer Rd\, Columbus\, WI\, 53925\, United States
CATEGORIES:600 Yard
GEO:43.344779;-88.93506
X-APPLE-STRUCTURED-LOCATION;VALUE=URI;X-ADDRESS=Columbus Sportmans’ Association W10924 Breyer Rd Columbus WI 53925 United States;X-APPLE-RADIUS=500;X-TITLE=W10924 Breyer Rd:geo:-88.93506,43.344779
END:VEVENT
BEGIN:VEVENT
DTSTART;TZID=America/Chicago:20260503T080000
DTEND;TZID=America/Chicago:20260503T170000
DTSTAMP:20260425T123952
CREATED:20251108T015442Z
LAST-MODIFIED:20260306T144709Z
UID:10000343-1777795200-1777827600@freedombenchrest.com
SUMMARY:600 Yard Match #6
DESCRIPTION:
URL:https://freedombenchrest.com/event/600-yard-match-6-13/
LOCATION:Red White and Blue Range\, 631 Avant Cemetery RD\, Tennille\, GA\, 31089\, United States
CATEGORIES:600 Yard
GEO:32.8633809;-82.8838366
X-APPLE-STRUCTURED-LOCATION;VALUE=URI;X-ADDRESS=Red White and Blue Range 631 Avant Cemetery RD Tennille GA 31089 United States;X-APPLE-RADIUS=500;X-TITLE=631 Avant Cemetery RD:geo:-82.8838366,32.8633809
END:VEVENT
BEGIN:VEVENT
DTSTART;TZID=America/Chicago:20260509T090000
DTEND;TZID=America/Chicago:20260509T170000
DTSTAMP:20260425T123952
CREATED:20251215T165637Z
LAST-MODIFIED:20251215T165637Z
UID:10000416-1778317200-1778346000@freedombenchrest.com
SUMMARY:600 Yard Match #6
DESCRIPTION:
URL:https://freedombenchrest.com/event/600-yard-match-6-19/
LOCATION:Western Colorado Rifle & Silhouette Club\, 712 38 Rd\, Palisade\, CO\, 81526\, United States
CATEGORIES:600 Yard
GEO:38.9713754;-108.3936509
X-APPLE-STRUCTURED-LOCATION;VALUE=URI;X-ADDRESS=Western Colorado Rifle & Silhouette Club 712 38 Rd Palisade CO 81526 United States;X-APPLE-RADIUS=500;X-TITLE=712 38 Rd:geo:-108.3936509,38.9713754
END:VEVENT
BEGIN:VEVENT
DTSTART;TZID=America/Chicago:20260516T080000
DTEND;TZID=America/Chicago:20260516T170000
DTSTAMP:20260425T123952
CREATED:20251108T015143Z
LAST-MODIFIED:20260318T133802Z
UID:10000340-1778918400-1778950800@freedombenchrest.com
SUMMARY:600 Yard Match #3
DESCRIPTION:
URL:https://freedombenchrest.com/event/600-yard-match-3-13/
LOCATION:Red White and Blue Range\, 631 Avant Cemetery RD\, Tennille\, GA\, 31089\, United States
CATEGORIES:600 Yard
GEO:32.8633809;-82.8838366
X-APPLE-STRUCTURED-LOCATION;VALUE=URI;X-ADDRESS=Red White and Blue Range 631 Avant Cemetery RD Tennille GA 31089 United States;X-APPLE-RADIUS=500;X-TITLE=631 Avant Cemetery RD:geo:-82.8838366,32.8633809
END:VEVENT
BEGIN:VEVENT
DTSTART;TZID=America/Chicago:20260517T080000
DTEND;TZID=America/Chicago:20260517T170000
DTSTAMP:20260425T123952
CREATED:20251108T015212Z
LAST-MODIFIED:20260318T145427Z
UID:10000341-1779004800-1779037200@freedombenchrest.com
SUMMARY:600 Yard Match #4
DESCRIPTION:
URL:https://freedombenchrest.com/event/600-yard-match-4-12/
LOCATION:Red White and Blue Range\, 631 Avant Cemetery RD\, Tennille\, GA\, 31089\, United States
CATEGORIES:600 Yard
GEO:32.8633809;-82.8838366
X-APPLE-STRUCTURED-LOCATION;VALUE=URI;X-ADDRESS=Red White and Blue Range 631 Avant Cemetery RD Tennille GA 31089 United States;X-APPLE-RADIUS=500;X-TITLE=631 Avant Cemetery RD:geo:-82.8838366,32.8633809
END:VEVENT
BEGIN:VEVENT
DTSTART;TZID=America/Chicago:20260530T090000
DTEND;TZID=America/Chicago:20260530T170000
DTSTAMP:20260425T123952
CREATED:20251117T003212Z
LAST-MODIFIED:20251117T003212Z
UID:10000382-1780131600-1780160400@freedombenchrest.com
SUMMARY:600 Yard Match #3
DESCRIPTION:
URL:https://freedombenchrest.com/event/600-yard-match-3-15/
LOCATION:Pete Lien & Sons Shooting Sports Complex\, 14514 Bill Janklow Rd.\, Piedmont\, SD\, 57769\, United States
CATEGORIES:600 Yard
GEO:44.2538708191;-103.148798719
X-APPLE-STRUCTURED-LOCATION;VALUE=URI;X-ADDRESS=Pete Lien & Sons Shooting Sports Complex 14514 Bill Janklow Rd. Piedmont SD 57769 United States;X-APPLE-RADIUS=500;X-TITLE=14514 Bill Janklow Rd.:geo:-103.148798719,44.2538708191
END:VEVENT
BEGIN:VEVENT
DTSTART;TZID=America/Chicago:20260530T090000
DTEND;TZID=America/Chicago:20260530T170000
DTSTAMP:20260425T123952
CREATED:20260316T155956Z
LAST-MODIFIED:20260316T160236Z
UID:10000461-1780131600-1780160400@freedombenchrest.com
SUMMARY:600 Yard Match #2
DESCRIPTION:
URL:https://freedombenchrest.com/event/600-yard-match-2-23/
LOCATION:Harry Jones Memorial Range\, 3673-3653 Co Rd 17\, Fairview\, WV\, 26570\, United States
CATEGORIES:600 Yard
GEO:39.6037528;-80.2679889
X-APPLE-STRUCTURED-LOCATION;VALUE=URI;X-ADDRESS=Harry Jones Memorial Range 3673-3653 Co Rd 17 Fairview WV 26570 United States;X-APPLE-RADIUS=500;X-TITLE=3673-3653 Co Rd 17:geo:-80.2679889,39.6037528
END:VEVENT
BEGIN:VEVENT
DTSTART;TZID=America/Chicago:20260531T090000
DTEND;TZID=America/Chicago:20260531T170000
DTSTAMP:20260425T123952
CREATED:20251117T003235Z
LAST-MODIFIED:20251117T003235Z
UID:10000383-1780218000-1780246800@freedombenchrest.com
SUMMARY:600 Yard Match #4
DESCRIPTION:
URL:https://freedombenchrest.com/event/600-yard-match-4-14/
LOCATION:Pete Lien & Sons Shooting Sports Complex\, 14514 Bill Janklow Rd.\, Piedmont\, SD\, 57769\, United States
CATEGORIES:600 Yard
GEO:44.2538708191;-103.148798719
X-APPLE-STRUCTURED-LOCATION;VALUE=URI;X-ADDRESS=Pete Lien & Sons Shooting Sports Complex 14514 Bill Janklow Rd. Piedmont SD 57769 United States;X-APPLE-RADIUS=500;X-TITLE=14514 Bill Janklow Rd.:geo:-103.148798719,44.2538708191
END:VEVENT
BEGIN:VEVENT
DTSTART;TZID=America/Chicago:20260531T090000
DTEND;TZID=America/Chicago:20260531T170000
DTSTAMP:20260425T123952
CREATED:20251211T193208Z
LAST-MODIFIED:20251211T193208Z
UID:10000406-1780218000-1780246800@freedombenchrest.com
SUMMARY:600 Yard Match #1
DESCRIPTION:
URL:https://freedombenchrest.com/event/600-yard-match-1-19/
LOCATION:Marathon County Rifle & Pistol Club\, 217980 Rifle Rd\, Mosinee\, 54455\, United States
CATEGORIES:600 Yard
END:VEVENT
END:VCALENDAR