BEGIN:VCALENDAR
VERSION:2.0
PRODID:-//Freedom Benchrest - ECPv6.15.18//NONSGML v1.0//EN
CALSCALE:GREGORIAN
METHOD:PUBLISH
X-WR-CALNAME:Freedom Benchrest
X-ORIGINAL-URL:https://freedombenchrest.com
X-WR-CALDESC:Events for Freedom Benchrest
REFRESH-INTERVAL;VALUE=DURATION:PT1H
X-Robots-Tag:noindex
X-PUBLISHED-TTL:PT1H
BEGIN:VTIMEZONE
TZID:America/Chicago
BEGIN:DAYLIGHT
TZOFFSETFROM:-0600
TZOFFSETTO:-0500
TZNAME:CDT
DTSTART:20240310T080000
END:DAYLIGHT
BEGIN:STANDARD
TZOFFSETFROM:-0500
TZOFFSETTO:-0600
TZNAME:CST
DTSTART:20241103T070000
END:STANDARD
BEGIN:DAYLIGHT
TZOFFSETFROM:-0600
TZOFFSETTO:-0500
TZNAME:CDT
DTSTART:20250309T080000
END:DAYLIGHT
BEGIN:STANDARD
TZOFFSETFROM:-0500
TZOFFSETTO:-0600
TZNAME:CST
DTSTART:20251102T070000
END:STANDARD
BEGIN:DAYLIGHT
TZOFFSETFROM:-0600
TZOFFSETTO:-0500
TZNAME:CDT
DTSTART:20260308T080000
END:DAYLIGHT
BEGIN:STANDARD
TZOFFSETFROM:-0500
TZOFFSETTO:-0600
TZNAME:CST
DTSTART:20261101T070000
END:STANDARD
END:VTIMEZONE
BEGIN:VEVENT
DTSTART;TZID=America/Chicago:20251227T090000
DTEND;TZID=America/Chicago:20251227T170000
DTSTAMP:20260421T211435
CREATED:20250307T221405Z
LAST-MODIFIED:20250307T222258Z
UID:10000329-1766826000-1766854800@freedombenchrest.com
SUMMARY:600 Yard Match #3
DESCRIPTION:
URL:https://freedombenchrest.com/event/600-yard-match-3-12/
LOCATION:Manatee Gun & Archery Club\, 1805 Logue Rd\, Myakka City\, FL\, 34251\, United States
CATEGORIES:600 Yard
GEO:27.4769729;-82.1560439
X-APPLE-STRUCTURED-LOCATION;VALUE=URI;X-ADDRESS=Manatee Gun & Archery Club 1805 Logue Rd Myakka City FL 34251 United States;X-APPLE-RADIUS=500;X-TITLE=1805 Logue Rd:geo:-82.1560439,27.4769729
END:VEVENT
BEGIN:VEVENT
DTSTART;TZID=America/Chicago:20251213T090000
DTEND;TZID=America/Chicago:20251213T170000
DTSTAMP:20260421T211435
CREATED:20250306T231134Z
LAST-MODIFIED:20250307T142847Z
UID:10000216-1765616400-1765645200@freedombenchrest.com
SUMMARY:600 Yard Match #10
DESCRIPTION:
URL:https://freedombenchrest.com/event/600-yard-match-10/
LOCATION:Western Colorado Rifle & Silhouette Club\, 712 38 Rd\, Palisade\, CO\, 81526\, United States
CATEGORIES:600 Yard
GEO:38.9713754;-108.3936509
X-APPLE-STRUCTURED-LOCATION;VALUE=URI;X-ADDRESS=Western Colorado Rifle & Silhouette Club 712 38 Rd Palisade CO 81526 United States;X-APPLE-RADIUS=500;X-TITLE=712 38 Rd:geo:-108.3936509,38.9713754
END:VEVENT
BEGIN:VEVENT
DTSTART;TZID=America/Chicago:20251123T090000
DTEND;TZID=America/Chicago:20251123T170000
DTSTAMP:20260421T211435
CREATED:20260112T193229Z
LAST-MODIFIED:20260112T193229Z
UID:10000435-1763888400-1763917200@freedombenchrest.com
SUMMARY:1000 Yard Match #1
DESCRIPTION:
URL:https://freedombenchrest.com/event/1000-yard-match-1-6/
LOCATION:Sacramento Valley Shooting Center\, 15501 Meiss Rd\, Sloughouse\, CA\, 95683\, United States
CATEGORIES:1000 Yard
END:VEVENT
BEGIN:VEVENT
DTSTART;TZID=America/Chicago:20251123T090000
DTEND;TZID=America/Chicago:20251123T170000
DTSTAMP:20260421T211435
CREATED:20250307T221404Z
LAST-MODIFIED:20250307T222250Z
UID:10000328-1763888400-1763917200@freedombenchrest.com
SUMMARY:600 Yard Match #2
DESCRIPTION:
URL:https://freedombenchrest.com/event/600-yard-match-2-13/
LOCATION:Manatee Gun & Archery Club\, 1805 Logue Rd\, Myakka City\, FL\, 34251\, United States
CATEGORIES:600 Yard
GEO:27.4769729;-82.1560439
X-APPLE-STRUCTURED-LOCATION;VALUE=URI;X-ADDRESS=Manatee Gun & Archery Club 1805 Logue Rd Myakka City FL 34251 United States;X-APPLE-RADIUS=500;X-TITLE=1805 Logue Rd:geo:-82.1560439,27.4769729
END:VEVENT
BEGIN:VEVENT
DTSTART;TZID=America/Chicago:20251123T090000
DTEND;TZID=America/Chicago:20251123T170000
DTSTAMP:20260421T211435
CREATED:20250306T232008Z
LAST-MODIFIED:20250306T232008Z
UID:10000272-1763888400-1763917200@freedombenchrest.com
SUMMARY:600 Yard Match #6
DESCRIPTION:
URL:https://freedombenchrest.com/event/600-yard-match-6-7/
LOCATION:Sacramento Valley Shooting Center\, 15501 Meiss Rd\, Sloughouse\, CA\, 95683\, United States
CATEGORIES:600 Yard
END:VEVENT
BEGIN:VEVENT
DTSTART;TZID=America/Chicago:20251122T090000
DTEND;TZID=America/Chicago:20251122T170000
DTSTAMP:20260421T211435
CREATED:20250307T221402Z
LAST-MODIFIED:20250307T222241Z
UID:10000327-1763802000-1763830800@freedombenchrest.com
SUMMARY:600 Yard Match #1
DESCRIPTION:
URL:https://freedombenchrest.com/event/600-yard-match-1-13/
LOCATION:Manatee Gun & Archery Club\, 1805 Logue Rd\, Myakka City\, FL\, 34251\, United States
CATEGORIES:600 Yard
GEO:27.4769729;-82.1560439
X-APPLE-STRUCTURED-LOCATION;VALUE=URI;X-ADDRESS=Manatee Gun & Archery Club 1805 Logue Rd Myakka City FL 34251 United States;X-APPLE-RADIUS=500;X-TITLE=1805 Logue Rd:geo:-82.1560439,27.4769729
END:VEVENT
BEGIN:VEVENT
DTSTART;TZID=America/Chicago:20251026T090000
DTEND;TZID=America/Chicago:20251026T170000
DTSTAMP:20260421T211435
CREATED:20250306T232008Z
LAST-MODIFIED:20250306T232008Z
UID:10000271-1761469200-1761498000@freedombenchrest.com
SUMMARY:600 Yard Match #5
DESCRIPTION:Double EYH Points
URL:https://freedombenchrest.com/event/600-yard-match-5-7/
LOCATION:Sacramento Valley Shooting Center\, 15501 Meiss Rd\, Sloughouse\, CA\, 95683\, United States
CATEGORIES:600 Yard
END:VEVENT
BEGIN:VEVENT
DTSTART;TZID=America/Chicago:20251018T100000
DTEND;TZID=America/Chicago:20251018T170000
DTSTAMP:20260421T211435
CREATED:20250306T230807Z
LAST-MODIFIED:20250730T133357Z
UID:10000202-1760781600-1760806800@freedombenchrest.com
SUMMARY:1000 Yard Match #9 & 10
DESCRIPTION:
URL:https://freedombenchrest.com/event/1000-yard-match-9-10/
LOCATION:Hawk’s Ridge Gun Club\, 1018 Gladys Fork Road\, Ferguson\, NC\, 28624\, United States
CATEGORIES:1000 Yard
GEO:36.0987123;-81.3903085
X-APPLE-STRUCTURED-LOCATION;VALUE=URI;X-ADDRESS=Hawk’s Ridge Gun Club 1018 Gladys Fork Road Ferguson NC 28624 United States;X-APPLE-RADIUS=500;X-TITLE=1018 Gladys Fork Road:geo:-81.3903085,36.0987123
END:VEVENT
BEGIN:VEVENT
DTSTART;TZID=America/Chicago:20251012T090000
DTEND;TZID=America/Chicago:20251012T170000
DTSTAMP:20260421T211435
CREATED:20250306T231242Z
LAST-MODIFIED:20250306T231242Z
UID:10000223-1760259600-1760288400@freedombenchrest.com
SUMMARY:600 Yard Match #2 for 2026
DESCRIPTION:Double EYH Points for 2026
URL:https://freedombenchrest.com/event/600-yard-match-2-for-2026/
LOCATION:Vapor Trail Valley Range\, MO\, United States
CATEGORIES:600 Yard
GEO:40.288366;-93.449902
END:VEVENT
BEGIN:VEVENT
DTSTART;TZID=America/Chicago:20251011T090000
DTEND;TZID=America/Chicago:20251011T170000
DTSTAMP:20260421T211435
CREATED:20250306T231241Z
LAST-MODIFIED:20250306T231241Z
UID:10000222-1760173200-1760202000@freedombenchrest.com
SUMMARY:600 Yard Match #1 for 2026
DESCRIPTION:Double EYH Points for 2026
URL:https://freedombenchrest.com/event/600-yard-match-1-for-2026/
LOCATION:Vapor Trail Valley Range\, MO\, United States
CATEGORIES:600 Yard
GEO:40.288366;-93.449902
END:VEVENT
BEGIN:VEVENT
DTSTART;TZID=America/Chicago:20251005T090000
DTEND;TZID=America/Chicago:20251005T170000
DTSTAMP:20260421T211435
CREATED:20250306T232508Z
LAST-MODIFIED:20250306T232508Z
UID:10000300-1759654800-1759683600@freedombenchrest.com
SUMMARY:600 Yard Match #6
DESCRIPTION:
URL:https://freedombenchrest.com/event/600-yard-match-6-9/
LOCATION:Hunters Pointe Shooting Complex\, 45761 260th St.\, Humboldt\, SD\, 57035\, United States
CATEGORIES:600 Yard
GEO:43.6129157;-97.0567974
X-APPLE-STRUCTURED-LOCATION;VALUE=URI;X-ADDRESS=Hunters Pointe Shooting Complex 45761 260th St. Humboldt SD 57035 United States;X-APPLE-RADIUS=500;X-TITLE=45761 260th St.:geo:-97.0567974,43.6129157
END:VEVENT
BEGIN:VEVENT
DTSTART;TZID=America/Chicago:20251004T090000
DTEND;TZID=America/Chicago:20251004T170000
DTSTAMP:20260421T211435
CREATED:20250306T232508Z
LAST-MODIFIED:20250306T232508Z
UID:10000299-1759568400-1759597200@freedombenchrest.com
SUMMARY:600 Yard Match #5
DESCRIPTION:
URL:https://freedombenchrest.com/event/600-yard-match-5-9/
LOCATION:Hunters Pointe Shooting Complex\, 45761 260th St.\, Humboldt\, SD\, 57035\, United States
CATEGORIES:600 Yard
GEO:43.6129157;-97.0567974
X-APPLE-STRUCTURED-LOCATION;VALUE=URI;X-ADDRESS=Hunters Pointe Shooting Complex 45761 260th St. Humboldt SD 57035 United States;X-APPLE-RADIUS=500;X-TITLE=45761 260th St.:geo:-97.0567974,43.6129157
END:VEVENT
BEGIN:VEVENT
DTSTART;TZID=America/Chicago:20251004T080000
DTEND;TZID=America/Chicago:20251004T170000
DTSTAMP:20260421T211435
CREATED:20250306T231443Z
LAST-MODIFIED:20250307T142828Z
UID:10000236-1759564800-1759597200@freedombenchrest.com
SUMMARY:600 Yard Match #6
DESCRIPTION:
URL:https://freedombenchrest.com/event/600-yard-match-6-5/
LOCATION:White Horse Firearms & Outdoor Education Center\, 127 White Horse Ln\, Philippi\, WV\, 26416\, United States
CATEGORIES:600 Yard
GEO:39.119741;-80.218792
X-APPLE-STRUCTURED-LOCATION;VALUE=URI;X-ADDRESS=White Horse Firearms & Outdoor Education Center 127 White Horse Ln Philippi WV 26416 United States;X-APPLE-RADIUS=500;X-TITLE=127 White Horse Ln:geo:-80.218792,39.119741
END:VEVENT
BEGIN:VEVENT
DTSTART;TZID=America/Chicago:20251003T090000
DTEND;TZID=America/Chicago:20251005T170000
DTSTAMP:20260421T211435
CREATED:20250306T231134Z
LAST-MODIFIED:20250307T142812Z
UID:10000215-1759482000-1759683600@freedombenchrest.com
SUMMARY:600 Yard Match #8 & 9
DESCRIPTION:State Championship
URL:https://freedombenchrest.com/event/600-yard-match-8-9/
LOCATION:Western Colorado Rifle & Silhouette Club\, 712 38 Rd\, Palisade\, CO\, 81526\, United States
CATEGORIES:600 Yard
GEO:38.9713754;-108.3936509
X-APPLE-STRUCTURED-LOCATION;VALUE=URI;X-ADDRESS=Western Colorado Rifle & Silhouette Club 712 38 Rd Palisade CO 81526 United States;X-APPLE-RADIUS=500;X-TITLE=712 38 Rd:geo:-108.3936509,38.9713754
END:VEVENT
BEGIN:VEVENT
DTSTART;TZID=America/Chicago:20250926T090000
DTEND;TZID=America/Chicago:20250926T170000
DTSTAMP:20260421T211435
CREATED:20250306T232046Z
LAST-MODIFIED:20250306T232046Z
UID:10000279-1758877200-1758906000@freedombenchrest.com
SUMMARY:1000 Yard - Freedom West Coast Nationals
DESCRIPTION:
URL:https://freedombenchrest.com/event/1000-yard-freedom-west-coast-nationals/
LOCATION:Sacramento Valley Shooting Center\, 15501 Meiss Rd\, Sloughouse\, CA\, 95683\, United States
CATEGORIES:1000 Yard
END:VEVENT
BEGIN:VEVENT
DTSTART;TZID=America/Chicago:20250926T080000
DTEND;TZID=America/Chicago:20250928T170000
DTSTAMP:20260421T211435
CREATED:20250430T162846Z
LAST-MODIFIED:20250430T162846Z
UID:10000337-1758873600-1759078800@freedombenchrest.com
SUMMARY:1000 Yard - 1000 Nationals
DESCRIPTION:
URL:https://freedombenchrest.com/event/1000-yard-1000-nationals/
LOCATION:Original Pennsylvania 1000 yd Benchrest Club\, 197 Kelly Rd.\, Trout Run\, PA\, 17771\, United States
CATEGORIES:1000 Yard
GEO:41.4456417;-76.8777426
X-APPLE-STRUCTURED-LOCATION;VALUE=URI;X-ADDRESS=Original Pennsylvania 1000 yd Benchrest Club 197 Kelly Rd. Trout Run PA 17771 United States;X-APPLE-RADIUS=500;X-TITLE=197 Kelly Rd.:geo:-76.8777426,41.4456417
END:VEVENT
BEGIN:VEVENT
DTSTART;TZID=America/Chicago:20250921T090000
DTEND;TZID=America/Chicago:20250921T170000
DTSTAMP:20260421T211435
CREATED:20250306T231908Z
LAST-MODIFIED:20250306T231908Z
UID:10000267-1758445200-1758474000@freedombenchrest.com
SUMMARY:600 Yard Match #6
DESCRIPTION:
URL:https://freedombenchrest.com/event/600-yard-match-6-6/
LOCATION:Original Pennsylvania 1000 yd Benchrest Club\, 197 Kelly Rd.\, Trout Run\, PA\, 17771\, United States
CATEGORIES:600 Yard
GEO:41.4456417;-76.8777426
X-APPLE-STRUCTURED-LOCATION;VALUE=URI;X-ADDRESS=Original Pennsylvania 1000 yd Benchrest Club 197 Kelly Rd. Trout Run PA 17771 United States;X-APPLE-RADIUS=500;X-TITLE=197 Kelly Rd.:geo:-76.8777426,41.4456417
END:VEVENT
BEGIN:VEVENT
DTSTART;TZID=America/Chicago:20250921T090000
DTEND;TZID=America/Chicago:20250921T170000
DTSTAMP:20260421T211435
CREATED:20250306T230733Z
LAST-MODIFIED:20250306T230733Z
UID:10000195-1758445200-1758474000@freedombenchrest.com
SUMMARY:1000 Yard Match #10
DESCRIPTION:State Match
URL:https://freedombenchrest.com/event/1000-yard-match-10/
LOCATION:Red White and Blue Range\, 631 Avant Cemetery RD\, Tennille\, GA\, 31089\, United States
CATEGORIES:1000 Yard
GEO:32.8633809;-82.8838366
X-APPLE-STRUCTURED-LOCATION;VALUE=URI;X-ADDRESS=Red White and Blue Range 631 Avant Cemetery RD Tennille GA 31089 United States;X-APPLE-RADIUS=500;X-TITLE=631 Avant Cemetery RD:geo:-82.8838366,32.8633809
END:VEVENT
BEGIN:VEVENT
DTSTART;TZID=America/Chicago:20250920T090000
DTEND;TZID=America/Chicago:20250920T170000
DTSTAMP:20260421T211435
CREATED:20250306T231907Z
LAST-MODIFIED:20250306T231907Z
UID:10000266-1758358800-1758387600@freedombenchrest.com
SUMMARY:600 Yard Match #5
DESCRIPTION:
URL:https://freedombenchrest.com/event/600-yard-match-5-6/
LOCATION:Original Pennsylvania 1000 yd Benchrest Club\, 197 Kelly Rd.\, Trout Run\, PA\, 17771\, United States
CATEGORIES:600 Yard
GEO:41.4456417;-76.8777426
X-APPLE-STRUCTURED-LOCATION;VALUE=URI;X-ADDRESS=Original Pennsylvania 1000 yd Benchrest Club 197 Kelly Rd. Trout Run PA 17771 United States;X-APPLE-RADIUS=500;X-TITLE=197 Kelly Rd.:geo:-76.8777426,41.4456417
END:VEVENT
BEGIN:VEVENT
DTSTART;TZID=America/Chicago:20250920T090000
DTEND;TZID=America/Chicago:20250920T170000
DTSTAMP:20260421T211435
CREATED:20250306T230732Z
LAST-MODIFIED:20250306T230732Z
UID:10000194-1758358800-1758387600@freedombenchrest.com
SUMMARY:1000 Yard Match #9
DESCRIPTION:State Match
URL:https://freedombenchrest.com/event/1000-yard-match-9/
LOCATION:Red White and Blue Range\, 631 Avant Cemetery RD\, Tennille\, GA\, 31089\, United States
CATEGORIES:1000 Yard
GEO:32.8633809;-82.8838366
X-APPLE-STRUCTURED-LOCATION;VALUE=URI;X-ADDRESS=Red White and Blue Range 631 Avant Cemetery RD Tennille GA 31089 United States;X-APPLE-RADIUS=500;X-TITLE=631 Avant Cemetery RD:geo:-82.8838366,32.8633809
END:VEVENT
BEGIN:VEVENT
DTSTART;TZID=America/Chicago:20250920T090000
DTEND;TZID=America/Chicago:20250920T170000
DTSTAMP:20260421T211435
CREATED:20250306T171237Z
LAST-MODIFIED:20250306T230504Z
UID:10000173-1758358800-1758387600@freedombenchrest.com
SUMMARY:600 Yard Match #6
DESCRIPTION:
URL:https://freedombenchrest.com/event/600-yard-match-6/
LOCATION:Harry Jones Memorial Range\, 3673-3653 Co Rd 17\, Fairview\, WV\, 26570\, United States
CATEGORIES:600 Yard
GEO:39.6037528;-80.2679889
X-APPLE-STRUCTURED-LOCATION;VALUE=URI;X-ADDRESS=Harry Jones Memorial Range 3673-3653 Co Rd 17 Fairview WV 26570 United States;X-APPLE-RADIUS=500;X-TITLE=3673-3653 Co Rd 17:geo:-80.2679889,39.6037528
END:VEVENT
BEGIN:VEVENT
DTSTART;TZID=America/Chicago:20250914T130000
DTEND;TZID=America/Chicago:20250914T170000
DTSTAMP:20260421T211435
CREATED:20250306T232608Z
LAST-MODIFIED:20250306T232608Z
UID:10000306-1757854800-1757869200@freedombenchrest.com
SUMMARY:600 Yard Match #6
DESCRIPTION:
URL:https://freedombenchrest.com/event/600-yard-match-6-10/
LOCATION:Colorado Rifle Club\, 76099 E. 96th Ave\, Byers\, CO\, 80103\, United States
CATEGORIES:600 Yard
GEO:39.8876588;-104.0919528
X-APPLE-STRUCTURED-LOCATION;VALUE=URI;X-ADDRESS=Colorado Rifle Club 76099 E. 96th Ave Byers CO 80103 United States;X-APPLE-RADIUS=500;X-TITLE=76099 E. 96th Ave:geo:-104.0919528,39.8876588
END:VEVENT
BEGIN:VEVENT
DTSTART;TZID=America/Chicago:20250914T083000
DTEND;TZID=America/Chicago:20250914T170000
DTSTAMP:20260421T211435
CREATED:20250306T232711Z
LAST-MODIFIED:20250306T232711Z
UID:10000312-1757838600-1757869200@freedombenchrest.com
SUMMARY:1000 Yard Match #6
DESCRIPTION:
URL:https://freedombenchrest.com/event/1000-yard-match-6-4/
LOCATION:Colorado Rifle Club\, 76099 E. 96th Ave\, Byers\, CO\, 80103\, United States
CATEGORIES:1000 Yard
GEO:39.8876588;-104.0919528
X-APPLE-STRUCTURED-LOCATION;VALUE=URI;X-ADDRESS=Colorado Rifle Club 76099 E. 96th Ave Byers CO 80103 United States;X-APPLE-RADIUS=500;X-TITLE=76099 E. 96th Ave:geo:-104.0919528,39.8876588
END:VEVENT
BEGIN:VEVENT
DTSTART;TZID=America/Chicago:20250913T090000
DTEND;TZID=America/Chicago:20250913T170000
DTSTAMP:20260421T211435
CREATED:20250306T232956Z
LAST-MODIFIED:20250306T232956Z
UID:10000321-1757754000-1757782800@freedombenchrest.com
SUMMARY:600 Yard Match #3
DESCRIPTION:
URL:https://freedombenchrest.com/event/600-yard-match-3-11/
LOCATION:Mifflin County Sportsmen’s Association\, 400 Ellen Chapel Ln\, Lewistown\, PA\, 17044\, United States
CATEGORIES:600 Yard
GEO:40.6123306;-77.6180426
X-APPLE-STRUCTURED-LOCATION;VALUE=URI;X-ADDRESS=Mifflin County Sportsmen’s Association 400 Ellen Chapel Ln Lewistown PA 17044 United States;X-APPLE-RADIUS=500;X-TITLE=400 Ellen Chapel Ln:geo:-77.6180426,40.6123306
END:VEVENT
BEGIN:VEVENT
DTSTART;TZID=America/Chicago:20250907T090000
DTEND;TZID=America/Chicago:20250907T170000
DTSTAMP:20260421T211435
CREATED:20250306T231844Z
LAST-MODIFIED:20250306T231844Z
UID:10000263-1757235600-1757264400@freedombenchrest.com
SUMMARY:1000 Yard Match #10 - Heavy Gun
DESCRIPTION:
URL:https://freedombenchrest.com/event/1000-yard-match-10-heavy-gun/
LOCATION:Original Pennsylvania 1000 yd Benchrest Club\, 197 Kelly Rd.\, Trout Run\, PA\, 17771\, United States
CATEGORIES:1000 Yard
GEO:41.4456417;-76.8777426
X-APPLE-STRUCTURED-LOCATION;VALUE=URI;X-ADDRESS=Original Pennsylvania 1000 yd Benchrest Club 197 Kelly Rd. Trout Run PA 17771 United States;X-APPLE-RADIUS=500;X-TITLE=197 Kelly Rd.:geo:-76.8777426,41.4456417
END:VEVENT
BEGIN:VEVENT
DTSTART;TZID=America/Chicago:20250906T090000
DTEND;TZID=America/Chicago:20250906T170000
DTSTAMP:20260421T211435
CREATED:20250306T231844Z
LAST-MODIFIED:20250306T231844Z
UID:10000262-1757149200-1757178000@freedombenchrest.com
SUMMARY:1000 Yard Match #10 - Light Gun
DESCRIPTION:
URL:https://freedombenchrest.com/event/1000-yard-match-10-light-gun/
LOCATION:Original Pennsylvania 1000 yd Benchrest Club\, 197 Kelly Rd.\, Trout Run\, PA\, 17771\, United States
CATEGORIES:1000 Yard
GEO:41.4456417;-76.8777426
X-APPLE-STRUCTURED-LOCATION;VALUE=URI;X-ADDRESS=Original Pennsylvania 1000 yd Benchrest Club 197 Kelly Rd. Trout Run PA 17771 United States;X-APPLE-RADIUS=500;X-TITLE=197 Kelly Rd.:geo:-76.8777426,41.4456417
END:VEVENT
BEGIN:VEVENT
DTSTART;TZID=America/Chicago:20250906T080000
DTEND;TZID=America/Chicago:20250906T170000
DTSTAMP:20260421T211435
CREATED:20250306T231443Z
LAST-MODIFIED:20250307T142723Z
UID:10000235-1757145600-1757178000@freedombenchrest.com
SUMMARY:600 Yard Match #5
DESCRIPTION:
URL:https://freedombenchrest.com/event/600-yard-match-5-5/
LOCATION:White Horse Firearms & Outdoor Education Center\, 127 White Horse Ln\, Philippi\, WV\, 26416\, United States
CATEGORIES:600 Yard
GEO:39.119741;-80.218792
X-APPLE-STRUCTURED-LOCATION;VALUE=URI;X-ADDRESS=White Horse Firearms & Outdoor Education Center 127 White Horse Ln Philippi WV 26416 United States;X-APPLE-RADIUS=500;X-TITLE=127 White Horse Ln:geo:-80.218792,39.119741
END:VEVENT
BEGIN:VEVENT
DTSTART;TZID=America/Chicago:20250828T090000
DTEND;TZID=America/Chicago:20250831T170000
DTSTAMP:20260421T211435
CREATED:20250306T232409Z
LAST-MODIFIED:20250311T150839Z
UID:10000298-1756371600-1756659600@freedombenchrest.com
SUMMARY:600 Yard - Nationals
DESCRIPTION:August 28: Practice Day\nAugust 29: Tactical\nAugust 30: Light Gun\nAugust 31: Heavy Gun
URL:https://freedombenchrest.com/event/600-yard-nationals/
LOCATION:Hunters Pointe Shooting Complex\, 45761 260th St.\, Humboldt\, SD\, 57035\, United States
CATEGORIES:600 Yard
GEO:43.6129157;-97.0567974
X-APPLE-STRUCTURED-LOCATION;VALUE=URI;X-ADDRESS=Hunters Pointe Shooting Complex 45761 260th St. Humboldt SD 57035 United States;X-APPLE-RADIUS=500;X-TITLE=45761 260th St.:geo:-97.0567974,43.6129157
END:VEVENT
BEGIN:VEVENT
DTSTART;TZID=America/Chicago:20250824T090000
DTEND;TZID=America/Chicago:20250824T170000
DTSTAMP:20260421T211435
CREATED:20250306T232045Z
LAST-MODIFIED:20250306T232045Z
UID:10000278-1756026000-1756054800@freedombenchrest.com
SUMMARY:1000 Yard Match #4
DESCRIPTION:
URL:https://freedombenchrest.com/event/1000-yard-match-4-2/
LOCATION:Sacramento Valley Shooting Center\, 15501 Meiss Rd\, Sloughouse\, CA\, 95683\, United States
CATEGORIES:1000 Yard
END:VEVENT
BEGIN:VEVENT
DTSTART;TZID=America/Chicago:20250824T090000
DTEND;TZID=America/Chicago:20250824T170000
DTSTAMP:20260421T211435
CREATED:20250306T231809Z
LAST-MODIFIED:20250306T231809Z
UID:10000261-1756026000-1756054800@freedombenchrest.com
SUMMARY:1000 Yard Match #9 - Heavy Gun
DESCRIPTION:
URL:https://freedombenchrest.com/event/1000-yard-match-9-heavy-gun/
LOCATION:Original Pennsylvania 1000 yd Benchrest Club\, 197 Kelly Rd.\, Trout Run\, PA\, 17771\, United States
CATEGORIES:1000 Yard
GEO:41.4456417;-76.8777426
X-APPLE-STRUCTURED-LOCATION;VALUE=URI;X-ADDRESS=Original Pennsylvania 1000 yd Benchrest Club 197 Kelly Rd. Trout Run PA 17771 United States;X-APPLE-RADIUS=500;X-TITLE=197 Kelly Rd.:geo:-76.8777426,41.4456417
END:VEVENT
END:VCALENDAR