BEGIN:VCALENDAR
VERSION:2.0
PRODID:-//Freedom Benchrest - ECPv6.15.18//NONSGML v1.0//EN
CALSCALE:GREGORIAN
METHOD:PUBLISH
X-WR-CALNAME:Freedom Benchrest
X-ORIGINAL-URL:https://freedombenchrest.com
X-WR-CALDESC:Events for Freedom Benchrest
REFRESH-INTERVAL;VALUE=DURATION:PT1H
X-Robots-Tag:noindex
X-PUBLISHED-TTL:PT1H
BEGIN:VTIMEZONE
TZID:America/Chicago
BEGIN:DAYLIGHT
TZOFFSETFROM:-0600
TZOFFSETTO:-0500
TZNAME:CDT
DTSTART:20240310T080000
END:DAYLIGHT
BEGIN:STANDARD
TZOFFSETFROM:-0500
TZOFFSETTO:-0600
TZNAME:CST
DTSTART:20241103T070000
END:STANDARD
BEGIN:DAYLIGHT
TZOFFSETFROM:-0600
TZOFFSETTO:-0500
TZNAME:CDT
DTSTART:20250309T080000
END:DAYLIGHT
BEGIN:STANDARD
TZOFFSETFROM:-0500
TZOFFSETTO:-0600
TZNAME:CST
DTSTART:20251102T070000
END:STANDARD
BEGIN:DAYLIGHT
TZOFFSETFROM:-0600
TZOFFSETTO:-0500
TZNAME:CDT
DTSTART:20260308T080000
END:DAYLIGHT
BEGIN:STANDARD
TZOFFSETFROM:-0500
TZOFFSETTO:-0600
TZNAME:CST
DTSTART:20261101T070000
END:STANDARD
END:VTIMEZONE
BEGIN:VEVENT
DTSTART;TZID=America/Chicago:20250614T080000
DTEND;TZID=America/Chicago:20250614T170000
DTSTAMP:20260423T165517
CREATED:20250306T231507Z
LAST-MODIFIED:20250307T141650Z
UID:10000238-1749888000-1749920400@freedombenchrest.com
SUMMARY:1000 Yard Match #3 & 4
DESCRIPTION:
URL:https://freedombenchrest.com/event/1000-yard-match-3-4-2/
LOCATION:White Horse Firearms & Outdoor Education Center\, 127 White Horse Ln\, Philippi\, WV\, 26416\, United States
CATEGORIES:1000 Yard
GEO:39.119741;-80.218792
X-APPLE-STRUCTURED-LOCATION;VALUE=URI;X-ADDRESS=White Horse Firearms & Outdoor Education Center 127 White Horse Ln Philippi WV 26416 United States;X-APPLE-RADIUS=500;X-TITLE=127 White Horse Ln:geo:-80.218792,39.119741
END:VEVENT
BEGIN:VEVENT
DTSTART;TZID=America/Chicago:20250611T090000
DTEND;TZID=America/Chicago:20250613T170000
DTSTAMP:20260423T165517
CREATED:20250306T231306Z
LAST-MODIFIED:20250306T231306Z
UID:10000227-1749632400-1749834000@freedombenchrest.com
SUMMARY:1000 Yard - Rendezvous #5
DESCRIPTION:
URL:https://freedombenchrest.com/event/1000-yard-rendezvous-5/
LOCATION:Vapor Trail Valley Range\, MO\, United States
CATEGORIES:1000 Yard
GEO:40.288366;-93.449902
END:VEVENT
BEGIN:VEVENT
DTSTART;TZID=America/Chicago:20250611T090000
DTEND;TZID=America/Chicago:20250613T170000
DTSTAMP:20260423T165517
CREATED:20250306T231207Z
LAST-MODIFIED:20250306T231207Z
UID:10000219-1749632400-1749834000@freedombenchrest.com
SUMMARY:600 Yard - Rendezvous #5
DESCRIPTION:
URL:https://freedombenchrest.com/event/600-yard-rendezvous-5/
LOCATION:Vapor Trail Valley Range\, MO\, United States
CATEGORIES:600 Yard
GEO:40.288366;-93.449902
END:VEVENT
BEGIN:VEVENT
DTSTART;TZID=America/Chicago:20250607T090000
DTEND;TZID=America/Chicago:20250607T170000
DTSTAMP:20260423T165517
CREATED:20250306T230933Z
LAST-MODIFIED:20250307T141525Z
UID:10000204-1749286800-1749315600@freedombenchrest.com
SUMMARY:600 Yard Match #3
DESCRIPTION:
URL:https://freedombenchrest.com/event/600-yard-match-3-3/
LOCATION:Columbus Sportmans’ Association\, W10924 Breyer Rd\, Columbus\, WI\, 53925\, United States
CATEGORIES:600 Yard
GEO:43.344779;-88.93506
X-APPLE-STRUCTURED-LOCATION;VALUE=URI;X-ADDRESS=Columbus Sportmans’ Association W10924 Breyer Rd Columbus WI 53925 United States;X-APPLE-RADIUS=500;X-TITLE=W10924 Breyer Rd:geo:-88.93506,43.344779
END:VEVENT
BEGIN:VEVENT
DTSTART;TZID=America/Chicago:20250607T080000
DTEND;TZID=America/Chicago:20250607T170000
DTSTAMP:20260423T165517
CREATED:20250306T231442Z
LAST-MODIFIED:20250307T141548Z
UID:10000232-1749283200-1749315600@freedombenchrest.com
SUMMARY:600 Yard Match #2
DESCRIPTION:
URL:https://freedombenchrest.com/event/600-yard-match-2-6/
LOCATION:White Horse Firearms & Outdoor Education Center\, 127 White Horse Ln\, Philippi\, WV\, 26416\, United States
CATEGORIES:600 Yard
GEO:39.119741;-80.218792
X-APPLE-STRUCTURED-LOCATION;VALUE=URI;X-ADDRESS=White Horse Firearms & Outdoor Education Center 127 White Horse Ln Philippi WV 26416 United States;X-APPLE-RADIUS=500;X-TITLE=127 White Horse Ln:geo:-80.218792,39.119741
END:VEVENT
BEGIN:VEVENT
DTSTART;TZID=America/Chicago:20250601T090000
DTEND;TZID=America/Chicago:20250601T170000
DTSTAMP:20260423T165517
CREATED:20250306T232852Z
LAST-MODIFIED:20250307T141455Z
UID:10000314-1748768400-1748797200@freedombenchrest.com
SUMMARY:600 Yard Match #2
DESCRIPTION:
URL:https://freedombenchrest.com/event/600-yard-match-2-11/
LOCATION:Marathon County Rifle & Pistol Club\, 217980 Rifle Rd\, Mosinee\, 54455\, United States
CATEGORIES:600 Yard
END:VEVENT
BEGIN:VEVENT
DTSTART;TZID=America/Chicago:20250601T090000
DTEND;TZID=America/Chicago:20250601T170000
DTSTAMP:20260423T165517
CREATED:20250306T231643Z
LAST-MODIFIED:20250306T231643Z
UID:10000249-1748768400-1748797200@freedombenchrest.com
SUMMARY:1000 Yard Match #4 - Heavy Gun
DESCRIPTION:
URL:https://freedombenchrest.com/event/1000-yard-match-4-heavy-gun/
LOCATION:Original Pennsylvania 1000 yd Benchrest Club\, 197 Kelly Rd.\, Trout Run\, PA\, 17771\, United States
CATEGORIES:1000 Yard
GEO:41.4456417;-76.8777426
X-APPLE-STRUCTURED-LOCATION;VALUE=URI;X-ADDRESS=Original Pennsylvania 1000 yd Benchrest Club 197 Kelly Rd. Trout Run PA 17771 United States;X-APPLE-RADIUS=500;X-TITLE=197 Kelly Rd.:geo:-76.8777426,41.4456417
END:VEVENT
BEGIN:VEVENT
DTSTART;TZID=America/Chicago:20250531T090000
DTEND;TZID=America/Chicago:20250531T170000
DTSTAMP:20260423T165517
CREATED:20250306T231642Z
LAST-MODIFIED:20250306T231642Z
UID:10000248-1748682000-1748710800@freedombenchrest.com
SUMMARY:1000 Yard Match #4 - Light Gun
DESCRIPTION:
URL:https://freedombenchrest.com/event/1000-yard-match-4-light-gun/
LOCATION:Original Pennsylvania 1000 yd Benchrest Club\, 197 Kelly Rd.\, Trout Run\, PA\, 17771\, United States
CATEGORIES:1000 Yard
GEO:41.4456417;-76.8777426
X-APPLE-STRUCTURED-LOCATION;VALUE=URI;X-ADDRESS=Original Pennsylvania 1000 yd Benchrest Club 197 Kelly Rd. Trout Run PA 17771 United States;X-APPLE-RADIUS=500;X-TITLE=197 Kelly Rd.:geo:-76.8777426,41.4456417
END:VEVENT
BEGIN:VEVENT
DTSTART;TZID=America/Chicago:20250531T090000
DTEND;TZID=America/Chicago:20250531T170000
DTSTAMP:20260423T165517
CREATED:20250306T171238Z
LAST-MODIFIED:20250306T230504Z
UID:10000175-1748682000-1748710800@freedombenchrest.com
SUMMARY:1000 Yard Matches #3 & 4
DESCRIPTION:
URL:https://freedombenchrest.com/event/1000-yard-matches-3-4/
LOCATION:Harry Jones Memorial Range\, 3673-3653 Co Rd 17\, Fairview\, WV\, 26570\, United States
CATEGORIES:1000 Yard
GEO:39.6037528;-80.2679889
X-APPLE-STRUCTURED-LOCATION;VALUE=URI;X-ADDRESS=Harry Jones Memorial Range 3673-3653 Co Rd 17 Fairview WV 26570 United States;X-APPLE-RADIUS=500;X-TITLE=3673-3653 Co Rd 17:geo:-80.2679889,39.6037528
END:VEVENT
BEGIN:VEVENT
DTSTART;TZID=America/Chicago:20250525T090000
DTEND;TZID=America/Chicago:20250525T170000
DTSTAMP:20260423T165517
CREATED:20250306T232408Z
LAST-MODIFIED:20250306T232408Z
UID:10000295-1748163600-1748192400@freedombenchrest.com
SUMMARY:600 Yard Match #2
DESCRIPTION:
URL:https://freedombenchrest.com/event/600-yard-match-2-9/
LOCATION:Hunters Pointe Shooting Complex\, 45761 260th St.\, Humboldt\, SD\, 57035\, United States
CATEGORIES:600 Yard
GEO:43.6129157;-97.0567974
X-APPLE-STRUCTURED-LOCATION;VALUE=URI;X-ADDRESS=Hunters Pointe Shooting Complex 45761 260th St. Humboldt SD 57035 United States;X-APPLE-RADIUS=500;X-TITLE=45761 260th St.:geo:-97.0567974,43.6129157
END:VEVENT
BEGIN:VEVENT
DTSTART;TZID=America/Chicago:20250525T090000
DTEND;TZID=America/Chicago:20250525T170000
DTSTAMP:20260423T165517
CREATED:20250306T230705Z
LAST-MODIFIED:20250306T230705Z
UID:10000189-1748163600-1748192400@freedombenchrest.com
SUMMARY:1000 Yard Match #4
DESCRIPTION:
URL:https://freedombenchrest.com/event/1000-yard-match-4/
LOCATION:Red White and Blue Range\, 631 Avant Cemetery RD\, Tennille\, GA\, 31089\, United States
CATEGORIES:1000 Yard
GEO:32.8633809;-82.8838366
X-APPLE-STRUCTURED-LOCATION;VALUE=URI;X-ADDRESS=Red White and Blue Range 631 Avant Cemetery RD Tennille GA 31089 United States;X-APPLE-RADIUS=500;X-TITLE=631 Avant Cemetery RD:geo:-82.8838366,32.8633809
END:VEVENT
BEGIN:VEVENT
DTSTART;TZID=America/Chicago:20250524T130000
DTEND;TZID=America/Chicago:20250524T170000
DTSTAMP:20260423T165517
CREATED:20250306T232509Z
LAST-MODIFIED:20250306T232509Z
UID:10000302-1748091600-1748106000@freedombenchrest.com
SUMMARY:600 Yard Match #2
DESCRIPTION:
URL:https://freedombenchrest.com/event/600-yard-match-2-10/
LOCATION:Colorado Rifle Club\, 76099 E. 96th Ave\, Byers\, CO\, 80103\, United States
CATEGORIES:600 Yard
GEO:39.8876588;-104.0919528
X-APPLE-STRUCTURED-LOCATION;VALUE=URI;X-ADDRESS=Colorado Rifle Club 76099 E. 96th Ave Byers CO 80103 United States;X-APPLE-RADIUS=500;X-TITLE=76099 E. 96th Ave:geo:-104.0919528,39.8876588
END:VEVENT
BEGIN:VEVENT
DTSTART;TZID=America/Chicago:20250524T090000
DTEND;TZID=America/Chicago:20250524T170000
DTSTAMP:20260423T165517
CREATED:20250306T232407Z
LAST-MODIFIED:20250306T232407Z
UID:10000294-1748077200-1748106000@freedombenchrest.com
SUMMARY:600 Yard Match #1
DESCRIPTION:
URL:https://freedombenchrest.com/event/600-yard-match-1-8/
LOCATION:Hunters Pointe Shooting Complex\, 45761 260th St.\, Humboldt\, SD\, 57035\, United States
CATEGORIES:600 Yard
GEO:43.6129157;-97.0567974
X-APPLE-STRUCTURED-LOCATION;VALUE=URI;X-ADDRESS=Hunters Pointe Shooting Complex 45761 260th St. Humboldt SD 57035 United States;X-APPLE-RADIUS=500;X-TITLE=45761 260th St.:geo:-97.0567974,43.6129157
END:VEVENT
BEGIN:VEVENT
DTSTART;TZID=America/Chicago:20250524T090000
DTEND;TZID=America/Chicago:20250524T170000
DTSTAMP:20260423T165517
CREATED:20250306T230704Z
LAST-MODIFIED:20250306T230704Z
UID:10000188-1748077200-1748106000@freedombenchrest.com
SUMMARY:1000 Yard Match #3
DESCRIPTION:
URL:https://freedombenchrest.com/event/1000-yard-match-3/
LOCATION:Red White and Blue Range\, 631 Avant Cemetery RD\, Tennille\, GA\, 31089\, United States
CATEGORIES:1000 Yard
GEO:32.8633809;-82.8838366
X-APPLE-STRUCTURED-LOCATION;VALUE=URI;X-ADDRESS=Red White and Blue Range 631 Avant Cemetery RD Tennille GA 31089 United States;X-APPLE-RADIUS=500;X-TITLE=631 Avant Cemetery RD:geo:-82.8838366,32.8633809
END:VEVENT
BEGIN:VEVENT
DTSTART;TZID=America/Chicago:20250524T083000
DTEND;TZID=America/Chicago:20250524T170000
DTSTAMP:20260423T165517
CREATED:20250306T232609Z
LAST-MODIFIED:20250306T232609Z
UID:10000308-1748075400-1748106000@freedombenchrest.com
SUMMARY:1000 Yard Match #2
DESCRIPTION:
URL:https://freedombenchrest.com/event/1000-yard-match-2-4/
LOCATION:Colorado Rifle Club\, 76099 E. 96th Ave\, Byers\, CO\, 80103\, United States
CATEGORIES:1000 Yard
GEO:39.8876588;-104.0919528
X-APPLE-STRUCTURED-LOCATION;VALUE=URI;X-ADDRESS=Colorado Rifle Club 76099 E. 96th Ave Byers CO 80103 United States;X-APPLE-RADIUS=500;X-TITLE=76099 E. 96th Ave:geo:-104.0919528,39.8876588
END:VEVENT
BEGIN:VEVENT
DTSTART;TZID=America/Chicago:20250523T090000
DTEND;TZID=America/Chicago:20250525T170000
DTSTAMP:20260423T165517
CREATED:20250306T232044Z
LAST-MODIFIED:20250306T232044Z
UID:10000275-1747990800-1748192400@freedombenchrest.com
SUMMARY:1000 Yard - Multi-Format Match Including F-Class
DESCRIPTION:
URL:https://freedombenchrest.com/event/1000-yard-multi-format-match-including-f-class/
LOCATION:Sacramento Valley Shooting Center\, 15501 Meiss Rd\, Sloughouse\, CA\, 95683\, United States
CATEGORIES:1000 Yard
END:VEVENT
BEGIN:VEVENT
DTSTART;TZID=America/Chicago:20250518T090000
DTEND;TZID=America/Chicago:20250518T170000
DTSTAMP:20260423T165517
CREATED:20250306T232711Z
LAST-MODIFIED:20250307T141421Z
UID:10000313-1747558800-1747587600@freedombenchrest.com
SUMMARY:600 Yard Match #1
DESCRIPTION:
URL:https://freedombenchrest.com/event/600-yard-match-1-10/
LOCATION:Marathon County Rifle & Pistol Club\, 217980 Rifle Rd\, Mosinee\, 54455\, United States
CATEGORIES:600 Yard
END:VEVENT
BEGIN:VEVENT
DTSTART;TZID=America/Chicago:20250518T090000
DTEND;TZID=America/Chicago:20250518T170000
DTSTAMP:20260423T165517
CREATED:20250306T231642Z
LAST-MODIFIED:20250306T231642Z
UID:10000247-1747558800-1747587600@freedombenchrest.com
SUMMARY:1000 Yard Match #3 - Heavy Gun
DESCRIPTION:
URL:https://freedombenchrest.com/event/1000-yard-match-3-heavy-gun/
LOCATION:Original Pennsylvania 1000 yd Benchrest Club\, 197 Kelly Rd.\, Trout Run\, PA\, 17771\, United States
CATEGORIES:1000 Yard
GEO:41.4456417;-76.8777426
X-APPLE-STRUCTURED-LOCATION;VALUE=URI;X-ADDRESS=Original Pennsylvania 1000 yd Benchrest Club 197 Kelly Rd. Trout Run PA 17771 United States;X-APPLE-RADIUS=500;X-TITLE=197 Kelly Rd.:geo:-76.8777426,41.4456417
END:VEVENT
BEGIN:VEVENT
DTSTART;TZID=America/Chicago:20250518T090000
DTEND;TZID=America/Chicago:20250518T170000
DTSTAMP:20260423T165517
CREATED:20250306T231242Z
LAST-MODIFIED:20250306T231242Z
UID:10000226-1747558800-1747587600@freedombenchrest.com
SUMMARY:1000 Yard Match #5
DESCRIPTION:
URL:https://freedombenchrest.com/event/1000-yard-match-5-2/
LOCATION:Vapor Trail Valley Range\, MO\, United States
CATEGORIES:1000 Yard
GEO:40.288366;-93.449902
END:VEVENT
BEGIN:VEVENT
DTSTART;TZID=America/Chicago:20250517T090000
DTEND;TZID=America/Chicago:20250517T170000
DTSTAMP:20260423T165517
CREATED:20250306T231610Z
LAST-MODIFIED:20250306T231610Z
UID:10000246-1747472400-1747501200@freedombenchrest.com
SUMMARY:1000 Yard Match #3 - Light Gun
DESCRIPTION:
URL:https://freedombenchrest.com/event/1000-yard-match-3-light-gun/
LOCATION:Original Pennsylvania 1000 yd Benchrest Club\, 197 Kelly Rd.\, Trout Run\, PA\, 17771\, United States
CATEGORIES:1000 Yard
GEO:41.4456417;-76.8777426
X-APPLE-STRUCTURED-LOCATION;VALUE=URI;X-ADDRESS=Original Pennsylvania 1000 yd Benchrest Club 197 Kelly Rd. Trout Run PA 17771 United States;X-APPLE-RADIUS=500;X-TITLE=197 Kelly Rd.:geo:-76.8777426,41.4456417
END:VEVENT
BEGIN:VEVENT
DTSTART;TZID=America/Chicago:20250517T090000
DTEND;TZID=America/Chicago:20250517T170000
DTSTAMP:20260423T165517
CREATED:20250306T231242Z
LAST-MODIFIED:20250306T231242Z
UID:10000225-1747472400-1747501200@freedombenchrest.com
SUMMARY:1000 Yard Match #3 & 4
DESCRIPTION:
URL:https://freedombenchrest.com/event/1000-yard-match-3-4/
LOCATION:Vapor Trail Valley Range\, MO\, United States
CATEGORIES:1000 Yard
GEO:40.288366;-93.449902
END:VEVENT
BEGIN:VEVENT
DTSTART;TZID=America/Chicago:20250516T090000
DTEND;TZID=America/Chicago:20250516T170000
DTSTAMP:20260423T165517
CREATED:20250306T231242Z
LAST-MODIFIED:20250306T231242Z
UID:10000224-1747386000-1747414800@freedombenchrest.com
SUMMARY:1000 Yard Match #1 & 2
DESCRIPTION:
URL:https://freedombenchrest.com/event/1000-yard-match-1-2-2/
LOCATION:Vapor Trail Valley Range\, MO\, United States
CATEGORIES:1000 Yard
GEO:40.288366;-93.449902
END:VEVENT
BEGIN:VEVENT
DTSTART;TZID=America/Chicago:20250511T090000
DTEND;TZID=America/Chicago:20250511T170000
DTSTAMP:20260423T165517
CREATED:20250306T231845Z
LAST-MODIFIED:20250306T231845Z
UID:10000265-1746954000-1746982800@freedombenchrest.com
SUMMARY:600 Yard Match #2
DESCRIPTION:
URL:https://freedombenchrest.com/event/600-yard-match-2-7/
LOCATION:Original Pennsylvania 1000 yd Benchrest Club\, 197 Kelly Rd.\, Trout Run\, PA\, 17771\, United States
CATEGORIES:600 Yard
GEO:41.4456417;-76.8777426
X-APPLE-STRUCTURED-LOCATION;VALUE=URI;X-ADDRESS=Original Pennsylvania 1000 yd Benchrest Club 197 Kelly Rd. Trout Run PA 17771 United States;X-APPLE-RADIUS=500;X-TITLE=197 Kelly Rd.:geo:-76.8777426,41.4456417
END:VEVENT
BEGIN:VEVENT
DTSTART;TZID=America/Chicago:20250510T090000
DTEND;TZID=America/Chicago:20250510T170000
DTSTAMP:20260423T165517
CREATED:20250307T221402Z
LAST-MODIFIED:20250425T144924Z
UID:10000326-1746867600-1746896400@freedombenchrest.com
SUMMARY:600 Yard Match #12
DESCRIPTION:
URL:https://freedombenchrest.com/event/600-yard-match-10-2/
LOCATION:Manatee Gun & Archery Club\, 1805 Logue Rd\, Myakka City\, FL\, 34251\, United States
CATEGORIES:600 Yard
GEO:27.4769729;-82.1560439
X-APPLE-STRUCTURED-LOCATION;VALUE=URI;X-ADDRESS=Manatee Gun & Archery Club 1805 Logue Rd Myakka City FL 34251 United States;X-APPLE-RADIUS=500;X-TITLE=1805 Logue Rd:geo:-82.1560439,27.4769729
END:VEVENT
BEGIN:VEVENT
DTSTART;TZID=America/Chicago:20250510T090000
DTEND;TZID=America/Chicago:20250510T170000
DTSTAMP:20260423T165517
CREATED:20250306T231845Z
LAST-MODIFIED:20250306T231845Z
UID:10000264-1746867600-1746896400@freedombenchrest.com
SUMMARY:600 Yard Match #1
DESCRIPTION:
URL:https://freedombenchrest.com/event/600-yard-match-1-6/
LOCATION:Original Pennsylvania 1000 yd Benchrest Club\, 197 Kelly Rd.\, Trout Run\, PA\, 17771\, United States
CATEGORIES:600 Yard
GEO:41.4456417;-76.8777426
X-APPLE-STRUCTURED-LOCATION;VALUE=URI;X-ADDRESS=Original Pennsylvania 1000 yd Benchrest Club 197 Kelly Rd. Trout Run PA 17771 United States;X-APPLE-RADIUS=500;X-TITLE=197 Kelly Rd.:geo:-76.8777426,41.4456417
END:VEVENT
BEGIN:VEVENT
DTSTART;TZID=America/Chicago:20250510T090000
DTEND;TZID=America/Chicago:20250510T170000
DTSTAMP:20260423T165517
CREATED:20250306T231006Z
LAST-MODIFIED:20250307T141320Z
UID:10000211-1746867600-1746896400@freedombenchrest.com
SUMMARY:600 Yard Match #4
DESCRIPTION:
URL:https://freedombenchrest.com/event/600-yard-match-4-4/
LOCATION:Western Colorado Rifle & Silhouette Club\, 712 38 Rd\, Palisade\, CO\, 81526\, United States
CATEGORIES:600 Yard
GEO:38.9713754;-108.3936509
X-APPLE-STRUCTURED-LOCATION;VALUE=URI;X-ADDRESS=Western Colorado Rifle & Silhouette Club 712 38 Rd Palisade CO 81526 United States;X-APPLE-RADIUS=500;X-TITLE=712 38 Rd:geo:-108.3936509,38.9713754
END:VEVENT
BEGIN:VEVENT
DTSTART;TZID=America/Chicago:20250510T080000
DTEND;TZID=America/Chicago:20250510T170000
DTSTAMP:20260423T165517
CREATED:20250306T231507Z
LAST-MODIFIED:20250307T141401Z
UID:10000237-1746864000-1746896400@freedombenchrest.com
SUMMARY:1000 Yard Match #1 & 2
DESCRIPTION:
URL:https://freedombenchrest.com/event/1000-yard-match-1-2-3/
LOCATION:White Horse Firearms & Outdoor Education Center\, 127 White Horse Ln\, Philippi\, WV\, 26416\, United States
CATEGORIES:1000 Yard
GEO:39.119741;-80.218792
X-APPLE-STRUCTURED-LOCATION;VALUE=URI;X-ADDRESS=White Horse Firearms & Outdoor Education Center 127 White Horse Ln Philippi WV 26416 United States;X-APPLE-RADIUS=500;X-TITLE=127 White Horse Ln:geo:-80.218792,39.119741
END:VEVENT
BEGIN:VEVENT
DTSTART;TZID=America/Chicago:20250509T090000
DTEND;TZID=America/Chicago:20250509T170000
DTSTAMP:20260423T165517
CREATED:20250307T221402Z
LAST-MODIFIED:20250425T144918Z
UID:10000325-1746781200-1746810000@freedombenchrest.com
SUMMARY:600 Yard Match #11
DESCRIPTION:
URL:https://freedombenchrest.com/event/600-yard-match-9/
LOCATION:Manatee Gun & Archery Club\, 1805 Logue Rd\, Myakka City\, FL\, 34251\, United States
CATEGORIES:600 Yard
GEO:27.4769729;-82.1560439
X-APPLE-STRUCTURED-LOCATION;VALUE=URI;X-ADDRESS=Manatee Gun & Archery Club 1805 Logue Rd Myakka City FL 34251 United States;X-APPLE-RADIUS=500;X-TITLE=1805 Logue Rd:geo:-82.1560439,27.4769729
END:VEVENT
BEGIN:VEVENT
DTSTART;TZID=America/Chicago:20250504T090000
DTEND;TZID=America/Chicago:20250504T170000
DTSTAMP:20260423T165517
CREATED:20250306T230632Z
LAST-MODIFIED:20250306T230632Z
UID:10000187-1746349200-1746378000@freedombenchrest.com
SUMMARY:1000 Yard Match #2
DESCRIPTION:
URL:https://freedombenchrest.com/event/1000-yard-match-2/
LOCATION:Red White and Blue Range\, 631 Avant Cemetery RD\, Tennille\, GA\, 31089\, United States
CATEGORIES:1000 Yard
GEO:32.8633809;-82.8838366
X-APPLE-STRUCTURED-LOCATION;VALUE=URI;X-ADDRESS=Red White and Blue Range 631 Avant Cemetery RD Tennille GA 31089 United States;X-APPLE-RADIUS=500;X-TITLE=631 Avant Cemetery RD:geo:-82.8838366,32.8633809
END:VEVENT
BEGIN:VEVENT
DTSTART;TZID=America/Chicago:20250503T090000
DTEND;TZID=America/Chicago:20250503T170000
DTSTAMP:20260423T165517
CREATED:20250306T230933Z
LAST-MODIFIED:20250307T141216Z
UID:10000203-1746262800-1746291600@freedombenchrest.com
SUMMARY:600 Yard Match #2
DESCRIPTION:
URL:https://freedombenchrest.com/event/600-yard-match-2-3/
LOCATION:Columbus Sportmans’ Association\, W10924 Breyer Rd\, Columbus\, WI\, 53925\, United States
CATEGORIES:600 Yard
GEO:43.344779;-88.93506
X-APPLE-STRUCTURED-LOCATION;VALUE=URI;X-ADDRESS=Columbus Sportmans’ Association W10924 Breyer Rd Columbus WI 53925 United States;X-APPLE-RADIUS=500;X-TITLE=W10924 Breyer Rd:geo:-88.93506,43.344779
END:VEVENT
END:VCALENDAR