BEGIN:VCALENDAR
VERSION:2.0
PRODID:-//Freedom Benchrest - ECPv6.15.18//NONSGML v1.0//EN
CALSCALE:GREGORIAN
METHOD:PUBLISH
X-WR-CALNAME:Freedom Benchrest
X-ORIGINAL-URL:https://freedombenchrest.com
X-WR-CALDESC:Events for Freedom Benchrest
REFRESH-INTERVAL;VALUE=DURATION:PT1H
X-Robots-Tag:noindex
X-PUBLISHED-TTL:PT1H
BEGIN:VTIMEZONE
TZID:America/Chicago
BEGIN:DAYLIGHT
TZOFFSETFROM:-0600
TZOFFSETTO:-0500
TZNAME:CDT
DTSTART:20240310T080000
END:DAYLIGHT
BEGIN:STANDARD
TZOFFSETFROM:-0500
TZOFFSETTO:-0600
TZNAME:CST
DTSTART:20241103T070000
END:STANDARD
BEGIN:DAYLIGHT
TZOFFSETFROM:-0600
TZOFFSETTO:-0500
TZNAME:CDT
DTSTART:20250309T080000
END:DAYLIGHT
BEGIN:STANDARD
TZOFFSETFROM:-0500
TZOFFSETTO:-0600
TZNAME:CST
DTSTART:20251102T070000
END:STANDARD
BEGIN:DAYLIGHT
TZOFFSETFROM:-0600
TZOFFSETTO:-0500
TZNAME:CDT
DTSTART:20260308T080000
END:DAYLIGHT
BEGIN:STANDARD
TZOFFSETFROM:-0500
TZOFFSETTO:-0600
TZNAME:CST
DTSTART:20261101T070000
END:STANDARD
END:VTIMEZONE
BEGIN:VEVENT
DTSTART;TZID=America/Chicago:20250713T090000
DTEND;TZID=America/Chicago:20250713T170000
DTSTAMP:20260419T094411
CREATED:20250306T231307Z
LAST-MODIFIED:20250306T231307Z
UID:10000230-1752397200-1752426000@freedombenchrest.com
SUMMARY:1000 Yard Match #10
DESCRIPTION:
URL:https://freedombenchrest.com/event/1000-yard-match-10-2/
LOCATION:Vapor Trail Valley Range\, MO\, United States
CATEGORIES:1000 Yard
GEO:40.288366;-93.449902
END:VEVENT
BEGIN:VEVENT
DTSTART;TZID=America/Chicago:20250713T080000
DTEND;TZID=America/Chicago:20250713T170000
DTSTAMP:20260419T094411
CREATED:20250306T231508Z
LAST-MODIFIED:20250307T142022Z
UID:10000240-1752393600-1752426000@freedombenchrest.com
SUMMARY:1000 Yard Match #7 & 8
DESCRIPTION:State Championship
URL:https://freedombenchrest.com/event/1000-yard-match-7-8-2/
LOCATION:White Horse Firearms & Outdoor Education Center\, 127 White Horse Ln\, Philippi\, WV\, 26416\, United States
CATEGORIES:1000 Yard
GEO:39.119741;-80.218792
X-APPLE-STRUCTURED-LOCATION;VALUE=URI;X-ADDRESS=White Horse Firearms & Outdoor Education Center 127 White Horse Ln Philippi WV 26416 United States;X-APPLE-RADIUS=500;X-TITLE=127 White Horse Ln:geo:-80.218792,39.119741
END:VEVENT
BEGIN:VEVENT
DTSTART;TZID=America/Chicago:20250712T090000
DTEND;TZID=America/Chicago:20250712T170000
DTSTAMP:20260419T094411
CREATED:20250306T231708Z
LAST-MODIFIED:20250609T193749Z
UID:10000254-1752310800-1752339600@freedombenchrest.com
SUMMARY:1000 Yard - World Open
DESCRIPTION:Double EYH Points
URL:https://freedombenchrest.com/event/1000-yard-world-open/
LOCATION:Original Pennsylvania 1000 yd Benchrest Club\, 197 Kelly Rd.\, Trout Run\, PA\, 17771\, United States
CATEGORIES:1000 Yard
GEO:41.4456417;-76.8777426
X-APPLE-STRUCTURED-LOCATION;VALUE=URI;X-ADDRESS=Original Pennsylvania 1000 yd Benchrest Club 197 Kelly Rd. Trout Run PA 17771 United States;X-APPLE-RADIUS=500;X-TITLE=197 Kelly Rd.:geo:-76.8777426,41.4456417
END:VEVENT
BEGIN:VEVENT
DTSTART;TZID=America/Chicago:20250712T090000
DTEND;TZID=America/Chicago:20250712T170000
DTSTAMP:20260419T094411
CREATED:20250306T231307Z
LAST-MODIFIED:20250306T231307Z
UID:10000229-1752310800-1752339600@freedombenchrest.com
SUMMARY:1000 Yard Match #8 & 9
DESCRIPTION:
URL:https://freedombenchrest.com/event/1000-yard-match-8-9/
LOCATION:Vapor Trail Valley Range\, MO\, United States
CATEGORIES:1000 Yard
GEO:40.288366;-93.449902
END:VEVENT
BEGIN:VEVENT
DTSTART;TZID=America/Chicago:20250712T090000
DTEND;TZID=America/Chicago:20250712T170000
DTSTAMP:20260419T094411
CREATED:20250306T231133Z
LAST-MODIFIED:20250307T141937Z
UID:10000213-1752310800-1752339600@freedombenchrest.com
SUMMARY:600 Yard Match #6
DESCRIPTION:
URL:https://freedombenchrest.com/event/600-yard-match-6-4/
LOCATION:Western Colorado Rifle & Silhouette Club\, 712 38 Rd\, Palisade\, CO\, 81526\, United States
CATEGORIES:600 Yard
GEO:38.9713754;-108.3936509
X-APPLE-STRUCTURED-LOCATION;VALUE=URI;X-ADDRESS=Western Colorado Rifle & Silhouette Club 712 38 Rd Palisade CO 81526 United States;X-APPLE-RADIUS=500;X-TITLE=712 38 Rd:geo:-108.3936509,38.9713754
END:VEVENT
BEGIN:VEVENT
DTSTART;TZID=America/Chicago:20250712T080000
DTEND;TZID=America/Chicago:20250712T170000
DTSTAMP:20260419T094411
CREATED:20250306T231508Z
LAST-MODIFIED:20250307T142006Z
UID:10000239-1752307200-1752339600@freedombenchrest.com
SUMMARY:1000 Yard Match #5 & 6
DESCRIPTION:State Championship
URL:https://freedombenchrest.com/event/1000-yard-match-5-6/
LOCATION:White Horse Firearms & Outdoor Education Center\, 127 White Horse Ln\, Philippi\, WV\, 26416\, United States
CATEGORIES:1000 Yard
GEO:39.119741;-80.218792
X-APPLE-STRUCTURED-LOCATION;VALUE=URI;X-ADDRESS=White Horse Firearms & Outdoor Education Center 127 White Horse Ln Philippi WV 26416 United States;X-APPLE-RADIUS=500;X-TITLE=127 White Horse Ln:geo:-80.218792,39.119741
END:VEVENT
BEGIN:VEVENT
DTSTART;TZID=America/Chicago:20250711T090000
DTEND;TZID=America/Chicago:20250711T170000
DTSTAMP:20260419T094411
CREATED:20250306T231306Z
LAST-MODIFIED:20250306T231306Z
UID:10000228-1752224400-1752253200@freedombenchrest.com
SUMMARY:1000 Yard Match #6 & 7
DESCRIPTION:
URL:https://freedombenchrest.com/event/1000-yard-match-6-7/
LOCATION:Vapor Trail Valley Range\, MO\, United States
CATEGORIES:1000 Yard
GEO:40.288366;-93.449902
END:VEVENT
BEGIN:VEVENT
DTSTART;TZID=America/Chicago:20250706T090000
DTEND;TZID=America/Chicago:20250706T170000
DTSTAMP:20260419T094411
CREATED:20250306T232408Z
LAST-MODIFIED:20250306T232408Z
UID:10000297-1751792400-1751821200@freedombenchrest.com
SUMMARY:600 Yard Match #4
DESCRIPTION:
URL:https://freedombenchrest.com/event/600-yard-match-4-8/
LOCATION:Hunters Pointe Shooting Complex\, 45761 260th St.\, Humboldt\, SD\, 57035\, United States
CATEGORIES:600 Yard
GEO:43.6129157;-97.0567974
X-APPLE-STRUCTURED-LOCATION;VALUE=URI;X-ADDRESS=Hunters Pointe Shooting Complex 45761 260th St. Humboldt SD 57035 United States;X-APPLE-RADIUS=500;X-TITLE=45761 260th St.:geo:-97.0567974,43.6129157
END:VEVENT
BEGIN:VEVENT
DTSTART;TZID=America/Chicago:20250705T090000
DTEND;TZID=America/Chicago:20250705T170000
DTSTAMP:20260419T094411
CREATED:20250306T232408Z
LAST-MODIFIED:20250306T232408Z
UID:10000296-1751706000-1751734800@freedombenchrest.com
SUMMARY:600 Yard Match #3
DESCRIPTION:
URL:https://freedombenchrest.com/event/600-yard-match-3-8/
LOCATION:Hunters Pointe Shooting Complex\, 45761 260th St.\, Humboldt\, SD\, 57035\, United States
CATEGORIES:600 Yard
GEO:43.6129157;-97.0567974
X-APPLE-STRUCTURED-LOCATION;VALUE=URI;X-ADDRESS=Hunters Pointe Shooting Complex 45761 260th St. Humboldt SD 57035 United States;X-APPLE-RADIUS=500;X-TITLE=45761 260th St.:geo:-97.0567974,43.6129157
END:VEVENT
BEGIN:VEVENT
DTSTART;TZID=America/Chicago:20250705T090000
DTEND;TZID=America/Chicago:20250705T170000
DTSTAMP:20260419T094411
CREATED:20250306T230934Z
LAST-MODIFIED:20250307T141835Z
UID:10000205-1751706000-1751734800@freedombenchrest.com
SUMMARY:600 Yard Match #4
DESCRIPTION:
URL:https://freedombenchrest.com/event/600-yard-match-4-3/
LOCATION:Columbus Sportmans’ Association\, W10924 Breyer Rd\, Columbus\, WI\, 53925\, United States
CATEGORIES:600 Yard
GEO:43.344779;-88.93506
X-APPLE-STRUCTURED-LOCATION;VALUE=URI;X-ADDRESS=Columbus Sportmans’ Association W10924 Breyer Rd Columbus WI 53925 United States;X-APPLE-RADIUS=500;X-TITLE=W10924 Breyer Rd:geo:-88.93506,43.344779
END:VEVENT
BEGIN:VEVENT
DTSTART;TZID=America/Chicago:20250705T080000
DTEND;TZID=America/Chicago:20250705T170000
DTSTAMP:20260419T094411
CREATED:20250306T231442Z
LAST-MODIFIED:20250307T141904Z
UID:10000233-1751702400-1751734800@freedombenchrest.com
SUMMARY:600 Yard Match #3
DESCRIPTION:
URL:https://freedombenchrest.com/event/600-yard-match-3-6/
LOCATION:White Horse Firearms & Outdoor Education Center\, 127 White Horse Ln\, Philippi\, WV\, 26416\, United States
CATEGORIES:600 Yard
GEO:39.119741;-80.218792
X-APPLE-STRUCTURED-LOCATION;VALUE=URI;X-ADDRESS=White Horse Firearms & Outdoor Education Center 127 White Horse Ln Philippi WV 26416 United States;X-APPLE-RADIUS=500;X-TITLE=127 White Horse Ln:geo:-80.218792,39.119741
END:VEVENT
BEGIN:VEVENT
DTSTART;TZID=America/Chicago:20250629T090000
DTEND;TZID=America/Chicago:20250629T170000
DTSTAMP:20260419T094411
CREATED:20250306T232853Z
LAST-MODIFIED:20250307T141816Z
UID:10000316-1751187600-1751216400@freedombenchrest.com
SUMMARY:600 Yard Match #4
DESCRIPTION:
URL:https://freedombenchrest.com/event/600-yard-match-4-10/
LOCATION:Marathon County Rifle & Pistol Club\, 217980 Rifle Rd\, Mosinee\, 54455\, United States
CATEGORIES:600 Yard
END:VEVENT
BEGIN:VEVENT
DTSTART;TZID=America/Chicago:20250629T090000
DTEND;TZID=America/Chicago:20250629T170000
DTSTAMP:20260419T094411
CREATED:20250306T232207Z
LAST-MODIFIED:20250306T232207Z
UID:10000281-1751187600-1751216400@freedombenchrest.com
SUMMARY:600 Yard Match #2
DESCRIPTION:
URL:https://freedombenchrest.com/event/600-yard-match-2-8/
LOCATION:Grant County Shooters Association\, 27513 Oak Point Rd\, Elbow Lake\, MN\, 56531\, United States
CATEGORIES:600 Yard
GEO:41.77174;-101.9664469
X-APPLE-STRUCTURED-LOCATION;VALUE=URI;X-ADDRESS=Grant County Shooters Association 27513 Oak Point Rd Elbow Lake MN 56531 United States;X-APPLE-RADIUS=500;X-TITLE=27513 Oak Point Rd:geo:-101.9664469,41.77174
END:VEVENT
BEGIN:VEVENT
DTSTART;TZID=America/Chicago:20250629T090000
DTEND;TZID=America/Chicago:20250629T170000
DTSTAMP:20260419T094411
CREATED:20250306T231708Z
LAST-MODIFIED:20250306T231708Z
UID:10000253-1751187600-1751216400@freedombenchrest.com
SUMMARY:1000 Yard Match #6 - Heavy Gun
DESCRIPTION:
URL:https://freedombenchrest.com/event/1000-yard-match-6-heavy-gun/
LOCATION:Original Pennsylvania 1000 yd Benchrest Club\, 197 Kelly Rd.\, Trout Run\, PA\, 17771\, United States
CATEGORIES:1000 Yard
GEO:41.4456417;-76.8777426
X-APPLE-STRUCTURED-LOCATION;VALUE=URI;X-ADDRESS=Original Pennsylvania 1000 yd Benchrest Club 197 Kelly Rd. Trout Run PA 17771 United States;X-APPLE-RADIUS=500;X-TITLE=197 Kelly Rd.:geo:-76.8777426,41.4456417
END:VEVENT
BEGIN:VEVENT
DTSTART;TZID=America/Chicago:20250629T090000
DTEND;TZID=America/Chicago:20250629T170000
DTSTAMP:20260419T094411
CREATED:20250306T230706Z
LAST-MODIFIED:20250306T230706Z
UID:10000191-1751187600-1751216400@freedombenchrest.com
SUMMARY:1000 Yard Match #6
DESCRIPTION:Freedom Weekend
URL:https://freedombenchrest.com/event/1000-yard-match-6/
LOCATION:Red White and Blue Range\, 631 Avant Cemetery RD\, Tennille\, GA\, 31089\, United States
CATEGORIES:1000 Yard
GEO:32.8633809;-82.8838366
X-APPLE-STRUCTURED-LOCATION;VALUE=URI;X-ADDRESS=Red White and Blue Range 631 Avant Cemetery RD Tennille GA 31089 United States;X-APPLE-RADIUS=500;X-TITLE=631 Avant Cemetery RD:geo:-82.8838366,32.8633809
END:VEVENT
BEGIN:VEVENT
DTSTART;TZID=America/Chicago:20250628T090000
DTEND;TZID=America/Chicago:20250628T170000
DTSTAMP:20260419T094411
CREATED:20250306T232107Z
LAST-MODIFIED:20250306T232107Z
UID:10000280-1751101200-1751130000@freedombenchrest.com
SUMMARY:600 Yard Match #1
DESCRIPTION:
URL:https://freedombenchrest.com/event/600-yard-match-1-7/
LOCATION:Grant County Shooters Association\, 27513 Oak Point Rd\, Elbow Lake\, MN\, 56531\, United States
CATEGORIES:600 Yard
GEO:41.77174;-101.9664469
X-APPLE-STRUCTURED-LOCATION;VALUE=URI;X-ADDRESS=Grant County Shooters Association 27513 Oak Point Rd Elbow Lake MN 56531 United States;X-APPLE-RADIUS=500;X-TITLE=27513 Oak Point Rd:geo:-101.9664469,41.77174
END:VEVENT
BEGIN:VEVENT
DTSTART;TZID=America/Chicago:20250628T090000
DTEND;TZID=America/Chicago:20250628T170000
DTSTAMP:20260419T094411
CREATED:20250306T231707Z
LAST-MODIFIED:20250306T231707Z
UID:10000252-1751101200-1751130000@freedombenchrest.com
SUMMARY:1000 Yard Match #6 - Light Gun
DESCRIPTION:
URL:https://freedombenchrest.com/event/1000-yard-match-6-light-gun/
LOCATION:Original Pennsylvania 1000 yd Benchrest Club\, 197 Kelly Rd.\, Trout Run\, PA\, 17771\, United States
CATEGORIES:1000 Yard
GEO:41.4456417;-76.8777426
X-APPLE-STRUCTURED-LOCATION;VALUE=URI;X-ADDRESS=Original Pennsylvania 1000 yd Benchrest Club 197 Kelly Rd. Trout Run PA 17771 United States;X-APPLE-RADIUS=500;X-TITLE=197 Kelly Rd.:geo:-76.8777426,41.4456417
END:VEVENT
BEGIN:VEVENT
DTSTART;TZID=America/Chicago:20250628T090000
DTEND;TZID=America/Chicago:20250628T170000
DTSTAMP:20260419T094411
CREATED:20250306T230705Z
LAST-MODIFIED:20250306T230705Z
UID:10000190-1751101200-1751130000@freedombenchrest.com
SUMMARY:1000 Yard Match #5
DESCRIPTION:Freedom Weekend
URL:https://freedombenchrest.com/event/1000-yard-match-5/
LOCATION:Red White and Blue Range\, 631 Avant Cemetery RD\, Tennille\, GA\, 31089\, United States
CATEGORIES:1000 Yard
GEO:32.8633809;-82.8838366
X-APPLE-STRUCTURED-LOCATION;VALUE=URI;X-ADDRESS=Red White and Blue Range 631 Avant Cemetery RD Tennille GA 31089 United States;X-APPLE-RADIUS=500;X-TITLE=631 Avant Cemetery RD:geo:-82.8838366,32.8633809
END:VEVENT
BEGIN:VEVENT
DTSTART;TZID=America/Chicago:20250628T090000
DTEND;TZID=America/Chicago:20250628T170000
DTSTAMP:20260419T094411
CREATED:20250306T171234Z
LAST-MODIFIED:20250306T230502Z
UID:10000169-1751101200-1751130000@freedombenchrest.com
SUMMARY:600 Yard Match #2
DESCRIPTION:
URL:https://freedombenchrest.com/event/600-yard-match-2/
LOCATION:Harry Jones Memorial Range\, 3673-3653 Co Rd 17\, Fairview\, WV\, 26570\, United States
CATEGORIES:600 Yard
GEO:39.6037528;-80.2679889
X-APPLE-STRUCTURED-LOCATION;VALUE=URI;X-ADDRESS=Harry Jones Memorial Range 3673-3653 Co Rd 17 Fairview WV 26570 United States;X-APPLE-RADIUS=500;X-TITLE=3673-3653 Co Rd 17:geo:-80.2679889,39.6037528
END:VEVENT
BEGIN:VEVENT
DTSTART;TZID=America/Chicago:20250622T090000
DTEND;TZID=America/Chicago:20250622T170000
DTSTAMP:20260419T094411
CREATED:20250306T232045Z
LAST-MODIFIED:20250306T232045Z
UID:10000276-1750582800-1750611600@freedombenchrest.com
SUMMARY:1000 Yard Match #2
DESCRIPTION:
URL:https://freedombenchrest.com/event/1000-yard-match-2-2/
LOCATION:Sacramento Valley Shooting Center\, 15501 Meiss Rd\, Sloughouse\, CA\, 95683\, United States
CATEGORIES:1000 Yard
END:VEVENT
BEGIN:VEVENT
DTSTART;TZID=America/Chicago:20250621T093000
DTEND;TZID=America/Chicago:20250621T170000
DTSTAMP:20260419T094411
CREATED:20250306T230733Z
LAST-MODIFIED:20250307T141746Z
UID:10000197-1750498200-1750525200@freedombenchrest.com
SUMMARY:1000 Yard Fun Match
DESCRIPTION:
URL:https://freedombenchrest.com/event/1000-yard-fun-match/
LOCATION:Hawk’s Ridge Gun Club\, 1018 Gladys Fork Road\, Ferguson\, NC\, 28624\, United States
CATEGORIES:1000 Yard
GEO:36.0987123;-81.3903085
X-APPLE-STRUCTURED-LOCATION;VALUE=URI;X-ADDRESS=Hawk’s Ridge Gun Club 1018 Gladys Fork Road Ferguson NC 28624 United States;X-APPLE-RADIUS=500;X-TITLE=1018 Gladys Fork Road:geo:-81.3903085,36.0987123
END:VEVENT
BEGIN:VEVENT
DTSTART;TZID=America/Chicago:20250615T090000
DTEND;TZID=America/Chicago:20250615T170000
DTSTAMP:20260419T094411
CREATED:20250306T232853Z
LAST-MODIFIED:20250307T141729Z
UID:10000315-1749978000-1750006800@freedombenchrest.com
SUMMARY:600 Yard Match #3
DESCRIPTION:
URL:https://freedombenchrest.com/event/600-yard-match-3-10/
LOCATION:Marathon County Rifle & Pistol Club\, 217980 Rifle Rd\, Mosinee\, 54455\, United States
CATEGORIES:600 Yard
END:VEVENT
BEGIN:VEVENT
DTSTART;TZID=America/Chicago:20250615T090000
DTEND;TZID=America/Chicago:20250615T170000
DTSTAMP:20260419T094411
CREATED:20250306T231643Z
LAST-MODIFIED:20250306T231643Z
UID:10000251-1749978000-1750006800@freedombenchrest.com
SUMMARY:1000 Yard Match #5 - Heavy Gun
DESCRIPTION:
URL:https://freedombenchrest.com/event/1000-yard-match-5-heavy-gun/
LOCATION:Original Pennsylvania 1000 yd Benchrest Club\, 197 Kelly Rd.\, Trout Run\, PA\, 17771\, United States
CATEGORIES:1000 Yard
GEO:41.4456417;-76.8777426
X-APPLE-STRUCTURED-LOCATION;VALUE=URI;X-ADDRESS=Original Pennsylvania 1000 yd Benchrest Club 197 Kelly Rd. Trout Run PA 17771 United States;X-APPLE-RADIUS=500;X-TITLE=197 Kelly Rd.:geo:-76.8777426,41.4456417
END:VEVENT
BEGIN:VEVENT
DTSTART;TZID=America/Chicago:20250614T130000
DTEND;TZID=America/Chicago:20250614T170000
DTSTAMP:20260419T094411
CREATED:20250306T232709Z
LAST-MODIFIED:20250306T232709Z
UID:10000309-1749906000-1749920400@freedombenchrest.com
SUMMARY:1000 Yard Match #3
DESCRIPTION:
URL:https://freedombenchrest.com/event/1000-yard-match-3-6/
LOCATION:Colorado Rifle Club\, 76099 E. 96th Ave\, Byers\, CO\, 80103\, United States
CATEGORIES:1000 Yard
GEO:39.8876588;-104.0919528
X-APPLE-STRUCTURED-LOCATION;VALUE=URI;X-ADDRESS=Colorado Rifle Club 76099 E. 96th Ave Byers CO 80103 United States;X-APPLE-RADIUS=500;X-TITLE=76099 E. 96th Ave:geo:-104.0919528,39.8876588
END:VEVENT
BEGIN:VEVENT
DTSTART;TZID=America/Chicago:20250614T090000
DTEND;TZID=America/Chicago:20250614T170000
DTSTAMP:20260419T094411
CREATED:20250306T232955Z
LAST-MODIFIED:20250306T232955Z
UID:10000320-1749891600-1749920400@freedombenchrest.com
SUMMARY:600 Yard Match #2
DESCRIPTION:
URL:https://freedombenchrest.com/event/600-yard-match-2-12/
LOCATION:Mifflin County Sportsmen’s Association\, 400 Ellen Chapel Ln\, Lewistown\, PA\, 17044\, United States
CATEGORIES:600 Yard
GEO:40.6123306;-77.6180426
X-APPLE-STRUCTURED-LOCATION;VALUE=URI;X-ADDRESS=Mifflin County Sportsmen’s Association 400 Ellen Chapel Ln Lewistown PA 17044 United States;X-APPLE-RADIUS=500;X-TITLE=400 Ellen Chapel Ln:geo:-77.6180426,40.6123306
END:VEVENT
BEGIN:VEVENT
DTSTART;TZID=America/Chicago:20250614T090000
DTEND;TZID=America/Chicago:20250614T170000
DTSTAMP:20260419T094411
CREATED:20250306T231643Z
LAST-MODIFIED:20250306T231643Z
UID:10000250-1749891600-1749920400@freedombenchrest.com
SUMMARY:1000 Yard Match #5 - Light Gun
DESCRIPTION:
URL:https://freedombenchrest.com/event/1000-yard-match-5-light-gun/
LOCATION:Original Pennsylvania 1000 yd Benchrest Club\, 197 Kelly Rd.\, Trout Run\, PA\, 17771\, United States
CATEGORIES:1000 Yard
GEO:41.4456417;-76.8777426
X-APPLE-STRUCTURED-LOCATION;VALUE=URI;X-ADDRESS=Original Pennsylvania 1000 yd Benchrest Club 197 Kelly Rd. Trout Run PA 17771 United States;X-APPLE-RADIUS=500;X-TITLE=197 Kelly Rd.:geo:-76.8777426,41.4456417
END:VEVENT
BEGIN:VEVENT
DTSTART;TZID=America/Chicago:20250614T090000
DTEND;TZID=America/Chicago:20250614T170000
DTSTAMP:20260419T094411
CREATED:20250306T231133Z
LAST-MODIFIED:20250307T141630Z
UID:10000212-1749891600-1749920400@freedombenchrest.com
SUMMARY:600 Yard Match #5
DESCRIPTION:
URL:https://freedombenchrest.com/event/600-yard-match-5-4/
LOCATION:Western Colorado Rifle & Silhouette Club\, 712 38 Rd\, Palisade\, CO\, 81526\, United States
CATEGORIES:600 Yard
GEO:38.9713754;-108.3936509
X-APPLE-STRUCTURED-LOCATION;VALUE=URI;X-ADDRESS=Western Colorado Rifle & Silhouette Club 712 38 Rd Palisade CO 81526 United States;X-APPLE-RADIUS=500;X-TITLE=712 38 Rd:geo:-108.3936509,38.9713754
END:VEVENT
BEGIN:VEVENT
DTSTART;TZID=America/Chicago:20250614T083000
DTEND;TZID=America/Chicago:20250614T170000
DTSTAMP:20260419T094411
CREATED:20250306T232510Z
LAST-MODIFIED:20250306T232510Z
UID:10000303-1749889800-1749920400@freedombenchrest.com
SUMMARY:600 Yard Match #3
DESCRIPTION:
URL:https://freedombenchrest.com/event/600-yard-match-3-9/
LOCATION:Colorado Rifle Club\, 76099 E. 96th Ave\, Byers\, CO\, 80103\, United States
CATEGORIES:600 Yard
GEO:39.8876588;-104.0919528
X-APPLE-STRUCTURED-LOCATION;VALUE=URI;X-ADDRESS=Colorado Rifle Club 76099 E. 96th Ave Byers CO 80103 United States;X-APPLE-RADIUS=500;X-TITLE=76099 E. 96th Ave:geo:-104.0919528,39.8876588
END:VEVENT
BEGIN:VEVENT
DTSTART;TZID=America/Chicago:20250614T080000
DTEND;TZID=America/Chicago:20250614T170000
DTSTAMP:20260419T094411
CREATED:20250306T231507Z
LAST-MODIFIED:20250307T141650Z
UID:10000238-1749888000-1749920400@freedombenchrest.com
SUMMARY:1000 Yard Match #3 & 4
DESCRIPTION:
URL:https://freedombenchrest.com/event/1000-yard-match-3-4-2/
LOCATION:White Horse Firearms & Outdoor Education Center\, 127 White Horse Ln\, Philippi\, WV\, 26416\, United States
CATEGORIES:1000 Yard
GEO:39.119741;-80.218792
X-APPLE-STRUCTURED-LOCATION;VALUE=URI;X-ADDRESS=White Horse Firearms & Outdoor Education Center 127 White Horse Ln Philippi WV 26416 United States;X-APPLE-RADIUS=500;X-TITLE=127 White Horse Ln:geo:-80.218792,39.119741
END:VEVENT
BEGIN:VEVENT
DTSTART;TZID=America/Chicago:20250611T090000
DTEND;TZID=America/Chicago:20250613T170000
DTSTAMP:20260419T094411
CREATED:20250306T231306Z
LAST-MODIFIED:20250306T231306Z
UID:10000227-1749632400-1749834000@freedombenchrest.com
SUMMARY:1000 Yard - Rendezvous #5
DESCRIPTION:
URL:https://freedombenchrest.com/event/1000-yard-rendezvous-5/
LOCATION:Vapor Trail Valley Range\, MO\, United States
CATEGORIES:1000 Yard
GEO:40.288366;-93.449902
END:VEVENT
END:VCALENDAR