BEGIN:VCALENDAR
VERSION:2.0
PRODID:-//Freedom Benchrest - ECPv6.15.18//NONSGML v1.0//EN
CALSCALE:GREGORIAN
METHOD:PUBLISH
X-ORIGINAL-URL:https://freedombenchrest.com
X-WR-CALDESC:Events for Freedom Benchrest
REFRESH-INTERVAL;VALUE=DURATION:PT1H
X-Robots-Tag:noindex
X-PUBLISHED-TTL:PT1H
BEGIN:VTIMEZONE
TZID:America/Chicago
BEGIN:DAYLIGHT
TZOFFSETFROM:-0600
TZOFFSETTO:-0500
TZNAME:CDT
DTSTART:20250309T080000
END:DAYLIGHT
BEGIN:STANDARD
TZOFFSETFROM:-0500
TZOFFSETTO:-0600
TZNAME:CST
DTSTART:20251102T070000
END:STANDARD
BEGIN:DAYLIGHT
TZOFFSETFROM:-0600
TZOFFSETTO:-0500
TZNAME:CDT
DTSTART:20260308T080000
END:DAYLIGHT
BEGIN:STANDARD
TZOFFSETFROM:-0500
TZOFFSETTO:-0600
TZNAME:CST
DTSTART:20261101T070000
END:STANDARD
BEGIN:DAYLIGHT
TZOFFSETFROM:-0600
TZOFFSETTO:-0500
TZNAME:CDT
DTSTART:20270314T080000
END:DAYLIGHT
BEGIN:STANDARD
TZOFFSETFROM:-0500
TZOFFSETTO:-0600
TZNAME:CST
DTSTART:20271107T070000
END:STANDARD
END:VTIMEZONE
BEGIN:VEVENT
DTSTART;TZID=America/Chicago:20260821T090000
DTEND;TZID=America/Chicago:20260821T170000
DTSTAMP:20260421T180458
CREATED:20251112T035619Z
LAST-MODIFIED:20251112T035619Z
UID:10000376-1787302800-1787331600@freedombenchrest.com
SUMMARY:1000 Yard Match #6 & #7
DESCRIPTION:
URL:https://freedombenchrest.com/event/1000-yard-match-6-7-2/
LOCATION:Vapor Trail Valley Range\, MO\, United States
CATEGORIES:1000 Yard
GEO:40.288366;-93.449902
END:VEVENT
BEGIN:VEVENT
DTSTART;TZID=America/Chicago:20260822T090000
DTEND;TZID=America/Chicago:20260822T170000
DTSTAMP:20260421T180458
CREATED:20251112T035658Z
LAST-MODIFIED:20251112T035658Z
UID:10000377-1787389200-1787418000@freedombenchrest.com
SUMMARY:1000 Yard Match #8 & #9
DESCRIPTION:
URL:https://freedombenchrest.com/event/1000-yard-match-8-9-2/
LOCATION:Vapor Trail Valley Range\, MO\, United States
CATEGORIES:1000 Yard
GEO:40.288366;-93.449902
END:VEVENT
BEGIN:VEVENT
DTSTART;TZID=America/Chicago:20260822T090000
DTEND;TZID=America/Chicago:20260822T170000
DTSTAMP:20260421T180458
CREATED:20260316T155741Z
LAST-MODIFIED:20260316T155741Z
UID:10000458-1787389200-1787418000@freedombenchrest.com
SUMMARY:1000 Yard Match #7 & #8
DESCRIPTION:
URL:https://freedombenchrest.com/event/1000-yard-match-7-8-4/
LOCATION:Harry Jones Memorial Range\, 3673-3653 Co Rd 17\, Fairview\, WV\, 26570\, United States
CATEGORIES:1000 Yard
GEO:39.6037528;-80.2679889
X-APPLE-STRUCTURED-LOCATION;VALUE=URI;X-ADDRESS=Harry Jones Memorial Range 3673-3653 Co Rd 17 Fairview WV 26570 United States;X-APPLE-RADIUS=500;X-TITLE=3673-3653 Co Rd 17:geo:-80.2679889,39.6037528
END:VEVENT
BEGIN:VEVENT
DTSTART;TZID=America/Chicago:20260822T090000
DTEND;TZID=America/Chicago:20260823T170000
DTSTAMP:20260421T180458
CREATED:20260225T161043Z
LAST-MODIFIED:20260225T161043Z
UID:10000450-1787389200-1787504400@freedombenchrest.com
SUMMARY:1000 Yard Match #9
DESCRIPTION:Light Gun and Tactical – Saturday\nHeavy Gun – Sunday
URL:https://freedombenchrest.com/event/1000-yard-match-9-4/
LOCATION:Original Pennsylvania 1000 yd Benchrest Club\, 197 Kelly Rd.\, Trout Run\, PA\, 17771\, United States
CATEGORIES:1000 Yard
GEO:41.4456417;-76.8777426
X-APPLE-STRUCTURED-LOCATION;VALUE=URI;X-ADDRESS=Original Pennsylvania 1000 yd Benchrest Club 197 Kelly Rd. Trout Run PA 17771 United States;X-APPLE-RADIUS=500;X-TITLE=197 Kelly Rd.:geo:-76.8777426,41.4456417
END:VEVENT
BEGIN:VEVENT
DTSTART;TZID=America/Chicago:20260823T090000
DTEND;TZID=America/Chicago:20260823T170000
DTSTAMP:20260421T180458
CREATED:20251112T035728Z
LAST-MODIFIED:20251112T035728Z
UID:10000378-1787475600-1787504400@freedombenchrest.com
SUMMARY:1000 Yard Match #10
DESCRIPTION:
URL:https://freedombenchrest.com/event/1000-yard-match-10-5/
LOCATION:Vapor Trail Valley Range\, MO\, United States
CATEGORIES:1000 Yard
GEO:40.288366;-93.449902
END:VEVENT
BEGIN:VEVENT
DTSTART;TZID=America/Chicago:20260823T090000
DTEND;TZID=America/Chicago:20260823T170000
DTSTAMP:20260421T180458
CREATED:20260316T161642Z
LAST-MODIFIED:20260316T161642Z
UID:10000468-1787475600-1787504400@freedombenchrest.com
SUMMARY:600 Yard Match #9
DESCRIPTION:
URL:https://freedombenchrest.com/event/600-yard-match-9-4/
LOCATION:Sacramento Valley Shooting Center\, 15501 Meiss Rd\, Sloughouse\, CA\, 95683\, United States
CATEGORIES:600 Yard
END:VEVENT
BEGIN:VEVENT
DTSTART;TZID=America/Chicago:20260829T090000
DTEND;TZID=America/Chicago:20260829T170000
DTSTAMP:20260421T180458
CREATED:20251112T035143Z
LAST-MODIFIED:20251112T035143Z
UID:10000373-1787994000-1788022800@freedombenchrest.com
SUMMARY:1000 Yard Match #8
DESCRIPTION:
URL:https://freedombenchrest.com/event/1000-yard-match-8-3/
LOCATION:Red White and Blue Range\, 631 Avant Cemetery RD\, Tennille\, GA\, 31089\, United States
CATEGORIES:1000 Yard
GEO:32.8633809;-82.8838366
X-APPLE-STRUCTURED-LOCATION;VALUE=URI;X-ADDRESS=Red White and Blue Range 631 Avant Cemetery RD Tennille GA 31089 United States;X-APPLE-RADIUS=500;X-TITLE=631 Avant Cemetery RD:geo:-82.8838366,32.8633809
END:VEVENT
BEGIN:VEVENT
DTSTART;TZID=America/Chicago:20260829T090000
DTEND;TZID=America/Chicago:20260829T170000
DTSTAMP:20260421T180458
CREATED:20251112T035218Z
LAST-MODIFIED:20251112T035218Z
UID:10000374-1787994000-1788022800@freedombenchrest.com
SUMMARY:1000 Yard Match #9
DESCRIPTION:
URL:https://freedombenchrest.com/event/1000-yard-match-9-3/
LOCATION:Red White and Blue Range\, 631 Avant Cemetery RD\, Tennille\, GA\, 31089\, United States
CATEGORIES:1000 Yard
GEO:32.8633809;-82.8838366
X-APPLE-STRUCTURED-LOCATION;VALUE=URI;X-ADDRESS=Red White and Blue Range 631 Avant Cemetery RD Tennille GA 31089 United States;X-APPLE-RADIUS=500;X-TITLE=631 Avant Cemetery RD:geo:-82.8838366,32.8633809
END:VEVENT
BEGIN:VEVENT
DTSTART;TZID=America/Chicago:20260829T090000
DTEND;TZID=America/Chicago:20260829T170000
DTSTAMP:20260421T180458
CREATED:20251211T193010Z
LAST-MODIFIED:20251211T193010Z
UID:10000404-1787994000-1788022800@freedombenchrest.com
SUMMARY:600 Yard Match #4 & #5
DESCRIPTION:
URL:https://freedombenchrest.com/event/600-yard-match-4-5-2/
LOCATION:Grant County Shooters Association\, 27513 Oak Point Rd\, Elbow Lake\, MN\, 56531\, United States
CATEGORIES:600 Yard
GEO:41.77174;-101.9664469
X-APPLE-STRUCTURED-LOCATION;VALUE=URI;X-ADDRESS=Grant County Shooters Association 27513 Oak Point Rd Elbow Lake MN 56531 United States;X-APPLE-RADIUS=500;X-TITLE=27513 Oak Point Rd:geo:-101.9664469,41.77174
END:VEVENT
BEGIN:VEVENT
DTSTART;TZID=America/Chicago:20260829T090000
DTEND;TZID=America/Chicago:20260829T170000
DTSTAMP:20260421T180458
CREATED:20260316T155805Z
LAST-MODIFIED:20260316T155902Z
UID:10000459-1787994000-1788022800@freedombenchrest.com
SUMMARY:1000 Yard Match #9 & #10
DESCRIPTION:
URL:https://freedombenchrest.com/event/1000-yard-match-9-10-5/
LOCATION:Harry Jones Memorial Range\, 3673-3653 Co Rd 17\, Fairview\, WV\, 26570\, United States
CATEGORIES:1000 Yard
GEO:39.6037528;-80.2679889
X-APPLE-STRUCTURED-LOCATION;VALUE=URI;X-ADDRESS=Harry Jones Memorial Range 3673-3653 Co Rd 17 Fairview WV 26570 United States;X-APPLE-RADIUS=500;X-TITLE=3673-3653 Co Rd 17:geo:-80.2679889,39.6037528
END:VEVENT
BEGIN:VEVENT
DTSTART;TZID=America/Chicago:20260830T090000
DTEND;TZID=America/Chicago:20260830T170000
DTSTAMP:20260421T180458
CREATED:20251112T035246Z
LAST-MODIFIED:20251112T035246Z
UID:10000375-1788080400-1788109200@freedombenchrest.com
SUMMARY:1000 Yard Match #10
DESCRIPTION:
URL:https://freedombenchrest.com/event/1000-yard-match-10-4/
LOCATION:Red White and Blue Range\, 631 Avant Cemetery RD\, Tennille\, GA\, 31089\, United States
CATEGORIES:1000 Yard
GEO:32.8633809;-82.8838366
X-APPLE-STRUCTURED-LOCATION;VALUE=URI;X-ADDRESS=Red White and Blue Range 631 Avant Cemetery RD Tennille GA 31089 United States;X-APPLE-RADIUS=500;X-TITLE=631 Avant Cemetery RD:geo:-82.8838366,32.8633809
END:VEVENT
BEGIN:VEVENT
DTSTART;TZID=America/Chicago:20260830T090000
DTEND;TZID=America/Chicago:20260830T170000
DTSTAMP:20260421T180458
CREATED:20251211T193031Z
LAST-MODIFIED:20251211T193816Z
UID:10000405-1788080400-1788109200@freedombenchrest.com
SUMMARY:600 Yard Match #6
DESCRIPTION:
URL:https://freedombenchrest.com/event/600-yard-match-6-17/
LOCATION:Grant County Shooters Association\, 27513 Oak Point Rd\, Elbow Lake\, MN\, 56531\, United States
CATEGORIES:600 Yard
GEO:41.77174;-101.9664469
X-APPLE-STRUCTURED-LOCATION;VALUE=URI;X-ADDRESS=Grant County Shooters Association 27513 Oak Point Rd Elbow Lake MN 56531 United States;X-APPLE-RADIUS=500;X-TITLE=27513 Oak Point Rd:geo:-101.9664469,41.77174
END:VEVENT
BEGIN:VEVENT
DTSTART;TZID=America/Chicago:20260905T080000
DTEND;TZID=America/Chicago:20260905T170000
DTSTAMP:20260421T180458
CREATED:20260110T165627Z
LAST-MODIFIED:20260110T170257Z
UID:10000428-1788595200-1788627600@freedombenchrest.com
SUMMARY:600 Yard Match #5
DESCRIPTION:
URL:https://freedombenchrest.com/event/600-yard-match-5-19/
LOCATION:White Horse Firearms & Outdoor Education Center\, 127 White Horse Ln\, Philippi\, WV\, 26416\, United States
CATEGORIES:600 Yard
GEO:39.119741;-80.218792
X-APPLE-STRUCTURED-LOCATION;VALUE=URI;X-ADDRESS=White Horse Firearms & Outdoor Education Center 127 White Horse Ln Philippi WV 26416 United States;X-APPLE-RADIUS=500;X-TITLE=127 White Horse Ln:geo:-80.218792,39.119741
END:VEVENT
BEGIN:VEVENT
DTSTART;TZID=America/Chicago:20260905T090000
DTEND;TZID=America/Chicago:20260905T170000
DTSTAMP:20260421T180458
CREATED:20251125T145917Z
LAST-MODIFIED:20251125T145917Z
UID:10000401-1788598800-1788627600@freedombenchrest.com
SUMMARY:600 Yard Match #3
DESCRIPTION:
URL:https://freedombenchrest.com/event/600-yard-match-3-17/
LOCATION:Mifflin County Sportsmen’s Association\, 400 Ellen Chapel Ln\, Lewistown\, PA\, 17044\, United States
CATEGORIES:600 Yard
GEO:40.6123306;-77.6180426
X-APPLE-STRUCTURED-LOCATION;VALUE=URI;X-ADDRESS=Mifflin County Sportsmen’s Association 400 Ellen Chapel Ln Lewistown PA 17044 United States;X-APPLE-RADIUS=500;X-TITLE=400 Ellen Chapel Ln:geo:-77.6180426,40.6123306
END:VEVENT
BEGIN:VEVENT
DTSTART;TZID=America/Chicago:20260912T090000
DTEND;TZID=America/Chicago:20260912T170000
DTSTAMP:20260421T180458
CREATED:20251112T032724Z
LAST-MODIFIED:20251112T032724Z
UID:10000355-1789203600-1789232400@freedombenchrest.com
SUMMARY:600 Yard Match #5
DESCRIPTION:
URL:https://freedombenchrest.com/event/600-yard-match-5-14/
LOCATION:Vapor Trail Valley Range\, MO\, United States
CATEGORIES:600 Yard
GEO:40.288366;-93.449902
END:VEVENT
BEGIN:VEVENT
DTSTART;TZID=America/Chicago:20260912T090000
DTEND;TZID=America/Chicago:20260912T170000
DTSTAMP:20260421T180458
CREATED:20251215T165823Z
LAST-MODIFIED:20251215T165823Z
UID:10000420-1789203600-1789232400@freedombenchrest.com
SUMMARY:600 Yard Match #10
DESCRIPTION:
URL:https://freedombenchrest.com/event/600-yard-match-10-4/
LOCATION:Western Colorado Rifle & Silhouette Club\, 712 38 Rd\, Palisade\, CO\, 81526\, United States
CATEGORIES:600 Yard
GEO:38.9713754;-108.3936509
X-APPLE-STRUCTURED-LOCATION;VALUE=URI;X-ADDRESS=Western Colorado Rifle & Silhouette Club 712 38 Rd Palisade CO 81526 United States;X-APPLE-RADIUS=500;X-TITLE=712 38 Rd:geo:-108.3936509,38.9713754
END:VEVENT
BEGIN:VEVENT
DTSTART;TZID=America/Chicago:20260912T090000
DTEND;TZID=America/Chicago:20260913T170000
DTSTAMP:20260421T180458
CREATED:20260225T161112Z
LAST-MODIFIED:20260225T161112Z
UID:10000451-1789203600-1789318800@freedombenchrest.com
SUMMARY:1000 Yard Match #10
DESCRIPTION:Light Gun and Tactical – Saturday\nHeavy Gun – Sunday
URL:https://freedombenchrest.com/event/1000-yard-match-10-7/
LOCATION:Original Pennsylvania 1000 yd Benchrest Club\, 197 Kelly Rd.\, Trout Run\, PA\, 17771\, United States
CATEGORIES:1000 Yard
GEO:41.4456417;-76.8777426
X-APPLE-STRUCTURED-LOCATION;VALUE=URI;X-ADDRESS=Original Pennsylvania 1000 yd Benchrest Club 197 Kelly Rd. Trout Run PA 17771 United States;X-APPLE-RADIUS=500;X-TITLE=197 Kelly Rd.:geo:-76.8777426,41.4456417
END:VEVENT
BEGIN:VEVENT
DTSTART;TZID=America/Chicago:20260913T090000
DTEND;TZID=America/Chicago:20260913T170000
DTSTAMP:20260421T180458
CREATED:20251112T032802Z
LAST-MODIFIED:20251112T032802Z
UID:10000356-1789290000-1789318800@freedombenchrest.com
SUMMARY:600 Yard Match #6
DESCRIPTION:
URL:https://freedombenchrest.com/event/600-yard-match-6-14/
LOCATION:Vapor Trail Valley Range\, MO\, United States
CATEGORIES:600 Yard
GEO:40.288366;-93.449902
END:VEVENT
BEGIN:VEVENT
DTSTART;TZID=America/Chicago:20260923T080000
DTEND;TZID=America/Chicago:20260923T170000
DTSTAMP:20260421T180458
CREATED:20251112T032952Z
LAST-MODIFIED:20260420T172645Z
UID:10000357-1790150400-1790182800@freedombenchrest.com
SUMMARY:Freedom Long Range Nationals
DESCRIPTION:File 00000000e28471f5bb027087fd2d0471 \nfreedom_long_range_entry_form_tshirt (1)
URL:https://freedombenchrest.com/event/freedom-long-range-nationals/
LOCATION:Red White and Blue Range\, 631 Avant Cemetery RD\, Tennille\, GA\, 31089\, United States
CATEGORIES:1000 Yard,600 Yard
GEO:32.8633809;-82.8838366
X-APPLE-STRUCTURED-LOCATION;VALUE=URI;X-ADDRESS=Red White and Blue Range 631 Avant Cemetery RD Tennille GA 31089 United States;X-APPLE-RADIUS=500;X-TITLE=631 Avant Cemetery RD:geo:-82.8838366,32.8633809
END:VEVENT
BEGIN:VEVENT
DTSTART;TZID=America/Chicago:20260924T080000
DTEND;TZID=America/Chicago:20260924T170000
DTSTAMP:20260421T180458
CREATED:20251112T033141Z
LAST-MODIFIED:20251112T033141Z
UID:10000358-1790236800-1790269200@freedombenchrest.com
SUMMARY:Freedom Long Range Nationals
DESCRIPTION:
URL:https://freedombenchrest.com/event/freedom-long-range-nationals-2/
LOCATION:Red White and Blue Range\, 631 Avant Cemetery RD\, Tennille\, GA\, 31089\, United States
CATEGORIES:1000 Yard,600 Yard
GEO:32.8633809;-82.8838366
X-APPLE-STRUCTURED-LOCATION;VALUE=URI;X-ADDRESS=Red White and Blue Range 631 Avant Cemetery RD Tennille GA 31089 United States;X-APPLE-RADIUS=500;X-TITLE=631 Avant Cemetery RD:geo:-82.8838366,32.8633809
END:VEVENT
BEGIN:VEVENT
DTSTART;TZID=America/Chicago:20260925T080000
DTEND;TZID=America/Chicago:20260925T170000
DTSTAMP:20260421T180458
CREATED:20251112T033203Z
LAST-MODIFIED:20251112T033203Z
UID:10000359-1790323200-1790355600@freedombenchrest.com
SUMMARY:Freedom Long Range Nationals
DESCRIPTION:
URL:https://freedombenchrest.com/event/freedom-long-range-nationals-3/
LOCATION:Red White and Blue Range\, 631 Avant Cemetery RD\, Tennille\, GA\, 31089\, United States
CATEGORIES:1000 Yard,600 Yard
GEO:32.8633809;-82.8838366
X-APPLE-STRUCTURED-LOCATION;VALUE=URI;X-ADDRESS=Red White and Blue Range 631 Avant Cemetery RD Tennille GA 31089 United States;X-APPLE-RADIUS=500;X-TITLE=631 Avant Cemetery RD:geo:-82.8838366,32.8633809
END:VEVENT
BEGIN:VEVENT
DTSTART;TZID=America/Chicago:20260926T080000
DTEND;TZID=America/Chicago:20260926T170000
DTSTAMP:20260421T180458
CREATED:20251112T033225Z
LAST-MODIFIED:20251112T033225Z
UID:10000360-1790409600-1790442000@freedombenchrest.com
SUMMARY:Freedom Long Range Nationals
DESCRIPTION:
URL:https://freedombenchrest.com/event/freedom-long-range-nationals-4/
LOCATION:Red White and Blue Range\, 631 Avant Cemetery RD\, Tennille\, GA\, 31089\, United States
CATEGORIES:1000 Yard,600 Yard
GEO:32.8633809;-82.8838366
X-APPLE-STRUCTURED-LOCATION;VALUE=URI;X-ADDRESS=Red White and Blue Range 631 Avant Cemetery RD Tennille GA 31089 United States;X-APPLE-RADIUS=500;X-TITLE=631 Avant Cemetery RD:geo:-82.8838366,32.8633809
END:VEVENT
BEGIN:VEVENT
DTSTART;TZID=America/Chicago:20260926T090000
DTEND;TZID=America/Chicago:20260926T170000
DTSTAMP:20260421T180458
CREATED:20251117T003305Z
LAST-MODIFIED:20251117T003305Z
UID:10000384-1790413200-1790442000@freedombenchrest.com
SUMMARY:600 Yard Match #5
DESCRIPTION:
URL:https://freedombenchrest.com/event/600-yard-match-5-15/
LOCATION:Pete Lien & Sons Shooting Sports Complex\, 14514 Bill Janklow Rd.\, Piedmont\, SD\, 57769\, United States
CATEGORIES:600 Yard
GEO:44.2538708191;-103.148798719
X-APPLE-STRUCTURED-LOCATION;VALUE=URI;X-ADDRESS=Pete Lien & Sons Shooting Sports Complex 14514 Bill Janklow Rd. Piedmont SD 57769 United States;X-APPLE-RADIUS=500;X-TITLE=14514 Bill Janklow Rd.:geo:-103.148798719,44.2538708191
END:VEVENT
BEGIN:VEVENT
DTSTART;TZID=America/Chicago:20260926T090000
DTEND;TZID=America/Chicago:20260926T170000
DTSTAMP:20260421T180458
CREATED:20260316T160158Z
LAST-MODIFIED:20260316T160158Z
UID:10000465-1790413200-1790442000@freedombenchrest.com
SUMMARY:600 Yard Match #6
DESCRIPTION:
URL:https://freedombenchrest.com/event/600-yard-match-6-21/
LOCATION:Harry Jones Memorial Range\, 3673-3653 Co Rd 17\, Fairview\, WV\, 26570\, United States
CATEGORIES:600 Yard
GEO:39.6037528;-80.2679889
X-APPLE-STRUCTURED-LOCATION;VALUE=URI;X-ADDRESS=Harry Jones Memorial Range 3673-3653 Co Rd 17 Fairview WV 26570 United States;X-APPLE-RADIUS=500;X-TITLE=3673-3653 Co Rd 17:geo:-80.2679889,39.6037528
END:VEVENT
BEGIN:VEVENT
DTSTART;TZID=America/Chicago:20260926T090000
DTEND;TZID=America/Chicago:20260927T170000
DTSTAMP:20260421T180458
CREATED:20260316T161843Z
LAST-MODIFIED:20260316T161843Z
UID:10000470-1790413200-1790528400@freedombenchrest.com
SUMMARY:600-1000 Yard Match #10 & #11 - Sac. Valley Two Day Match
DESCRIPTION:
URL:https://freedombenchrest.com/event/600-1000-yard-match-10-11-sac-valley-two-day-match/
LOCATION:Sacramento Valley Shooting Center\, 15501 Meiss Rd\, Sloughouse\, CA\, 95683\, United States
CATEGORIES:1000 Yard,600 Yard
END:VEVENT
BEGIN:VEVENT
DTSTART;TZID=America/Chicago:20260927T080000
DTEND;TZID=America/Chicago:20260927T170000
DTSTAMP:20260421T180458
CREATED:20251112T033245Z
LAST-MODIFIED:20251112T033245Z
UID:10000361-1790496000-1790528400@freedombenchrest.com
SUMMARY:Freedom Long Range Nationals
DESCRIPTION:
URL:https://freedombenchrest.com/event/freedom-long-range-nationals-5/
LOCATION:Red White and Blue Range\, 631 Avant Cemetery RD\, Tennille\, GA\, 31089\, United States
CATEGORIES:1000 Yard,600 Yard
GEO:32.8633809;-82.8838366
X-APPLE-STRUCTURED-LOCATION;VALUE=URI;X-ADDRESS=Red White and Blue Range 631 Avant Cemetery RD Tennille GA 31089 United States;X-APPLE-RADIUS=500;X-TITLE=631 Avant Cemetery RD:geo:-82.8838366,32.8633809
END:VEVENT
BEGIN:VEVENT
DTSTART;TZID=America/Chicago:20260927T090000
DTEND;TZID=America/Chicago:20260927T170000
DTSTAMP:20260421T180458
CREATED:20251117T003327Z
LAST-MODIFIED:20251117T003327Z
UID:10000385-1790499600-1790528400@freedombenchrest.com
SUMMARY:600 Yard Match #6
DESCRIPTION:
URL:https://freedombenchrest.com/event/600-yard-match-6-15/
LOCATION:Pete Lien & Sons Shooting Sports Complex\, 14514 Bill Janklow Rd.\, Piedmont\, SD\, 57769\, United States
CATEGORIES:600 Yard
GEO:44.2538708191;-103.148798719
X-APPLE-STRUCTURED-LOCATION;VALUE=URI;X-ADDRESS=Pete Lien & Sons Shooting Sports Complex 14514 Bill Janklow Rd. Piedmont SD 57769 United States;X-APPLE-RADIUS=500;X-TITLE=14514 Bill Janklow Rd.:geo:-103.148798719,44.2538708191
END:VEVENT
BEGIN:VEVENT
DTSTART;TZID=America/Chicago:20261003T080000
DTEND;TZID=America/Chicago:20261003T170000
DTSTAMP:20260421T180458
CREATED:20260110T165651Z
LAST-MODIFIED:20260110T170208Z
UID:10000429-1791014400-1791046800@freedombenchrest.com
SUMMARY:600 Yard Match #6
DESCRIPTION:
URL:https://freedombenchrest.com/event/600-yard-match-6-20/
LOCATION:White Horse Firearms & Outdoor Education Center\, 127 White Horse Ln\, Philippi\, WV\, 26416\, United States
CATEGORIES:600 Yard
GEO:39.119741;-80.218792
X-APPLE-STRUCTURED-LOCATION;VALUE=URI;X-ADDRESS=White Horse Firearms & Outdoor Education Center 127 White Horse Ln Philippi WV 26416 United States;X-APPLE-RADIUS=500;X-TITLE=127 White Horse Ln:geo:-80.218792,39.119741
END:VEVENT
BEGIN:VEVENT
DTSTART;TZID=America/Chicago:20261003T090000
DTEND;TZID=America/Chicago:20261003T170000
DTSTAMP:20260421T180458
CREATED:20251215T165902Z
LAST-MODIFIED:20251215T165902Z
UID:10000421-1791018000-1791046800@freedombenchrest.com
SUMMARY:600 Yard Match #11 - State Championship
DESCRIPTION:
URL:https://freedombenchrest.com/event/600-yard-match-11-state-championship/
LOCATION:Western Colorado Rifle & Silhouette Club\, 712 38 Rd\, Palisade\, CO\, 81526\, United States
CATEGORIES:600 Yard
GEO:38.9713754;-108.3936509
X-APPLE-STRUCTURED-LOCATION;VALUE=URI;X-ADDRESS=Western Colorado Rifle & Silhouette Club 712 38 Rd Palisade CO 81526 United States;X-APPLE-RADIUS=500;X-TITLE=712 38 Rd:geo:-108.3936509,38.9713754
END:VEVENT
BEGIN:VEVENT
DTSTART;TZID=America/Chicago:20261004T090000
DTEND;TZID=America/Chicago:20261004T170000
DTSTAMP:20260421T180458
CREATED:20251215T165935Z
LAST-MODIFIED:20251215T165935Z
UID:10000422-1791104400-1791133200@freedombenchrest.com
SUMMARY:600 Yard Match #12 - State Championship
DESCRIPTION:
URL:https://freedombenchrest.com/event/600-yard-match-12-state-championship/
LOCATION:Western Colorado Rifle & Silhouette Club\, 712 38 Rd\, Palisade\, CO\, 81526\, United States
CATEGORIES:600 Yard
GEO:38.9713754;-108.3936509
X-APPLE-STRUCTURED-LOCATION;VALUE=URI;X-ADDRESS=Western Colorado Rifle & Silhouette Club 712 38 Rd Palisade CO 81526 United States;X-APPLE-RADIUS=500;X-TITLE=712 38 Rd:geo:-108.3936509,38.9713754
END:VEVENT
END:VCALENDAR