BEGIN:VCALENDAR
VERSION:2.0
PRODID:-//Freedom Benchrest - ECPv6.15.18//NONSGML v1.0//EN
CALSCALE:GREGORIAN
METHOD:PUBLISH
X-WR-CALNAME:Freedom Benchrest
X-ORIGINAL-URL:https://freedombenchrest.com
X-WR-CALDESC:Events for Freedom Benchrest
REFRESH-INTERVAL;VALUE=DURATION:PT1H
X-Robots-Tag:noindex
X-PUBLISHED-TTL:PT1H
BEGIN:VTIMEZONE
TZID:America/Chicago
BEGIN:DAYLIGHT
TZOFFSETFROM:-0600
TZOFFSETTO:-0500
TZNAME:CDT
DTSTART:20240310T080000
END:DAYLIGHT
BEGIN:STANDARD
TZOFFSETFROM:-0500
TZOFFSETTO:-0600
TZNAME:CST
DTSTART:20241103T070000
END:STANDARD
BEGIN:DAYLIGHT
TZOFFSETFROM:-0600
TZOFFSETTO:-0500
TZNAME:CDT
DTSTART:20250309T080000
END:DAYLIGHT
BEGIN:STANDARD
TZOFFSETFROM:-0500
TZOFFSETTO:-0600
TZNAME:CST
DTSTART:20251102T070000
END:STANDARD
BEGIN:DAYLIGHT
TZOFFSETFROM:-0600
TZOFFSETTO:-0500
TZNAME:CDT
DTSTART:20260308T080000
END:DAYLIGHT
BEGIN:STANDARD
TZOFFSETFROM:-0500
TZOFFSETTO:-0600
TZNAME:CST
DTSTART:20261101T070000
END:STANDARD
END:VTIMEZONE
BEGIN:VEVENT
DTSTART;TZID=America/Chicago:20250308T090000
DTEND;TZID=America/Chicago:20250308T170000
DTSTAMP:20260423T181209
CREATED:20250306T231006Z
LAST-MODIFIED:20250307T140804Z
UID:10000209-1741424400-1741453200@freedombenchrest.com
SUMMARY:600 Yard Match #2
DESCRIPTION:
URL:https://freedombenchrest.com/event/600-yard-match-2-4/
LOCATION:Western Colorado Rifle & Silhouette Club\, 712 38 Rd\, Palisade\, CO\, 81526\, United States
CATEGORIES:600 Yard
GEO:38.9713754;-108.3936509
X-APPLE-STRUCTURED-LOCATION;VALUE=URI;X-ADDRESS=Western Colorado Rifle & Silhouette Club 712 38 Rd Palisade CO 81526 United States;X-APPLE-RADIUS=500;X-TITLE=712 38 Rd:geo:-108.3936509,38.9713754
END:VEVENT
BEGIN:VEVENT
DTSTART;TZID=America/Chicago:20250301T090000
DTEND;TZID=America/Chicago:20250301T170000
DTSTAMP:20260423T181209
CREATED:20250306T230605Z
LAST-MODIFIED:20250306T230605Z
UID:10000180-1740819600-1740848400@freedombenchrest.com
SUMMARY:600 Yard Match #2
DESCRIPTION:
URL:https://freedombenchrest.com/event/600-yard-match-2-2/
LOCATION:Red White and Blue Range\, 631 Avant Cemetery RD\, Tennille\, GA\, 31089\, United States
CATEGORIES:600 Yard
GEO:32.8633809;-82.8838366
X-APPLE-STRUCTURED-LOCATION;VALUE=URI;X-ADDRESS=Red White and Blue Range 631 Avant Cemetery RD Tennille GA 31089 United States;X-APPLE-RADIUS=500;X-TITLE=631 Avant Cemetery RD:geo:-82.8838366,32.8633809
END:VEVENT
BEGIN:VEVENT
DTSTART;TZID=America/Chicago:20250223T090000
DTEND;TZID=America/Chicago:20250223T170000
DTSTAMP:20260423T181209
CREATED:20250306T231908Z
LAST-MODIFIED:20250306T231908Z
UID:10000269-1740301200-1740330000@freedombenchrest.com
SUMMARY:600 Yard Match #4
DESCRIPTION:Double EYH Points
URL:https://freedombenchrest.com/event/600-yard-match-4-7/
LOCATION:Sacramento Valley Shooting Center\, 15501 Meiss Rd\, Sloughouse\, CA\, 95683\, United States
CATEGORIES:600 Yard
END:VEVENT
BEGIN:VEVENT
DTSTART;TZID=America/Chicago:20250208T090000
DTEND;TZID=America/Chicago:20250208T170000
DTSTAMP:20260423T181209
CREATED:20250306T231006Z
LAST-MODIFIED:20250307T140619Z
UID:10000208-1739005200-1739034000@freedombenchrest.com
SUMMARY:600 Yard Match #1
DESCRIPTION:
URL:https://freedombenchrest.com/event/600-yard-match-1-3/
LOCATION:Western Colorado Rifle & Silhouette Club\, 712 38 Rd\, Palisade\, CO\, 81526\, United States
CATEGORIES:600 Yard
GEO:38.9713754;-108.3936509
X-APPLE-STRUCTURED-LOCATION;VALUE=URI;X-ADDRESS=Western Colorado Rifle & Silhouette Club 712 38 Rd Palisade CO 81526 United States;X-APPLE-RADIUS=500;X-TITLE=712 38 Rd:geo:-108.3936509,38.9713754
END:VEVENT
BEGIN:VEVENT
DTSTART;TZID=America/Chicago:20250207T090000
DTEND;TZID=America/Chicago:20250209T170000
DTSTAMP:20260423T181209
CREATED:20250306T230604Z
LAST-MODIFIED:20250306T230604Z
UID:10000179-1738918800-1739120400@freedombenchrest.com
SUMMARY:600 Yard Match #1
DESCRIPTION:
URL:https://freedombenchrest.com/event/600-yard-match-1-2/
LOCATION:Red White and Blue Range\, 631 Avant Cemetery RD\, Tennille\, GA\, 31089\, United States
CATEGORIES:600 Yard
GEO:32.8633809;-82.8838366
X-APPLE-STRUCTURED-LOCATION;VALUE=URI;X-ADDRESS=Red White and Blue Range 631 Avant Cemetery RD Tennille GA 31089 United States;X-APPLE-RADIUS=500;X-TITLE=631 Avant Cemetery RD:geo:-82.8838366,32.8633809
END:VEVENT
BEGIN:VEVENT
DTSTART;TZID=America/Chicago:20250202T090000
DTEND;TZID=America/Chicago:20250202T170000
DTSTAMP:20260423T181209
CREATED:20250306T230605Z
LAST-MODIFIED:20250306T230605Z
UID:10000181-1738486800-1738515600@freedombenchrest.com
SUMMARY:600 Yard Match #3
DESCRIPTION:
URL:https://freedombenchrest.com/event/600-yard-match-3-2/
LOCATION:Red White and Blue Range\, 631 Avant Cemetery RD\, Tennille\, GA\, 31089\, United States
CATEGORIES:600 Yard
GEO:32.8633809;-82.8838366
X-APPLE-STRUCTURED-LOCATION;VALUE=URI;X-ADDRESS=Red White and Blue Range 631 Avant Cemetery RD Tennille GA 31089 United States;X-APPLE-RADIUS=500;X-TITLE=631 Avant Cemetery RD:geo:-82.8838366,32.8633809
END:VEVENT
BEGIN:VEVENT
DTSTART;TZID=America/Chicago:20250126T090000
DTEND;TZID=America/Chicago:20250126T170000
DTSTAMP:20260423T181209
CREATED:20250306T231908Z
LAST-MODIFIED:20250306T231908Z
UID:10000268-1737882000-1737910800@freedombenchrest.com
SUMMARY:600 Yard Match #3
DESCRIPTION:
URL:https://freedombenchrest.com/event/600-yard-match-3-7/
LOCATION:Sacramento Valley Shooting Center\, 15501 Meiss Rd\, Sloughouse\, CA\, 95683\, United States
CATEGORIES:600 Yard
END:VEVENT
END:VCALENDAR