BEGIN:VCALENDAR
VERSION:2.0
PRODID:-//Freedom Benchrest - ECPv6.15.18//NONSGML v1.0//EN
CALSCALE:GREGORIAN
METHOD:PUBLISH
X-WR-CALNAME:Freedom Benchrest
X-ORIGINAL-URL:https://freedombenchrest.com
X-WR-CALDESC:Events for Freedom Benchrest
REFRESH-INTERVAL;VALUE=DURATION:PT1H
X-Robots-Tag:noindex
X-PUBLISHED-TTL:PT1H
BEGIN:VTIMEZONE
TZID:America/Chicago
BEGIN:DAYLIGHT
TZOFFSETFROM:-0600
TZOFFSETTO:-0500
TZNAME:CDT
DTSTART:20240310T080000
END:DAYLIGHT
BEGIN:STANDARD
TZOFFSETFROM:-0500
TZOFFSETTO:-0600
TZNAME:CST
DTSTART:20241103T070000
END:STANDARD
BEGIN:DAYLIGHT
TZOFFSETFROM:-0600
TZOFFSETTO:-0500
TZNAME:CDT
DTSTART:20250309T080000
END:DAYLIGHT
BEGIN:STANDARD
TZOFFSETFROM:-0500
TZOFFSETTO:-0600
TZNAME:CST
DTSTART:20251102T070000
END:STANDARD
BEGIN:DAYLIGHT
TZOFFSETFROM:-0600
TZOFFSETTO:-0500
TZNAME:CDT
DTSTART:20260308T080000
END:DAYLIGHT
BEGIN:STANDARD
TZOFFSETFROM:-0500
TZOFFSETTO:-0600
TZNAME:CST
DTSTART:20261101T070000
END:STANDARD
END:VTIMEZONE
BEGIN:VEVENT
DTSTART;TZID=America/Chicago:20250511T090000
DTEND;TZID=America/Chicago:20250511T170000
DTSTAMP:20260421T045017
CREATED:20250306T231845Z
LAST-MODIFIED:20250306T231845Z
UID:10000265-1746954000-1746982800@freedombenchrest.com
SUMMARY:600 Yard Match #2
DESCRIPTION:
URL:https://freedombenchrest.com/event/600-yard-match-2-7/
LOCATION:Original Pennsylvania 1000 yd Benchrest Club\, 197 Kelly Rd.\, Trout Run\, PA\, 17771\, United States
CATEGORIES:600 Yard
GEO:41.4456417;-76.8777426
X-APPLE-STRUCTURED-LOCATION;VALUE=URI;X-ADDRESS=Original Pennsylvania 1000 yd Benchrest Club 197 Kelly Rd. Trout Run PA 17771 United States;X-APPLE-RADIUS=500;X-TITLE=197 Kelly Rd.:geo:-76.8777426,41.4456417
END:VEVENT
BEGIN:VEVENT
DTSTART;TZID=America/Chicago:20250510T090000
DTEND;TZID=America/Chicago:20250510T170000
DTSTAMP:20260421T045017
CREATED:20250307T221402Z
LAST-MODIFIED:20250425T144924Z
UID:10000326-1746867600-1746896400@freedombenchrest.com
SUMMARY:600 Yard Match #12
DESCRIPTION:
URL:https://freedombenchrest.com/event/600-yard-match-10-2/
LOCATION:Manatee Gun & Archery Club\, 1805 Logue Rd\, Myakka City\, FL\, 34251\, United States
CATEGORIES:600 Yard
GEO:27.4769729;-82.1560439
X-APPLE-STRUCTURED-LOCATION;VALUE=URI;X-ADDRESS=Manatee Gun & Archery Club 1805 Logue Rd Myakka City FL 34251 United States;X-APPLE-RADIUS=500;X-TITLE=1805 Logue Rd:geo:-82.1560439,27.4769729
END:VEVENT
BEGIN:VEVENT
DTSTART;TZID=America/Chicago:20250510T090000
DTEND;TZID=America/Chicago:20250510T170000
DTSTAMP:20260421T045017
CREATED:20250306T231845Z
LAST-MODIFIED:20250306T231845Z
UID:10000264-1746867600-1746896400@freedombenchrest.com
SUMMARY:600 Yard Match #1
DESCRIPTION:
URL:https://freedombenchrest.com/event/600-yard-match-1-6/
LOCATION:Original Pennsylvania 1000 yd Benchrest Club\, 197 Kelly Rd.\, Trout Run\, PA\, 17771\, United States
CATEGORIES:600 Yard
GEO:41.4456417;-76.8777426
X-APPLE-STRUCTURED-LOCATION;VALUE=URI;X-ADDRESS=Original Pennsylvania 1000 yd Benchrest Club 197 Kelly Rd. Trout Run PA 17771 United States;X-APPLE-RADIUS=500;X-TITLE=197 Kelly Rd.:geo:-76.8777426,41.4456417
END:VEVENT
BEGIN:VEVENT
DTSTART;TZID=America/Chicago:20250510T090000
DTEND;TZID=America/Chicago:20250510T170000
DTSTAMP:20260421T045017
CREATED:20250306T231006Z
LAST-MODIFIED:20250307T141320Z
UID:10000211-1746867600-1746896400@freedombenchrest.com
SUMMARY:600 Yard Match #4
DESCRIPTION:
URL:https://freedombenchrest.com/event/600-yard-match-4-4/
LOCATION:Western Colorado Rifle & Silhouette Club\, 712 38 Rd\, Palisade\, CO\, 81526\, United States
CATEGORIES:600 Yard
GEO:38.9713754;-108.3936509
X-APPLE-STRUCTURED-LOCATION;VALUE=URI;X-ADDRESS=Western Colorado Rifle & Silhouette Club 712 38 Rd Palisade CO 81526 United States;X-APPLE-RADIUS=500;X-TITLE=712 38 Rd:geo:-108.3936509,38.9713754
END:VEVENT
BEGIN:VEVENT
DTSTART;TZID=America/Chicago:20250510T080000
DTEND;TZID=America/Chicago:20250510T170000
DTSTAMP:20260421T045017
CREATED:20250306T231507Z
LAST-MODIFIED:20250307T141401Z
UID:10000237-1746864000-1746896400@freedombenchrest.com
SUMMARY:1000 Yard Match #1 & 2
DESCRIPTION:
URL:https://freedombenchrest.com/event/1000-yard-match-1-2-3/
LOCATION:White Horse Firearms & Outdoor Education Center\, 127 White Horse Ln\, Philippi\, WV\, 26416\, United States
CATEGORIES:1000 Yard
GEO:39.119741;-80.218792
X-APPLE-STRUCTURED-LOCATION;VALUE=URI;X-ADDRESS=White Horse Firearms & Outdoor Education Center 127 White Horse Ln Philippi WV 26416 United States;X-APPLE-RADIUS=500;X-TITLE=127 White Horse Ln:geo:-80.218792,39.119741
END:VEVENT
BEGIN:VEVENT
DTSTART;TZID=America/Chicago:20250509T090000
DTEND;TZID=America/Chicago:20250509T170000
DTSTAMP:20260421T045017
CREATED:20250307T221402Z
LAST-MODIFIED:20250425T144918Z
UID:10000325-1746781200-1746810000@freedombenchrest.com
SUMMARY:600 Yard Match #11
DESCRIPTION:
URL:https://freedombenchrest.com/event/600-yard-match-9/
LOCATION:Manatee Gun & Archery Club\, 1805 Logue Rd\, Myakka City\, FL\, 34251\, United States
CATEGORIES:600 Yard
GEO:27.4769729;-82.1560439
X-APPLE-STRUCTURED-LOCATION;VALUE=URI;X-ADDRESS=Manatee Gun & Archery Club 1805 Logue Rd Myakka City FL 34251 United States;X-APPLE-RADIUS=500;X-TITLE=1805 Logue Rd:geo:-82.1560439,27.4769729
END:VEVENT
BEGIN:VEVENT
DTSTART;TZID=America/Chicago:20250504T090000
DTEND;TZID=America/Chicago:20250504T170000
DTSTAMP:20260421T045017
CREATED:20250306T230632Z
LAST-MODIFIED:20250306T230632Z
UID:10000187-1746349200-1746378000@freedombenchrest.com
SUMMARY:1000 Yard Match #2
DESCRIPTION:
URL:https://freedombenchrest.com/event/1000-yard-match-2/
LOCATION:Red White and Blue Range\, 631 Avant Cemetery RD\, Tennille\, GA\, 31089\, United States
CATEGORIES:1000 Yard
GEO:32.8633809;-82.8838366
X-APPLE-STRUCTURED-LOCATION;VALUE=URI;X-ADDRESS=Red White and Blue Range 631 Avant Cemetery RD Tennille GA 31089 United States;X-APPLE-RADIUS=500;X-TITLE=631 Avant Cemetery RD:geo:-82.8838366,32.8633809
END:VEVENT
BEGIN:VEVENT
DTSTART;TZID=America/Chicago:20250503T090000
DTEND;TZID=America/Chicago:20250503T170000
DTSTAMP:20260421T045017
CREATED:20250306T230933Z
LAST-MODIFIED:20250307T141216Z
UID:10000203-1746262800-1746291600@freedombenchrest.com
SUMMARY:600 Yard Match #2
DESCRIPTION:
URL:https://freedombenchrest.com/event/600-yard-match-2-3/
LOCATION:Columbus Sportmans’ Association\, W10924 Breyer Rd\, Columbus\, WI\, 53925\, United States
CATEGORIES:600 Yard
GEO:43.344779;-88.93506
X-APPLE-STRUCTURED-LOCATION;VALUE=URI;X-ADDRESS=Columbus Sportmans’ Association W10924 Breyer Rd Columbus WI 53925 United States;X-APPLE-RADIUS=500;X-TITLE=W10924 Breyer Rd:geo:-88.93506,43.344779
END:VEVENT
BEGIN:VEVENT
DTSTART;TZID=America/Chicago:20250503T090000
DTEND;TZID=America/Chicago:20250503T170000
DTSTAMP:20260421T045017
CREATED:20250306T230631Z
LAST-MODIFIED:20250306T230631Z
UID:10000186-1746262800-1746291600@freedombenchrest.com
SUMMARY:1000 Yard Match #1
DESCRIPTION:
URL:https://freedombenchrest.com/event/1000-yard-match-1/
LOCATION:Red White and Blue Range\, 631 Avant Cemetery RD\, Tennille\, GA\, 31089\, United States
CATEGORIES:1000 Yard
GEO:32.8633809;-82.8838366
X-APPLE-STRUCTURED-LOCATION;VALUE=URI;X-ADDRESS=Red White and Blue Range 631 Avant Cemetery RD Tennille GA 31089 United States;X-APPLE-RADIUS=500;X-TITLE=631 Avant Cemetery RD:geo:-82.8838366,32.8633809
END:VEVENT
BEGIN:VEVENT
DTSTART;TZID=America/Chicago:20250503T080000
DTEND;TZID=America/Chicago:20250503T170000
DTSTAMP:20260421T045017
CREATED:20250306T231307Z
LAST-MODIFIED:20250307T141240Z
UID:10000231-1746259200-1746291600@freedombenchrest.com
SUMMARY:600 Yard Match #1
DESCRIPTION:
URL:https://freedombenchrest.com/event/600-yard-match-1-5/
LOCATION:White Horse Firearms & Outdoor Education Center\, 127 White Horse Ln\, Philippi\, WV\, 26416\, United States
CATEGORIES:600 Yard
GEO:39.119741;-80.218792
X-APPLE-STRUCTURED-LOCATION;VALUE=URI;X-ADDRESS=White Horse Firearms & Outdoor Education Center 127 White Horse Ln Philippi WV 26416 United States;X-APPLE-RADIUS=500;X-TITLE=127 White Horse Ln:geo:-80.218792,39.119741
END:VEVENT
BEGIN:VEVENT
DTSTART;TZID=America/Chicago:20250427T090000
DTEND;TZID=America/Chicago:20250427T170000
DTSTAMP:20260421T045017
CREATED:20250306T231609Z
LAST-MODIFIED:20250306T231609Z
UID:10000245-1745744400-1745773200@freedombenchrest.com
SUMMARY:1000 Yard Match #2 - Heavy Gun
DESCRIPTION:
URL:https://freedombenchrest.com/event/1000-yard-match-2-heavy-gun/
LOCATION:Original Pennsylvania 1000 yd Benchrest Club\, 197 Kelly Rd.\, Trout Run\, PA\, 17771\, United States
CATEGORIES:1000 Yard
GEO:41.4456417;-76.8777426
X-APPLE-STRUCTURED-LOCATION;VALUE=URI;X-ADDRESS=Original Pennsylvania 1000 yd Benchrest Club 197 Kelly Rd. Trout Run PA 17771 United States;X-APPLE-RADIUS=500;X-TITLE=197 Kelly Rd.:geo:-76.8777426,41.4456417
END:VEVENT
BEGIN:VEVENT
DTSTART;TZID=America/Chicago:20250426T090000
DTEND;TZID=America/Chicago:20250426T170000
DTSTAMP:20260421T045017
CREATED:20250306T231609Z
LAST-MODIFIED:20250306T231609Z
UID:10000244-1745658000-1745686800@freedombenchrest.com
SUMMARY:1000 Yard Match #2 - Light Gun
DESCRIPTION:
URL:https://freedombenchrest.com/event/1000-yard-match-2-light-gun/
LOCATION:Original Pennsylvania 1000 yd Benchrest Club\, 197 Kelly Rd.\, Trout Run\, PA\, 17771\, United States
CATEGORIES:1000 Yard
GEO:41.4456417;-76.8777426
X-APPLE-STRUCTURED-LOCATION;VALUE=URI;X-ADDRESS=Original Pennsylvania 1000 yd Benchrest Club 197 Kelly Rd. Trout Run PA 17771 United States;X-APPLE-RADIUS=500;X-TITLE=197 Kelly Rd.:geo:-76.8777426,41.4456417
END:VEVENT
BEGIN:VEVENT
DTSTART;TZID=America/Chicago:20250425T090000
DTEND;TZID=America/Chicago:20250428T170000
DTSTAMP:20260421T045017
CREATED:20250306T232008Z
LAST-MODIFIED:20250306T232008Z
UID:10000270-1745571600-1745859600@freedombenchrest.com
SUMMARY:600 Yard - Freedom West Coast Nationals
DESCRIPTION:
URL:https://freedombenchrest.com/event/600-yard-freedom-west-coast-nationals/
LOCATION:Sacramento Valley Shooting Center\, 15501 Meiss Rd\, Sloughouse\, CA\, 95683\, United States
CATEGORIES:600 Yard
END:VEVENT
BEGIN:VEVENT
DTSTART;TZID=America/Chicago:20250425T090000
DTEND;TZID=America/Chicago:20250425T170000
DTSTAMP:20260421T045017
CREATED:20250306T171238Z
LAST-MODIFIED:20250306T230504Z
UID:10000174-1745571600-1745600400@freedombenchrest.com
SUMMARY:1000 Yard Matches #1 & 2
DESCRIPTION:
URL:https://freedombenchrest.com/event/1000-yard-matches-1-2/
LOCATION:Harry Jones Memorial Range\, 3673-3653 Co Rd 17\, Fairview\, WV\, 26570\, United States
CATEGORIES:1000 Yard
GEO:39.6037528;-80.2679889
X-APPLE-STRUCTURED-LOCATION;VALUE=URI;X-ADDRESS=Harry Jones Memorial Range 3673-3653 Co Rd 17 Fairview WV 26570 United States;X-APPLE-RADIUS=500;X-TITLE=3673-3653 Co Rd 17:geo:-80.2679889,39.6037528
END:VEVENT
BEGIN:VEVENT
DTSTART;TZID=America/Chicago:20250413T090000
DTEND;TZID=America/Chicago:20250413T170000
DTSTAMP:20260421T045017
CREATED:20250306T231608Z
LAST-MODIFIED:20250306T231608Z
UID:10000243-1744534800-1744563600@freedombenchrest.com
SUMMARY:1000 Yard Match #1 - Heavy Gun
DESCRIPTION:
URL:https://freedombenchrest.com/event/1000-yard-match-1-heavy-gun/
LOCATION:Original Pennsylvania 1000 yd Benchrest Club\, 197 Kelly Rd.\, Trout Run\, PA\, 17771\, United States
CATEGORIES:1000 Yard
GEO:41.4456417;-76.8777426
X-APPLE-STRUCTURED-LOCATION;VALUE=URI;X-ADDRESS=Original Pennsylvania 1000 yd Benchrest Club 197 Kelly Rd. Trout Run PA 17771 United States;X-APPLE-RADIUS=500;X-TITLE=197 Kelly Rd.:geo:-76.8777426,41.4456417
END:VEVENT
BEGIN:VEVENT
DTSTART;TZID=America/Chicago:20250413T090000
DTEND;TZID=America/Chicago:20250413T170000
DTSTAMP:20260421T045017
CREATED:20250306T231207Z
LAST-MODIFIED:20250306T231207Z
UID:10000218-1744534800-1744563600@freedombenchrest.com
SUMMARY:600 Yard Match #2
DESCRIPTION:
URL:https://freedombenchrest.com/event/600-yard-match-2-5/
LOCATION:Vapor Trail Valley Range\, MO\, United States
CATEGORIES:600 Yard
GEO:40.288366;-93.449902
END:VEVENT
BEGIN:VEVENT
DTSTART;TZID=America/Chicago:20250412T130000
DTEND;TZID=America/Chicago:20250412T170000
DTSTAMP:20260421T045017
CREATED:20250306T232608Z
LAST-MODIFIED:20250306T232608Z
UID:10000307-1744462800-1744477200@freedombenchrest.com
SUMMARY:1000 Yard Match #1
DESCRIPTION:
URL:https://freedombenchrest.com/event/1000-yard-match-1-5/
LOCATION:Colorado Rifle Club\, 76099 E. 96th Ave\, Byers\, CO\, 80103\, United States
CATEGORIES:1000 Yard
GEO:39.8876588;-104.0919528
X-APPLE-STRUCTURED-LOCATION;VALUE=URI;X-ADDRESS=Colorado Rifle Club 76099 E. 96th Ave Byers CO 80103 United States;X-APPLE-RADIUS=500;X-TITLE=76099 E. 96th Ave:geo:-104.0919528,39.8876588
END:VEVENT
BEGIN:VEVENT
DTSTART;TZID=America/Chicago:20250412T090000
DTEND;TZID=America/Chicago:20250412T170000
DTSTAMP:20260421T045017
CREATED:20250306T231608Z
LAST-MODIFIED:20250306T231608Z
UID:10000242-1744448400-1744477200@freedombenchrest.com
SUMMARY:1000 Yard Match #1 - Light Gun
DESCRIPTION:
URL:https://freedombenchrest.com/event/1000-yard-match-1-light-gun/
LOCATION:Original Pennsylvania 1000 yd Benchrest Club\, 197 Kelly Rd.\, Trout Run\, PA\, 17771\, United States
CATEGORIES:1000 Yard
GEO:41.4456417;-76.8777426
X-APPLE-STRUCTURED-LOCATION;VALUE=URI;X-ADDRESS=Original Pennsylvania 1000 yd Benchrest Club 197 Kelly Rd. Trout Run PA 17771 United States;X-APPLE-RADIUS=500;X-TITLE=197 Kelly Rd.:geo:-76.8777426,41.4456417
END:VEVENT
BEGIN:VEVENT
DTSTART;TZID=America/Chicago:20250412T090000
DTEND;TZID=America/Chicago:20250412T170000
DTSTAMP:20260421T045017
CREATED:20250306T231206Z
LAST-MODIFIED:20250306T231206Z
UID:10000217-1744448400-1744477200@freedombenchrest.com
SUMMARY:600 Yard Match #1
DESCRIPTION:
URL:https://freedombenchrest.com/event/600-yard-match-1-4/
LOCATION:Vapor Trail Valley Range\, MO\, United States
CATEGORIES:600 Yard
GEO:40.288366;-93.449902
END:VEVENT
BEGIN:VEVENT
DTSTART;TZID=America/Chicago:20250412T090000
DTEND;TZID=America/Chicago:20250412T170000
DTSTAMP:20260421T045017
CREATED:20250306T231006Z
LAST-MODIFIED:20250307T141134Z
UID:10000210-1744448400-1744477200@freedombenchrest.com
SUMMARY:600 Yard Match #3
DESCRIPTION:
URL:https://freedombenchrest.com/event/600-yard-match-3-4/
LOCATION:Western Colorado Rifle & Silhouette Club\, 712 38 Rd\, Palisade\, CO\, 81526\, United States
CATEGORIES:600 Yard
GEO:38.9713754;-108.3936509
X-APPLE-STRUCTURED-LOCATION;VALUE=URI;X-ADDRESS=Western Colorado Rifle & Silhouette Club 712 38 Rd Palisade CO 81526 United States;X-APPLE-RADIUS=500;X-TITLE=712 38 Rd:geo:-108.3936509,38.9713754
END:VEVENT
BEGIN:VEVENT
DTSTART;TZID=America/Chicago:20250412T083000
DTEND;TZID=America/Chicago:20250412T170000
DTSTAMP:20260421T045017
CREATED:20250306T232509Z
LAST-MODIFIED:20250306T232509Z
UID:10000301-1744446600-1744477200@freedombenchrest.com
SUMMARY:600 Yard Match #1
DESCRIPTION:
URL:https://freedombenchrest.com/event/600-yard-match-1-9/
LOCATION:Colorado Rifle Club\, 76099 E. 96th Ave\, Byers\, CO\, 80103\, United States
CATEGORIES:600 Yard
GEO:39.8876588;-104.0919528
X-APPLE-STRUCTURED-LOCATION;VALUE=URI;X-ADDRESS=Colorado Rifle Club 76099 E. 96th Ave Byers CO 80103 United States;X-APPLE-RADIUS=500;X-TITLE=76099 E. 96th Ave:geo:-104.0919528,39.8876588
END:VEVENT
BEGIN:VEVENT
DTSTART;TZID=America/Chicago:20250405T090000
DTEND;TZID=America/Chicago:20250405T170000
DTSTAMP:20260421T045017
CREATED:20250307T221401Z
LAST-MODIFIED:20250318T141436Z
UID:10000324-1743843600-1743872400@freedombenchrest.com
SUMMARY:600 Yard Match #8
DESCRIPTION:
URL:https://freedombenchrest.com/event/600-yard-match-8/
LOCATION:Manatee Gun & Archery Club\, 1805 Logue Rd\, Myakka City\, FL\, 34251\, United States
CATEGORIES:600 Yard
GEO:27.4769729;-82.1560439
X-APPLE-STRUCTURED-LOCATION;VALUE=URI;X-ADDRESS=Manatee Gun & Archery Club 1805 Logue Rd Myakka City FL 34251 United States;X-APPLE-RADIUS=500;X-TITLE=1805 Logue Rd:geo:-82.1560439,27.4769729
END:VEVENT
BEGIN:VEVENT
DTSTART;TZID=America/Chicago:20250405T090000
DTEND;TZID=America/Chicago:20250405T170000
DTSTAMP:20260421T045017
CREATED:20250307T143024Z
LAST-MODIFIED:20250307T143024Z
UID:10000322-1743843600-1743872400@freedombenchrest.com
SUMMARY:600 Yard Match #1
DESCRIPTION:
URL:https://freedombenchrest.com/event/600-yard-match-1-12/
LOCATION:Columbus Sportmans’ Association\, W10924 Breyer Rd\, Columbus\, WI\, 53925\, United States
CATEGORIES:600 Yard
GEO:43.344779;-88.93506
X-APPLE-STRUCTURED-LOCATION;VALUE=URI;X-ADDRESS=Columbus Sportmans’ Association W10924 Breyer Rd Columbus WI 53925 United States;X-APPLE-RADIUS=500;X-TITLE=W10924 Breyer Rd:geo:-88.93506,43.344779
END:VEVENT
BEGIN:VEVENT
DTSTART;TZID=America/Chicago:20250405T090000
DTEND;TZID=America/Chicago:20250405T170000
DTSTAMP:20260421T045017
CREATED:20250306T171233Z
LAST-MODIFIED:20250306T230933Z
UID:10000168-1743843600-1743872400@freedombenchrest.com
SUMMARY:600 Yard Match #1
DESCRIPTION:
URL:https://freedombenchrest.com/event/600-yard-match-1/
LOCATION:Harry Jones Memorial Range\, 3673-3653 Co Rd 17\, Fairview\, WV\, 26570\, United States
CATEGORIES:600 Yard
GEO:39.6037528;-80.2679889
X-APPLE-STRUCTURED-LOCATION;VALUE=URI;X-ADDRESS=Harry Jones Memorial Range 3673-3653 Co Rd 17 Fairview WV 26570 United States;X-APPLE-RADIUS=500;X-TITLE=3673-3653 Co Rd 17:geo:-80.2679889,39.6037528
END:VEVENT
BEGIN:VEVENT
DTSTART;TZID=America/Chicago:20250404T090000
DTEND;TZID=America/Chicago:20250404T170000
DTSTAMP:20260421T045017
CREATED:20250307T221401Z
LAST-MODIFIED:20250318T141430Z
UID:10000323-1743757200-1743786000@freedombenchrest.com
SUMMARY:600 Yard Match #7
DESCRIPTION:
URL:https://freedombenchrest.com/event/600-yard-match-7-3/
LOCATION:Manatee Gun & Archery Club\, 1805 Logue Rd\, Myakka City\, FL\, 34251\, United States
CATEGORIES:600 Yard
GEO:27.4769729;-82.1560439
X-APPLE-STRUCTURED-LOCATION;VALUE=URI;X-ADDRESS=Manatee Gun & Archery Club 1805 Logue Rd Myakka City FL 34251 United States;X-APPLE-RADIUS=500;X-TITLE=1805 Logue Rd:geo:-82.1560439,27.4769729
END:VEVENT
BEGIN:VEVENT
DTSTART;TZID=America/Chicago:20250329T100000
DTEND;TZID=America/Chicago:20250329T170000
DTSTAMP:20260421T045017
CREATED:20250306T230733Z
LAST-MODIFIED:20250307T140859Z
UID:10000196-1743242400-1743267600@freedombenchrest.com
SUMMARY:1000 Yard Match #1 & 2
DESCRIPTION:
URL:https://freedombenchrest.com/event/1000-yard-match-1-2/
LOCATION:Hawk’s Ridge Gun Club\, 1018 Gladys Fork Road\, Ferguson\, NC\, 28624\, United States
CATEGORIES:1000 Yard
GEO:36.0987123;-81.3903085
X-APPLE-STRUCTURED-LOCATION;VALUE=URI;X-ADDRESS=Hawk’s Ridge Gun Club 1018 Gladys Fork Road Ferguson NC 28624 United States;X-APPLE-RADIUS=500;X-TITLE=1018 Gladys Fork Road:geo:-81.3903085,36.0987123
END:VEVENT
BEGIN:VEVENT
DTSTART;TZID=America/Chicago:20250329T090000
DTEND;TZID=America/Chicago:20250329T170000
DTSTAMP:20260421T045017
CREATED:20250306T232955Z
LAST-MODIFIED:20250306T232955Z
UID:10000319-1743238800-1743267600@freedombenchrest.com
SUMMARY:600 Yard Match #1
DESCRIPTION:
URL:https://freedombenchrest.com/event/600-yard-match-1-11/
LOCATION:Mifflin County Sportsmen’s Association\, 400 Ellen Chapel Ln\, Lewistown\, PA\, 17044\, United States
CATEGORIES:600 Yard
GEO:40.6123306;-77.6180426
X-APPLE-STRUCTURED-LOCATION;VALUE=URI;X-ADDRESS=Mifflin County Sportsmen’s Association 400 Ellen Chapel Ln Lewistown PA 17044 United States;X-APPLE-RADIUS=500;X-TITLE=400 Ellen Chapel Ln:geo:-77.6180426,40.6123306
END:VEVENT
BEGIN:VEVENT
DTSTART;TZID=America/Chicago:20250324T090000
DTEND;TZID=America/Chicago:20250324T170000
DTSTAMP:20260421T045017
CREATED:20250306T232009Z
LAST-MODIFIED:20250306T232009Z
UID:10000274-1742806800-1742835600@freedombenchrest.com
SUMMARY:1000 Yard Match #1
DESCRIPTION:
URL:https://freedombenchrest.com/event/1000-yard-match-1-3/
LOCATION:Sacramento Valley Shooting Center\, 15501 Meiss Rd\, Sloughouse\, CA\, 95683\, United States
CATEGORIES:1000 Yard
END:VEVENT
BEGIN:VEVENT
DTSTART;TZID=America/Chicago:20250308T090000
DTEND;TZID=America/Chicago:20250308T170000
DTSTAMP:20260421T045017
CREATED:20250306T231006Z
LAST-MODIFIED:20250307T140804Z
UID:10000209-1741424400-1741453200@freedombenchrest.com
SUMMARY:600 Yard Match #2
DESCRIPTION:
URL:https://freedombenchrest.com/event/600-yard-match-2-4/
LOCATION:Western Colorado Rifle & Silhouette Club\, 712 38 Rd\, Palisade\, CO\, 81526\, United States
CATEGORIES:600 Yard
GEO:38.9713754;-108.3936509
X-APPLE-STRUCTURED-LOCATION;VALUE=URI;X-ADDRESS=Western Colorado Rifle & Silhouette Club 712 38 Rd Palisade CO 81526 United States;X-APPLE-RADIUS=500;X-TITLE=712 38 Rd:geo:-108.3936509,38.9713754
END:VEVENT
BEGIN:VEVENT
DTSTART;TZID=America/Chicago:20250301T090000
DTEND;TZID=America/Chicago:20250301T170000
DTSTAMP:20260421T045017
CREATED:20250306T230605Z
LAST-MODIFIED:20250306T230605Z
UID:10000180-1740819600-1740848400@freedombenchrest.com
SUMMARY:600 Yard Match #2
DESCRIPTION:
URL:https://freedombenchrest.com/event/600-yard-match-2-2/
LOCATION:Red White and Blue Range\, 631 Avant Cemetery RD\, Tennille\, GA\, 31089\, United States
CATEGORIES:600 Yard
GEO:32.8633809;-82.8838366
X-APPLE-STRUCTURED-LOCATION;VALUE=URI;X-ADDRESS=Red White and Blue Range 631 Avant Cemetery RD Tennille GA 31089 United States;X-APPLE-RADIUS=500;X-TITLE=631 Avant Cemetery RD:geo:-82.8838366,32.8633809
END:VEVENT
END:VCALENDAR