BEGIN:VCALENDAR
VERSION:2.0
PRODID:-//Freedom Benchrest - ECPv6.15.18//NONSGML v1.0//EN
CALSCALE:GREGORIAN
METHOD:PUBLISH
X-WR-CALNAME:Freedom Benchrest
X-ORIGINAL-URL:https://freedombenchrest.com
X-WR-CALDESC:Events for Freedom Benchrest
REFRESH-INTERVAL;VALUE=DURATION:PT1H
X-Robots-Tag:noindex
X-PUBLISHED-TTL:PT1H
BEGIN:VTIMEZONE
TZID:America/Chicago
BEGIN:DAYLIGHT
TZOFFSETFROM:-0600
TZOFFSETTO:-0500
TZNAME:CDT
DTSTART:20240310T080000
END:DAYLIGHT
BEGIN:STANDARD
TZOFFSETFROM:-0500
TZOFFSETTO:-0600
TZNAME:CST
DTSTART:20241103T070000
END:STANDARD
BEGIN:DAYLIGHT
TZOFFSETFROM:-0600
TZOFFSETTO:-0500
TZNAME:CDT
DTSTART:20250309T080000
END:DAYLIGHT
BEGIN:STANDARD
TZOFFSETFROM:-0500
TZOFFSETTO:-0600
TZNAME:CST
DTSTART:20251102T070000
END:STANDARD
BEGIN:DAYLIGHT
TZOFFSETFROM:-0600
TZOFFSETTO:-0500
TZNAME:CDT
DTSTART:20260308T080000
END:DAYLIGHT
BEGIN:STANDARD
TZOFFSETFROM:-0500
TZOFFSETTO:-0600
TZNAME:CST
DTSTART:20261101T070000
END:STANDARD
BEGIN:DAYLIGHT
TZOFFSETFROM:-0600
TZOFFSETTO:-0500
TZNAME:CDT
DTSTART:20270314T080000
END:DAYLIGHT
BEGIN:STANDARD
TZOFFSETFROM:-0500
TZOFFSETTO:-0600
TZNAME:CST
DTSTART:20271107T070000
END:STANDARD
END:VTIMEZONE
BEGIN:VEVENT
DTSTART;TZID=America/Chicago:20260418T090000
DTEND;TZID=America/Chicago:20260419T170000
DTSTAMP:20260425T083006
CREATED:20260225T160134Z
LAST-MODIFIED:20260225T160356Z
UID:10000442-1776502800-1776618000@freedombenchrest.com
SUMMARY:1000 Yard Match #1
DESCRIPTION:Light Gun and Tactical – Saturday\nHeavy Gun – Sunday
URL:https://freedombenchrest.com/event/1000-yard-match-1-7/
LOCATION:Original Pennsylvania 1000 yd Benchrest Club\, 197 Kelly Rd.\, Trout Run\, PA\, 17771\, United States
CATEGORIES:1000 Yard
GEO:41.4456417;-76.8777426
X-APPLE-STRUCTURED-LOCATION;VALUE=URI;X-ADDRESS=Original Pennsylvania 1000 yd Benchrest Club 197 Kelly Rd. Trout Run PA 17771 United States;X-APPLE-RADIUS=500;X-TITLE=197 Kelly Rd.:geo:-76.8777426,41.4456417
END:VEVENT
BEGIN:VEVENT
DTSTART;TZID=America/Chicago:20250926T080000
DTEND;TZID=America/Chicago:20250928T170000
DTSTAMP:20260425T083006
CREATED:20250430T162846Z
LAST-MODIFIED:20250430T162846Z
UID:10000337-1758873600-1759078800@freedombenchrest.com
SUMMARY:1000 Yard - 1000 Nationals
DESCRIPTION:
URL:https://freedombenchrest.com/event/1000-yard-1000-nationals/
LOCATION:Original Pennsylvania 1000 yd Benchrest Club\, 197 Kelly Rd.\, Trout Run\, PA\, 17771\, United States
CATEGORIES:1000 Yard
GEO:41.4456417;-76.8777426
X-APPLE-STRUCTURED-LOCATION;VALUE=URI;X-ADDRESS=Original Pennsylvania 1000 yd Benchrest Club 197 Kelly Rd. Trout Run PA 17771 United States;X-APPLE-RADIUS=500;X-TITLE=197 Kelly Rd.:geo:-76.8777426,41.4456417
END:VEVENT
BEGIN:VEVENT
DTSTART;TZID=America/Chicago:20250921T090000
DTEND;TZID=America/Chicago:20250921T170000
DTSTAMP:20260425T083006
CREATED:20250306T231908Z
LAST-MODIFIED:20250306T231908Z
UID:10000267-1758445200-1758474000@freedombenchrest.com
SUMMARY:600 Yard Match #6
DESCRIPTION:
URL:https://freedombenchrest.com/event/600-yard-match-6-6/
LOCATION:Original Pennsylvania 1000 yd Benchrest Club\, 197 Kelly Rd.\, Trout Run\, PA\, 17771\, United States
CATEGORIES:600 Yard
GEO:41.4456417;-76.8777426
X-APPLE-STRUCTURED-LOCATION;VALUE=URI;X-ADDRESS=Original Pennsylvania 1000 yd Benchrest Club 197 Kelly Rd. Trout Run PA 17771 United States;X-APPLE-RADIUS=500;X-TITLE=197 Kelly Rd.:geo:-76.8777426,41.4456417
END:VEVENT
BEGIN:VEVENT
DTSTART;TZID=America/Chicago:20250920T090000
DTEND;TZID=America/Chicago:20250920T170000
DTSTAMP:20260425T083006
CREATED:20250306T231907Z
LAST-MODIFIED:20250306T231907Z
UID:10000266-1758358800-1758387600@freedombenchrest.com
SUMMARY:600 Yard Match #5
DESCRIPTION:
URL:https://freedombenchrest.com/event/600-yard-match-5-6/
LOCATION:Original Pennsylvania 1000 yd Benchrest Club\, 197 Kelly Rd.\, Trout Run\, PA\, 17771\, United States
CATEGORIES:600 Yard
GEO:41.4456417;-76.8777426
X-APPLE-STRUCTURED-LOCATION;VALUE=URI;X-ADDRESS=Original Pennsylvania 1000 yd Benchrest Club 197 Kelly Rd. Trout Run PA 17771 United States;X-APPLE-RADIUS=500;X-TITLE=197 Kelly Rd.:geo:-76.8777426,41.4456417
END:VEVENT
BEGIN:VEVENT
DTSTART;TZID=America/Chicago:20250907T090000
DTEND;TZID=America/Chicago:20250907T170000
DTSTAMP:20260425T083006
CREATED:20250306T231844Z
LAST-MODIFIED:20250306T231844Z
UID:10000263-1757235600-1757264400@freedombenchrest.com
SUMMARY:1000 Yard Match #10 - Heavy Gun
DESCRIPTION:
URL:https://freedombenchrest.com/event/1000-yard-match-10-heavy-gun/
LOCATION:Original Pennsylvania 1000 yd Benchrest Club\, 197 Kelly Rd.\, Trout Run\, PA\, 17771\, United States
CATEGORIES:1000 Yard
GEO:41.4456417;-76.8777426
X-APPLE-STRUCTURED-LOCATION;VALUE=URI;X-ADDRESS=Original Pennsylvania 1000 yd Benchrest Club 197 Kelly Rd. Trout Run PA 17771 United States;X-APPLE-RADIUS=500;X-TITLE=197 Kelly Rd.:geo:-76.8777426,41.4456417
END:VEVENT
BEGIN:VEVENT
DTSTART;TZID=America/Chicago:20250906T090000
DTEND;TZID=America/Chicago:20250906T170000
DTSTAMP:20260425T083006
CREATED:20250306T231844Z
LAST-MODIFIED:20250306T231844Z
UID:10000262-1757149200-1757178000@freedombenchrest.com
SUMMARY:1000 Yard Match #10 - Light Gun
DESCRIPTION:
URL:https://freedombenchrest.com/event/1000-yard-match-10-light-gun/
LOCATION:Original Pennsylvania 1000 yd Benchrest Club\, 197 Kelly Rd.\, Trout Run\, PA\, 17771\, United States
CATEGORIES:1000 Yard
GEO:41.4456417;-76.8777426
X-APPLE-STRUCTURED-LOCATION;VALUE=URI;X-ADDRESS=Original Pennsylvania 1000 yd Benchrest Club 197 Kelly Rd. Trout Run PA 17771 United States;X-APPLE-RADIUS=500;X-TITLE=197 Kelly Rd.:geo:-76.8777426,41.4456417
END:VEVENT
BEGIN:VEVENT
DTSTART;TZID=America/Chicago:20250824T090000
DTEND;TZID=America/Chicago:20250824T170000
DTSTAMP:20260425T083006
CREATED:20250306T231809Z
LAST-MODIFIED:20250306T231809Z
UID:10000261-1756026000-1756054800@freedombenchrest.com
SUMMARY:1000 Yard Match #9 - Heavy Gun
DESCRIPTION:
URL:https://freedombenchrest.com/event/1000-yard-match-9-heavy-gun/
LOCATION:Original Pennsylvania 1000 yd Benchrest Club\, 197 Kelly Rd.\, Trout Run\, PA\, 17771\, United States
CATEGORIES:1000 Yard
GEO:41.4456417;-76.8777426
X-APPLE-STRUCTURED-LOCATION;VALUE=URI;X-ADDRESS=Original Pennsylvania 1000 yd Benchrest Club 197 Kelly Rd. Trout Run PA 17771 United States;X-APPLE-RADIUS=500;X-TITLE=197 Kelly Rd.:geo:-76.8777426,41.4456417
END:VEVENT
BEGIN:VEVENT
DTSTART;TZID=America/Chicago:20250823T090000
DTEND;TZID=America/Chicago:20250823T170000
DTSTAMP:20260425T083006
CREATED:20250306T231808Z
LAST-MODIFIED:20250306T231808Z
UID:10000260-1755939600-1755968400@freedombenchrest.com
SUMMARY:1000 Yard Match #9 - Light Gun
DESCRIPTION:
URL:https://freedombenchrest.com/event/1000-yard-match-9-light-gun/
LOCATION:Original Pennsylvania 1000 yd Benchrest Club\, 197 Kelly Rd.\, Trout Run\, PA\, 17771\, United States
CATEGORIES:1000 Yard
GEO:41.4456417;-76.8777426
X-APPLE-STRUCTURED-LOCATION;VALUE=URI;X-ADDRESS=Original Pennsylvania 1000 yd Benchrest Club 197 Kelly Rd. Trout Run PA 17771 United States;X-APPLE-RADIUS=500;X-TITLE=197 Kelly Rd.:geo:-76.8777426,41.4456417
END:VEVENT
BEGIN:VEVENT
DTSTART;TZID=America/Chicago:20250810T090000
DTEND;TZID=America/Chicago:20250810T170000
DTSTAMP:20260425T083006
CREATED:20250306T231808Z
LAST-MODIFIED:20250306T231808Z
UID:10000259-1754816400-1754845200@freedombenchrest.com
SUMMARY:1000 Yard Match #8 - Heavy Gun
DESCRIPTION:
URL:https://freedombenchrest.com/event/1000-yard-match-8-heavy-gun/
LOCATION:Original Pennsylvania 1000 yd Benchrest Club\, 197 Kelly Rd.\, Trout Run\, PA\, 17771\, United States
CATEGORIES:1000 Yard
GEO:41.4456417;-76.8777426
X-APPLE-STRUCTURED-LOCATION;VALUE=URI;X-ADDRESS=Original Pennsylvania 1000 yd Benchrest Club 197 Kelly Rd. Trout Run PA 17771 United States;X-APPLE-RADIUS=500;X-TITLE=197 Kelly Rd.:geo:-76.8777426,41.4456417
END:VEVENT
BEGIN:VEVENT
DTSTART;TZID=America/Chicago:20250809T090000
DTEND;TZID=America/Chicago:20250809T170000
DTSTAMP:20260425T083006
CREATED:20250306T231808Z
LAST-MODIFIED:20250306T231808Z
UID:10000258-1754730000-1754758800@freedombenchrest.com
SUMMARY:1000 Yard Match #8 - Light Gun
DESCRIPTION:
URL:https://freedombenchrest.com/event/1000-yard-match-8-light-gun/
LOCATION:Original Pennsylvania 1000 yd Benchrest Club\, 197 Kelly Rd.\, Trout Run\, PA\, 17771\, United States
CATEGORIES:1000 Yard
GEO:41.4456417;-76.8777426
X-APPLE-STRUCTURED-LOCATION;VALUE=URI;X-ADDRESS=Original Pennsylvania 1000 yd Benchrest Club 197 Kelly Rd. Trout Run PA 17771 United States;X-APPLE-RADIUS=500;X-TITLE=197 Kelly Rd.:geo:-76.8777426,41.4456417
END:VEVENT
BEGIN:VEVENT
DTSTART;TZID=America/Chicago:20250726T090000
DTEND;TZID=America/Chicago:20250726T170000
DTSTAMP:20260425T083006
CREATED:20250306T231807Z
LAST-MODIFIED:20250609T193742Z
UID:10000257-1753520400-1753549200@freedombenchrest.com
SUMMARY:1000 Yard Match #7 - Heavy Gun
DESCRIPTION:Double EYH Points
URL:https://freedombenchrest.com/event/1000-yard-match-7-heavy-gun/
LOCATION:Original Pennsylvania 1000 yd Benchrest Club\, 197 Kelly Rd.\, Trout Run\, PA\, 17771\, United States
CATEGORIES:1000 Yard
GEO:41.4456417;-76.8777426
X-APPLE-STRUCTURED-LOCATION;VALUE=URI;X-ADDRESS=Original Pennsylvania 1000 yd Benchrest Club 197 Kelly Rd. Trout Run PA 17771 United States;X-APPLE-RADIUS=500;X-TITLE=197 Kelly Rd.:geo:-76.8777426,41.4456417
END:VEVENT
BEGIN:VEVENT
DTSTART;TZID=America/Chicago:20250726T090000
DTEND;TZID=America/Chicago:20250726T170000
DTSTAMP:20260425T083006
CREATED:20250306T231709Z
LAST-MODIFIED:20250609T193740Z
UID:10000256-1753520400-1753549200@freedombenchrest.com
SUMMARY:1000 Yard Match #7 - Light Gun
DESCRIPTION:Double EYH Points
URL:https://freedombenchrest.com/event/1000-yard-match-7-light-gun/
LOCATION:Original Pennsylvania 1000 yd Benchrest Club\, 197 Kelly Rd.\, Trout Run\, PA\, 17771\, United States
CATEGORIES:1000 Yard
GEO:41.4456417;-76.8777426
X-APPLE-STRUCTURED-LOCATION;VALUE=URI;X-ADDRESS=Original Pennsylvania 1000 yd Benchrest Club 197 Kelly Rd. Trout Run PA 17771 United States;X-APPLE-RADIUS=500;X-TITLE=197 Kelly Rd.:geo:-76.8777426,41.4456417
END:VEVENT
BEGIN:VEVENT
DTSTART;TZID=America/Chicago:20250720T090000
DTEND;TZID=America/Chicago:20250720T170000
DTSTAMP:20260425T083006
CREATED:20250306T231208Z
LAST-MODIFIED:20250610T162152Z
UID:10000221-1753002000-1753030800@freedombenchrest.com
SUMMARY:600 Yard Match #4
DESCRIPTION:Double EYH Points
URL:https://freedombenchrest.com/event/600-yard-match-4-5/
LOCATION:Original Pennsylvania 1000 yd Benchrest Club\, 197 Kelly Rd.\, Trout Run\, PA\, 17771\, United States
CATEGORIES:600 Yard
GEO:41.4456417;-76.8777426
X-APPLE-STRUCTURED-LOCATION;VALUE=URI;X-ADDRESS=Original Pennsylvania 1000 yd Benchrest Club 197 Kelly Rd. Trout Run PA 17771 United States;X-APPLE-RADIUS=500;X-TITLE=197 Kelly Rd.:geo:-76.8777426,41.4456417
END:VEVENT
BEGIN:VEVENT
DTSTART;TZID=America/Chicago:20250719T090000
DTEND;TZID=America/Chicago:20250719T170000
DTSTAMP:20260425T083006
CREATED:20250306T231207Z
LAST-MODIFIED:20250610T162148Z
UID:10000220-1752915600-1752944400@freedombenchrest.com
SUMMARY:600 Yard Match #3
DESCRIPTION:Double EYH Points
URL:https://freedombenchrest.com/event/600-yard-match-3-5/
LOCATION:Original Pennsylvania 1000 yd Benchrest Club\, 197 Kelly Rd.\, Trout Run\, PA\, 17771\, United States
CATEGORIES:600 Yard
GEO:41.4456417;-76.8777426
X-APPLE-STRUCTURED-LOCATION;VALUE=URI;X-ADDRESS=Original Pennsylvania 1000 yd Benchrest Club 197 Kelly Rd. Trout Run PA 17771 United States;X-APPLE-RADIUS=500;X-TITLE=197 Kelly Rd.:geo:-76.8777426,41.4456417
END:VEVENT
BEGIN:VEVENT
DTSTART;TZID=America/Chicago:20250713T090000
DTEND;TZID=America/Chicago:20250713T170000
DTSTAMP:20260425T083006
CREATED:20250306T231708Z
LAST-MODIFIED:20250609T193745Z
UID:10000255-1752397200-1752426000@freedombenchrest.com
SUMMARY:1000 Yard - World Open
DESCRIPTION:Double EYH Points
URL:https://freedombenchrest.com/event/1000-yard-world-open-2/
LOCATION:Original Pennsylvania 1000 yd Benchrest Club\, 197 Kelly Rd.\, Trout Run\, PA\, 17771\, United States
CATEGORIES:1000 Yard
GEO:41.4456417;-76.8777426
X-APPLE-STRUCTURED-LOCATION;VALUE=URI;X-ADDRESS=Original Pennsylvania 1000 yd Benchrest Club 197 Kelly Rd. Trout Run PA 17771 United States;X-APPLE-RADIUS=500;X-TITLE=197 Kelly Rd.:geo:-76.8777426,41.4456417
END:VEVENT
BEGIN:VEVENT
DTSTART;TZID=America/Chicago:20250712T090000
DTEND;TZID=America/Chicago:20250712T170000
DTSTAMP:20260425T083006
CREATED:20250306T231708Z
LAST-MODIFIED:20250609T193749Z
UID:10000254-1752310800-1752339600@freedombenchrest.com
SUMMARY:1000 Yard - World Open
DESCRIPTION:Double EYH Points
URL:https://freedombenchrest.com/event/1000-yard-world-open/
LOCATION:Original Pennsylvania 1000 yd Benchrest Club\, 197 Kelly Rd.\, Trout Run\, PA\, 17771\, United States
CATEGORIES:1000 Yard
GEO:41.4456417;-76.8777426
X-APPLE-STRUCTURED-LOCATION;VALUE=URI;X-ADDRESS=Original Pennsylvania 1000 yd Benchrest Club 197 Kelly Rd. Trout Run PA 17771 United States;X-APPLE-RADIUS=500;X-TITLE=197 Kelly Rd.:geo:-76.8777426,41.4456417
END:VEVENT
BEGIN:VEVENT
DTSTART;TZID=America/Chicago:20250629T090000
DTEND;TZID=America/Chicago:20250629T170000
DTSTAMP:20260425T083006
CREATED:20250306T231708Z
LAST-MODIFIED:20250306T231708Z
UID:10000253-1751187600-1751216400@freedombenchrest.com
SUMMARY:1000 Yard Match #6 - Heavy Gun
DESCRIPTION:
URL:https://freedombenchrest.com/event/1000-yard-match-6-heavy-gun/
LOCATION:Original Pennsylvania 1000 yd Benchrest Club\, 197 Kelly Rd.\, Trout Run\, PA\, 17771\, United States
CATEGORIES:1000 Yard
GEO:41.4456417;-76.8777426
X-APPLE-STRUCTURED-LOCATION;VALUE=URI;X-ADDRESS=Original Pennsylvania 1000 yd Benchrest Club 197 Kelly Rd. Trout Run PA 17771 United States;X-APPLE-RADIUS=500;X-TITLE=197 Kelly Rd.:geo:-76.8777426,41.4456417
END:VEVENT
BEGIN:VEVENT
DTSTART;TZID=America/Chicago:20250628T090000
DTEND;TZID=America/Chicago:20250628T170000
DTSTAMP:20260425T083006
CREATED:20250306T231707Z
LAST-MODIFIED:20250306T231707Z
UID:10000252-1751101200-1751130000@freedombenchrest.com
SUMMARY:1000 Yard Match #6 - Light Gun
DESCRIPTION:
URL:https://freedombenchrest.com/event/1000-yard-match-6-light-gun/
LOCATION:Original Pennsylvania 1000 yd Benchrest Club\, 197 Kelly Rd.\, Trout Run\, PA\, 17771\, United States
CATEGORIES:1000 Yard
GEO:41.4456417;-76.8777426
X-APPLE-STRUCTURED-LOCATION;VALUE=URI;X-ADDRESS=Original Pennsylvania 1000 yd Benchrest Club 197 Kelly Rd. Trout Run PA 17771 United States;X-APPLE-RADIUS=500;X-TITLE=197 Kelly Rd.:geo:-76.8777426,41.4456417
END:VEVENT
BEGIN:VEVENT
DTSTART;TZID=America/Chicago:20250615T090000
DTEND;TZID=America/Chicago:20250615T170000
DTSTAMP:20260425T083006
CREATED:20250306T231643Z
LAST-MODIFIED:20250306T231643Z
UID:10000251-1749978000-1750006800@freedombenchrest.com
SUMMARY:1000 Yard Match #5 - Heavy Gun
DESCRIPTION:
URL:https://freedombenchrest.com/event/1000-yard-match-5-heavy-gun/
LOCATION:Original Pennsylvania 1000 yd Benchrest Club\, 197 Kelly Rd.\, Trout Run\, PA\, 17771\, United States
CATEGORIES:1000 Yard
GEO:41.4456417;-76.8777426
X-APPLE-STRUCTURED-LOCATION;VALUE=URI;X-ADDRESS=Original Pennsylvania 1000 yd Benchrest Club 197 Kelly Rd. Trout Run PA 17771 United States;X-APPLE-RADIUS=500;X-TITLE=197 Kelly Rd.:geo:-76.8777426,41.4456417
END:VEVENT
BEGIN:VEVENT
DTSTART;TZID=America/Chicago:20250614T090000
DTEND;TZID=America/Chicago:20250614T170000
DTSTAMP:20260425T083006
CREATED:20250306T231643Z
LAST-MODIFIED:20250306T231643Z
UID:10000250-1749891600-1749920400@freedombenchrest.com
SUMMARY:1000 Yard Match #5 - Light Gun
DESCRIPTION:
URL:https://freedombenchrest.com/event/1000-yard-match-5-light-gun/
LOCATION:Original Pennsylvania 1000 yd Benchrest Club\, 197 Kelly Rd.\, Trout Run\, PA\, 17771\, United States
CATEGORIES:1000 Yard
GEO:41.4456417;-76.8777426
X-APPLE-STRUCTURED-LOCATION;VALUE=URI;X-ADDRESS=Original Pennsylvania 1000 yd Benchrest Club 197 Kelly Rd. Trout Run PA 17771 United States;X-APPLE-RADIUS=500;X-TITLE=197 Kelly Rd.:geo:-76.8777426,41.4456417
END:VEVENT
BEGIN:VEVENT
DTSTART;TZID=America/Chicago:20250601T090000
DTEND;TZID=America/Chicago:20250601T170000
DTSTAMP:20260425T083006
CREATED:20250306T231643Z
LAST-MODIFIED:20250306T231643Z
UID:10000249-1748768400-1748797200@freedombenchrest.com
SUMMARY:1000 Yard Match #4 - Heavy Gun
DESCRIPTION:
URL:https://freedombenchrest.com/event/1000-yard-match-4-heavy-gun/
LOCATION:Original Pennsylvania 1000 yd Benchrest Club\, 197 Kelly Rd.\, Trout Run\, PA\, 17771\, United States
CATEGORIES:1000 Yard
GEO:41.4456417;-76.8777426
X-APPLE-STRUCTURED-LOCATION;VALUE=URI;X-ADDRESS=Original Pennsylvania 1000 yd Benchrest Club 197 Kelly Rd. Trout Run PA 17771 United States;X-APPLE-RADIUS=500;X-TITLE=197 Kelly Rd.:geo:-76.8777426,41.4456417
END:VEVENT
BEGIN:VEVENT
DTSTART;TZID=America/Chicago:20250531T090000
DTEND;TZID=America/Chicago:20250531T170000
DTSTAMP:20260425T083006
CREATED:20250306T231642Z
LAST-MODIFIED:20250306T231642Z
UID:10000248-1748682000-1748710800@freedombenchrest.com
SUMMARY:1000 Yard Match #4 - Light Gun
DESCRIPTION:
URL:https://freedombenchrest.com/event/1000-yard-match-4-light-gun/
LOCATION:Original Pennsylvania 1000 yd Benchrest Club\, 197 Kelly Rd.\, Trout Run\, PA\, 17771\, United States
CATEGORIES:1000 Yard
GEO:41.4456417;-76.8777426
X-APPLE-STRUCTURED-LOCATION;VALUE=URI;X-ADDRESS=Original Pennsylvania 1000 yd Benchrest Club 197 Kelly Rd. Trout Run PA 17771 United States;X-APPLE-RADIUS=500;X-TITLE=197 Kelly Rd.:geo:-76.8777426,41.4456417
END:VEVENT
BEGIN:VEVENT
DTSTART;TZID=America/Chicago:20250518T090000
DTEND;TZID=America/Chicago:20250518T170000
DTSTAMP:20260425T083006
CREATED:20250306T231642Z
LAST-MODIFIED:20250306T231642Z
UID:10000247-1747558800-1747587600@freedombenchrest.com
SUMMARY:1000 Yard Match #3 - Heavy Gun
DESCRIPTION:
URL:https://freedombenchrest.com/event/1000-yard-match-3-heavy-gun/
LOCATION:Original Pennsylvania 1000 yd Benchrest Club\, 197 Kelly Rd.\, Trout Run\, PA\, 17771\, United States
CATEGORIES:1000 Yard
GEO:41.4456417;-76.8777426
X-APPLE-STRUCTURED-LOCATION;VALUE=URI;X-ADDRESS=Original Pennsylvania 1000 yd Benchrest Club 197 Kelly Rd. Trout Run PA 17771 United States;X-APPLE-RADIUS=500;X-TITLE=197 Kelly Rd.:geo:-76.8777426,41.4456417
END:VEVENT
BEGIN:VEVENT
DTSTART;TZID=America/Chicago:20250517T090000
DTEND;TZID=America/Chicago:20250517T170000
DTSTAMP:20260425T083006
CREATED:20250306T231610Z
LAST-MODIFIED:20250306T231610Z
UID:10000246-1747472400-1747501200@freedombenchrest.com
SUMMARY:1000 Yard Match #3 - Light Gun
DESCRIPTION:
URL:https://freedombenchrest.com/event/1000-yard-match-3-light-gun/
LOCATION:Original Pennsylvania 1000 yd Benchrest Club\, 197 Kelly Rd.\, Trout Run\, PA\, 17771\, United States
CATEGORIES:1000 Yard
GEO:41.4456417;-76.8777426
X-APPLE-STRUCTURED-LOCATION;VALUE=URI;X-ADDRESS=Original Pennsylvania 1000 yd Benchrest Club 197 Kelly Rd. Trout Run PA 17771 United States;X-APPLE-RADIUS=500;X-TITLE=197 Kelly Rd.:geo:-76.8777426,41.4456417
END:VEVENT
BEGIN:VEVENT
DTSTART;TZID=America/Chicago:20250511T090000
DTEND;TZID=America/Chicago:20250511T170000
DTSTAMP:20260425T083006
CREATED:20250306T231845Z
LAST-MODIFIED:20250306T231845Z
UID:10000265-1746954000-1746982800@freedombenchrest.com
SUMMARY:600 Yard Match #2
DESCRIPTION:
URL:https://freedombenchrest.com/event/600-yard-match-2-7/
LOCATION:Original Pennsylvania 1000 yd Benchrest Club\, 197 Kelly Rd.\, Trout Run\, PA\, 17771\, United States
CATEGORIES:600 Yard
GEO:41.4456417;-76.8777426
X-APPLE-STRUCTURED-LOCATION;VALUE=URI;X-ADDRESS=Original Pennsylvania 1000 yd Benchrest Club 197 Kelly Rd. Trout Run PA 17771 United States;X-APPLE-RADIUS=500;X-TITLE=197 Kelly Rd.:geo:-76.8777426,41.4456417
END:VEVENT
BEGIN:VEVENT
DTSTART;TZID=America/Chicago:20250510T090000
DTEND;TZID=America/Chicago:20250510T170000
DTSTAMP:20260425T083006
CREATED:20250306T231845Z
LAST-MODIFIED:20250306T231845Z
UID:10000264-1746867600-1746896400@freedombenchrest.com
SUMMARY:600 Yard Match #1
DESCRIPTION:
URL:https://freedombenchrest.com/event/600-yard-match-1-6/
LOCATION:Original Pennsylvania 1000 yd Benchrest Club\, 197 Kelly Rd.\, Trout Run\, PA\, 17771\, United States
CATEGORIES:600 Yard
GEO:41.4456417;-76.8777426
X-APPLE-STRUCTURED-LOCATION;VALUE=URI;X-ADDRESS=Original Pennsylvania 1000 yd Benchrest Club 197 Kelly Rd. Trout Run PA 17771 United States;X-APPLE-RADIUS=500;X-TITLE=197 Kelly Rd.:geo:-76.8777426,41.4456417
END:VEVENT
BEGIN:VEVENT
DTSTART;TZID=America/Chicago:20250427T090000
DTEND;TZID=America/Chicago:20250427T170000
DTSTAMP:20260425T083006
CREATED:20250306T231609Z
LAST-MODIFIED:20250306T231609Z
UID:10000245-1745744400-1745773200@freedombenchrest.com
SUMMARY:1000 Yard Match #2 - Heavy Gun
DESCRIPTION:
URL:https://freedombenchrest.com/event/1000-yard-match-2-heavy-gun/
LOCATION:Original Pennsylvania 1000 yd Benchrest Club\, 197 Kelly Rd.\, Trout Run\, PA\, 17771\, United States
CATEGORIES:1000 Yard
GEO:41.4456417;-76.8777426
X-APPLE-STRUCTURED-LOCATION;VALUE=URI;X-ADDRESS=Original Pennsylvania 1000 yd Benchrest Club 197 Kelly Rd. Trout Run PA 17771 United States;X-APPLE-RADIUS=500;X-TITLE=197 Kelly Rd.:geo:-76.8777426,41.4456417
END:VEVENT
BEGIN:VEVENT
DTSTART;TZID=America/Chicago:20250426T090000
DTEND;TZID=America/Chicago:20250426T170000
DTSTAMP:20260425T083006
CREATED:20250306T231609Z
LAST-MODIFIED:20250306T231609Z
UID:10000244-1745658000-1745686800@freedombenchrest.com
SUMMARY:1000 Yard Match #2 - Light Gun
DESCRIPTION:
URL:https://freedombenchrest.com/event/1000-yard-match-2-light-gun/
LOCATION:Original Pennsylvania 1000 yd Benchrest Club\, 197 Kelly Rd.\, Trout Run\, PA\, 17771\, United States
CATEGORIES:1000 Yard
GEO:41.4456417;-76.8777426
X-APPLE-STRUCTURED-LOCATION;VALUE=URI;X-ADDRESS=Original Pennsylvania 1000 yd Benchrest Club 197 Kelly Rd. Trout Run PA 17771 United States;X-APPLE-RADIUS=500;X-TITLE=197 Kelly Rd.:geo:-76.8777426,41.4456417
END:VEVENT
BEGIN:VEVENT
DTSTART;TZID=America/Chicago:20250413T090000
DTEND;TZID=America/Chicago:20250413T170000
DTSTAMP:20260425T083006
CREATED:20250306T231608Z
LAST-MODIFIED:20250306T231608Z
UID:10000243-1744534800-1744563600@freedombenchrest.com
SUMMARY:1000 Yard Match #1 - Heavy Gun
DESCRIPTION:
URL:https://freedombenchrest.com/event/1000-yard-match-1-heavy-gun/
LOCATION:Original Pennsylvania 1000 yd Benchrest Club\, 197 Kelly Rd.\, Trout Run\, PA\, 17771\, United States
CATEGORIES:1000 Yard
GEO:41.4456417;-76.8777426
X-APPLE-STRUCTURED-LOCATION;VALUE=URI;X-ADDRESS=Original Pennsylvania 1000 yd Benchrest Club 197 Kelly Rd. Trout Run PA 17771 United States;X-APPLE-RADIUS=500;X-TITLE=197 Kelly Rd.:geo:-76.8777426,41.4456417
END:VEVENT
BEGIN:VEVENT
DTSTART;TZID=America/Chicago:20250412T090000
DTEND;TZID=America/Chicago:20250412T170000
DTSTAMP:20260425T083006
CREATED:20250306T231608Z
LAST-MODIFIED:20250306T231608Z
UID:10000242-1744448400-1744477200@freedombenchrest.com
SUMMARY:1000 Yard Match #1 - Light Gun
DESCRIPTION:
URL:https://freedombenchrest.com/event/1000-yard-match-1-light-gun/
LOCATION:Original Pennsylvania 1000 yd Benchrest Club\, 197 Kelly Rd.\, Trout Run\, PA\, 17771\, United States
CATEGORIES:1000 Yard
GEO:41.4456417;-76.8777426
X-APPLE-STRUCTURED-LOCATION;VALUE=URI;X-ADDRESS=Original Pennsylvania 1000 yd Benchrest Club 197 Kelly Rd. Trout Run PA 17771 United States;X-APPLE-RADIUS=500;X-TITLE=197 Kelly Rd.:geo:-76.8777426,41.4456417
END:VEVENT
END:VCALENDAR