BEGIN:VCALENDAR
VERSION:2.0
PRODID:-//Freedom Benchrest - ECPv6.15.18//NONSGML v1.0//EN
CALSCALE:GREGORIAN
METHOD:PUBLISH
X-WR-CALNAME:Freedom Benchrest
X-ORIGINAL-URL:https://freedombenchrest.com
X-WR-CALDESC:Events for Freedom Benchrest
REFRESH-INTERVAL;VALUE=DURATION:PT1H
X-Robots-Tag:noindex
X-PUBLISHED-TTL:PT1H
BEGIN:VTIMEZONE
TZID:America/Chicago
BEGIN:DAYLIGHT
TZOFFSETFROM:-0600
TZOFFSETTO:-0500
TZNAME:CDT
DTSTART:20250309T080000
END:DAYLIGHT
BEGIN:STANDARD
TZOFFSETFROM:-0500
TZOFFSETTO:-0600
TZNAME:CST
DTSTART:20251102T070000
END:STANDARD
BEGIN:DAYLIGHT
TZOFFSETFROM:-0600
TZOFFSETTO:-0500
TZNAME:CDT
DTSTART:20260308T080000
END:DAYLIGHT
BEGIN:STANDARD
TZOFFSETFROM:-0500
TZOFFSETTO:-0600
TZNAME:CST
DTSTART:20261101T070000
END:STANDARD
BEGIN:DAYLIGHT
TZOFFSETFROM:-0600
TZOFFSETTO:-0500
TZNAME:CDT
DTSTART:20270314T080000
END:DAYLIGHT
BEGIN:STANDARD
TZOFFSETFROM:-0500
TZOFFSETTO:-0600
TZNAME:CST
DTSTART:20271107T070000
END:STANDARD
END:VTIMEZONE
BEGIN:VEVENT
DTSTART;TZID=America/Chicago:20260502T090000
DTEND;TZID=America/Chicago:20260503T170000
DTSTAMP:20260425T064541
CREATED:20260225T160445Z
LAST-MODIFIED:20260225T160445Z
UID:10000443-1777712400-1777827600@freedombenchrest.com
SUMMARY:1000 Yard Match #2
DESCRIPTION:Light Gun and Tactical – Saturday\nHeavy Gun – Sunday
URL:https://freedombenchrest.com/event/1000-yard-match-2-5/
LOCATION:Original Pennsylvania 1000 yd Benchrest Club\, 197 Kelly Rd.\, Trout Run\, PA\, 17771\, United States
CATEGORIES:1000 Yard
GEO:41.4456417;-76.8777426
X-APPLE-STRUCTURED-LOCATION;VALUE=URI;X-ADDRESS=Original Pennsylvania 1000 yd Benchrest Club 197 Kelly Rd. Trout Run PA 17771 United States;X-APPLE-RADIUS=500;X-TITLE=197 Kelly Rd.:geo:-76.8777426,41.4456417
END:VEVENT
BEGIN:VEVENT
DTSTART;TZID=America/Chicago:20260516T090000
DTEND;TZID=America/Chicago:20260517T170000
DTSTAMP:20260425T064541
CREATED:20260225T160512Z
LAST-MODIFIED:20260225T160512Z
UID:10000444-1778922000-1779037200@freedombenchrest.com
SUMMARY:1000 Yard Match #3
DESCRIPTION:Light Gun and Tactical – Saturday\nHeavy Gun – Sunday
URL:https://freedombenchrest.com/event/1000-yard-match-3-8/
LOCATION:Original Pennsylvania 1000 yd Benchrest Club\, 197 Kelly Rd.\, Trout Run\, PA\, 17771\, United States
CATEGORIES:1000 Yard
GEO:41.4456417;-76.8777426
X-APPLE-STRUCTURED-LOCATION;VALUE=URI;X-ADDRESS=Original Pennsylvania 1000 yd Benchrest Club 197 Kelly Rd. Trout Run PA 17771 United States;X-APPLE-RADIUS=500;X-TITLE=197 Kelly Rd.:geo:-76.8777426,41.4456417
END:VEVENT
BEGIN:VEVENT
DTSTART;TZID=America/Chicago:20260530T090000
DTEND;TZID=America/Chicago:20260531T170000
DTSTAMP:20260425T064541
CREATED:20260225T160540Z
LAST-MODIFIED:20260225T160540Z
UID:10000445-1780131600-1780246800@freedombenchrest.com
SUMMARY:1000 Yard Match #4
DESCRIPTION:Light Gun and Tactical – Saturday\nHeavy Gun – Sunday
URL:https://freedombenchrest.com/event/1000-yard-match-4-7/
LOCATION:Original Pennsylvania 1000 yd Benchrest Club\, 197 Kelly Rd.\, Trout Run\, PA\, 17771\, United States
CATEGORIES:1000 Yard
GEO:41.4456417;-76.8777426
X-APPLE-STRUCTURED-LOCATION;VALUE=URI;X-ADDRESS=Original Pennsylvania 1000 yd Benchrest Club 197 Kelly Rd. Trout Run PA 17771 United States;X-APPLE-RADIUS=500;X-TITLE=197 Kelly Rd.:geo:-76.8777426,41.4456417
END:VEVENT
BEGIN:VEVENT
DTSTART;TZID=America/Chicago:20260613T090000
DTEND;TZID=America/Chicago:20260614T170000
DTSTAMP:20260425T064541
CREATED:20260225T160605Z
LAST-MODIFIED:20260225T160818Z
UID:10000446-1781341200-1781456400@freedombenchrest.com
SUMMARY:1000 Yard Match #5
DESCRIPTION:Light Gun and Tactical – Saturday\nHeavy Gun – Sunday
URL:https://freedombenchrest.com/event/1000-yard-match-5-10/
LOCATION:Original Pennsylvania 1000 yd Benchrest Club\, 197 Kelly Rd.\, Trout Run\, PA\, 17771\, United States
CATEGORIES:1000 Yard
GEO:41.4456417;-76.8777426
X-APPLE-STRUCTURED-LOCATION;VALUE=URI;X-ADDRESS=Original Pennsylvania 1000 yd Benchrest Club 197 Kelly Rd. Trout Run PA 17771 United States;X-APPLE-RADIUS=500;X-TITLE=197 Kelly Rd.:geo:-76.8777426,41.4456417
END:VEVENT
BEGIN:VEVENT
DTSTART;TZID=America/Chicago:20260627T090000
DTEND;TZID=America/Chicago:20260628T170000
DTSTAMP:20260425T064541
CREATED:20260225T160838Z
LAST-MODIFIED:20260225T160838Z
UID:10000447-1782550800-1782666000@freedombenchrest.com
SUMMARY:1000 Yard Match #6
DESCRIPTION:Light Gun and Tactical – Saturday\nHeavy Gun – Sunday
URL:https://freedombenchrest.com/event/1000-yard-match-6-6/
LOCATION:Original Pennsylvania 1000 yd Benchrest Club\, 197 Kelly Rd.\, Trout Run\, PA\, 17771\, United States
CATEGORIES:1000 Yard
GEO:41.4456417;-76.8777426
X-APPLE-STRUCTURED-LOCATION;VALUE=URI;X-ADDRESS=Original Pennsylvania 1000 yd Benchrest Club 197 Kelly Rd. Trout Run PA 17771 United States;X-APPLE-RADIUS=500;X-TITLE=197 Kelly Rd.:geo:-76.8777426,41.4456417
END:VEVENT
BEGIN:VEVENT
DTSTART;TZID=America/Chicago:20260710T090000
DTEND;TZID=America/Chicago:20260712T170000
DTSTAMP:20260425T064541
CREATED:20251117T004630Z
LAST-MODIFIED:20260225T161242Z
UID:10000392-1783674000-1783875600@freedombenchrest.com
SUMMARY:World Open
DESCRIPTION:
URL:https://freedombenchrest.com/event/1000-yard-match-10-6/
LOCATION:Original Pennsylvania 1000 yd Benchrest Club\, 197 Kelly Rd.\, Trout Run\, PA\, 17771\, United States
CATEGORIES:1000 Yard
GEO:41.4456417;-76.8777426
X-APPLE-STRUCTURED-LOCATION;VALUE=URI;X-ADDRESS=Original Pennsylvania 1000 yd Benchrest Club 197 Kelly Rd. Trout Run PA 17771 United States;X-APPLE-RADIUS=500;X-TITLE=197 Kelly Rd.:geo:-76.8777426,41.4456417
END:VEVENT
BEGIN:VEVENT
DTSTART;TZID=America/Chicago:20260725T090000
DTEND;TZID=America/Chicago:20260726T170000
DTSTAMP:20260425T064541
CREATED:20260225T160937Z
LAST-MODIFIED:20260225T160937Z
UID:10000448-1784970000-1785085200@freedombenchrest.com
SUMMARY:1000 Yard Match #7 - Cancer Pink Out
DESCRIPTION:Light Gun and Tactical – Saturday\nHeavy Gun – Sunday
URL:https://freedombenchrest.com/event/1000-yard-match-7-cancer-pink-out/
LOCATION:Original Pennsylvania 1000 yd Benchrest Club\, 197 Kelly Rd.\, Trout Run\, PA\, 17771\, United States
CATEGORIES:1000 Yard
GEO:41.4456417;-76.8777426
X-APPLE-STRUCTURED-LOCATION;VALUE=URI;X-ADDRESS=Original Pennsylvania 1000 yd Benchrest Club 197 Kelly Rd. Trout Run PA 17771 United States;X-APPLE-RADIUS=500;X-TITLE=197 Kelly Rd.:geo:-76.8777426,41.4456417
END:VEVENT
BEGIN:VEVENT
DTSTART;TZID=America/Chicago:20260808T090000
DTEND;TZID=America/Chicago:20260809T170000
DTSTAMP:20260425T064541
CREATED:20260225T161018Z
LAST-MODIFIED:20260225T161018Z
UID:10000449-1786179600-1786294800@freedombenchrest.com
SUMMARY:1000 Yard Match #8 - Corn Roast
DESCRIPTION:Light Gun and Tactical – Saturday\nHeavy Gun – Sunday
URL:https://freedombenchrest.com/event/1000-yard-match-8-corn-roast/
LOCATION:Original Pennsylvania 1000 yd Benchrest Club\, 197 Kelly Rd.\, Trout Run\, PA\, 17771\, United States
CATEGORIES:1000 Yard
GEO:41.4456417;-76.8777426
X-APPLE-STRUCTURED-LOCATION;VALUE=URI;X-ADDRESS=Original Pennsylvania 1000 yd Benchrest Club 197 Kelly Rd. Trout Run PA 17771 United States;X-APPLE-RADIUS=500;X-TITLE=197 Kelly Rd.:geo:-76.8777426,41.4456417
END:VEVENT
BEGIN:VEVENT
DTSTART;TZID=America/Chicago:20260822T090000
DTEND;TZID=America/Chicago:20260823T170000
DTSTAMP:20260425T064541
CREATED:20260225T161043Z
LAST-MODIFIED:20260225T161043Z
UID:10000450-1787389200-1787504400@freedombenchrest.com
SUMMARY:1000 Yard Match #9
DESCRIPTION:Light Gun and Tactical – Saturday\nHeavy Gun – Sunday
URL:https://freedombenchrest.com/event/1000-yard-match-9-4/
LOCATION:Original Pennsylvania 1000 yd Benchrest Club\, 197 Kelly Rd.\, Trout Run\, PA\, 17771\, United States
CATEGORIES:1000 Yard
GEO:41.4456417;-76.8777426
X-APPLE-STRUCTURED-LOCATION;VALUE=URI;X-ADDRESS=Original Pennsylvania 1000 yd Benchrest Club 197 Kelly Rd. Trout Run PA 17771 United States;X-APPLE-RADIUS=500;X-TITLE=197 Kelly Rd.:geo:-76.8777426,41.4456417
END:VEVENT
BEGIN:VEVENT
DTSTART;TZID=America/Chicago:20260912T090000
DTEND;TZID=America/Chicago:20260913T170000
DTSTAMP:20260425T064541
CREATED:20260225T161112Z
LAST-MODIFIED:20260225T161112Z
UID:10000451-1789203600-1789318800@freedombenchrest.com
SUMMARY:1000 Yard Match #10
DESCRIPTION:Light Gun and Tactical – Saturday\nHeavy Gun – Sunday
URL:https://freedombenchrest.com/event/1000-yard-match-10-7/
LOCATION:Original Pennsylvania 1000 yd Benchrest Club\, 197 Kelly Rd.\, Trout Run\, PA\, 17771\, United States
CATEGORIES:1000 Yard
GEO:41.4456417;-76.8777426
X-APPLE-STRUCTURED-LOCATION;VALUE=URI;X-ADDRESS=Original Pennsylvania 1000 yd Benchrest Club 197 Kelly Rd. Trout Run PA 17771 United States;X-APPLE-RADIUS=500;X-TITLE=197 Kelly Rd.:geo:-76.8777426,41.4456417
END:VEVENT
END:VCALENDAR