BEGIN:VCALENDAR
VERSION:2.0
PRODID:-//Freedom Benchrest - ECPv6.15.18//NONSGML v1.0//EN
CALSCALE:GREGORIAN
METHOD:PUBLISH
X-ORIGINAL-URL:https://freedombenchrest.com
X-WR-CALDESC:Events for Freedom Benchrest
REFRESH-INTERVAL;VALUE=DURATION:PT1H
X-Robots-Tag:noindex
X-PUBLISHED-TTL:PT1H
BEGIN:VTIMEZONE
TZID:America/Chicago
BEGIN:DAYLIGHT
TZOFFSETFROM:-0600
TZOFFSETTO:-0500
TZNAME:CDT
DTSTART:20250309T080000
END:DAYLIGHT
BEGIN:STANDARD
TZOFFSETFROM:-0500
TZOFFSETTO:-0600
TZNAME:CST
DTSTART:20251102T070000
END:STANDARD
BEGIN:DAYLIGHT
TZOFFSETFROM:-0600
TZOFFSETTO:-0500
TZNAME:CDT
DTSTART:20260308T080000
END:DAYLIGHT
BEGIN:STANDARD
TZOFFSETFROM:-0500
TZOFFSETTO:-0600
TZNAME:CST
DTSTART:20261101T070000
END:STANDARD
BEGIN:DAYLIGHT
TZOFFSETFROM:-0600
TZOFFSETTO:-0500
TZNAME:CDT
DTSTART:20270314T080000
END:DAYLIGHT
BEGIN:STANDARD
TZOFFSETFROM:-0500
TZOFFSETTO:-0600
TZNAME:CST
DTSTART:20271107T070000
END:STANDARD
END:VTIMEZONE
BEGIN:VEVENT
DTSTART;TZID=America/Chicago:20260516T090000
DTEND;TZID=America/Chicago:20260516T170000
DTSTAMP:20260423T044406
CREATED:20251112T033937Z
LAST-MODIFIED:20251112T034045Z
UID:10000364-1778922000-1778950800@freedombenchrest.com
SUMMARY:1000 Yard Match #1 & #2
DESCRIPTION:
URL:https://freedombenchrest.com/event/1000-yard-match-1-2-5/
LOCATION:Vapor Trail Valley Range\, MO\, United States
CATEGORIES:1000 Yard
GEO:40.288366;-93.449902
END:VEVENT
BEGIN:VEVENT
DTSTART;TZID=America/Chicago:20260517T090000
DTEND;TZID=America/Chicago:20260517T170000
DTSTAMP:20260423T044406
CREATED:20251112T034015Z
LAST-MODIFIED:20251112T034111Z
UID:10000365-1779008400-1779037200@freedombenchrest.com
SUMMARY:1000 Yard Match #3 & #4
DESCRIPTION:
URL:https://freedombenchrest.com/event/1000-yard-match-3-4-4/
LOCATION:Vapor Trail Valley Range\, MO\, United States
CATEGORIES:1000 Yard
GEO:40.288366;-93.449902
END:VEVENT
BEGIN:VEVENT
DTSTART;TZID=America/Chicago:20260518T090000
DTEND;TZID=America/Chicago:20260518T170000
DTSTAMP:20260423T044406
CREATED:20251112T034144Z
LAST-MODIFIED:20251112T034144Z
UID:10000366-1779094800-1779123600@freedombenchrest.com
SUMMARY:1000 Yard Match #5
DESCRIPTION:
URL:https://freedombenchrest.com/event/1000-yard-match-5-5/
LOCATION:Vapor Trail Valley Range\, MO\, United States
CATEGORIES:1000 Yard
GEO:40.288366;-93.449902
END:VEVENT
BEGIN:VEVENT
DTSTART;TZID=America/Chicago:20260617T090000
DTEND;TZID=America/Chicago:20260617T170000
DTSTAMP:20260423T044406
CREATED:20251112T032254Z
LAST-MODIFIED:20251112T032254Z
UID:10000349-1781686800-1781715600@freedombenchrest.com
SUMMARY:Rendezvous 6.0
DESCRIPTION:
URL:https://freedombenchrest.com/event/rendezvous-6-0/
LOCATION:Vapor Trail Valley Range\, MO\, United States
CATEGORIES:1000 Yard,600 Yard
GEO:40.288366;-93.449902
END:VEVENT
BEGIN:VEVENT
DTSTART;TZID=America/Chicago:20260618T090000
DTEND;TZID=America/Chicago:20260618T170000
DTSTAMP:20260423T044406
CREATED:20251112T032350Z
LAST-MODIFIED:20251112T032350Z
UID:10000350-1781773200-1781802000@freedombenchrest.com
SUMMARY:Rendezvous 6.0
DESCRIPTION:
URL:https://freedombenchrest.com/event/rendezvous-6-0-2/
LOCATION:Vapor Trail Valley Range\, MO\, United States
CATEGORIES:1000 Yard,600 Yard
GEO:40.288366;-93.449902
END:VEVENT
BEGIN:VEVENT
DTSTART;TZID=America/Chicago:20260619T090000
DTEND;TZID=America/Chicago:20260619T170000
DTSTAMP:20260423T044406
CREATED:20251112T032420Z
LAST-MODIFIED:20251112T032420Z
UID:10000351-1781859600-1781888400@freedombenchrest.com
SUMMARY:Rendezvous 6.0
DESCRIPTION:
URL:https://freedombenchrest.com/event/rendezvous-6-0-3/
LOCATION:Vapor Trail Valley Range\, MO\, United States
CATEGORIES:1000 Yard,600 Yard
GEO:40.288366;-93.449902
END:VEVENT
BEGIN:VEVENT
DTSTART;TZID=America/Chicago:20260711T090000
DTEND;TZID=America/Chicago:20260711T170000
DTSTAMP:20260423T044406
CREATED:20251112T032539Z
LAST-MODIFIED:20251112T032539Z
UID:10000353-1783760400-1783789200@freedombenchrest.com
SUMMARY:600 Yard Match #3
DESCRIPTION:
URL:https://freedombenchrest.com/event/600-yard-match-3-14/
LOCATION:Vapor Trail Valley Range\, MO\, United States
CATEGORIES:600 Yard
GEO:40.288366;-93.449902
END:VEVENT
BEGIN:VEVENT
DTSTART;TZID=America/Chicago:20260712T090000
DTEND;TZID=America/Chicago:20260712T170000
DTSTAMP:20260423T044406
CREATED:20251112T032631Z
LAST-MODIFIED:20251112T032631Z
UID:10000354-1783846800-1783875600@freedombenchrest.com
SUMMARY:600 Yard Match #4
DESCRIPTION:
URL:https://freedombenchrest.com/event/600-yard-match-4-13/
LOCATION:Vapor Trail Valley Range\, MO\, United States
CATEGORIES:600 Yard
GEO:40.288366;-93.449902
END:VEVENT
BEGIN:VEVENT
DTSTART;TZID=America/Chicago:20260821T090000
DTEND;TZID=America/Chicago:20260821T170000
DTSTAMP:20260423T044406
CREATED:20251112T035619Z
LAST-MODIFIED:20251112T035619Z
UID:10000376-1787302800-1787331600@freedombenchrest.com
SUMMARY:1000 Yard Match #6 & #7
DESCRIPTION:
URL:https://freedombenchrest.com/event/1000-yard-match-6-7-2/
LOCATION:Vapor Trail Valley Range\, MO\, United States
CATEGORIES:1000 Yard
GEO:40.288366;-93.449902
END:VEVENT
BEGIN:VEVENT
DTSTART;TZID=America/Chicago:20260822T090000
DTEND;TZID=America/Chicago:20260822T170000
DTSTAMP:20260423T044406
CREATED:20251112T035658Z
LAST-MODIFIED:20251112T035658Z
UID:10000377-1787389200-1787418000@freedombenchrest.com
SUMMARY:1000 Yard Match #8 & #9
DESCRIPTION:
URL:https://freedombenchrest.com/event/1000-yard-match-8-9-2/
LOCATION:Vapor Trail Valley Range\, MO\, United States
CATEGORIES:1000 Yard
GEO:40.288366;-93.449902
END:VEVENT
BEGIN:VEVENT
DTSTART;TZID=America/Chicago:20260823T090000
DTEND;TZID=America/Chicago:20260823T170000
DTSTAMP:20260423T044406
CREATED:20251112T035728Z
LAST-MODIFIED:20251112T035728Z
UID:10000378-1787475600-1787504400@freedombenchrest.com
SUMMARY:1000 Yard Match #10
DESCRIPTION:
URL:https://freedombenchrest.com/event/1000-yard-match-10-5/
LOCATION:Vapor Trail Valley Range\, MO\, United States
CATEGORIES:1000 Yard
GEO:40.288366;-93.449902
END:VEVENT
BEGIN:VEVENT
DTSTART;TZID=America/Chicago:20260912T090000
DTEND;TZID=America/Chicago:20260912T170000
DTSTAMP:20260423T044406
CREATED:20251112T032724Z
LAST-MODIFIED:20251112T032724Z
UID:10000355-1789203600-1789232400@freedombenchrest.com
SUMMARY:600 Yard Match #5
DESCRIPTION:
URL:https://freedombenchrest.com/event/600-yard-match-5-14/
LOCATION:Vapor Trail Valley Range\, MO\, United States
CATEGORIES:600 Yard
GEO:40.288366;-93.449902
END:VEVENT
BEGIN:VEVENT
DTSTART;TZID=America/Chicago:20260913T090000
DTEND;TZID=America/Chicago:20260913T170000
DTSTAMP:20260423T044406
CREATED:20251112T032802Z
LAST-MODIFIED:20251112T032802Z
UID:10000356-1789290000-1789318800@freedombenchrest.com
SUMMARY:600 Yard Match #6
DESCRIPTION:
URL:https://freedombenchrest.com/event/600-yard-match-6-14/
LOCATION:Vapor Trail Valley Range\, MO\, United States
CATEGORIES:600 Yard
GEO:40.288366;-93.449902
END:VEVENT
END:VCALENDAR