{"text_format":"1","workbook":"xlsx","n_sheets":15,"sheets":["2-GUN","LIGHT GUN","HEAVY GUN","TACTICAL GUN","LG Equip","HG equip","Competitor List","Bench Assignment","Freedom points","LG LABELS","HG Labels","Label data","Instructions","Rev","single target"],"not_rendered":{"charts":0,"images":2,"macros":1,"external_links":0,"defined_names":28,"comments":0,"pivot_tables":0},"unopened":[],"bounds":{"document_bytes":16777216,"sheet_cells":100000,"rows_first":2000,"rows_last":500,"rows_between":2000,"halvings":0,"cell_chars":16384,"cell_head_chars":4096},"cells_cut":0,"cells_raw":0,"read":"whole","date_system":"1900"}

{"sheet":"2-GUN","index":0,"n_rows":173,"n_cols":21,"rows_kept":173,"cut":false,"hidden":false,"merged":[[21,2,22,2],[21,1,22,1],[21,15,22,15],[21,11,22,11],[21,12,22,12],[21,13,22,13],[21,10,22,10],[21,9,22,9],[15,6,15,8],[16,6,16,8],[17,6,17,8],[21,4,22,4],[21,5,22,5],[21,6,22,6],[21,8,22,8],[21,7,22,7],[11,12,11,14],[12,12,12,14],[0,0,1,15],[2,0,2,15],[5,0,6,15],[3,0,3,15],[7,0,7,3],[7,5,7,9],[7,11,7,15],[20,19,20,21],[8,1,8,2],[9,1,9,2],[10,1,10,2],[11,1,11,2],[12,1,12,2],[15,1,15,2],[16,1,16,2],[17,1,17,2],[18,1,18,2],[19,1,19,2],[20,17,22,17],[21,3,22,3],[8,12,8,14],[9,12,9,14],[10,12,10,14],[13,1,13,2],[14,1,14,2],[8,6,8,8],[9,6,9,8],[10,6,10,8],[11,6,11,8],[12,6,12,8],[13,6,13,8],[14,6,14,8],[13,12,13,14],[14,12,14,14],[15,12,15,14],[16,12,16,14],[17,12,17,14]]}
[{"$f":"'Competitor List'!B1","v":"Freedom Benchrest 600 YARD MATCH #1"},null,null,null,null,null,null,null,null,null,null,null,null,null,null,null,null,null,null,"Notes here are outside print area"]
[]
[{"$f":"'Competitor List'!B2","v":"Vapor Trail Valley Spickard, Mo"},null,null,null,null,null,null,null,null,null,null,null,null,null,null,null,null,null,null,"page is protected - no password"]
[{"$f":"'Competitor List'!B3","v":"2023-03-15"},null,null,null,null,null,null,null,null,null,null,null,null,null,null,null,null,null,null,"This page is automatically filled in"]
[]
["Two Gun Overall Results"]
[]
["TWO GUN SCORE AGG",null,null,null,null,"TWO GUN GROUP AGG",null,null,null,null,null,"TWO GUN OVERALL",null,null,null,null,null,null,null,"* 2 gun tie breakers *"]
["1st",{"$f":"INDEX($B$24:$B$173,MATCH(1,$L$24:$L$173,0))","v":{"$error":"#N/A"}},null,{"$f":"INDEX($K$24:$K$173,MATCH(1,$L$24:$L$173,0))","v":{"$error":"#N/A"}},null,"1st",{"$f":"INDEX($B$24:$B$173,MATCH(1,$H$24:$H$173,0))","v":{"$error":"#N/A"}},null,null,{"$f":"INDEX($G$24:$G$173,MATCH(1,$H$24:$H$173,0))","v":{"$error":"#N/A"}},null,"1st",{"$f":"INDEX($B$24:$B$173,MATCH(1,$O$24:$O$173,0))","v":{"$error":"#N/A"}},null,null,{"$f":"INDEX($N$24:$N$173,MATCH(1,$O$24:$O$173,0))","v":{"$error":"#N/A"}},null,null,null,"   1st -  2-gun group agg"]
["2nd",{"$f":"INDEX($B$24:$B$173,MATCH(2,$L$24:$L$173,0))","v":{"$error":"#N/A"}},null,{"$f":"INDEX($K$24:$K$173,MATCH(2,$L$24:$L$173,0))","v":{"$error":"#N/A"}},null,"2nd",{"$f":"INDEX($B$24:$B$173,MATCH(2,$H$24:$H$173,0))","v":{"$error":"#N/A"}},null,null,{"$f":"INDEX($G$24:$G$173,MATCH(2,$H$24:$H$173,0))","v":{"$error":"#N/A"}},null,"2nd",{"$f":"INDEX($B$24:$B$173,MATCH(2,$O$24:$O$173,0))","v":{"$error":"#N/A"}},null,null,{"$f":"INDEX($N$24:$N$173,MATCH(2,$O$24:$O$173,0))","v":{"$error":"#N/A"}},null,null,null,"   2nd - 2-gun score agg"]
["3rd",{"$f":"INDEX($B$24:$B$173,MATCH(3,$L$24:$L$173,0))","v":{"$error":"#N/A"}},null,{"$f":"INDEX($K$24:$K$173,MATCH(3,$L$24:$L$173,0))","v":{"$error":"#N/A"}},null,"3rd",{"$f":"INDEX($B$24:$B$173,MATCH(3,$H$24:$H$173,0))","v":{"$error":"#N/A"}},null,null,{"$f":"INDEX($G$24:$G$173,MATCH(3,$H$24:$H$173,0))","v":{"$error":"#N/A"}},null,"3rd",{"$f":"INDEX($B$24:$B$173,MATCH(3,$O$24:$O$173,0))","v":{"$error":"#N/A"}},null,null,{"$f":"INDEX($N$24:$N$173,MATCH(3,$O$24:$O$173,0))","v":{"$error":"#N/A"}},null,null,null,"   3rd -  highest X-count"]
["4th",{"$f":"INDEX($B$24:$B$173,MATCH(4,$L$24:$L$173,0))","v":{"$error":"#N/A"}},null,{"$f":"INDEX($K$24:$K$173,MATCH(4,$L$24:$L$173,0))","v":{"$error":"#N/A"}},null,"4th",{"$f":"INDEX($B$24:$B$173,MATCH(4,$H$24:$H$173,0))","v":{"$error":"#N/A"}},null,null,{"$f":"INDEX($G$24:$G$173,MATCH(4,$H$24:$H$173,0))","v":{"$error":"#N/A"}},null,"4th",{"$f":"INDEX($B$24:$B$173,MATCH(4,$O$24:$O$173,0))","v":{"$error":"#N/A"}},null,null,{"$f":"INDEX($N$24:$N$173,MATCH(4,$O$24:$O$173,0))","v":{"$error":"#N/A"}},null,null,null,"   4th -  closest shot to center X"]
["5th",{"$f":"INDEX($B$24:$B$173,MATCH(5,$L$24:$L$173,0))","v":{"$error":"#N/A"}},null,{"$f":"INDEX($K$24:$K$173,MATCH(5,$L$24:$L$173,0))","v":{"$error":"#N/A"}},null,"5th",{"$f":"INDEX($B$24:$B$173,MATCH(5,$H$24:$H$173,0))","v":{"$error":"#N/A"}},null,null,{"$f":"INDEX($G$24:$G$173,MATCH(5,$H$24:$H$173,0))","v":{"$error":"#N/A"}},null,"5th",{"$f":"INDEX($B$24:$B$173,MATCH(5,$O$24:$O$173,0))","v":{"$error":"#N/A"}},null,null,{"$f":"INDEX($N$24:$N$173,MATCH(5,$O$24:$O$173,0))","v":{"$error":"#N/A"}}]
["6th",{"$f":"INDEX($B$24:$B$173,MATCH(6,$L$24:$L$173,0))","v":{"$error":"#N/A"}},null,{"$f":"INDEX($K$24:$K$173,MATCH(6,$L$24:$L$173,0))","v":{"$error":"#N/A"}},null,"6th",{"$f":"INDEX($B$24:$B$173,MATCH(6,$H$24:$H$173,0))","v":{"$error":"#N/A"}},null,null,{"$f":"INDEX($G$24:$G$173,MATCH(6,$H$24:$H$173,0))","v":{"$error":"#N/A"}},null,"6th",{"$f":"INDEX($B$24:$B$173,MATCH(6,$O$24:$O$173,0))","v":{"$error":"#N/A"}},null,null,{"$f":"INDEX($N$24:$N$173,MATCH(6,$O$24:$O$173,0))","v":{"$error":"#N/A"}},null,null,null,"top 5 automatically highlighted"]
["7th",{"$f":"INDEX($B$24:$B$173,MATCH(7,$L$24:$L$173,0))","v":{"$error":"#N/A"}},null,{"$f":"INDEX($K$24:$K$173,MATCH(7,$L$24:$L$173,0))","v":{"$error":"#N/A"}},null,"7th",{"$f":"INDEX($B$24:$B$173,MATCH(7,$H$24:$H$173,0))","v":{"$error":"#N/A"}},null,null,{"$f":"INDEX($G$24:$G$173,MATCH(7,$H$24:$H$173,0))","v":{"$error":"#N/A"}},null,"7th",{"$f":"INDEX($B$24:$B$173,MATCH(7,$O$24:$O$173,0))","v":{"$error":"#N/A"}},null,null,{"$f":"INDEX($N$24:$N$173,MATCH(7,$O$24:$O$173,0))","v":{"$error":"#N/A"}},null,null,null," - Set print area to only print needed rows"]
["8th",{"$f":"INDEX($B$24:$B$173,MATCH(8,$L$24:$L$173,0))","v":{"$error":"#N/A"}},null,{"$f":"INDEX($K$24:$K$173,MATCH(8,$L$24:$L$173,0))","v":{"$error":"#N/A"}},null,"8th",{"$f":"INDEX($B$24:$B$173,MATCH(8,$H$24:$H$173,0))","v":{"$error":"#N/A"}},null,null,{"$f":"INDEX($G$24:$G$173,MATCH(8,$H$24:$H$173,0))","v":{"$error":"#N/A"}},null,"8th",{"$f":"INDEX($B$24:$B$173,MATCH(8,$O$24:$O$173,0))","v":{"$error":"#N/A"}},null,null,{"$f":"INDEX($N$24:$N$173,MATCH(8,$O$24:$O$173,0))","v":{"$error":"#N/A"}}]
["9th",{"$f":"INDEX($B$24:$B$173,MATCH(9,$L$24:$L$173,0))","v":{"$error":"#N/A"}},null,{"$f":"INDEX($K$24:$K$173,MATCH(9,$L$24:$L$173,0))","v":{"$error":"#N/A"}},null,"9th",{"$f":"INDEX($B$24:$B$173,MATCH(9,$H$24:$H$173,0))","v":{"$error":"#N/A"}},null,null,{"$f":"INDEX($G$24:$G$173,MATCH(9,$H$24:$H$173,0))","v":{"$error":"#N/A"}},null,"9th",{"$f":"INDEX($B$24:$B$173,MATCH(9,$O$24:$O$173,0))","v":{"$error":"#N/A"}},null,null,{"$f":"INDEX($N$24:$N$173,MATCH(9,$O$24:$O$173,0))","v":{"$error":"#N/A"}},null,null,null,"- Closest to center column only needs to be filled in for extreme cases"]
["10th",{"$f":"INDEX($B$24:$B$173,MATCH(10,$L$24:$L$173,0))","v":{"$error":"#N/A"}},null,{"$f":"INDEX($K$24:$K$173,MATCH(10,$L$24:$L$173,0))","v":{"$error":"#N/A"}},null,"10th",{"$f":"INDEX($B$24:$B$173,MATCH(10,$H$24:$H$173,0))","v":{"$error":"#N/A"}},null,null,{"$f":"INDEX($G$24:$G$173,MATCH(10,$H$24:$H$173,0))","v":{"$error":"#N/A"}},null,"10th",{"$f":"INDEX($B$24:$B$173,MATCH(10,$O$24:$O$173,0))","v":{"$error":"#N/A"}},null,null,{"$f":"INDEX($N$24:$N$173,MATCH(10,$O$24:$O$173,0))","v":{"$error":"#N/A"}},null,null,null,"    (since it will probably never be needed it was left out of the printable area)"]
[]
[null,null,null,null,null,null,null,null,null,null,null,"Number of FB shooters for 2-gun points:",null,null,null,{"$f":"'Competitor List'!N4","v":0}]
[null,null,null,null,null,null,null,null,null,null,null,null,null,null,"2 gun","FB",null,"Closest shot to center",null,"SOY points this match"]
[null,"Competitor","FB","ROOKIE, FEMALE, JUNIOR","LG GROUP","HG GROUP","2 gun Group AGG","2 gun Group RANK","LG score","HG score","Score AGG","2 gun Score RANK"," Total     X-count LG+HG","GROUP + SCORE","overall"," 2-GUN    SOY     POINTS",null,null,null,null,"Two Gun"]
[null,null,null,null,null,null,null,null,null,null,null,null,null,null,"placing",null,null,null,null,"1st",{"$f":"IF(P20<=7,1,IF(P20<=14,2,IF(P20<=21,3,IF(P20<=28,4,IF(P20<=35,5,IF(P20<=42,6,IF(P20<=49,7,IF(P20<=56,8,IF(P20<=63,9,10)))))))))","v":1}]
[{"$f":"'Competitor List'!O6","v":101},{"$f":"IF('Competitor List'!D6=\"Y\",'Competitor List'!B6,\" \")","v":" "},{"$f":"IF('Competitor List'!H6=\"Y\",\"Y\",\"N\")","v":"N"},{"$f":" T('Competitor List'!F6)","v":""},{"$f":"'LIGHT GUN'!V27","v":"DQ"},{"$f":"'HEAVY GUN'!V27","v":"DQ"},{"$f":" IF(AND('Competitor List'!D6=\"Y\",ISNUMBER(E24),ISNUMBER(F24)),(SUM(E24:F24))/2,\"DQ\")","v":"DQ"},{"$f":" IF(AND(ISNUMBER(G24)),RANK(G24,$G$24:$G$173,1)+SUMPRODUCT(($G$24:$G$173=G24)*($K$24:$K$173>K24))+SUMPRODUCT(($G$24:$G$173=G24)*($K$24:$K$173=K24)*($M$24:$M$173>M24))+SUMPRODUCT(($G$24:$G$173=G24)*($K$24:$K$173=K24)*($M$24:$M$173=M24)*($A$24:$A$173<A24)),\"DQ\")","v":"DQ"},{"$f":"'LIGHT GUN'!S27","v":"DQ"},{"$f":"'HEAVY GUN'!S27","v":"DQ"},{"$f":" IF(AND('Competitor List'!D6=\"Y\",ISNUMBER(I24),ISNUMBER(J24)),(SUM(I24:J24)),\"DQ\")","v":"DQ"},{"$f":" IF(AND(ISNUMBER(K24)),RANK(K24,$K$24:$K$173,0)+SUMPRODUCT(($K$24:$K$173=K24)*($G$24:$G$173<G24))+SUMPRODUCT(($K$24:$K$173=K24)*($G$24:$G$173=G24)*($M$24:$M$173>M24))+SUMPRODUCT(($K$24:$K$173=K24)*($G$24:$G$173=G24)*($M$24:$M$173=M24)*($A$24:$A$173<A24)),\"DQ\")","v":"DQ"},{"$f":"'LIGHT GUN'!U27+'HEAVY GUN'!U27","v":0},{"$f":" IF(AND('Competitor List'!D6=\"Y\",ISNUMBER(H24),ISNUMBER(L24)),(H24+L24),\"DQ\")","v":"DQ"},{"$f":" IF(AND(ISNUMBER(N24)),RANK(N24,$N$24:$N$173,1)+SUMPRODUCT(($N$24:$N$173=N24)*($G$24:$G$173<G24))+SUMPRODUCT(($N$24:$N$173=N24)*($G$24:$G$173=G24)*($K$24:$K$173>K24))+SUMPRODUCT(($N$24:$N$173=N24)*($G$24:$G$173=G24)*($K$24:$K$173=K24)*($M$24:$M$173>M24))+SUMPRODUCT(($N$24:$N$173=N24)*($G$24:$G$173=G24)*($K$24:$K$173=K24)*($M$24:$M$173=M24)*($R$24:$R$173<R24)),\"DQ\")","v":"DQ"},{"$f":"IF(O24=1,$U$23,IF(O24=2,$U$24,IF(O24=3,$U$25,IF(O24=4,$U$26,IF(O24=5,$U$27,IF(O24=6,$U$28,IF(O24=7,$U$29,IF(O24=8,$U$30,IF(O24=9,$U$31,IF(O24=10,$U$32,0))))))))))","v":0},null,null,null,"2nd",{"$f":"IF(AND(U23>=2,ISNUMBER(U23)),U23-1,0)","v":0}]
[{"$f":"'Competitor List'!O7","v":102},{"$f":"IF('Competitor List'!D7=\"Y\",'Competitor List'!B7,\" \")","v":" "},{"$f":"IF('Competitor List'!H7=\"Y\",\"Y\",\"N\")","v":"N"},{"$f":" T('Competitor List'!F7)","v":""},{"$f":"'LIGHT GUN'!V28","v":"DQ"},{"$f":"'HEAVY GUN'!V28","v":"DQ"},{"$f":" IF(AND('Competitor List'!D7=\"Y\",ISNUMBER(E25),ISNUMBER(F25)),(SUM(E25:F25))/2,\"DQ\")","v":"DQ"},{"$f":" IF(AND(ISNUMBER(G25)),RANK(G25,$G$24:$G$173,1)+SUMPRODUCT(($G$24:$G$173=G25)*($K$24:$K$173>K25))+SUMPRODUCT(($G$24:$G$173=G25)*($K$24:$K$173=K25)*($M$24:$M$173>M25))+SUMPRODUCT(($G$24:$G$173=G25)*($K$24:$K$173=K25)*($M$24:$M$173=M25)*($A$24:$A$173<A25)),\"DQ\")","v":"DQ"},{"$f":"'LIGHT GUN'!S28","v":"DQ"},{"$f":"'HEAVY GUN'!S28","v":"DQ"},{"$f":" IF(AND('Competitor List'!D7=\"Y\",ISNUMBER(I25),ISNUMBER(J25)),(SUM(I25:J25)),\"DQ\")","v":"DQ"},{"$f":" IF(AND(ISNUMBER(K25)),RANK(K25,$K$24:$K$173,0)+SUMPRODUCT(($K$24:$K$173=K25)*($G$24:$G$173<G25))+SUMPRODUCT(($K$24:$K$173=K25)*($G$24:$G$173=G25)*($M$24:$M$173>M25))+SUMPRODUCT(($K$24:$K$173=K25)*($G$24:$G$173=G25)*($M$24:$M$173=M25)*($A$24:$A$173<A25)),\"DQ\")","v":"DQ"},{"$f":"'LIGHT GUN'!U28+'HEAVY GUN'!U28","v":0},{"$f":" IF(AND('Competitor List'!D7=\"Y\",ISNUMBER(H25),ISNUMBER(L25)),H25+L25,\"DQ\")","v":"DQ"},"DQ",{"$f":"IF(O25=1,$U$23,IF(O25=2,$U$24,IF(O25=3,$U$25,IF(O25=4,$U$26,IF(O25=5,$U$27,IF(O25=6,$U$28,IF(O25=7,$U$29,IF(O25=8,$U$30,IF(O25=9,$U$31,IF(O25=10,$U$32,0))))))))))","v":0},null,null,null,"3rd",0]
[{"$f":"'Competitor List'!O8","v":103},{"$f":"IF('Competitor List'!D8=\"Y\",'Competitor List'!B8,\" \")","v":" "},{"$f":"IF('Competitor List'!H8=\"Y\",\"Y\",\"N\")","v":"N"},{"$f":" T('Competitor List'!F8)","v":""},{"$f":"'LIGHT GUN'!V29","v":"DQ"},{"$f":"'HEAVY GUN'!V29","v":"DQ"},{"$f":" IF(AND('Competitor List'!D8=\"Y\",ISNUMBER(E26),ISNUMBER(F26)),(SUM(E26:F26))/2,\"DQ\")","v":"DQ"},"DQ",{"$f":"'LIGHT GUN'!S29","v":"DQ"},{"$f":"'HEAVY GUN'!S29","v":"DQ"},{"$f":" IF(AND('Competitor List'!D8=\"Y\",ISNUMBER(I26),ISNUMBER(J26)),(SUM(I26:J26)),\"DQ\")","v":"DQ"},"DQ",{"$f":"'LIGHT GUN'!U29+'HEAVY GUN'!U29","v":0},{"$f":" IF(AND('Competitor List'!D8=\"Y\",ISNUMBER(H26),ISNUMBER(L26)),H26+L26,\"DQ\")","v":"DQ"},"DQ",{"$f":"IF(O26=1,$U$23,IF(O26=2,$U$24,IF(O26=3,$U$25,IF(O26=4,$U$26,IF(O26=5,$U$27,IF(O26=6,$U$28,IF(O26=7,$U$29,IF(O26=8,$U$30,IF(O26=9,$U$31,IF(O26=10,$U$32,0))))))))))","v":0},null,null,null,"4th",0]
[{"$f":"'Competitor List'!O9","v":104},{"$f":"IF('Competitor List'!D9=\"Y\",'Competitor List'!B9,\" \")","v":" "},{"$f":"IF('Competitor List'!H9=\"Y\",\"Y\",\"N\")","v":"N"},{"$f":" T('Competitor List'!F9)","v":""},{"$f":"'LIGHT GUN'!V30","v":"DQ"},{"$f":"'HEAVY GUN'!V30","v":"DQ"},{"$f":" IF(AND('Competitor List'!D9=\"Y\",ISNUMBER(E27),ISNUMBER(F27)),(SUM(E27:F27))/2,\"DQ\")","v":"DQ"},"DQ",{"$f":"'LIGHT GUN'!S30","v":"DQ"},{"$f":"'HEAVY GUN'!S30","v":"DQ"},{"$f":" IF(AND('Competitor List'!D9=\"Y\",ISNUMBER(I27),ISNUMBER(J27)),(SUM(I27:J27)),\"DQ\")","v":"DQ"},"DQ",{"$f":"'LIGHT GUN'!U30+'HEAVY GUN'!U30","v":0},{"$f":" IF(AND('Competitor List'!D9=\"Y\",ISNUMBER(H27),ISNUMBER(L27)),(H27+L27),\"DQ\")","v":"DQ"},"DQ",{"$f":"IF(O27=1,$U$23,IF(O27=2,$U$24,IF(O27=3,$U$25,IF(O27=4,$U$26,IF(O27=5,$U$27,IF(O27=6,$U$28,IF(O27=7,$U$29,IF(O27=8,$U$30,IF(O27=9,$U$31,IF(O27=10,$U$32,0))))))))))","v":0},null,null,null,"5th",0]
[{"$f":"'Competitor List'!O10","v":105},{"$f":"IF('Competitor List'!D10=\"Y\",'Competitor List'!B10,\" \")","v":" "},{"$f":"IF('Competitor List'!H10=\"Y\",\"Y\",\"N\")","v":"N"},{"$f":" T('Competitor List'!F10)","v":""},{"$f":"'LIGHT GUN'!V31","v":"DQ"},{"$f":"'HEAVY GUN'!V31","v":"DQ"},{"$f":" IF(AND('Competitor List'!D10=\"Y\",ISNUMBER(E28),ISNUMBER(F28)),(SUM(E28:F28))/2,\"DQ\")","v":"DQ"},"DQ",{"$f":"'LIGHT GUN'!S31","v":"DQ"},{"$f":"'HEAVY GUN'!S31","v":"DQ"},{"$f":" IF(AND('Competitor List'!D10=\"Y\",ISNUMBER(I28),ISNUMBER(J28)),(SUM(I28:J28)),\"DQ\")","v":"DQ"},"DQ",{"$f":"'LIGHT GUN'!U31+'HEAVY GUN'!U31","v":0},{"$f":" IF(AND('Competitor List'!D10=\"Y\",ISNUMBER(H28),ISNUMBER(L28)),H28+L28,\"DQ\")","v":"DQ"},"DQ",0,null,null,null,"6th",0]
[{"$f":"'Competitor List'!O11","v":106},{"$f":"IF('Competitor List'!D11=\"Y\",'Competitor List'!B11,\" \")","v":" "},{"$f":"IF('Competitor List'!H11=\"Y\",\"Y\",\"N\")","v":"N"},{"$f":" T('Competitor List'!F11)","v":""},{"$f":"'LIGHT GUN'!V32","v":"DQ"},{"$f":"'HEAVY GUN'!V32","v":"DQ"},{"$f":" IF(AND('Competitor List'!D11=\"Y\",ISNUMBER(E29),ISNUMBER(F29)),(SUM(E29:F29))/2,\"DQ\")","v":"DQ"},"DQ",{"$f":"'LIGHT GUN'!S32","v":"DQ"},{"$f":"'HEAVY GUN'!S32","v":"DQ"},{"$f":" IF(AND('Competitor List'!D11=\"Y\",ISNUMBER(I29),ISNUMBER(J29)),(SUM(I29:J29)),\"DQ\")","v":"DQ"},"DQ",{"$f":"'LIGHT GUN'!U32+'HEAVY GUN'!U32","v":0},{"$f":" IF(AND('Competitor List'!D11=\"Y\",ISNUMBER(H29),ISNUMBER(L29)),H29+L29,\"DQ\")","v":"DQ"},"DQ",0,null,null,null,"7th",0]
[{"$f":"'Competitor List'!O12","v":107},{"$f":"IF('Competitor List'!D12=\"Y\",'Competitor List'!B12,\" \")","v":" "},{"$f":"IF('Competitor List'!H12=\"Y\",\"Y\",\"N\")","v":"N"},{"$f":" T('Competitor List'!F12)","v":""},{"$f":"'LIGHT GUN'!V33","v":"DQ"},{"$f":"'HEAVY GUN'!V33","v":"DQ"},{"$f":" IF(AND('Competitor List'!D12=\"Y\",ISNUMBER(E30),ISNUMBER(F30)),(SUM(E30:F30))/2,\"DQ\")","v":"DQ"},"DQ",{"$f":"'LIGHT GUN'!S33","v":"DQ"},{"$f":"'HEAVY GUN'!S33","v":"DQ"},{"$f":" IF(AND('Competitor List'!D12=\"Y\",ISNUMBER(I30),ISNUMBER(J30)),(SUM(I30:J30)),\"DQ\")","v":"DQ"},"DQ",{"$f":"'LIGHT GUN'!U33+'HEAVY GUN'!U33","v":0},{"$f":" IF(AND('Competitor List'!D12=\"Y\",ISNUMBER(H30),ISNUMBER(L30)),(H30+L30),\"DQ\")","v":"DQ"},"DQ",0,null,null,null,"8th",0]
[{"$f":"'Competitor List'!O13","v":108},{"$f":"IF('Competitor List'!D13=\"Y\",'Competitor List'!B13,\" \")","v":" "},{"$f":"IF('Competitor List'!H13=\"Y\",\"Y\",\"N\")","v":"N"},{"$f":" T('Competitor List'!F13)","v":""},{"$f":"'LIGHT GUN'!V34","v":"DQ"},{"$f":"'HEAVY GUN'!V34","v":"DQ"},{"$f":" IF(AND('Competitor List'!D13=\"Y\",ISNUMBER(E31),ISNUMBER(F31)),(SUM(E31:F31))/2,\"DQ\")","v":"DQ"},"DQ",{"$f":"'LIGHT GUN'!S34","v":"DQ"},{"$f":"'HEAVY GUN'!S34","v":"DQ"},{"$f":" IF(AND('Competitor List'!D13=\"Y\",ISNUMBER(I31),ISNUMBER(J31)),(SUM(I31:J31)),\"DQ\")","v":"DQ"},"DQ",{"$f":"'LIGHT GUN'!U34+'HEAVY GUN'!U34","v":0},{"$f":" IF(AND('Competitor List'!D13=\"Y\",ISNUMBER(H31),ISNUMBER(L31)),H31+L31,\"DQ\")","v":"DQ"},"DQ",0,null,null,null,"9th",0]
[{"$f":"'Competitor List'!O14","v":109},{"$f":"IF('Competitor List'!D14=\"Y\",'Competitor List'!B14,\" \")","v":" "},{"$f":"IF('Competitor List'!H14=\"Y\",\"Y\",\"N\")","v":"N"},{"$f":" T('Competitor List'!F14)","v":""},{"$f":"'LIGHT GUN'!V35","v":"DQ"},{"$f":"'HEAVY GUN'!V35","v":"DQ"},{"$f":" IF(AND('Competitor List'!D14=\"Y\",ISNUMBER(E32),ISNUMBER(F32)),(SUM(E32:F32))/2,\"DQ\")","v":"DQ"},"DQ",{"$f":"'LIGHT GUN'!S35","v":"DQ"},{"$f":"'HEAVY GUN'!S35","v":"DQ"},{"$f":" IF(AND('Competitor List'!D14=\"Y\",ISNUMBER(I32),ISNUMBER(J32)),(SUM(I32:J32)),\"DQ\")","v":"DQ"},"DQ",{"$f":"'LIGHT GUN'!U35+'HEAVY GUN'!U35","v":0},{"$f":" IF(AND('Competitor List'!D14=\"Y\",ISNUMBER(H32),ISNUMBER(L32)),H32+L32,\"DQ\")","v":"DQ"},"DQ",0,null,null,null,"10th",0]
[{"$f":"'Competitor List'!O15","v":110},{"$f":"IF('Competitor List'!D15=\"Y\",'Competitor List'!B15,\" \")","v":" "},{"$f":"IF('Competitor List'!H15=\"Y\",\"Y\",\"N\")","v":"N"},{"$f":" T('Competitor List'!F15)","v":""},{"$f":"'LIGHT GUN'!V36","v":"DQ"},{"$f":"'HEAVY GUN'!V36","v":"DQ"},{"$f":" IF(AND('Competitor List'!D15=\"Y\",ISNUMBER(E33),ISNUMBER(F33)),(SUM(E33:F33))/2,\"DQ\")","v":"DQ"},"DQ",{"$f":"'LIGHT GUN'!S36","v":"DQ"},{"$f":"'HEAVY GUN'!S36","v":"DQ"},{"$f":" IF(AND('Competitor List'!D15=\"Y\",ISNUMBER(I33),ISNUMBER(J33)),(SUM(I33:J33)),\"DQ\")","v":"DQ"},"DQ",{"$f":"'LIGHT GUN'!U36+'HEAVY GUN'!U36","v":0},{"$f":" IF(AND('Competitor List'!D15=\"Y\",ISNUMBER(H33),ISNUMBER(L33)),(H33+L33),\"DQ\")","v":"DQ"},"DQ",0]
[{"$f":"'Competitor List'!O16","v":111},{"$f":"IF('Competitor List'!D16=\"Y\",'Competitor List'!B16,\" \")","v":" "},{"$f":"IF('Competitor List'!H16=\"Y\",\"Y\",\"N\")","v":"N"},{"$f":" T('Competitor List'!F16)","v":""},{"$f":"'LIGHT GUN'!V37","v":"DQ"},{"$f":"'HEAVY GUN'!V37","v":"DQ"},{"$f":" IF(AND('Competitor List'!D16=\"Y\",ISNUMBER(E34),ISNUMBER(F34)),(SUM(E34:F34))/2,\"DQ\")","v":"DQ"},"DQ",{"$f":"'LIGHT GUN'!S37","v":"DQ"},{"$f":"'HEAVY GUN'!S37","v":"DQ"},{"$f":" IF(AND('Competitor List'!D16=\"Y\",ISNUMBER(I34),ISNUMBER(J34)),(SUM(I34:J34)),\"DQ\")","v":"DQ"},"DQ",{"$f":"'LIGHT GUN'!U37+'HEAVY GUN'!U37","v":0},{"$f":" IF(AND('Competitor List'!D16=\"Y\",ISNUMBER(H34),ISNUMBER(L34)),H34+L34,\"DQ\")","v":"DQ"},"DQ",0]
[{"$f":"'Competitor List'!O17","v":112},{"$f":"IF('Competitor List'!D17=\"Y\",'Competitor List'!B17,\" \")","v":" "},{"$f":"IF('Competitor List'!H17=\"Y\",\"Y\",\"N\")","v":"N"},{"$f":" T('Competitor List'!F17)","v":""},{"$f":"'LIGHT GUN'!V38","v":"DQ"},{"$f":"'HEAVY GUN'!V38","v":"DQ"},{"$f":" IF(AND('Competitor List'!D17=\"Y\",ISNUMBER(E35),ISNUMBER(F35)),(SUM(E35:F35))/2,\"DQ\")","v":"DQ"},"DQ",{"$f":"'LIGHT GUN'!S38","v":"DQ"},{"$f":"'HEAVY GUN'!S38","v":"DQ"},{"$f":" IF(AND('Competitor List'!D17=\"Y\",ISNUMBER(I35),ISNUMBER(J35)),(SUM(I35:J35)),\"DQ\")","v":"DQ"},"DQ",{"$f":"'LIGHT GUN'!U38+'HEAVY GUN'!U38","v":0},{"$f":" IF(AND('Competitor List'!D17=\"Y\",ISNUMBER(H35),ISNUMBER(L35)),H35+L35,\"DQ\")","v":"DQ"},"DQ",0,null,null,null,"Enter your notes here"]
[{"$f":"'Competitor List'!O18","v":113},{"$f":"IF('Competitor List'!D18=\"Y\",'Competitor List'!B18,\" \")","v":" "},{"$f":"IF('Competitor List'!H18=\"Y\",\"Y\",\"N\")","v":"N"},{"$f":" T('Competitor List'!F18)","v":""},{"$f":"'LIGHT GUN'!V39","v":"DQ"},{"$f":"'HEAVY GUN'!V39","v":"DQ"},{"$f":" IF(AND('Competitor List'!D18=\"Y\",ISNUMBER(E36),ISNUMBER(F36)),(SUM(E36:F36))/2,\"DQ\")","v":"DQ"},"DQ",{"$f":"'LIGHT GUN'!S39","v":"DQ"},{"$f":"'HEAVY GUN'!S39","v":"DQ"},{"$f":" IF(AND('Competitor List'!D18=\"Y\",ISNUMBER(I36),ISNUMBER(J36)),(SUM(I36:J36)),\"DQ\")","v":"DQ"},"DQ",{"$f":"'LIGHT GUN'!U39+'HEAVY GUN'!U39","v":0},{"$f":" IF(AND('Competitor List'!D18=\"Y\",ISNUMBER(H36),ISNUMBER(L36)),(H36+L36),\"DQ\")","v":"DQ"},"DQ",0]
[{"$f":"'Competitor List'!O19","v":114},{"$f":"IF('Competitor List'!D19=\"Y\",'Competitor List'!B19,\" \")","v":" "},{"$f":"IF('Competitor List'!H19=\"Y\",\"Y\",\"N\")","v":"N"},{"$f":" T('Competitor List'!F19)","v":""},{"$f":"'LIGHT GUN'!V40","v":"DQ"},{"$f":"'HEAVY GUN'!V40","v":"DQ"},{"$f":" IF(AND('Competitor List'!D19=\"Y\",ISNUMBER(E37),ISNUMBER(F37)),(SUM(E37:F37))/2,\"DQ\")","v":"DQ"},"DQ",{"$f":"'LIGHT GUN'!S40","v":"DQ"},{"$f":"'HEAVY GUN'!S40","v":"DQ"},{"$f":" IF(AND('Competitor List'!D19=\"Y\",ISNUMBER(I37),ISNUMBER(J37)),(SUM(I37:J37)),\"DQ\")","v":"DQ"},"DQ",{"$f":"'LIGHT GUN'!U40+'HEAVY GUN'!U40","v":0},{"$f":" IF(AND('Competitor List'!D19=\"Y\",ISNUMBER(H37),ISNUMBER(L37)),H37+L37,\"DQ\")","v":"DQ"},"DQ",0]
[{"$f":"'Competitor List'!O20","v":115},{"$f":"IF('Competitor List'!D20=\"Y\",'Competitor List'!B20,\" \")","v":" "},{"$f":"IF('Competitor List'!H20=\"Y\",\"Y\",\"N\")","v":"N"},{"$f":" T('Competitor List'!F20)","v":""},{"$f":"'LIGHT GUN'!V41","v":"DQ"},{"$f":"'HEAVY GUN'!V41","v":"DQ"},{"$f":" IF(AND('Competitor List'!D20=\"Y\",ISNUMBER(E38),ISNUMBER(F38)),(SUM(E38:F38))/2,\"DQ\")","v":"DQ"},"DQ",{"$f":"'LIGHT GUN'!S41","v":"DQ"},{"$f":"'HEAVY GUN'!S41","v":"DQ"},{"$f":" IF(AND('Competitor List'!D20=\"Y\",ISNUMBER(I38),ISNUMBER(J38)),(SUM(I38:J38)),\"DQ\")","v":"DQ"},"DQ",{"$f":"'LIGHT GUN'!U41+'HEAVY GUN'!U41","v":0},{"$f":" IF(AND('Competitor List'!D20=\"Y\",ISNUMBER(H38),ISNUMBER(L38)),H38+L38,\"DQ\")","v":"DQ"},"DQ",0]
[{"$f":"'Competitor List'!O21","v":201},{"$f":"IF('Competitor List'!D21=\"Y\",'Competitor List'!B21,\" \")","v":" "},{"$f":"IF('Competitor List'!H21=\"Y\",\"Y\",\"N\")","v":"N"},{"$f":" T('Competitor List'!F21)","v":""},{"$f":"'LIGHT GUN'!V42","v":"DQ"},{"$f":"'HEAVY GUN'!V42","v":"DQ"},{"$f":" IF(AND('Competitor List'!D21=\"Y\",ISNUMBER(E39),ISNUMBER(F39)),(SUM(E39:F39))/2,\"DQ\")","v":"DQ"},"DQ",{"$f":"'LIGHT GUN'!S42","v":"DQ"},{"$f":"'HEAVY GUN'!S42","v":"DQ"},{"$f":" IF(AND('Competitor List'!D21=\"Y\",ISNUMBER(I39),ISNUMBER(J39)),(SUM(I39:J39)),\"DQ\")","v":"DQ"},"DQ",{"$f":"'LIGHT GUN'!U42+'HEAVY GUN'!U42","v":0},{"$f":" IF(AND('Competitor List'!D21=\"Y\",ISNUMBER(H39),ISNUMBER(L39)),(H39+L39),\"DQ\")","v":"DQ"},"DQ",0]
[{"$f":"'Competitor List'!O22","v":202},{"$f":"IF('Competitor List'!D22=\"Y\",'Competitor List'!B22,\" \")","v":" "},{"$f":"IF('Competitor List'!H22=\"Y\",\"Y\",\"N\")","v":"N"},{"$f":" T('Competitor List'!F22)","v":""},{"$f":"'LIGHT GUN'!V43","v":"DQ"},{"$f":"'HEAVY GUN'!V43","v":"DQ"},{"$f":" IF(AND('Competitor List'!D22=\"Y\",ISNUMBER(E40),ISNUMBER(F40)),(SUM(E40:F40))/2,\"DQ\")","v":"DQ"},"DQ",{"$f":"'LIGHT GUN'!S43","v":"DQ"},{"$f":"'HEAVY GUN'!S43","v":"DQ"},{"$f":" IF(AND('Competitor List'!D22=\"Y\",ISNUMBER(I40),ISNUMBER(J40)),(SUM(I40:J40)),\"DQ\")","v":"DQ"},"DQ",{"$f":"'LIGHT GUN'!U43+'HEAVY GUN'!U43","v":0},{"$f":" IF(AND('Competitor List'!D22=\"Y\",ISNUMBER(H40),ISNUMBER(L40)),H40+L40,\"DQ\")","v":"DQ"},"DQ",0]
[{"$f":"'Competitor List'!O23","v":203},{"$f":"IF('Competitor List'!D23=\"Y\",'Competitor List'!B23,\" \")","v":" "},{"$f":"IF('Competitor List'!H23=\"Y\",\"Y\",\"N\")","v":"N"},{"$f":" T('Competitor List'!F23)","v":""},{"$f":"'LIGHT GUN'!V44","v":"DQ"},{"$f":"'HEAVY GUN'!V44","v":"DQ"},{"$f":" IF(AND('Competitor List'!D23=\"Y\",ISNUMBER(E41),ISNUMBER(F41)),(SUM(E41:F41))/2,\"DQ\")","v":"DQ"},"DQ",{"$f":"'LIGHT GUN'!S44","v":"DQ"},{"$f":"'HEAVY GUN'!S44","v":"DQ"},{"$f":" IF(AND('Competitor List'!D23=\"Y\",ISNUMBER(I41),ISNUMBER(J41)),(SUM(I41:J41)),\"DQ\")","v":"DQ"},"DQ",{"$f":"'LIGHT GUN'!U44+'HEAVY GUN'!U44","v":0},{"$f":" IF(AND('Competitor List'!D23=\"Y\",ISNUMBER(H41),ISNUMBER(L41)),H41+L41,\"DQ\")","v":"DQ"},"DQ",0]
[{"$f":"'Competitor List'!O24","v":204},{"$f":"IF('Competitor List'!D24=\"Y\",'Competitor List'!B24,\" \")","v":" "},{"$f":"IF('Competitor List'!H24=\"Y\",\"Y\",\"N\")","v":"N"},{"$f":" T('Competitor List'!F24)","v":""},{"$f":"'LIGHT GUN'!V45","v":"DQ"},{"$f":"'HEAVY GUN'!V45","v":"DQ"},{"$f":" IF(AND('Competitor List'!D24=\"Y\",ISNUMBER(E42),ISNUMBER(F42)),(SUM(E42:F42))/2,\"DQ\")","v":"DQ"},"DQ",{"$f":"'LIGHT GUN'!S45","v":"DQ"},{"$f":"'HEAVY GUN'!S45","v":"DQ"},{"$f":" IF(AND('Competitor List'!D24=\"Y\",ISNUMBER(I42),ISNUMBER(J42)),(SUM(I42:J42)),\"DQ\")","v":"DQ"},"DQ",{"$f":"'LIGHT GUN'!U45+'HEAVY GUN'!U45","v":0},{"$f":" IF(AND('Competitor List'!D24=\"Y\",ISNUMBER(H42),ISNUMBER(L42)),(H42+L42),\"DQ\")","v":"DQ"},"DQ",0]
[{"$f":"'Competitor List'!O25","v":205},{"$f":"IF('Competitor List'!D25=\"Y\",'Competitor List'!B25,\" \")","v":" "},{"$f":"IF('Competitor List'!H25=\"Y\",\"Y\",\"N\")","v":"N"},{"$f":" T('Competitor List'!F25)","v":""},{"$f":"'LIGHT GUN'!V46","v":"DQ"},{"$f":"'HEAVY GUN'!V46","v":"DQ"},{"$f":" IF(AND('Competitor List'!D25=\"Y\",ISNUMBER(E43),ISNUMBER(F43)),(SUM(E43:F43))/2,\"DQ\")","v":"DQ"},"DQ",{"$f":"'LIGHT GUN'!S46","v":"DQ"},{"$f":"'HEAVY GUN'!S46","v":"DQ"},{"$f":" IF(AND('Competitor List'!D25=\"Y\",ISNUMBER(I43),ISNUMBER(J43)),(SUM(I43:J43)),\"DQ\")","v":"DQ"},"DQ",{"$f":"'LIGHT GUN'!U46+'HEAVY GUN'!U46","v":0},{"$f":" IF(AND('Competitor List'!D25=\"Y\",ISNUMBER(H43),ISNUMBER(L43)),H43+L43,\"DQ\")","v":"DQ"},"DQ",0]
[{"$f":"'Competitor List'!O26","v":206},{"$f":"IF('Competitor List'!D26=\"Y\",'Competitor List'!B26,\" \")","v":" "},{"$f":"IF('Competitor List'!H26=\"Y\",\"Y\",\"N\")","v":"N"},{"$f":" T('Competitor List'!F26)","v":""},{"$f":"'LIGHT GUN'!V47","v":"DQ"},{"$f":"'HEAVY GUN'!V47","v":"DQ"},{"$f":" IF(AND('Competitor List'!D26=\"Y\",ISNUMBER(E44),ISNUMBER(F44)),(SUM(E44:F44))/2,\"DQ\")","v":"DQ"},"DQ",{"$f":"'LIGHT GUN'!S47","v":"DQ"},{"$f":"'HEAVY GUN'!S47","v":"DQ"},{"$f":" IF(AND('Competitor List'!D26=\"Y\",ISNUMBER(I44),ISNUMBER(J44)),(SUM(I44:J44)),\"DQ\")","v":"DQ"},"DQ",{"$f":"'LIGHT GUN'!U47+'HEAVY GUN'!U47","v":0},{"$f":" IF(AND('Competitor List'!D26=\"Y\",ISNUMBER(H44),ISNUMBER(L44)),H44+L44,\"DQ\")","v":"DQ"},"DQ",0]
[{"$f":"'Competitor List'!O27","v":207},{"$f":"IF('Competitor List'!D27=\"Y\",'Competitor List'!B27,\" \")","v":" "},{"$f":"IF('Competitor List'!H27=\"Y\",\"Y\",\"N\")","v":"N"},{"$f":" T('Competitor List'!F27)","v":""},{"$f":"'LIGHT GUN'!V48","v":"DQ"},{"$f":"'HEAVY GUN'!V48","v":"DQ"},{"$f":" IF(AND('Competitor List'!D27=\"Y\",ISNUMBER(E45),ISNUMBER(F45)),(SUM(E45:F45))/2,\"DQ\")","v":"DQ"},"DQ",{"$f":"'LIGHT GUN'!S48","v":"DQ"},{"$f":"'HEAVY GUN'!S48","v":"DQ"},{"$f":" IF(AND('Competitor List'!D27=\"Y\",ISNUMBER(I45),ISNUMBER(J45)),(SUM(I45:J45)),\"DQ\")","v":"DQ"},"DQ",{"$f":"'LIGHT GUN'!U48+'HEAVY GUN'!U48","v":0},{"$f":" IF(AND('Competitor List'!D27=\"Y\",ISNUMBER(H45),ISNUMBER(L45)),(H45+L45),\"DQ\")","v":"DQ"},"DQ",0]
[{"$f":"'Competitor List'!O28","v":208},{"$f":"IF('Competitor List'!D28=\"Y\",'Competitor List'!B28,\" \")","v":" "},{"$f":"IF('Competitor List'!H28=\"Y\",\"Y\",\"N\")","v":"N"},{"$f":" T('Competitor List'!F28)","v":""},{"$f":"'LIGHT GUN'!V49","v":"DQ"},{"$f":"'HEAVY GUN'!V49","v":"DQ"},{"$f":" IF(AND('Competitor List'!D28=\"Y\",ISNUMBER(E46),ISNUMBER(F46)),(SUM(E46:F46))/2,\"DQ\")","v":"DQ"},"DQ",{"$f":"'LIGHT GUN'!S49","v":"DQ"},{"$f":"'HEAVY GUN'!S49","v":"DQ"},{"$f":" IF(AND('Competitor List'!D28=\"Y\",ISNUMBER(I46),ISNUMBER(J46)),(SUM(I46:J46)),\"DQ\")","v":"DQ"},"DQ",{"$f":"'LIGHT GUN'!U49+'HEAVY GUN'!U49","v":0},{"$f":" IF(AND('Competitor List'!D28=\"Y\",ISNUMBER(H46),ISNUMBER(L46)),H46+L46,\"DQ\")","v":"DQ"},"DQ",0]
[{"$f":"'Competitor List'!O29","v":209},{"$f":"IF('Competitor List'!D29=\"Y\",'Competitor List'!B29,\" \")","v":" "},{"$f":"IF('Competitor List'!H29=\"Y\",\"Y\",\"N\")","v":"N"},{"$f":" T('Competitor List'!F29)","v":""},{"$f":"'LIGHT GUN'!V50","v":"DQ"},{"$f":"'HEAVY GUN'!V50","v":"DQ"},{"$f":" IF(AND('Competitor List'!D29=\"Y\",ISNUMBER(E47),ISNUMBER(F47)),(SUM(E47:F47))/2,\"DQ\")","v":"DQ"},"DQ",{"$f":"'LIGHT GUN'!S50","v":"DQ"},{"$f":"'HEAVY GUN'!S50","v":"DQ"},{"$f":" IF(AND('Competitor List'!D29=\"Y\",ISNUMBER(I47),ISNUMBER(J47)),(SUM(I47:J47)),\"DQ\")","v":"DQ"},"DQ",{"$f":"'LIGHT GUN'!U50+'HEAVY GUN'!U50","v":0},{"$f":" IF(AND('Competitor List'!D29=\"Y\",ISNUMBER(H47),ISNUMBER(L47)),H47+L47,\"DQ\")","v":"DQ"},"DQ",0]
[{"$f":"'Competitor List'!O30","v":210},{"$f":"IF('Competitor List'!D30=\"Y\",'Competitor List'!B30,\" \")","v":" "},{"$f":"IF('Competitor List'!H30=\"Y\",\"Y\",\"N\")","v":"N"},{"$f":" T('Competitor List'!F30)","v":""},{"$f":"'LIGHT GUN'!V51","v":"DQ"},{"$f":"'HEAVY GUN'!V51","v":"DQ"},{"$f":" IF(AND('Competitor List'!D30=\"Y\",ISNUMBER(E48),ISNUMBER(F48)),(SUM(E48:F48))/2,\"DQ\")","v":"DQ"},"DQ",{"$f":"'LIGHT GUN'!S51","v":"DQ"},{"$f":"'HEAVY GUN'!S51","v":"DQ"},{"$f":" IF(AND('Competitor List'!D30=\"Y\",ISNUMBER(I48),ISNUMBER(J48)),(SUM(I48:J48)),\"DQ\")","v":"DQ"},"DQ",{"$f":"'LIGHT GUN'!U51+'HEAVY GUN'!U51","v":0},{"$f":" IF(AND('Competitor List'!D30=\"Y\",ISNUMBER(H48),ISNUMBER(L48)),(H48+L48),\"DQ\")","v":"DQ"},"DQ",0]
[{"$f":"'Competitor List'!O31","v":211},{"$f":"IF('Competitor List'!D31=\"Y\",'Competitor List'!B31,\" \")","v":" "},{"$f":"IF('Competitor List'!H31=\"Y\",\"Y\",\"N\")","v":"N"},{"$f":" T('Competitor List'!F31)","v":""},{"$f":"'LIGHT GUN'!V52","v":"DQ"},{"$f":"'HEAVY GUN'!V52","v":"DQ"},{"$f":" IF(AND('Competitor List'!D31=\"Y\",ISNUMBER(E49),ISNUMBER(F49)),(SUM(E49:F49))/2,\"DQ\")","v":"DQ"},"DQ",{"$f":"'LIGHT GUN'!S52","v":"DQ"},{"$f":"'HEAVY GUN'!S52","v":"DQ"},{"$f":" IF(AND('Competitor List'!D31=\"Y\",ISNUMBER(I49),ISNUMBER(J49)),(SUM(I49:J49)),\"DQ\")","v":"DQ"},"DQ",{"$f":"'LIGHT GUN'!U52+'HEAVY GUN'!U52","v":0},{"$f":" IF(AND('Competitor List'!D31=\"Y\",ISNUMBER(H49),ISNUMBER(L49)),H49+L49,\"DQ\")","v":"DQ"},"DQ",0]
[{"$f":"'Competitor List'!O32","v":212},{"$f":"IF('Competitor List'!D32=\"Y\",'Competitor List'!B32,\" \")","v":" "},{"$f":"IF('Competitor List'!H32=\"Y\",\"Y\",\"N\")","v":"N"},{"$f":" T('Competitor List'!F32)","v":""},{"$f":"'LIGHT GUN'!V53","v":"DQ"},{"$f":"'HEAVY GUN'!V53","v":"DQ"},{"$f":" IF(AND('Competitor List'!D32=\"Y\",ISNUMBER(E50),ISNUMBER(F50)),(SUM(E50:F50))/2,\"DQ\")","v":"DQ"},"DQ",{"$f":"'LIGHT GUN'!S53","v":"DQ"},{"$f":"'HEAVY GUN'!S53","v":"DQ"},{"$f":" IF(AND('Competitor List'!D32=\"Y\",ISNUMBER(I50),ISNUMBER(J50)),(SUM(I50:J50)),\"DQ\")","v":"DQ"},"DQ",{"$f":"'LIGHT GUN'!U53+'HEAVY GUN'!U53","v":0},{"$f":" IF(AND('Competitor List'!D32=\"Y\",ISNUMBER(H50),ISNUMBER(L50)),H50+L50,\"DQ\")","v":"DQ"},"DQ",0]
[{"$f":"'Competitor List'!O33","v":213},{"$f":"IF('Competitor List'!D33=\"Y\",'Competitor List'!B33,\" \")","v":" "},{"$f":"IF('Competitor List'!H33=\"Y\",\"Y\",\"N\")","v":"N"},{"$f":" T('Competitor List'!F33)","v":""},{"$f":"'LIGHT GUN'!V54","v":"DQ"},{"$f":"'HEAVY GUN'!V54","v":"DQ"},{"$f":" IF(AND('Competitor List'!D33=\"Y\",ISNUMBER(E51),ISNUMBER(F51)),(SUM(E51:F51))/2,\"DQ\")","v":"DQ"},"DQ",{"$f":"'LIGHT GUN'!S54","v":"DQ"},{"$f":"'HEAVY GUN'!S54","v":"DQ"},{"$f":" IF(AND('Competitor List'!D33=\"Y\",ISNUMBER(I51),ISNUMBER(J51)),(SUM(I51:J51)),\"DQ\")","v":"DQ"},"DQ",{"$f":"'LIGHT GUN'!U54+'HEAVY GUN'!U54","v":0},{"$f":" IF(AND('Competitor List'!D33=\"Y\",ISNUMBER(H51),ISNUMBER(L51)),(H51+L51),\"DQ\")","v":"DQ"},"DQ",0]
[{"$f":"'Competitor List'!O34","v":214},{"$f":"IF('Competitor List'!D34=\"Y\",'Competitor List'!B34,\" \")","v":" "},{"$f":"IF('Competitor List'!H34=\"Y\",\"Y\",\"N\")","v":"N"},{"$f":" T('Competitor List'!F34)","v":""},{"$f":"'LIGHT GUN'!V55","v":"DQ"},{"$f":"'HEAVY GUN'!V55","v":"DQ"},{"$f":" IF(AND('Competitor List'!D34=\"Y\",ISNUMBER(E52),ISNUMBER(F52)),(SUM(E52:F52))/2,\"DQ\")","v":"DQ"},"DQ",{"$f":"'LIGHT GUN'!S55","v":"DQ"},{"$f":"'HEAVY GUN'!S55","v":"DQ"},{"$f":" IF(AND('Competitor List'!D34=\"Y\",ISNUMBER(I52),ISNUMBER(J52)),(SUM(I52:J52)),\"DQ\")","v":"DQ"},"DQ",{"$f":"'LIGHT GUN'!U55+'HEAVY GUN'!U55","v":0},{"$f":" IF(AND('Competitor List'!D34=\"Y\",ISNUMBER(H52),ISNUMBER(L52)),H52+L52,\"DQ\")","v":"DQ"},"DQ",0]
[{"$f":"'Competitor List'!O35","v":215},{"$f":"IF('Competitor List'!D35=\"Y\",'Competitor List'!B35,\" \")","v":" "},{"$f":"IF('Competitor List'!H35=\"Y\",\"Y\",\"N\")","v":"N"},{"$f":" T('Competitor List'!F35)","v":""},{"$f":"'LIGHT GUN'!V56","v":"DQ"},{"$f":"'HEAVY GUN'!V56","v":"DQ"},{"$f":" IF(AND('Competitor List'!D35=\"Y\",ISNUMBER(E53),ISNUMBER(F53)),(SUM(E53:F53))/2,\"DQ\")","v":"DQ"},"DQ",{"$f":"'LIGHT GUN'!S56","v":"DQ"},{"$f":"'HEAVY GUN'!S56","v":"DQ"},{"$f":" IF(AND('Competitor List'!D35=\"Y\",ISNUMBER(I53),ISNUMBER(J53)),(SUM(I53:J53)),\"DQ\")","v":"DQ"},"DQ",{"$f":"'LIGHT GUN'!U56+'HEAVY GUN'!U56","v":0},{"$f":" IF(AND('Competitor List'!D35=\"Y\",ISNUMBER(H53),ISNUMBER(L53)),H53+L53,\"DQ\")","v":"DQ"},"DQ",0]
[{"$f":"'Competitor List'!O36","v":301},{"$f":"IF('Competitor List'!D36=\"Y\",'Competitor List'!B36,\" \")","v":" "},{"$f":"IF('Competitor List'!H36=\"Y\",\"Y\",\"N\")","v":"N"},{"$f":" T('Competitor List'!F36)","v":""},{"$f":"'LIGHT GUN'!V57","v":"DQ"},{"$f":"'HEAVY GUN'!V57","v":"DQ"},{"$f":" IF(AND('Competitor List'!D36=\"Y\",ISNUMBER(E54),ISNUMBER(F54)),(SUM(E54:F54))/2,\"DQ\")","v":"DQ"},"DQ",{"$f":"'LIGHT GUN'!S57","v":"DQ"},{"$f":"'HEAVY GUN'!S57","v":"DQ"},{"$f":" IF(AND('Competitor List'!D36=\"Y\",ISNUMBER(I54),ISNUMBER(J54)),(SUM(I54:J54)),\"DQ\")","v":"DQ"},"DQ",{"$f":"'LIGHT GUN'!U57+'HEAVY GUN'!U57","v":0},{"$f":" IF(AND('Competitor List'!D36=\"Y\",ISNUMBER(H54),ISNUMBER(L54)),(H54+L54),\"DQ\")","v":"DQ"},"DQ",0]
[{"$f":"'Competitor List'!O37","v":302},{"$f":"IF('Competitor List'!D37=\"Y\",'Competitor List'!B37,\" \")","v":" "},{"$f":"IF('Competitor List'!H37=\"Y\",\"Y\",\"N\")","v":"N"},{"$f":" T('Competitor List'!F37)","v":""},{"$f":"'LIGHT GUN'!V58","v":"DQ"},{"$f":"'HEAVY GUN'!V58","v":"DQ"},{"$f":" IF(AND('Competitor List'!D37=\"Y\",ISNUMBER(E55),ISNUMBER(F55)),(SUM(E55:F55))/2,\"DQ\")","v":"DQ"},"DQ",{"$f":"'LIGHT GUN'!S58","v":"DQ"},{"$f":"'HEAVY GUN'!S58","v":"DQ"},{"$f":" IF(AND('Competitor List'!D37=\"Y\",ISNUMBER(I55),ISNUMBER(J55)),(SUM(I55:J55)),\"DQ\")","v":"DQ"},"DQ",{"$f":"'LIGHT GUN'!U58+'HEAVY GUN'!U58","v":0},{"$f":" IF(AND('Competitor List'!D37=\"Y\",ISNUMBER(H55),ISNUMBER(L55)),H55+L55,\"DQ\")","v":"DQ"},"DQ",0]
[{"$f":"'Competitor List'!O38","v":303},{"$f":"IF('Competitor List'!D38=\"Y\",'Competitor List'!B38,\" \")","v":" "},{"$f":"IF('Competitor List'!H38=\"Y\",\"Y\",\"N\")","v":"N"},{"$f":" T('Competitor List'!F38)","v":""},{"$f":"'LIGHT GUN'!V59","v":"DQ"},{"$f":"'HEAVY GUN'!V59","v":"DQ"},{"$f":" IF(AND('Competitor List'!D38=\"Y\",ISNUMBER(E56),ISNUMBER(F56)),(SUM(E56:F56))/2,\"DQ\")","v":"DQ"},"DQ",{"$f":"'LIGHT GUN'!S59","v":"DQ"},{"$f":"'HEAVY GUN'!S59","v":"DQ"},{"$f":" IF(AND('Competitor List'!D38=\"Y\",ISNUMBER(I56),ISNUMBER(J56)),(SUM(I56:J56)),\"DQ\")","v":"DQ"},"DQ",{"$f":"'LIGHT GUN'!U59+'HEAVY GUN'!U59","v":0},{"$f":" IF(AND('Competitor List'!D38=\"Y\",ISNUMBER(H56),ISNUMBER(L56)),H56+L56,\"DQ\")","v":"DQ"},{"$f":" IF(AND(ISNUMBER(N56)),RANK(N56,$N$24:$N$173,1)+SUMPRODUCT(($N$24:$N$173=N56)*($G$24:$G$173<G56))+SUMPRODUCT(($N$24:$N$173=N56)*($G$24:$G$173=G56)*($K$24:$K$173>K56))+SUMPRODUCT(($N$24:$N$173=N56)*($G$24:$G$173=G56)*($K$24:$K$173=K56)*($M$24:$M$173>M56))+SUMPRODUCT(($N$24:$N$173=N56)*($G$24:$G$173=G56)*($K$24:$K$173=K56)*($M$24:$M$173=M56)*($R$24:$R$173<R56)),\"DQ\")","v":"DQ"},0]
[{"$f":"'Competitor List'!O39","v":304},{"$f":"IF('Competitor List'!D39=\"Y\",'Competitor List'!B39,\" \")","v":" "},{"$f":"IF('Competitor List'!H39=\"Y\",\"Y\",\"N\")","v":"N"},{"$f":" T('Competitor List'!F39)","v":""},{"$f":"'LIGHT GUN'!V60","v":"DQ"},{"$f":"'HEAVY GUN'!V60","v":"DQ"},{"$f":" IF(AND('Competitor List'!D39=\"Y\",ISNUMBER(E57),ISNUMBER(F57)),(SUM(E57:F57))/2,\"DQ\")","v":"DQ"},"DQ",{"$f":"'LIGHT GUN'!S60","v":"DQ"},{"$f":"'HEAVY GUN'!S60","v":"DQ"},{"$f":" IF(AND('Competitor List'!D39=\"Y\",ISNUMBER(I57),ISNUMBER(J57)),(SUM(I57:J57)),\"DQ\")","v":"DQ"},"DQ",{"$f":"'LIGHT GUN'!U60+'HEAVY GUN'!U60","v":0},{"$f":" IF(AND('Competitor List'!D39=\"Y\",ISNUMBER(H57),ISNUMBER(L57)),(H57+L57),\"DQ\")","v":"DQ"},"DQ",0]
[{"$f":"'Competitor List'!O40","v":305},{"$f":"IF('Competitor List'!D40=\"Y\",'Competitor List'!B40,\" \")","v":" "},{"$f":"IF('Competitor List'!H40=\"Y\",\"Y\",\"N\")","v":"N"},{"$f":" T('Competitor List'!F40)","v":""},{"$f":"'LIGHT GUN'!V61","v":"DQ"},{"$f":"'HEAVY GUN'!V61","v":"DQ"},{"$f":" IF(AND('Competitor List'!D40=\"Y\",ISNUMBER(E58),ISNUMBER(F58)),(SUM(E58:F58))/2,\"DQ\")","v":"DQ"},"DQ",{"$f":"'LIGHT GUN'!S61","v":"DQ"},{"$f":"'HEAVY GUN'!S61","v":"DQ"},{"$f":" IF(AND('Competitor List'!D40=\"Y\",ISNUMBER(I58),ISNUMBER(J58)),(SUM(I58:J58)),\"DQ\")","v":"DQ"},"DQ",{"$f":"'LIGHT GUN'!U61+'HEAVY GUN'!U61","v":0},{"$f":" IF(AND('Competitor List'!D40=\"Y\",ISNUMBER(H58),ISNUMBER(L58)),H58+L58,\"DQ\")","v":"DQ"},"DQ",0]
[{"$f":"'Competitor List'!O41","v":306},{"$f":"IF('Competitor List'!D41=\"Y\",'Competitor List'!B41,\" \")","v":" "},{"$f":"IF('Competitor List'!H41=\"Y\",\"Y\",\"N\")","v":"N"},{"$f":" T('Competitor List'!F41)","v":""},{"$f":"'LIGHT GUN'!V62","v":"DQ"},{"$f":"'HEAVY GUN'!V62","v":"DQ"},{"$f":" IF(AND('Competitor List'!D41=\"Y\",ISNUMBER(E59),ISNUMBER(F59)),(SUM(E59:F59))/2,\"DQ\")","v":"DQ"},"DQ",{"$f":"'LIGHT GUN'!S62","v":"DQ"},{"$f":"'HEAVY GUN'!S62","v":"DQ"},{"$f":" IF(AND('Competitor List'!D41=\"Y\",ISNUMBER(I59),ISNUMBER(J59)),(SUM(I59:J59)),\"DQ\")","v":"DQ"},"DQ",{"$f":"'LIGHT GUN'!U62+'HEAVY GUN'!U62","v":0},{"$f":" IF(AND('Competitor List'!D41=\"Y\",ISNUMBER(H59),ISNUMBER(L59)),H59+L59,\"DQ\")","v":"DQ"},"DQ",0]
[{"$f":"'Competitor List'!O42","v":307},{"$f":"IF('Competitor List'!D42=\"Y\",'Competitor List'!B42,\" \")","v":" "},{"$f":"IF('Competitor List'!H42=\"Y\",\"Y\",\"N\")","v":"N"},{"$f":" T('Competitor List'!F42)","v":""},{"$f":"'LIGHT GUN'!V63","v":"DQ"},{"$f":"'HEAVY GUN'!V63","v":"DQ"},{"$f":" IF(AND('Competitor List'!D42=\"Y\",ISNUMBER(E60),ISNUMBER(F60)),(SUM(E60:F60))/2,\"DQ\")","v":"DQ"},"DQ",{"$f":"'LIGHT GUN'!S63","v":"DQ"},{"$f":"'HEAVY GUN'!S63","v":"DQ"},{"$f":" IF(AND('Competitor List'!D42=\"Y\",ISNUMBER(I60),ISNUMBER(J60)),(SUM(I60:J60)),\"DQ\")","v":"DQ"},"DQ",{"$f":"'LIGHT GUN'!U63+'HEAVY GUN'!U63","v":0},{"$f":" IF(AND('Competitor List'!D42=\"Y\",ISNUMBER(H60),ISNUMBER(L60)),(H60+L60),\"DQ\")","v":"DQ"},"DQ",0]
[{"$f":"'Competitor List'!O43","v":308},{"$f":"IF('Competitor List'!D43=\"Y\",'Competitor List'!B43,\" \")","v":" "},{"$f":"IF('Competitor List'!H43=\"Y\",\"Y\",\"N\")","v":"N"},{"$f":" T('Competitor List'!F43)","v":""},{"$f":"'LIGHT GUN'!V64","v":"DQ"},{"$f":"'HEAVY GUN'!V64","v":"DQ"},{"$f":" IF(AND('Competitor List'!D43=\"Y\",ISNUMBER(E61),ISNUMBER(F61)),(SUM(E61:F61))/2,\"DQ\")","v":"DQ"},"DQ",{"$f":"'LIGHT GUN'!S64","v":"DQ"},{"$f":"'HEAVY GUN'!S64","v":"DQ"},{"$f":" IF(AND('Competitor List'!D43=\"Y\",ISNUMBER(I61),ISNUMBER(J61)),(SUM(I61:J61)),\"DQ\")","v":"DQ"},"DQ",{"$f":"'LIGHT GUN'!U64+'HEAVY GUN'!U64","v":0},{"$f":" IF(AND('Competitor List'!D43=\"Y\",ISNUMBER(H61),ISNUMBER(L61)),H61+L61,\"DQ\")","v":"DQ"},"DQ",0]
[{"$f":"'Competitor List'!O44","v":309},{"$f":"IF('Competitor List'!D44=\"Y\",'Competitor List'!B44,\" \")","v":" "},{"$f":"IF('Competitor List'!H44=\"Y\",\"Y\",\"N\")","v":"N"},{"$f":" T('Competitor List'!F44)","v":""},{"$f":"'LIGHT GUN'!V65","v":"DQ"},{"$f":"'HEAVY GUN'!V65","v":"DQ"},{"$f":" IF(AND('Competitor List'!D44=\"Y\",ISNUMBER(E62),ISNUMBER(F62)),(SUM(E62:F62))/2,\"DQ\")","v":"DQ"},"DQ",{"$f":"'LIGHT GUN'!S65","v":"DQ"},{"$f":"'HEAVY GUN'!S65","v":"DQ"},{"$f":" IF(AND('Competitor List'!D44=\"Y\",ISNUMBER(I62),ISNUMBER(J62)),(SUM(I62:J62)),\"DQ\")","v":"DQ"},"DQ",{"$f":"'LIGHT GUN'!U65+'HEAVY GUN'!U65","v":0},{"$f":" IF(AND('Competitor List'!D44=\"Y\",ISNUMBER(H62),ISNUMBER(L62)),H62+L62,\"DQ\")","v":"DQ"},"DQ",0]
[{"$f":"'Competitor List'!O45","v":310},{"$f":"IF('Competitor List'!D45=\"Y\",'Competitor List'!B45,\" \")","v":" "},{"$f":"IF('Competitor List'!H45=\"Y\",\"Y\",\"N\")","v":"N"},{"$f":" T('Competitor List'!F45)","v":""},{"$f":"'LIGHT GUN'!V66","v":"DQ"},{"$f":"'HEAVY GUN'!V66","v":"DQ"},{"$f":" IF(AND('Competitor List'!D45=\"Y\",ISNUMBER(E63),ISNUMBER(F63)),(SUM(E63:F63))/2,\"DQ\")","v":"DQ"},"DQ",{"$f":"'LIGHT GUN'!S66","v":"DQ"},{"$f":"'HEAVY GUN'!S66","v":"DQ"},{"$f":" IF(AND('Competitor List'!D45=\"Y\",ISNUMBER(I63),ISNUMBER(J63)),(SUM(I63:J63)),\"DQ\")","v":"DQ"},"DQ",{"$f":"'LIGHT GUN'!U66+'HEAVY GUN'!U66","v":0},{"$f":" IF(AND('Competitor List'!D45=\"Y\",ISNUMBER(H63),ISNUMBER(L63)),(H63+L63),\"DQ\")","v":"DQ"},"DQ",0]
[{"$f":"'Competitor List'!O46","v":311},{"$f":"IF('Competitor List'!D46=\"Y\",'Competitor List'!B46,\" \")","v":" "},{"$f":"IF('Competitor List'!H46=\"Y\",\"Y\",\"N\")","v":"N"},{"$f":" T('Competitor List'!F46)","v":""},{"$f":"'LIGHT GUN'!V67","v":"DQ"},{"$f":"'HEAVY GUN'!V67","v":"DQ"},{"$f":" IF(AND('Competitor List'!D46=\"Y\",ISNUMBER(E64),ISNUMBER(F64)),(SUM(E64:F64))/2,\"DQ\")","v":"DQ"},"DQ",{"$f":"'LIGHT GUN'!S67","v":"DQ"},{"$f":"'HEAVY GUN'!S67","v":"DQ"},{"$f":" IF(AND('Competitor List'!D46=\"Y\",ISNUMBER(I64),ISNUMBER(J64)),(SUM(I64:J64)),\"DQ\")","v":"DQ"},"DQ",{"$f":"'LIGHT GUN'!U67+'HEAVY GUN'!U67","v":0},{"$f":" IF(AND('Competitor List'!D46=\"Y\",ISNUMBER(H64),ISNUMBER(L64)),H64+L64,\"DQ\")","v":"DQ"},"DQ",0]
[{"$f":"'Competitor List'!O47","v":312},{"$f":"IF('Competitor List'!D47=\"Y\",'Competitor List'!B47,\" \")","v":" "},{"$f":"IF('Competitor List'!H47=\"Y\",\"Y\",\"N\")","v":"N"},{"$f":" T('Competitor List'!F47)","v":""},{"$f":"'LIGHT GUN'!V68","v":"DQ"},{"$f":"'HEAVY GUN'!V68","v":"DQ"},{"$f":" IF(AND('Competitor List'!D47=\"Y\",ISNUMBER(E65),ISNUMBER(F65)),(SUM(E65:F65))/2,\"DQ\")","v":"DQ"},"DQ",{"$f":"'LIGHT GUN'!S68","v":"DQ"},{"$f":"'HEAVY GUN'!S68","v":"DQ"},{"$f":" IF(AND('Competitor List'!D47=\"Y\",ISNUMBER(I65),ISNUMBER(J65)),(SUM(I65:J65)),\"DQ\")","v":"DQ"},"DQ",{"$f":"'LIGHT GUN'!U68+'HEAVY GUN'!U68","v":0},{"$f":" IF(AND('Competitor List'!D47=\"Y\",ISNUMBER(H65),ISNUMBER(L65)),H65+L65,\"DQ\")","v":"DQ"},"DQ",0]
[{"$f":"'Competitor List'!O48","v":313},{"$f":"IF('Competitor List'!D48=\"Y\",'Competitor List'!B48,\" \")","v":" "},{"$f":"IF('Competitor List'!H48=\"Y\",\"Y\",\"N\")","v":"N"},{"$f":" T('Competitor List'!F48)","v":""},{"$f":"'LIGHT GUN'!V69","v":"DQ"},{"$f":"'HEAVY GUN'!V69","v":"DQ"},{"$f":" IF(AND('Competitor List'!D48=\"Y\",ISNUMBER(E66),ISNUMBER(F66)),(SUM(E66:F66))/2,\"DQ\")","v":"DQ"},"DQ",{"$f":"'LIGHT GUN'!S69","v":"DQ"},{"$f":"'HEAVY GUN'!S69","v":"DQ"},{"$f":" IF(AND('Competitor List'!D48=\"Y\",ISNUMBER(I66),ISNUMBER(J66)),(SUM(I66:J66)),\"DQ\")","v":"DQ"},"DQ",{"$f":"'LIGHT GUN'!U69+'HEAVY GUN'!U69","v":0},{"$f":" IF(AND('Competitor List'!D48=\"Y\",ISNUMBER(H66),ISNUMBER(L66)),(H66+L66),\"DQ\")","v":"DQ"},"DQ",0]
[{"$f":"'Competitor List'!O49","v":314},{"$f":"IF('Competitor List'!D49=\"Y\",'Competitor List'!B49,\" \")","v":" "},{"$f":"IF('Competitor List'!H49=\"Y\",\"Y\",\"N\")","v":"N"},{"$f":" T('Competitor List'!F49)","v":""},{"$f":"'LIGHT GUN'!V70","v":"DQ"},{"$f":"'HEAVY GUN'!V70","v":"DQ"},{"$f":" IF(AND('Competitor List'!D49=\"Y\",ISNUMBER(E67),ISNUMBER(F67)),(SUM(E67:F67))/2,\"DQ\")","v":"DQ"},"DQ",{"$f":"'LIGHT GUN'!S70","v":"DQ"},{"$f":"'HEAVY GUN'!S70","v":"DQ"},{"$f":" IF(AND('Competitor List'!D49=\"Y\",ISNUMBER(I67),ISNUMBER(J67)),(SUM(I67:J67)),\"DQ\")","v":"DQ"},"DQ",{"$f":"'LIGHT GUN'!U70+'HEAVY GUN'!U70","v":0},{"$f":" IF(AND('Competitor List'!D49=\"Y\",ISNUMBER(H67),ISNUMBER(L67)),H67+L67,\"DQ\")","v":"DQ"},"DQ",0]
[{"$f":"'Competitor List'!O50","v":315},{"$f":"IF('Competitor List'!D50=\"Y\",'Competitor List'!B50,\" \")","v":" "},{"$f":"IF('Competitor List'!H50=\"Y\",\"Y\",\"N\")","v":"N"},{"$f":" T('Competitor List'!F50)","v":""},{"$f":"'LIGHT GUN'!V71","v":"DQ"},{"$f":"'HEAVY GUN'!V71","v":"DQ"},{"$f":" IF(AND('Competitor List'!D50=\"Y\",ISNUMBER(E68),ISNUMBER(F68)),(SUM(E68:F68))/2,\"DQ\")","v":"DQ"},"DQ",{"$f":"'LIGHT GUN'!S71","v":"DQ"},{"$f":"'HEAVY GUN'!S71","v":"DQ"},{"$f":" IF(AND('Competitor List'!D50=\"Y\",ISNUMBER(I68),ISNUMBER(J68)),(SUM(I68:J68)),\"DQ\")","v":"DQ"},"DQ",{"$f":"'LIGHT GUN'!U71+'HEAVY GUN'!U71","v":0},{"$f":" IF(AND('Competitor List'!D50=\"Y\",ISNUMBER(H68),ISNUMBER(L68)),H68+L68,\"DQ\")","v":"DQ"},"DQ",0]
[{"$f":"'Competitor List'!O51","v":401},{"$f":"IF('Competitor List'!D51=\"Y\",'Competitor List'!B51,\" \")","v":" "},{"$f":"IF('Competitor List'!H51=\"Y\",\"Y\",\"N\")","v":"N"},{"$f":" T('Competitor List'!F51)","v":""},{"$f":"'LIGHT GUN'!V72","v":"DQ"},{"$f":"'HEAVY GUN'!V72","v":"DQ"},{"$f":" IF(AND('Competitor List'!D51=\"Y\",ISNUMBER(E69),ISNUMBER(F69)),(SUM(E69:F69))/2,\"DQ\")","v":"DQ"},"DQ",{"$f":"'LIGHT GUN'!S72","v":"DQ"},{"$f":"'HEAVY GUN'!S72","v":"DQ"},{"$f":" IF(AND('Competitor List'!D51=\"Y\",ISNUMBER(I69),ISNUMBER(J69)),(SUM(I69:J69)),\"DQ\")","v":"DQ"},"DQ",{"$f":"'LIGHT GUN'!U72+'HEAVY GUN'!U72","v":0},{"$f":" IF(AND('Competitor List'!D51=\"Y\",ISNUMBER(H69),ISNUMBER(L69)),(H69+L69),\"DQ\")","v":"DQ"},"DQ",0]
[{"$f":"'Competitor List'!O52","v":402},{"$f":"IF('Competitor List'!D52=\"Y\",'Competitor List'!B52,\" \")","v":" "},{"$f":"IF('Competitor List'!H52=\"Y\",\"Y\",\"N\")","v":"N"},{"$f":" T('Competitor List'!F52)","v":""},{"$f":"'LIGHT GUN'!V73","v":"DQ"},{"$f":"'HEAVY GUN'!V73","v":"DQ"},{"$f":" IF(AND('Competitor List'!D52=\"Y\",ISNUMBER(E70),ISNUMBER(F70)),(SUM(E70:F70))/2,\"DQ\")","v":"DQ"},"DQ",{"$f":"'LIGHT GUN'!S73","v":"DQ"},{"$f":"'HEAVY GUN'!S73","v":"DQ"},{"$f":" IF(AND('Competitor List'!D52=\"Y\",ISNUMBER(I70),ISNUMBER(J70)),(SUM(I70:J70)),\"DQ\")","v":"DQ"},"DQ",{"$f":"'LIGHT GUN'!U73+'HEAVY GUN'!U73","v":0},{"$f":" IF(AND('Competitor List'!D52=\"Y\",ISNUMBER(H70),ISNUMBER(L70)),H70+L70,\"DQ\")","v":"DQ"},"DQ",0]
[{"$f":"'Competitor List'!O53","v":403},{"$f":"IF('Competitor List'!D53=\"Y\",'Competitor List'!B53,\" \")","v":" "},{"$f":"IF('Competitor List'!H53=\"Y\",\"Y\",\"N\")","v":"N"},{"$f":" T('Competitor List'!F53)","v":""},{"$f":"'LIGHT GUN'!V74","v":"DQ"},{"$f":"'HEAVY GUN'!V74","v":"DQ"},{"$f":" IF(AND('Competitor List'!D53=\"Y\",ISNUMBER(E71),ISNUMBER(F71)),(SUM(E71:F71))/2,\"DQ\")","v":"DQ"},"DQ",{"$f":"'LIGHT GUN'!S74","v":"DQ"},{"$f":"'HEAVY GUN'!S74","v":"DQ"},{"$f":" IF(AND('Competitor List'!D53=\"Y\",ISNUMBER(I71),ISNUMBER(J71)),(SUM(I71:J71)),\"DQ\")","v":"DQ"},"DQ",{"$f":"'LIGHT GUN'!U74+'HEAVY GUN'!U74","v":0},{"$f":" IF(AND('Competitor List'!D53=\"Y\",ISNUMBER(H71),ISNUMBER(L71)),H71+L71,\"DQ\")","v":"DQ"},"DQ",0]
[{"$f":"'Competitor List'!O54","v":404},{"$f":"IF('Competitor List'!D54=\"Y\",'Competitor List'!B54,\" \")","v":" "},{"$f":"IF('Competitor List'!H54=\"Y\",\"Y\",\"N\")","v":"N"},{"$f":" T('Competitor List'!F54)","v":""},{"$f":"'LIGHT GUN'!V75","v":"DQ"},{"$f":"'HEAVY GUN'!V75","v":"DQ"},{"$f":" IF(AND('Competitor List'!D54=\"Y\",ISNUMBER(E72),ISNUMBER(F72)),(SUM(E72:F72))/2,\"DQ\")","v":"DQ"},"DQ",{"$f":"'LIGHT GUN'!S75","v":"DQ"},{"$f":"'HEAVY GUN'!S75","v":"DQ"},{"$f":" IF(AND('Competitor List'!D54=\"Y\",ISNUMBER(I72),ISNUMBER(J72)),(SUM(I72:J72)),\"DQ\")","v":"DQ"},"DQ",{"$f":"'LIGHT GUN'!U75+'HEAVY GUN'!U75","v":0},{"$f":" IF(AND('Competitor List'!D54=\"Y\",ISNUMBER(H72),ISNUMBER(L72)),(H72+L72),\"DQ\")","v":"DQ"},"DQ",0]
[{"$f":"'Competitor List'!O55","v":405},{"$f":"IF('Competitor List'!D55=\"Y\",'Competitor List'!B55,\" \")","v":" "},{"$f":"IF('Competitor List'!H55=\"Y\",\"Y\",\"N\")","v":"N"},{"$f":" T('Competitor List'!F55)","v":""},{"$f":"'LIGHT GUN'!V76","v":"DQ"},{"$f":"'HEAVY GUN'!V76","v":"DQ"},{"$f":" IF(AND('Competitor List'!D55=\"Y\",ISNUMBER(E73),ISNUMBER(F73)),(SUM(E73:F73))/2,\"DQ\")","v":"DQ"},"DQ",{"$f":"'LIGHT GUN'!S76","v":"DQ"},{"$f":"'HEAVY GUN'!S76","v":"DQ"},{"$f":" IF(AND('Competitor List'!D55=\"Y\",ISNUMBER(I73),ISNUMBER(J73)),(SUM(I73:J73)),\"DQ\")","v":"DQ"},"DQ",{"$f":"'LIGHT GUN'!U76+'HEAVY GUN'!U76","v":0},{"$f":" IF(AND('Competitor List'!D55=\"Y\",ISNUMBER(H73),ISNUMBER(L73)),H73+L73,\"DQ\")","v":"DQ"},"DQ",0]
[{"$f":"'Competitor List'!O56","v":406},{"$f":"IF('Competitor List'!D56=\"Y\",'Competitor List'!B56,\" \")","v":" "},{"$f":"IF('Competitor List'!H56=\"Y\",\"Y\",\"N\")","v":"N"},{"$f":" T('Competitor List'!F56)","v":""},{"$f":"'LIGHT GUN'!V77","v":"DQ"},{"$f":"'HEAVY GUN'!V77","v":"DQ"},{"$f":" IF(AND('Competitor List'!D56=\"Y\",ISNUMBER(E74),ISNUMBER(F74)),(SUM(E74:F74))/2,\"DQ\")","v":"DQ"},"DQ",{"$f":"'LIGHT GUN'!S77","v":"DQ"},{"$f":"'HEAVY GUN'!S77","v":"DQ"},{"$f":" IF(AND('Competitor List'!D56=\"Y\",ISNUMBER(I74),ISNUMBER(J74)),(SUM(I74:J74)),\"DQ\")","v":"DQ"},"DQ",{"$f":"'LIGHT GUN'!U77+'HEAVY GUN'!U77","v":0},{"$f":" IF(AND('Competitor List'!D56=\"Y\",ISNUMBER(H74),ISNUMBER(L74)),H74+L74,\"DQ\")","v":"DQ"},"DQ",0]
[{"$f":"'Competitor List'!O57","v":407},{"$f":"IF('Competitor List'!D57=\"Y\",'Competitor List'!B57,\" \")","v":" "},{"$f":"IF('Competitor List'!H57=\"Y\",\"Y\",\"N\")","v":"N"},{"$f":" T('Competitor List'!F57)","v":""},{"$f":"'LIGHT GUN'!V78","v":"DQ"},{"$f":"'HEAVY GUN'!V78","v":"DQ"},{"$f":" IF(AND('Competitor List'!D57=\"Y\",ISNUMBER(E75),ISNUMBER(F75)),(SUM(E75:F75))/2,\"DQ\")","v":"DQ"},"DQ",{"$f":"'LIGHT GUN'!S78","v":"DQ"},{"$f":"'HEAVY GUN'!S78","v":"DQ"},{"$f":" IF(AND('Competitor List'!D57=\"Y\",ISNUMBER(I75),ISNUMBER(J75)),(SUM(I75:J75)),\"DQ\")","v":"DQ"},"DQ",{"$f":"'LIGHT GUN'!U78+'HEAVY GUN'!U78","v":0},{"$f":" IF(AND('Competitor List'!D57=\"Y\",ISNUMBER(H75),ISNUMBER(L75)),(H75+L75),\"DQ\")","v":"DQ"},"DQ",0]
[{"$f":"'Competitor List'!O58","v":408},{"$f":"IF('Competitor List'!D58=\"Y\",'Competitor List'!B58,\" \")","v":" "},{"$f":"IF('Competitor List'!H58=\"Y\",\"Y\",\"N\")","v":"N"},{"$f":" T('Competitor List'!F58)","v":""},{"$f":"'LIGHT GUN'!V79","v":"DQ"},{"$f":"'HEAVY GUN'!V79","v":"DQ"},{"$f":" IF(AND('Competitor List'!D58=\"Y\",ISNUMBER(E76),ISNUMBER(F76)),(SUM(E76:F76))/2,\"DQ\")","v":"DQ"},"DQ",{"$f":"'LIGHT GUN'!S79","v":"DQ"},{"$f":"'HEAVY GUN'!S79","v":"DQ"},{"$f":" IF(AND('Competitor List'!D58=\"Y\",ISNUMBER(I76),ISNUMBER(J76)),(SUM(I76:J76)),\"DQ\")","v":"DQ"},"DQ",{"$f":"'LIGHT GUN'!U79+'HEAVY GUN'!U79","v":0},{"$f":" IF(AND('Competitor List'!D58=\"Y\",ISNUMBER(H76),ISNUMBER(L76)),H76+L76,\"DQ\")","v":"DQ"},"DQ",0]
[{"$f":"'Competitor List'!O59","v":409},{"$f":"IF('Competitor List'!D59=\"Y\",'Competitor List'!B59,\" \")","v":" "},{"$f":"IF('Competitor List'!H59=\"Y\",\"Y\",\"N\")","v":"N"},{"$f":" T('Competitor List'!F59)","v":""},{"$f":"'LIGHT GUN'!V80","v":"DQ"},{"$f":"'HEAVY GUN'!V80","v":"DQ"},{"$f":" IF(AND('Competitor List'!D59=\"Y\",ISNUMBER(E77),ISNUMBER(F77)),(SUM(E77:F77))/2,\"DQ\")","v":"DQ"},"DQ",{"$f":"'LIGHT GUN'!S80","v":"DQ"},{"$f":"'HEAVY GUN'!S80","v":"DQ"},{"$f":" IF(AND('Competitor List'!D59=\"Y\",ISNUMBER(I77),ISNUMBER(J77)),(SUM(I77:J77)),\"DQ\")","v":"DQ"},"DQ",{"$f":"'LIGHT GUN'!U80+'HEAVY GUN'!U80","v":0},{"$f":" IF(AND('Competitor List'!D59=\"Y\",ISNUMBER(H77),ISNUMBER(L77)),H77+L77,\"DQ\")","v":"DQ"},"DQ",0]
[{"$f":"'Competitor List'!O60","v":410},{"$f":"IF('Competitor List'!D60=\"Y\",'Competitor List'!B60,\" \")","v":" "},{"$f":"IF('Competitor List'!H60=\"Y\",\"Y\",\"N\")","v":"N"},{"$f":" T('Competitor List'!F60)","v":""},{"$f":"'LIGHT GUN'!V81","v":"DQ"},{"$f":"'HEAVY GUN'!V81","v":"DQ"},{"$f":" IF(AND('Competitor List'!D60=\"Y\",ISNUMBER(E78),ISNUMBER(F78)),(SUM(E78:F78))/2,\"DQ\")","v":"DQ"},"DQ",{"$f":"'LIGHT GUN'!S81","v":"DQ"},{"$f":"'HEAVY GUN'!S81","v":"DQ"},{"$f":" IF(AND('Competitor List'!D60=\"Y\",ISNUMBER(I78),ISNUMBER(J78)),(SUM(I78:J78)),\"DQ\")","v":"DQ"},"DQ",{"$f":"'LIGHT GUN'!U81+'HEAVY GUN'!U81","v":0},{"$f":" IF(AND('Competitor List'!D60=\"Y\",ISNUMBER(H78),ISNUMBER(L78)),(H78+L78),\"DQ\")","v":"DQ"},"DQ",0]
[{"$f":"'Competitor List'!O61","v":411},{"$f":"IF('Competitor List'!D61=\"Y\",'Competitor List'!B61,\" \")","v":" "},{"$f":"IF('Competitor List'!H61=\"Y\",\"Y\",\"N\")","v":"N"},{"$f":" T('Competitor List'!F61)","v":""},{"$f":"'LIGHT GUN'!V82","v":"DQ"},{"$f":"'HEAVY GUN'!V82","v":"DQ"},{"$f":" IF(AND('Competitor List'!D61=\"Y\",ISNUMBER(E79),ISNUMBER(F79)),(SUM(E79:F79))/2,\"DQ\")","v":"DQ"},"DQ",{"$f":"'LIGHT GUN'!S82","v":"DQ"},{"$f":"'HEAVY GUN'!S82","v":"DQ"},{"$f":" IF(AND('Competitor List'!D61=\"Y\",ISNUMBER(I79),ISNUMBER(J79)),(SUM(I79:J79)),\"DQ\")","v":"DQ"},"DQ",{"$f":"'LIGHT GUN'!U82+'HEAVY GUN'!U82","v":0},{"$f":" IF(AND('Competitor List'!D61=\"Y\",ISNUMBER(H79),ISNUMBER(L79)),H79+L79,\"DQ\")","v":"DQ"},"DQ",0]
[{"$f":"'Competitor List'!O62","v":412},{"$f":"IF('Competitor List'!D62=\"Y\",'Competitor List'!B62,\" \")","v":" "},{"$f":"IF('Competitor List'!H62=\"Y\",\"Y\",\"N\")","v":"N"},{"$f":" T('Competitor List'!F62)","v":""},{"$f":"'LIGHT GUN'!V83","v":"DQ"},{"$f":"'HEAVY GUN'!V83","v":"DQ"},{"$f":" IF(AND('Competitor List'!D62=\"Y\",ISNUMBER(E80),ISNUMBER(F80)),(SUM(E80:F80))/2,\"DQ\")","v":"DQ"},"DQ",{"$f":"'LIGHT GUN'!S83","v":"DQ"},{"$f":"'HEAVY GUN'!S83","v":"DQ"},{"$f":" IF(AND('Competitor List'!D62=\"Y\",ISNUMBER(I80),ISNUMBER(J80)),(SUM(I80:J80)),\"DQ\")","v":"DQ"},"DQ",{"$f":"'LIGHT GUN'!U83+'HEAVY GUN'!U83","v":0},{"$f":" IF(AND('Competitor List'!D62=\"Y\",ISNUMBER(H80),ISNUMBER(L80)),H80+L80,\"DQ\")","v":"DQ"},"DQ",0]
[{"$f":"'Competitor List'!O63","v":413},{"$f":"IF('Competitor List'!D63=\"Y\",'Competitor List'!B63,\" \")","v":" "},{"$f":"IF('Competitor List'!H63=\"Y\",\"Y\",\"N\")","v":"N"},{"$f":" T('Competitor List'!F63)","v":""},{"$f":"'LIGHT GUN'!V84","v":"DQ"},{"$f":"'HEAVY GUN'!V84","v":"DQ"},{"$f":" IF(AND('Competitor List'!D63=\"Y\",ISNUMBER(E81),ISNUMBER(F81)),(SUM(E81:F81))/2,\"DQ\")","v":"DQ"},"DQ",{"$f":"'LIGHT GUN'!S84","v":"DQ"},{"$f":"'HEAVY GUN'!S84","v":"DQ"},{"$f":" IF(AND('Competitor List'!D63=\"Y\",ISNUMBER(I81),ISNUMBER(J81)),(SUM(I81:J81)),\"DQ\")","v":"DQ"},"DQ",{"$f":"'LIGHT GUN'!U84+'HEAVY GUN'!U84","v":0},{"$f":" IF(AND('Competitor List'!D63=\"Y\",ISNUMBER(H81),ISNUMBER(L81)),(H81+L81),\"DQ\")","v":"DQ"},"DQ",0]
[{"$f":"'Competitor List'!O64","v":414},{"$f":"IF('Competitor List'!D64=\"Y\",'Competitor List'!B64,\" \")","v":" "},{"$f":"IF('Competitor List'!H64=\"Y\",\"Y\",\"N\")","v":"N"},{"$f":" T('Competitor List'!F64)","v":""},{"$f":"'LIGHT GUN'!V85","v":"DQ"},{"$f":"'HEAVY GUN'!V85","v":"DQ"},{"$f":" IF(AND('Competitor List'!D64=\"Y\",ISNUMBER(E82),ISNUMBER(F82)),(SUM(E82:F82))/2,\"DQ\")","v":"DQ"},"DQ",{"$f":"'LIGHT GUN'!S85","v":"DQ"},{"$f":"'HEAVY GUN'!S85","v":"DQ"},{"$f":" IF(AND('Competitor List'!D64=\"Y\",ISNUMBER(I82),ISNUMBER(J82)),(SUM(I82:J82)),\"DQ\")","v":"DQ"},"DQ",{"$f":"'LIGHT GUN'!U85+'HEAVY GUN'!U85","v":0},{"$f":" IF(AND('Competitor List'!D64=\"Y\",ISNUMBER(H82),ISNUMBER(L82)),H82+L82,\"DQ\")","v":"DQ"},"DQ",0]
[{"$f":"'Competitor List'!O65","v":415},{"$f":"IF('Competitor List'!D65=\"Y\",'Competitor List'!B65,\" \")","v":" "},{"$f":"IF('Competitor List'!H65=\"Y\",\"Y\",\"N\")","v":"N"},{"$f":" T('Competitor List'!F65)","v":""},{"$f":"'LIGHT GUN'!V86","v":"DQ"},{"$f":"'HEAVY GUN'!V86","v":"DQ"},{"$f":" IF(AND('Competitor List'!D65=\"Y\",ISNUMBER(E83),ISNUMBER(F83)),(SUM(E83:F83))/2,\"DQ\")","v":"DQ"},"DQ",{"$f":"'LIGHT GUN'!S86","v":"DQ"},{"$f":"'HEAVY GUN'!S86","v":"DQ"},{"$f":" IF(AND('Competitor List'!D65=\"Y\",ISNUMBER(I83),ISNUMBER(J83)),(SUM(I83:J83)),\"DQ\")","v":"DQ"},"DQ",{"$f":"'LIGHT GUN'!U86+'HEAVY GUN'!U86","v":0},{"$f":" IF(AND('Competitor List'!D65=\"Y\",ISNUMBER(H83),ISNUMBER(L83)),H83+L83,\"DQ\")","v":"DQ"},"DQ",0]
[{"$f":"'Competitor List'!O66","v":501},{"$f":"IF('Competitor List'!D66=\"Y\",'Competitor List'!B66,\" \")","v":" "},{"$f":"IF('Competitor List'!H66=\"Y\",\"Y\",\"N\")","v":"N"},{"$f":" T('Competitor List'!F66)","v":""},{"$f":"'LIGHT GUN'!V87","v":"DQ"},{"$f":"'HEAVY GUN'!V87","v":"DQ"},{"$f":" IF(AND('Competitor List'!D66=\"Y\",ISNUMBER(E84),ISNUMBER(F84)),(SUM(E84:F84))/2,\"DQ\")","v":"DQ"},"DQ",{"$f":"'LIGHT GUN'!S87","v":"DQ"},{"$f":"'HEAVY GUN'!S87","v":"DQ"},{"$f":" IF(AND('Competitor List'!D66=\"Y\",ISNUMBER(I84),ISNUMBER(J84)),(SUM(I84:J84)),\"DQ\")","v":"DQ"},"DQ",{"$f":"'LIGHT GUN'!U87+'HEAVY GUN'!U87","v":0},{"$f":" IF(AND('Competitor List'!D66=\"Y\",ISNUMBER(H84),ISNUMBER(L84)),(H84+L84),\"DQ\")","v":"DQ"},"DQ",0]
[{"$f":"'Competitor List'!O67","v":502},{"$f":"IF('Competitor List'!D67=\"Y\",'Competitor List'!B67,\" \")","v":" "},{"$f":"IF('Competitor List'!H67=\"Y\",\"Y\",\"N\")","v":"N"},{"$f":" T('Competitor List'!F67)","v":""},{"$f":"'LIGHT GUN'!V88","v":"DQ"},{"$f":"'HEAVY GUN'!V88","v":"DQ"},{"$f":" IF(AND('Competitor List'!D67=\"Y\",ISNUMBER(E85),ISNUMBER(F85)),(SUM(E85:F85))/2,\"DQ\")","v":"DQ"},"DQ",{"$f":"'LIGHT GUN'!S88","v":"DQ"},{"$f":"'HEAVY GUN'!S88","v":"DQ"},{"$f":" IF(AND('Competitor List'!D67=\"Y\",ISNUMBER(I85),ISNUMBER(J85)),(SUM(I85:J85)),\"DQ\")","v":"DQ"},"DQ",{"$f":"'LIGHT GUN'!U88+'HEAVY GUN'!U88","v":0},{"$f":" IF(AND('Competitor List'!D67=\"Y\",ISNUMBER(H85),ISNUMBER(L85)),H85+L85,\"DQ\")","v":"DQ"},"DQ",0]
[{"$f":"'Competitor List'!O68","v":503},{"$f":"IF('Competitor List'!D68=\"Y\",'Competitor List'!B68,\" \")","v":" "},{"$f":"IF('Competitor List'!H68=\"Y\",\"Y\",\"N\")","v":"N"},{"$f":" T('Competitor List'!F68)","v":""},{"$f":"'LIGHT GUN'!V89","v":"DQ"},{"$f":"'HEAVY GUN'!V89","v":"DQ"},{"$f":" IF(AND('Competitor List'!D68=\"Y\",ISNUMBER(E86),ISNUMBER(F86)),(SUM(E86:F86))/2,\"DQ\")","v":"DQ"},"DQ",{"$f":"'LIGHT GUN'!S89","v":"DQ"},{"$f":"'HEAVY GUN'!S89","v":"DQ"},{"$f":" IF(AND('Competitor List'!D68=\"Y\",ISNUMBER(I86),ISNUMBER(J86)),(SUM(I86:J86)),\"DQ\")","v":"DQ"},"DQ",{"$f":"'LIGHT GUN'!U89+'HEAVY GUN'!U89","v":0},{"$f":" IF(AND('Competitor List'!D68=\"Y\",ISNUMBER(H86),ISNUMBER(L86)),H86+L86,\"DQ\")","v":"DQ"},"DQ",0]
[{"$f":"'Competitor List'!O69","v":504},{"$f":"IF('Competitor List'!D69=\"Y\",'Competitor List'!B69,\" \")","v":" "},{"$f":"IF('Competitor List'!H69=\"Y\",\"Y\",\"N\")","v":"N"},{"$f":" T('Competitor List'!F69)","v":""},{"$f":"'LIGHT GUN'!V90","v":"DQ"},{"$f":"'HEAVY GUN'!V90","v":"DQ"},{"$f":" IF(AND('Competitor List'!D69=\"Y\",ISNUMBER(E87),ISNUMBER(F87)),(SUM(E87:F87))/2,\"DQ\")","v":"DQ"},"DQ",{"$f":"'LIGHT GUN'!S90","v":"DQ"},{"$f":"'HEAVY GUN'!S90","v":"DQ"},{"$f":" IF(AND('Competitor List'!D69=\"Y\",ISNUMBER(I87),ISNUMBER(J87)),(SUM(I87:J87)),\"DQ\")","v":"DQ"},"DQ",{"$f":"'LIGHT GUN'!U90+'HEAVY GUN'!U90","v":0},{"$f":" IF(AND('Competitor List'!D69=\"Y\",ISNUMBER(H87),ISNUMBER(L87)),(H87+L87),\"DQ\")","v":"DQ"},"DQ",0]
[{"$f":"'Competitor List'!O70","v":505},{"$f":"IF('Competitor List'!D70=\"Y\",'Competitor List'!B70,\" \")","v":" "},{"$f":"IF('Competitor List'!H70=\"Y\",\"Y\",\"N\")","v":"N"},{"$f":" T('Competitor List'!F70)","v":""},{"$f":"'LIGHT GUN'!V91","v":"DQ"},{"$f":"'HEAVY GUN'!V91","v":"DQ"},{"$f":" IF(AND('Competitor List'!D70=\"Y\",ISNUMBER(E88),ISNUMBER(F88)),(SUM(E88:F88))/2,\"DQ\")","v":"DQ"},"DQ",{"$f":"'LIGHT GUN'!S91","v":"DQ"},{"$f":"'HEAVY GUN'!S91","v":"DQ"},{"$f":" IF(AND('Competitor List'!D70=\"Y\",ISNUMBER(I88),ISNUMBER(J88)),(SUM(I88:J88)),\"DQ\")","v":"DQ"},"DQ",{"$f":"'LIGHT GUN'!U91+'HEAVY GUN'!U91","v":0},{"$f":" IF(AND('Competitor List'!D70=\"Y\",ISNUMBER(H88),ISNUMBER(L88)),H88+L88,\"DQ\")","v":"DQ"},{"$f":" IF(AND(ISNUMBER(N88)),RANK(N88,$N$24:$N$173,1)+SUMPRODUCT(($N$24:$N$173=N88)*($G$24:$G$173<G88))+SUMPRODUCT(($N$24:$N$173=N88)*($G$24:$G$173=G88)*($K$24:$K$173>K88))+SUMPRODUCT(($N$24:$N$173=N88)*($G$24:$G$173=G88)*($K$24:$K$173=K88)*($M$24:$M$173>M88))+SUMPRODUCT(($N$24:$N$173=N88)*($G$24:$G$173=G88)*($K$24:$K$173=K88)*($M$24:$M$173=M88)*($R$24:$R$173<R88)),\"DQ\")","v":"DQ"},0]
[{"$f":"'Competitor List'!O71","v":506},{"$f":"IF('Competitor List'!D71=\"Y\",'Competitor List'!B71,\" \")","v":" "},{"$f":"IF('Competitor List'!H71=\"Y\",\"Y\",\"N\")","v":"N"},{"$f":" T('Competitor List'!F71)","v":""},{"$f":"'LIGHT GUN'!V92","v":"DQ"},{"$f":"'HEAVY GUN'!V92","v":"DQ"},{"$f":" IF(AND('Competitor List'!D71=\"Y\",ISNUMBER(E89),ISNUMBER(F89)),(SUM(E89:F89))/2,\"DQ\")","v":"DQ"},{"$f":" IF(AND(ISNUMBER(G89)),RANK(G89,$G$24:$G$173,1)+SUMPRODUCT(($G$24:$G$173=G89)*($K$24:$K$173>K89))+SUMPRODUCT(($G$24:$G$173=G89)*($K$24:$K$173=K89)*($M$24:$M$173>M89))+SUMPRODUCT(($G$24:$G$173=G89)*($K$24:$K$173=K89)*($M$24:$M$173=M89)*($A$24:$A$173<A89)),\"DQ\")","v":"DQ"},{"$f":"'LIGHT GUN'!S92","v":"DQ"},{"$f":"'HEAVY GUN'!S92","v":"DQ"},{"$f":" IF(AND('Competitor List'!D71=\"Y\",ISNUMBER(I89),ISNUMBER(J89)),(SUM(I89:J89)),\"DQ\")","v":"DQ"},{"$f":" IF(AND(ISNUMBER(K89)),RANK(K89,$K$24:$K$173,0)+SUMPRODUCT(($K$24:$K$173=K89)*($G$24:$G$173<G89))+SUMPRODUCT(($K$24:$K$173=K89)*($G$24:$G$173=G89)*($M$24:$M$173>M89))+SUMPRODUCT(($K$24:$K$173=K89)*($G$24:$G$173=G89)*($M$24:$M$173=M89)*($A$24:$A$173<A89)),\"DQ\")","v":"DQ"},{"$f":"'LIGHT GUN'!U92+'HEAVY GUN'!U92","v":0},{"$f":" IF(AND('Competitor List'!D71=\"Y\",ISNUMBER(H89),ISNUMBER(L89)),H89+L89,\"DQ\")","v":"DQ"},"DQ",0]
[{"$f":"'Competitor List'!O72","v":507},{"$f":"IF('Competitor List'!D72=\"Y\",'Competitor List'!B72,\" \")","v":" "},{"$f":"IF('Competitor List'!H72=\"Y\",\"Y\",\"N\")","v":"N"},{"$f":" T('Competitor List'!F72)","v":""},{"$f":"'LIGHT GUN'!V93","v":"DQ"},{"$f":"'HEAVY GUN'!V93","v":"DQ"},{"$f":" IF(AND('Competitor List'!D72=\"Y\",ISNUMBER(E90),ISNUMBER(F90)),(SUM(E90:F90))/2,\"DQ\")","v":"DQ"},"DQ",{"$f":"'LIGHT GUN'!S93","v":"DQ"},{"$f":"'HEAVY GUN'!S93","v":"DQ"},{"$f":" IF(AND('Competitor List'!D72=\"Y\",ISNUMBER(I90),ISNUMBER(J90)),(SUM(I90:J90)),\"DQ\")","v":"DQ"},"DQ",{"$f":"'LIGHT GUN'!U93+'HEAVY GUN'!U93","v":0},{"$f":" IF(AND('Competitor List'!D72=\"Y\",ISNUMBER(H90),ISNUMBER(L90)),(H90+L90),\"DQ\")","v":"DQ"},"DQ",0]
[{"$f":"'Competitor List'!O73","v":508},{"$f":"IF('Competitor List'!D73=\"Y\",'Competitor List'!B73,\" \")","v":" "},{"$f":"IF('Competitor List'!H73=\"Y\",\"Y\",\"N\")","v":"N"},{"$f":" T('Competitor List'!F73)","v":""},{"$f":"'LIGHT GUN'!V94","v":"DQ"},{"$f":"'HEAVY GUN'!V94","v":"DQ"},{"$f":" IF(AND('Competitor List'!D73=\"Y\",ISNUMBER(E91),ISNUMBER(F91)),(SUM(E91:F91))/2,\"DQ\")","v":"DQ"},"DQ",{"$f":"'LIGHT GUN'!S94","v":"DQ"},{"$f":"'HEAVY GUN'!S94","v":"DQ"},{"$f":" IF(AND('Competitor List'!D73=\"Y\",ISNUMBER(I91),ISNUMBER(J91)),(SUM(I91:J91)),\"DQ\")","v":"DQ"},"DQ",{"$f":"'LIGHT GUN'!U94+'HEAVY GUN'!U94","v":0},{"$f":" IF(AND('Competitor List'!D73=\"Y\",ISNUMBER(H91),ISNUMBER(L91)),H91+L91,\"DQ\")","v":"DQ"},"DQ",{"$f":"IF(O91=1,$U$23,IF(O91=2,$U$24,IF(O91=3,$U$25,IF(O91=4,$U$26,IF(O91=5,$U$27,IF(O91=6,$U$28,IF(O91=7,$U$29,IF(O91=8,$U$30,IF(O91=9,$U$31,IF(O91=10,$U$32,0))))))))))","v":0}]
[{"$f":"'Competitor List'!O74","v":509},{"$f":"IF('Competitor List'!D74=\"Y\",'Competitor List'!B74,\" \")","v":" "},{"$f":"IF('Competitor List'!H74=\"Y\",\"Y\",\"N\")","v":"N"},{"$f":" T('Competitor List'!F74)","v":""},{"$f":"'LIGHT GUN'!V95","v":"DQ"},{"$f":"'HEAVY GUN'!V95","v":"DQ"},{"$f":" IF(AND('Competitor List'!D74=\"Y\",ISNUMBER(E92),ISNUMBER(F92)),(SUM(E92:F92))/2,\"DQ\")","v":"DQ"},"DQ",{"$f":"'LIGHT GUN'!S95","v":"DQ"},{"$f":"'HEAVY GUN'!S95","v":"DQ"},{"$f":" IF(AND('Competitor List'!D74=\"Y\",ISNUMBER(I92),ISNUMBER(J92)),(SUM(I92:J92)),\"DQ\")","v":"DQ"},"DQ",{"$f":"'LIGHT GUN'!U95+'HEAVY GUN'!U95","v":0},{"$f":" IF(AND('Competitor List'!D74=\"Y\",ISNUMBER(H92),ISNUMBER(L92)),H92+L92,\"DQ\")","v":"DQ"},"DQ",0]
[{"$f":"'Competitor List'!O75","v":510},{"$f":"IF('Competitor List'!D75=\"Y\",'Competitor List'!B75,\" \")","v":" "},{"$f":"IF('Competitor List'!H75=\"Y\",\"Y\",\"N\")","v":"N"},{"$f":" T('Competitor List'!F75)","v":""},{"$f":"'LIGHT GUN'!V96","v":"DQ"},{"$f":"'HEAVY GUN'!V96","v":"DQ"},{"$f":" IF(AND('Competitor List'!D75=\"Y\",ISNUMBER(E93),ISNUMBER(F93)),(SUM(E93:F93))/2,\"DQ\")","v":"DQ"},"DQ",{"$f":"'LIGHT GUN'!S96","v":"DQ"},{"$f":"'HEAVY GUN'!S96","v":"DQ"},{"$f":" IF(AND('Competitor List'!D75=\"Y\",ISNUMBER(I93),ISNUMBER(J93)),(SUM(I93:J93)),\"DQ\")","v":"DQ"},"DQ",{"$f":"'LIGHT GUN'!U96+'HEAVY GUN'!U96","v":0},{"$f":" IF(AND('Competitor List'!D75=\"Y\",ISNUMBER(H93),ISNUMBER(L93)),(H93+L93),\"DQ\")","v":"DQ"},"DQ",0]
[{"$f":"'Competitor List'!O76","v":511},{"$f":"IF('Competitor List'!D76=\"Y\",'Competitor List'!B76,\" \")","v":" "},{"$f":"IF('Competitor List'!H76=\"Y\",\"Y\",\"N\")","v":"N"},{"$f":" T('Competitor List'!F76)","v":""},{"$f":"'LIGHT GUN'!V97","v":"DQ"},{"$f":"'HEAVY GUN'!V97","v":"DQ"},{"$f":" IF(AND('Competitor List'!D76=\"Y\",ISNUMBER(E94),ISNUMBER(F94)),(SUM(E94:F94))/2,\"DQ\")","v":"DQ"},"DQ",{"$f":"'LIGHT GUN'!S97","v":"DQ"},{"$f":"'HEAVY GUN'!S97","v":"DQ"},{"$f":" IF(AND('Competitor List'!D76=\"Y\",ISNUMBER(I94),ISNUMBER(J94)),(SUM(I94:J94)),\"DQ\")","v":"DQ"},"DQ",{"$f":"'LIGHT GUN'!U97+'HEAVY GUN'!U97","v":0},{"$f":" IF(AND('Competitor List'!D76=\"Y\",ISNUMBER(H94),ISNUMBER(L94)),H94+L94,\"DQ\")","v":"DQ"},"DQ",0]
[{"$f":"'Competitor List'!O77","v":512},{"$f":"IF('Competitor List'!D77=\"Y\",'Competitor List'!B77,\" \")","v":" "},{"$f":"IF('Competitor List'!H77=\"Y\",\"Y\",\"N\")","v":"N"},{"$f":" T('Competitor List'!F77)","v":""},{"$f":"'LIGHT GUN'!V98","v":"DQ"},{"$f":"'HEAVY GUN'!V98","v":"DQ"},{"$f":" IF(AND('Competitor List'!D77=\"Y\",ISNUMBER(E95),ISNUMBER(F95)),(SUM(E95:F95))/2,\"DQ\")","v":"DQ"},"DQ",{"$f":"'LIGHT GUN'!S98","v":"DQ"},{"$f":"'HEAVY GUN'!S98","v":"DQ"},{"$f":" IF(AND('Competitor List'!D77=\"Y\",ISNUMBER(I95),ISNUMBER(J95)),(SUM(I95:J95)),\"DQ\")","v":"DQ"},"DQ",{"$f":"'LIGHT GUN'!U98+'HEAVY GUN'!U98","v":0},{"$f":" IF(AND('Competitor List'!D77=\"Y\",ISNUMBER(H95),ISNUMBER(L95)),H95+L95,\"DQ\")","v":"DQ"},"DQ",0]
[{"$f":"'Competitor List'!O78","v":513},{"$f":"IF('Competitor List'!D78=\"Y\",'Competitor List'!B78,\" \")","v":" "},{"$f":"IF('Competitor List'!H78=\"Y\",\"Y\",\"N\")","v":"N"},{"$f":" T('Competitor List'!F78)","v":""},{"$f":"'LIGHT GUN'!V99","v":"DQ"},{"$f":"'HEAVY GUN'!V99","v":"DQ"},{"$f":" IF(AND('Competitor List'!D78=\"Y\",ISNUMBER(E96),ISNUMBER(F96)),(SUM(E96:F96))/2,\"DQ\")","v":"DQ"},"DQ",{"$f":"'LIGHT GUN'!S99","v":"DQ"},{"$f":"'HEAVY GUN'!S99","v":"DQ"},{"$f":" IF(AND('Competitor List'!D78=\"Y\",ISNUMBER(I96),ISNUMBER(J96)),(SUM(I96:J96)),\"DQ\")","v":"DQ"},"DQ",{"$f":"'LIGHT GUN'!U99+'HEAVY GUN'!U99","v":0},{"$f":" IF(AND('Competitor List'!D78=\"Y\",ISNUMBER(H96),ISNUMBER(L96)),(H96+L96),\"DQ\")","v":"DQ"},"DQ",0]
[{"$f":"'Competitor List'!O79","v":514},{"$f":"IF('Competitor List'!D79=\"Y\",'Competitor List'!B79,\" \")","v":" "},{"$f":"IF('Competitor List'!H79=\"Y\",\"Y\",\"N\")","v":"N"},{"$f":" T('Competitor List'!F79)","v":""},{"$f":"'LIGHT GUN'!V100","v":"DQ"},{"$f":"'HEAVY GUN'!V100","v":"DQ"},{"$f":" IF(AND('Competitor List'!D79=\"Y\",ISNUMBER(E97),ISNUMBER(F97)),(SUM(E97:F97))/2,\"DQ\")","v":"DQ"},"DQ",{"$f":"'LIGHT GUN'!S100","v":"DQ"},{"$f":"'HEAVY GUN'!S100","v":"DQ"},{"$f":" IF(AND('Competitor List'!D79=\"Y\",ISNUMBER(I97),ISNUMBER(J97)),(SUM(I97:J97)),\"DQ\")","v":"DQ"},"DQ",{"$f":"'LIGHT GUN'!U100+'HEAVY GUN'!U100","v":0},{"$f":" IF(AND('Competitor List'!D79=\"Y\",ISNUMBER(H97),ISNUMBER(L97)),H97+L97,\"DQ\")","v":"DQ"},"DQ",0]
[{"$f":"'Competitor List'!O80","v":515},{"$f":"IF('Competitor List'!D80=\"Y\",'Competitor List'!B80,\" \")","v":" "},{"$f":"IF('Competitor List'!H80=\"Y\",\"Y\",\"N\")","v":"N"},{"$f":" T('Competitor List'!F80)","v":""},{"$f":"'LIGHT GUN'!V101","v":"DQ"},{"$f":"'HEAVY GUN'!V101","v":"DQ"},{"$f":" IF(AND('Competitor List'!D80=\"Y\",ISNUMBER(E98),ISNUMBER(F98)),(SUM(E98:F98))/2,\"DQ\")","v":"DQ"},"DQ",{"$f":"'LIGHT GUN'!S101","v":"DQ"},{"$f":"'HEAVY GUN'!S101","v":"DQ"},{"$f":" IF(AND('Competitor List'!D80=\"Y\",ISNUMBER(I98),ISNUMBER(J98)),(SUM(I98:J98)),\"DQ\")","v":"DQ"},"DQ",{"$f":"'LIGHT GUN'!U101+'HEAVY GUN'!U101","v":0},{"$f":" IF(AND('Competitor List'!D80=\"Y\",ISNUMBER(H98),ISNUMBER(L98)),H98+L98,\"DQ\")","v":"DQ"},"DQ",0]
[{"$f":"'Competitor List'!O81","v":601},{"$f":"IF('Competitor List'!D81=\"Y\",'Competitor List'!B81,\" \")","v":" "},{"$f":"IF('Competitor List'!H81=\"Y\",\"Y\",\"N\")","v":"N"},{"$f":" T('Competitor List'!F81)","v":""},{"$f":"'LIGHT GUN'!V102","v":"DQ"},{"$f":"'HEAVY GUN'!V102","v":"DQ"},{"$f":" IF(AND('Competitor List'!D81=\"Y\",ISNUMBER(E99),ISNUMBER(F99)),(SUM(E99:F99))/2,\"DQ\")","v":"DQ"},"DQ",{"$f":"'LIGHT GUN'!S102","v":"DQ"},{"$f":"'HEAVY GUN'!S102","v":"DQ"},{"$f":" IF(AND('Competitor List'!D81=\"Y\",ISNUMBER(I99),ISNUMBER(J99)),(SUM(I99:J99)),\"DQ\")","v":"DQ"},"DQ",{"$f":"'LIGHT GUN'!U102+'HEAVY GUN'!U102","v":0},{"$f":" IF(AND('Competitor List'!D81=\"Y\",ISNUMBER(H99),ISNUMBER(L99)),(H99+L99),\"DQ\")","v":"DQ"},"DQ",0]
[{"$f":"'Competitor List'!O82","v":602},{"$f":"IF('Competitor List'!D82=\"Y\",'Competitor List'!B82,\" \")","v":" "},{"$f":"IF('Competitor List'!H82=\"Y\",\"Y\",\"N\")","v":"N"},{"$f":" T('Competitor List'!F82)","v":""},{"$f":"'LIGHT GUN'!V103","v":"DQ"},{"$f":"'HEAVY GUN'!V103","v":"DQ"},{"$f":" IF(AND('Competitor List'!D82=\"Y\",ISNUMBER(E100),ISNUMBER(F100)),(SUM(E100:F100))/2,\"DQ\")","v":"DQ"},"DQ",{"$f":"'LIGHT GUN'!S103","v":"DQ"},{"$f":"'HEAVY GUN'!S103","v":"DQ"},{"$f":" IF(AND('Competitor List'!D82=\"Y\",ISNUMBER(I100),ISNUMBER(J100)),(SUM(I100:J100)),\"DQ\")","v":"DQ"},"DQ",{"$f":"'LIGHT GUN'!U103+'HEAVY GUN'!U103","v":0},{"$f":" IF(AND('Competitor List'!D82=\"Y\",ISNUMBER(H100),ISNUMBER(L100)),H100+L100,\"DQ\")","v":"DQ"},"DQ",0]
[{"$f":"'Competitor List'!O83","v":603},{"$f":"IF('Competitor List'!D83=\"Y\",'Competitor List'!B83,\" \")","v":" "},{"$f":"IF('Competitor List'!H83=\"Y\",\"Y\",\"N\")","v":"N"},{"$f":" T('Competitor List'!F83)","v":""},{"$f":"'LIGHT GUN'!V104","v":"DQ"},{"$f":"'HEAVY GUN'!V104","v":"DQ"},{"$f":" IF(AND('Competitor List'!D83=\"Y\",ISNUMBER(E101),ISNUMBER(F101)),(SUM(E101:F101))/2,\"DQ\")","v":"DQ"},"DQ",{"$f":"'LIGHT GUN'!S104","v":"DQ"},{"$f":"'HEAVY GUN'!S104","v":"DQ"},{"$f":" IF(AND('Competitor List'!D83=\"Y\",ISNUMBER(I101),ISNUMBER(J101)),(SUM(I101:J101)),\"DQ\")","v":"DQ"},"DQ",{"$f":"'LIGHT GUN'!U104+'HEAVY GUN'!U104","v":0},{"$f":" IF(AND('Competitor List'!D83=\"Y\",ISNUMBER(H101),ISNUMBER(L101)),H101+L101,\"DQ\")","v":"DQ"},"DQ",0]
[{"$f":"'Competitor List'!O84","v":604},{"$f":"IF('Competitor List'!D84=\"Y\",'Competitor List'!B84,\" \")","v":" "},{"$f":"IF('Competitor List'!H84=\"Y\",\"Y\",\"N\")","v":"N"},{"$f":" T('Competitor List'!F84)","v":""},{"$f":"'LIGHT GUN'!V105","v":"DQ"},{"$f":"'HEAVY GUN'!V105","v":"DQ"},{"$f":" IF(AND('Competitor List'!D84=\"Y\",ISNUMBER(E102),ISNUMBER(F102)),(SUM(E102:F102))/2,\"DQ\")","v":"DQ"},"DQ",{"$f":"'LIGHT GUN'!S105","v":"DQ"},{"$f":"'HEAVY GUN'!S105","v":"DQ"},{"$f":" IF(AND('Competitor List'!D84=\"Y\",ISNUMBER(I102),ISNUMBER(J102)),(SUM(I102:J102)),\"DQ\")","v":"DQ"},"DQ",{"$f":"'LIGHT GUN'!U105+'HEAVY GUN'!U105","v":0},{"$f":" IF(AND('Competitor List'!D84=\"Y\",ISNUMBER(H102),ISNUMBER(L102)),(H102+L102),\"DQ\")","v":"DQ"},"DQ",0]
[{"$f":"'Competitor List'!O85","v":605},{"$f":"IF('Competitor List'!D85=\"Y\",'Competitor List'!B85,\" \")","v":" "},{"$f":"IF('Competitor List'!H85=\"Y\",\"Y\",\"N\")","v":"N"},{"$f":" T('Competitor List'!F85)","v":""},{"$f":"'LIGHT GUN'!V106","v":"DQ"},{"$f":"'HEAVY GUN'!V106","v":"DQ"},{"$f":" IF(AND('Competitor List'!D85=\"Y\",ISNUMBER(E103),ISNUMBER(F103)),(SUM(E103:F103))/2,\"DQ\")","v":"DQ"},"DQ",{"$f":"'LIGHT GUN'!S106","v":"DQ"},{"$f":"'HEAVY GUN'!S106","v":"DQ"},{"$f":" IF(AND('Competitor List'!D85=\"Y\",ISNUMBER(I103),ISNUMBER(J103)),(SUM(I103:J103)),\"DQ\")","v":"DQ"},"DQ",{"$f":"'LIGHT GUN'!U106+'HEAVY GUN'!U106","v":0},{"$f":" IF(AND('Competitor List'!D85=\"Y\",ISNUMBER(H103),ISNUMBER(L103)),H103+L103,\"DQ\")","v":"DQ"},"DQ",0]
[{"$f":"'Competitor List'!O86","v":606},{"$f":"IF('Competitor List'!D86=\"Y\",'Competitor List'!B86,\" \")","v":" "},{"$f":"IF('Competitor List'!H86=\"Y\",\"Y\",\"N\")","v":"N"},{"$f":" T('Competitor List'!F86)","v":""},{"$f":"'LIGHT GUN'!V107","v":"DQ"},{"$f":"'HEAVY GUN'!V107","v":"DQ"},{"$f":" IF(AND('Competitor List'!D86=\"Y\",ISNUMBER(E104),ISNUMBER(F104)),(SUM(E104:F104))/2,\"DQ\")","v":"DQ"},"DQ",{"$f":"'LIGHT GUN'!S107","v":"DQ"},{"$f":"'HEAVY GUN'!S107","v":"DQ"},{"$f":" IF(AND('Competitor List'!D86=\"Y\",ISNUMBER(I104),ISNUMBER(J104)),(SUM(I104:J104)),\"DQ\")","v":"DQ"},"DQ",{"$f":"'LIGHT GUN'!U107+'HEAVY GUN'!U107","v":0},{"$f":" IF(AND('Competitor List'!D86=\"Y\",ISNUMBER(H104),ISNUMBER(L104)),H104+L104,\"DQ\")","v":"DQ"},"DQ",0]
[{"$f":"'Competitor List'!O87","v":607},{"$f":"IF('Competitor List'!D87=\"Y\",'Competitor List'!B87,\" \")","v":" "},{"$f":"IF('Competitor List'!H87=\"Y\",\"Y\",\"N\")","v":"N"},{"$f":" T('Competitor List'!F87)","v":""},{"$f":"'LIGHT GUN'!V108","v":"DQ"},{"$f":"'HEAVY GUN'!V108","v":"DQ"},{"$f":" IF(AND('Competitor List'!D87=\"Y\",ISNUMBER(E105),ISNUMBER(F105)),(SUM(E105:F105))/2,\"DQ\")","v":"DQ"},"DQ",{"$f":"'LIGHT GUN'!S108","v":"DQ"},{"$f":"'HEAVY GUN'!S108","v":"DQ"},{"$f":" IF(AND('Competitor List'!D87=\"Y\",ISNUMBER(I105),ISNUMBER(J105)),(SUM(I105:J105)),\"DQ\")","v":"DQ"},"DQ",{"$f":"'LIGHT GUN'!U108+'HEAVY GUN'!U108","v":0},{"$f":" IF(AND('Competitor List'!D87=\"Y\",ISNUMBER(H105),ISNUMBER(L105)),(H105+L105),\"DQ\")","v":"DQ"},"DQ",0]
[{"$f":"'Competitor List'!O88","v":608},{"$f":"IF('Competitor List'!D88=\"Y\",'Competitor List'!B88,\" \")","v":" "},{"$f":"IF('Competitor List'!H88=\"Y\",\"Y\",\"N\")","v":"N"},{"$f":" T('Competitor List'!F88)","v":""},{"$f":"'LIGHT GUN'!V109","v":"DQ"},{"$f":"'HEAVY GUN'!V109","v":"DQ"},{"$f":" IF(AND('Competitor List'!D88=\"Y\",ISNUMBER(E106),ISNUMBER(F106)),(SUM(E106:F106))/2,\"DQ\")","v":"DQ"},"DQ",{"$f":"'LIGHT GUN'!S109","v":"DQ"},{"$f":"'HEAVY GUN'!S109","v":"DQ"},{"$f":" IF(AND('Competitor List'!D88=\"Y\",ISNUMBER(I106),ISNUMBER(J106)),(SUM(I106:J106)),\"DQ\")","v":"DQ"},"DQ",{"$f":"'LIGHT GUN'!U109+'HEAVY GUN'!U109","v":0},{"$f":" IF(AND('Competitor List'!D88=\"Y\",ISNUMBER(H106),ISNUMBER(L106)),H106+L106,\"DQ\")","v":"DQ"},"DQ",0]
[{"$f":"'Competitor List'!O89","v":609},{"$f":"IF('Competitor List'!D89=\"Y\",'Competitor List'!B89,\" \")","v":" "},{"$f":"IF('Competitor List'!H89=\"Y\",\"Y\",\"N\")","v":"N"},{"$f":" T('Competitor List'!F89)","v":""},{"$f":"'LIGHT GUN'!V110","v":"DQ"},{"$f":"'HEAVY GUN'!V110","v":"DQ"},{"$f":" IF(AND('Competitor List'!D89=\"Y\",ISNUMBER(E107),ISNUMBER(F107)),(SUM(E107:F107))/2,\"DQ\")","v":"DQ"},"DQ",{"$f":"'LIGHT GUN'!S110","v":"DQ"},{"$f":"'HEAVY GUN'!S110","v":"DQ"},{"$f":" IF(AND('Competitor List'!D89=\"Y\",ISNUMBER(I107),ISNUMBER(J107)),(SUM(I107:J107)),\"DQ\")","v":"DQ"},"DQ",{"$f":"'LIGHT GUN'!U110+'HEAVY GUN'!U110","v":0},{"$f":" IF(AND('Competitor List'!D89=\"Y\",ISNUMBER(H107),ISNUMBER(L107)),H107+L107,\"DQ\")","v":"DQ"},"DQ",0]
[{"$f":"'Competitor List'!O90","v":610},{"$f":"IF('Competitor List'!D90=\"Y\",'Competitor List'!B90,\" \")","v":" "},{"$f":"IF('Competitor List'!H90=\"Y\",\"Y\",\"N\")","v":"N"},{"$f":" T('Competitor List'!F90)","v":""},{"$f":"'LIGHT GUN'!V111","v":"DQ"},{"$f":"'HEAVY GUN'!V111","v":"DQ"},{"$f":" IF(AND('Competitor List'!D90=\"Y\",ISNUMBER(E108),ISNUMBER(F108)),(SUM(E108:F108))/2,\"DQ\")","v":"DQ"},"DQ",{"$f":"'LIGHT GUN'!S111","v":"DQ"},{"$f":"'HEAVY GUN'!S111","v":"DQ"},{"$f":" IF(AND('Competitor List'!D90=\"Y\",ISNUMBER(I108),ISNUMBER(J108)),(SUM(I108:J108)),\"DQ\")","v":"DQ"},"DQ",{"$f":"'LIGHT GUN'!U111+'HEAVY GUN'!U111","v":0},{"$f":" IF(AND('Competitor List'!D90=\"Y\",ISNUMBER(H108),ISNUMBER(L108)),(H108+L108),\"DQ\")","v":"DQ"},"DQ",0]
[{"$f":"'Competitor List'!O91","v":611},{"$f":"IF('Competitor List'!D91=\"Y\",'Competitor List'!B91,\" \")","v":" "},{"$f":"IF('Competitor List'!H91=\"Y\",\"Y\",\"N\")","v":"N"},{"$f":" T('Competitor List'!F91)","v":""},{"$f":"'LIGHT GUN'!V112","v":"DQ"},{"$f":"'HEAVY GUN'!V112","v":"DQ"},{"$f":" IF(AND('Competitor List'!D91=\"Y\",ISNUMBER(E109),ISNUMBER(F109)),(SUM(E109:F109))/2,\"DQ\")","v":"DQ"},"DQ",{"$f":"'LIGHT GUN'!S112","v":"DQ"},{"$f":"'HEAVY GUN'!S112","v":"DQ"},{"$f":" IF(AND('Competitor List'!D91=\"Y\",ISNUMBER(I109),ISNUMBER(J109)),(SUM(I109:J109)),\"DQ\")","v":"DQ"},"DQ",{"$f":"'LIGHT GUN'!U112+'HEAVY GUN'!U112","v":0},{"$f":" IF(AND('Competitor List'!D91=\"Y\",ISNUMBER(H109),ISNUMBER(L109)),H109+L109,\"DQ\")","v":"DQ"},"DQ",0]
[{"$f":"'Competitor List'!O92","v":612},{"$f":"IF('Competitor List'!D92=\"Y\",'Competitor List'!B92,\" \")","v":" "},{"$f":"IF('Competitor List'!H92=\"Y\",\"Y\",\"N\")","v":"N"},{"$f":" T('Competitor List'!F92)","v":""},{"$f":"'LIGHT GUN'!V113","v":"DQ"},{"$f":"'HEAVY GUN'!V113","v":"DQ"},{"$f":" IF(AND('Competitor List'!D92=\"Y\",ISNUMBER(E110),ISNUMBER(F110)),(SUM(E110:F110))/2,\"DQ\")","v":"DQ"},"DQ",{"$f":"'LIGHT GUN'!S113","v":"DQ"},{"$f":"'HEAVY GUN'!S113","v":"DQ"},{"$f":" IF(AND('Competitor List'!D92=\"Y\",ISNUMBER(I110),ISNUMBER(J110)),(SUM(I110:J110)),\"DQ\")","v":"DQ"},"DQ",{"$f":"'LIGHT GUN'!U113+'HEAVY GUN'!U113","v":0},{"$f":" IF(AND('Competitor List'!D92=\"Y\",ISNUMBER(H110),ISNUMBER(L110)),H110+L110,\"DQ\")","v":"DQ"},"DQ",0]
[{"$f":"'Competitor List'!O93","v":613},{"$f":"IF('Competitor List'!D93=\"Y\",'Competitor List'!B93,\" \")","v":" "},{"$f":"IF('Competitor List'!H93=\"Y\",\"Y\",\"N\")","v":"N"},{"$f":" T('Competitor List'!F93)","v":""},{"$f":"'LIGHT GUN'!V114","v":"DQ"},{"$f":"'HEAVY GUN'!V114","v":"DQ"},{"$f":" IF(AND('Competitor List'!D93=\"Y\",ISNUMBER(E111),ISNUMBER(F111)),(SUM(E111:F111))/2,\"DQ\")","v":"DQ"},"DQ",{"$f":"'LIGHT GUN'!S114","v":"DQ"},{"$f":"'HEAVY GUN'!S114","v":"DQ"},{"$f":" IF(AND('Competitor List'!D93=\"Y\",ISNUMBER(I111),ISNUMBER(J111)),(SUM(I111:J111)),\"DQ\")","v":"DQ"},"DQ",{"$f":"'LIGHT GUN'!U114+'HEAVY GUN'!U114","v":0},{"$f":" IF(AND('Competitor List'!D93=\"Y\",ISNUMBER(H111),ISNUMBER(L111)),(H111+L111),\"DQ\")","v":"DQ"},"DQ",0]
[{"$f":"'Competitor List'!O94","v":614},{"$f":"IF('Competitor List'!D94=\"Y\",'Competitor List'!B94,\" \")","v":" "},{"$f":"IF('Competitor List'!H94=\"Y\",\"Y\",\"N\")","v":"N"},{"$f":" T('Competitor List'!F94)","v":""},{"$f":"'LIGHT GUN'!V115","v":"DQ"},{"$f":"'HEAVY GUN'!V115","v":"DQ"},{"$f":" IF(AND('Competitor List'!D94=\"Y\",ISNUMBER(E112),ISNUMBER(F112)),(SUM(E112:F112))/2,\"DQ\")","v":"DQ"},"DQ",{"$f":"'LIGHT GUN'!S115","v":"DQ"},{"$f":"'HEAVY GUN'!S115","v":"DQ"},{"$f":" IF(AND('Competitor List'!D94=\"Y\",ISNUMBER(I112),ISNUMBER(J112)),(SUM(I112:J112)),\"DQ\")","v":"DQ"},"DQ",{"$f":"'LIGHT GUN'!U115+'HEAVY GUN'!U115","v":0},{"$f":" IF(AND('Competitor List'!D94=\"Y\",ISNUMBER(H112),ISNUMBER(L112)),H112+L112,\"DQ\")","v":"DQ"},"DQ",0]
[{"$f":"'Competitor List'!O95","v":615},{"$f":"IF('Competitor List'!D95=\"Y\",'Competitor List'!B95,\" \")","v":" "},{"$f":"IF('Competitor List'!H95=\"Y\",\"Y\",\"N\")","v":"N"},{"$f":" T('Competitor List'!F95)","v":""},{"$f":"'LIGHT GUN'!V116","v":"DQ"},{"$f":"'HEAVY GUN'!V116","v":"DQ"},{"$f":" IF(AND('Competitor List'!D95=\"Y\",ISNUMBER(E113),ISNUMBER(F113)),(SUM(E113:F113))/2,\"DQ\")","v":"DQ"},"DQ",{"$f":"'LIGHT GUN'!S116","v":"DQ"},{"$f":"'HEAVY GUN'!S116","v":"DQ"},{"$f":" IF(AND('Competitor List'!D95=\"Y\",ISNUMBER(I113),ISNUMBER(J113)),(SUM(I113:J113)),\"DQ\")","v":"DQ"},"DQ",{"$f":"'LIGHT GUN'!U116+'HEAVY GUN'!U116","v":0},{"$f":" IF(AND('Competitor List'!D95=\"Y\",ISNUMBER(H113),ISNUMBER(L113)),H113+L113,\"DQ\")","v":"DQ"},"DQ",0]
[{"$f":"'Competitor List'!O96","v":701},{"$f":"IF('Competitor List'!D96=\"Y\",'Competitor List'!B96,\" \")","v":" "},{"$f":"IF('Competitor List'!H96=\"Y\",\"Y\",\"N\")","v":"N"},{"$f":" T('Competitor List'!F96)","v":""},{"$f":"'LIGHT GUN'!V117","v":"DQ"},{"$f":"'HEAVY GUN'!V117","v":"DQ"},{"$f":" IF(AND('Competitor List'!D96=\"Y\",ISNUMBER(E114),ISNUMBER(F114)),(SUM(E114:F114))/2,\"DQ\")","v":"DQ"},"DQ",{"$f":"'LIGHT GUN'!S117","v":"DQ"},{"$f":"'HEAVY GUN'!S117","v":"DQ"},{"$f":" IF(AND('Competitor List'!D96=\"Y\",ISNUMBER(I114),ISNUMBER(J114)),(SUM(I114:J114)),\"DQ\")","v":"DQ"},"DQ",{"$f":"'LIGHT GUN'!U117+'HEAVY GUN'!U117","v":0},{"$f":" IF(AND('Competitor List'!D96=\"Y\",ISNUMBER(H114),ISNUMBER(L114)),(H114+L114),\"DQ\")","v":"DQ"},"DQ",0]
[{"$f":"'Competitor List'!O97","v":702},{"$f":"IF('Competitor List'!D97=\"Y\",'Competitor List'!B97,\" \")","v":" "},{"$f":"IF('Competitor List'!H97=\"Y\",\"Y\",\"N\")","v":"N"},{"$f":" T('Competitor List'!F97)","v":""},{"$f":"'LIGHT GUN'!V118","v":"DQ"},{"$f":"'HEAVY GUN'!V118","v":"DQ"},{"$f":" IF(AND('Competitor List'!D97=\"Y\",ISNUMBER(E115),ISNUMBER(F115)),(SUM(E115:F115))/2,\"DQ\")","v":"DQ"},"DQ",{"$f":"'LIGHT GUN'!S118","v":"DQ"},{"$f":"'HEAVY GUN'!S118","v":"DQ"},{"$f":" IF(AND('Competitor List'!D97=\"Y\",ISNUMBER(I115),ISNUMBER(J115)),(SUM(I115:J115)),\"DQ\")","v":"DQ"},"DQ",{"$f":"'LIGHT GUN'!U118+'HEAVY GUN'!U118","v":0},{"$f":" IF(AND('Competitor List'!D97=\"Y\",ISNUMBER(H115),ISNUMBER(L115)),H115+L115,\"DQ\")","v":"DQ"},"DQ",0]
[{"$f":"'Competitor List'!O98","v":703},{"$f":"IF('Competitor List'!D98=\"Y\",'Competitor List'!B98,\" \")","v":" "},{"$f":"IF('Competitor List'!H98=\"Y\",\"Y\",\"N\")","v":"N"},{"$f":" T('Competitor List'!F98)","v":""},{"$f":"'LIGHT GUN'!V119","v":"DQ"},{"$f":"'HEAVY GUN'!V119","v":"DQ"},{"$f":" IF(AND('Competitor List'!D98=\"Y\",ISNUMBER(E116),ISNUMBER(F116)),(SUM(E116:F116))/2,\"DQ\")","v":"DQ"},"DQ",{"$f":"'LIGHT GUN'!S119","v":"DQ"},{"$f":"'HEAVY GUN'!S119","v":"DQ"},{"$f":" IF(AND('Competitor List'!D98=\"Y\",ISNUMBER(I116),ISNUMBER(J116)),(SUM(I116:J116)),\"DQ\")","v":"DQ"},"DQ",{"$f":"'LIGHT GUN'!U119+'HEAVY GUN'!U119","v":0},{"$f":" IF(AND('Competitor List'!D98=\"Y\",ISNUMBER(H116),ISNUMBER(L116)),H116+L116,\"DQ\")","v":"DQ"},"DQ",0]
[{"$f":"'Competitor List'!O99","v":704},{"$f":"IF('Competitor List'!D99=\"Y\",'Competitor List'!B99,\" \")","v":" "},{"$f":"IF('Competitor List'!H99=\"Y\",\"Y\",\"N\")","v":"N"},{"$f":" T('Competitor List'!F99)","v":""},{"$f":"'LIGHT GUN'!V120","v":"DQ"},{"$f":"'HEAVY GUN'!V120","v":"DQ"},{"$f":" IF(AND('Competitor List'!D99=\"Y\",ISNUMBER(E117),ISNUMBER(F117)),(SUM(E117:F117))/2,\"DQ\")","v":"DQ"},"DQ",{"$f":"'LIGHT GUN'!S120","v":"DQ"},{"$f":"'HEAVY GUN'!S120","v":"DQ"},{"$f":" IF(AND('Competitor List'!D99=\"Y\",ISNUMBER(I117),ISNUMBER(J117)),(SUM(I117:J117)),\"DQ\")","v":"DQ"},"DQ",{"$f":"'LIGHT GUN'!U120+'HEAVY GUN'!U120","v":0},{"$f":" IF(AND('Competitor List'!D99=\"Y\",ISNUMBER(H117),ISNUMBER(L117)),(H117+L117),\"DQ\")","v":"DQ"},"DQ",0]
[{"$f":"'Competitor List'!O100","v":705},{"$f":"IF('Competitor List'!D100=\"Y\",'Competitor List'!B100,\" \")","v":" "},{"$f":"IF('Competitor List'!H100=\"Y\",\"Y\",\"N\")","v":"N"},{"$f":" T('Competitor List'!F100)","v":""},{"$f":"'LIGHT GUN'!V121","v":"DQ"},{"$f":"'HEAVY GUN'!V121","v":"DQ"},{"$f":" IF(AND('Competitor List'!D100=\"Y\",ISNUMBER(E118),ISNUMBER(F118)),(SUM(E118:F118))/2,\"DQ\")","v":"DQ"},"DQ",{"$f":"'LIGHT GUN'!S121","v":"DQ"},{"$f":"'HEAVY GUN'!S121","v":"DQ"},{"$f":" IF(AND('Competitor List'!D100=\"Y\",ISNUMBER(I118),ISNUMBER(J118)),(SUM(I118:J118)),\"DQ\")","v":"DQ"},"DQ",{"$f":"'LIGHT GUN'!U121+'HEAVY GUN'!U121","v":0},{"$f":" IF(AND('Competitor List'!D100=\"Y\",ISNUMBER(H118),ISNUMBER(L118)),H118+L118,\"DQ\")","v":"DQ"},"DQ",0]
[{"$f":"'Competitor List'!O101","v":706},{"$f":"IF('Competitor List'!D101=\"Y\",'Competitor List'!B101,\" \")","v":" "},{"$f":"IF('Competitor List'!H101=\"Y\",\"Y\",\"N\")","v":"N"},{"$f":" T('Competitor List'!F101)","v":""},{"$f":"'LIGHT GUN'!V122","v":"DQ"},{"$f":"'HEAVY GUN'!V122","v":"DQ"},{"$f":" IF(AND('Competitor List'!D101=\"Y\",ISNUMBER(E119),ISNUMBER(F119)),(SUM(E119:F119))/2,\"DQ\")","v":"DQ"},"DQ",{"$f":"'LIGHT GUN'!S122","v":"DQ"},{"$f":"'HEAVY GUN'!S122","v":"DQ"},{"$f":" IF(AND('Competitor List'!D101=\"Y\",ISNUMBER(I119),ISNUMBER(J119)),(SUM(I119:J119)),\"DQ\")","v":"DQ"},"DQ",{"$f":"'LIGHT GUN'!U122+'HEAVY GUN'!U122","v":0},{"$f":" IF(AND('Competitor List'!D101=\"Y\",ISNUMBER(H119),ISNUMBER(L119)),H119+L119,\"DQ\")","v":"DQ"},"DQ",0]
[{"$f":"'Competitor List'!O102","v":707},{"$f":"IF('Competitor List'!D102=\"Y\",'Competitor List'!B102,\" \")","v":" "},{"$f":"IF('Competitor List'!H102=\"Y\",\"Y\",\"N\")","v":"N"},{"$f":" T('Competitor List'!F102)","v":""},{"$f":"'LIGHT GUN'!V123","v":"DQ"},{"$f":"'HEAVY GUN'!V123","v":"DQ"},{"$f":" IF(AND('Competitor List'!D102=\"Y\",ISNUMBER(E120),ISNUMBER(F120)),(SUM(E120:F120))/2,\"DQ\")","v":"DQ"},"DQ",{"$f":"'LIGHT GUN'!S123","v":"DQ"},{"$f":"'HEAVY GUN'!S123","v":"DQ"},{"$f":" IF(AND('Competitor List'!D102=\"Y\",ISNUMBER(I120),ISNUMBER(J120)),(SUM(I120:J120)),\"DQ\")","v":"DQ"},"DQ",{"$f":"'LIGHT GUN'!U123+'HEAVY GUN'!U123","v":0},{"$f":" IF(AND('Competitor List'!D102=\"Y\",ISNUMBER(H120),ISNUMBER(L120)),(H120+L120),\"DQ\")","v":"DQ"},{"$f":" IF(AND(ISNUMBER(N120)),RANK(N120,$N$24:$N$173,1)+SUMPRODUCT(($N$24:$N$173=N120)*($G$24:$G$173<G120))+SUMPRODUCT(($N$24:$N$173=N120)*($G$24:$G$173=G120)*($K$24:$K$173>K120))+SUMPRODUCT(($N$24:$N$173=N120)*($G$24:$G$173=G120)*($K$24:$K$173=K120)*($M$24:$M$173>M120))+SUMPRODUCT(($N$24:$N$173=N120)*($G$24:$G$173=G120)*($K$24:$K$173=K120)*($M$24:$M$173=M120)*($R$24:$R$173<R120)),\"DQ\")","v":"DQ"},0]
[{"$f":"'Competitor List'!O103","v":708},{"$f":"IF('Competitor List'!D103=\"Y\",'Competitor List'!B103,\" \")","v":" "},{"$f":"IF('Competitor List'!H103=\"Y\",\"Y\",\"N\")","v":"N"},{"$f":" T('Competitor List'!F103)","v":""},{"$f":"'LIGHT GUN'!V124","v":"DQ"},{"$f":"'HEAVY GUN'!V124","v":"DQ"},{"$f":" IF(AND('Competitor List'!D103=\"Y\",ISNUMBER(E121),ISNUMBER(F121)),(SUM(E121:F121))/2,\"DQ\")","v":"DQ"},"DQ",{"$f":"'LIGHT GUN'!S124","v":"DQ"},{"$f":"'HEAVY GUN'!S124","v":"DQ"},{"$f":" IF(AND('Competitor List'!D103=\"Y\",ISNUMBER(I121),ISNUMBER(J121)),(SUM(I121:J121)),\"DQ\")","v":"DQ"},"DQ",{"$f":"'LIGHT GUN'!U124+'HEAVY GUN'!U124","v":0},{"$f":" IF(AND('Competitor List'!D103=\"Y\",ISNUMBER(H121),ISNUMBER(L121)),H121+L121,\"DQ\")","v":"DQ"},"DQ",0]
[{"$f":"'Competitor List'!O104","v":709},{"$f":"IF('Competitor List'!D104=\"Y\",'Competitor List'!B104,\" \")","v":" "},{"$f":"IF('Competitor List'!H104=\"Y\",\"Y\",\"N\")","v":"N"},{"$f":" T('Competitor List'!F104)","v":""},{"$f":"'LIGHT GUN'!V125","v":"DQ"},{"$f":"'HEAVY GUN'!V125","v":"DQ"},{"$f":" IF(AND('Competitor List'!D104=\"Y\",ISNUMBER(E122),ISNUMBER(F122)),(SUM(E122:F122))/2,\"DQ\")","v":"DQ"},"DQ",{"$f":"'LIGHT GUN'!S125","v":"DQ"},{"$f":"'HEAVY GUN'!S125","v":"DQ"},{"$f":" IF(AND('Competitor List'!D104=\"Y\",ISNUMBER(I122),ISNUMBER(J122)),(SUM(I122:J122)),\"DQ\")","v":"DQ"},"DQ",{"$f":"'LIGHT GUN'!U125+'HEAVY GUN'!U125","v":0},{"$f":" IF(AND('Competitor List'!D104=\"Y\",ISNUMBER(H122),ISNUMBER(L122)),H122+L122,\"DQ\")","v":"DQ"},"DQ",0]
[{"$f":"'Competitor List'!O105","v":710},{"$f":"IF('Competitor List'!D105=\"Y\",'Competitor List'!B105,\" \")","v":" "},{"$f":"IF('Competitor List'!H105=\"Y\",\"Y\",\"N\")","v":"N"},{"$f":" T('Competitor List'!F105)","v":""},{"$f":"'LIGHT GUN'!V126","v":"DQ"},{"$f":"'HEAVY GUN'!V126","v":"DQ"},{"$f":" IF(AND('Competitor List'!D105=\"Y\",ISNUMBER(E123),ISNUMBER(F123)),(SUM(E123:F123))/2,\"DQ\")","v":"DQ"},"DQ",{"$f":"'LIGHT GUN'!S126","v":"DQ"},{"$f":"'HEAVY GUN'!S126","v":"DQ"},{"$f":" IF(AND('Competitor List'!D105=\"Y\",ISNUMBER(I123),ISNUMBER(J123)),(SUM(I123:J123)),\"DQ\")","v":"DQ"},"DQ",{"$f":"'LIGHT GUN'!U126+'HEAVY GUN'!U126","v":0},{"$f":" IF(AND('Competitor List'!D105=\"Y\",ISNUMBER(H123),ISNUMBER(L123)),(H123+L123),\"DQ\")","v":"DQ"},"DQ",0]
[{"$f":"'Competitor List'!O106","v":711},{"$f":"IF('Competitor List'!D106=\"Y\",'Competitor List'!B106,\" \")","v":" "},{"$f":"IF('Competitor List'!H106=\"Y\",\"Y\",\"N\")","v":"N"},{"$f":" T('Competitor List'!F106)","v":""},{"$f":"'LIGHT GUN'!V127","v":"DQ"},{"$f":"'HEAVY GUN'!V127","v":"DQ"},{"$f":" IF(AND('Competitor List'!D106=\"Y\",ISNUMBER(E124),ISNUMBER(F124)),(SUM(E124:F124))/2,\"DQ\")","v":"DQ"},"DQ",{"$f":"'LIGHT GUN'!S127","v":"DQ"},{"$f":"'HEAVY GUN'!S127","v":"DQ"},{"$f":" IF(AND('Competitor List'!D106=\"Y\",ISNUMBER(I124),ISNUMBER(J124)),(SUM(I124:J124)),\"DQ\")","v":"DQ"},"DQ",{"$f":"'LIGHT GUN'!U127+'HEAVY GUN'!U127","v":0},{"$f":" IF(AND('Competitor List'!D106=\"Y\",ISNUMBER(H124),ISNUMBER(L124)),H124+L124,\"DQ\")","v":"DQ"},"DQ",0]
[{"$f":"'Competitor List'!O107","v":712},{"$f":"IF('Competitor List'!D107=\"Y\",'Competitor List'!B107,\" \")","v":" "},{"$f":"IF('Competitor List'!H107=\"Y\",\"Y\",\"N\")","v":"N"},{"$f":" T('Competitor List'!F107)","v":""},{"$f":"'LIGHT GUN'!V128","v":"DQ"},{"$f":"'HEAVY GUN'!V128","v":"DQ"},{"$f":" IF(AND('Competitor List'!D107=\"Y\",ISNUMBER(E125),ISNUMBER(F125)),(SUM(E125:F125))/2,\"DQ\")","v":"DQ"},"DQ",{"$f":"'LIGHT GUN'!S128","v":"DQ"},{"$f":"'HEAVY GUN'!S128","v":"DQ"},{"$f":" IF(AND('Competitor List'!D107=\"Y\",ISNUMBER(I125),ISNUMBER(J125)),(SUM(I125:J125)),\"DQ\")","v":"DQ"},"DQ",{"$f":"'LIGHT GUN'!U128+'HEAVY GUN'!U128","v":0},{"$f":" IF(AND('Competitor List'!D107=\"Y\",ISNUMBER(H125),ISNUMBER(L125)),H125+L125,\"DQ\")","v":"DQ"},"DQ",0]
[{"$f":"'Competitor List'!O108","v":713},{"$f":"IF('Competitor List'!D108=\"Y\",'Competitor List'!B108,\" \")","v":" "},{"$f":"IF('Competitor List'!H108=\"Y\",\"Y\",\"N\")","v":"N"},{"$f":" T('Competitor List'!F108)","v":""},{"$f":"'LIGHT GUN'!V129","v":"DQ"},{"$f":"'HEAVY GUN'!V129","v":"DQ"},{"$f":" IF(AND('Competitor List'!D108=\"Y\",ISNUMBER(E126),ISNUMBER(F126)),(SUM(E126:F126))/2,\"DQ\")","v":"DQ"},"DQ",{"$f":"'LIGHT GUN'!S129","v":"DQ"},{"$f":"'HEAVY GUN'!S129","v":"DQ"},{"$f":" IF(AND('Competitor List'!D108=\"Y\",ISNUMBER(I126),ISNUMBER(J126)),(SUM(I126:J126)),\"DQ\")","v":"DQ"},"DQ",{"$f":"'LIGHT GUN'!U129+'HEAVY GUN'!U129","v":0},{"$f":" IF(AND('Competitor List'!D108=\"Y\",ISNUMBER(H126),ISNUMBER(L126)),(H126+L126),\"DQ\")","v":"DQ"},"DQ",0]
[{"$f":"'Competitor List'!O109","v":714},{"$f":"IF('Competitor List'!D109=\"Y\",'Competitor List'!B109,\" \")","v":" "},{"$f":"IF('Competitor List'!H109=\"Y\",\"Y\",\"N\")","v":"N"},{"$f":" T('Competitor List'!F109)","v":""},{"$f":"'LIGHT GUN'!V130","v":"DQ"},{"$f":"'HEAVY GUN'!V130","v":"DQ"},{"$f":" IF(AND('Competitor List'!D109=\"Y\",ISNUMBER(E127),ISNUMBER(F127)),(SUM(E127:F127))/2,\"DQ\")","v":"DQ"},"DQ",{"$f":"'LIGHT GUN'!S130","v":"DQ"},{"$f":"'HEAVY GUN'!S130","v":"DQ"},{"$f":" IF(AND('Competitor List'!D109=\"Y\",ISNUMBER(I127),ISNUMBER(J127)),(SUM(I127:J127)),\"DQ\")","v":"DQ"},"DQ",{"$f":"'LIGHT GUN'!U130+'HEAVY GUN'!U130","v":0},{"$f":" IF(AND('Competitor List'!D109=\"Y\",ISNUMBER(H127),ISNUMBER(L127)),H127+L127,\"DQ\")","v":"DQ"},"DQ",0]
[{"$f":"'Competitor List'!O110","v":715},{"$f":"IF('Competitor List'!D110=\"Y\",'Competitor List'!B110,\" \")","v":" "},{"$f":"IF('Competitor List'!H110=\"Y\",\"Y\",\"N\")","v":"N"},{"$f":" T('Competitor List'!F110)","v":""},{"$f":"'LIGHT GUN'!V131","v":"DQ"},{"$f":"'HEAVY GUN'!V131","v":"DQ"},{"$f":" IF(AND('Competitor List'!D110=\"Y\",ISNUMBER(E128),ISNUMBER(F128)),(SUM(E128:F128))/2,\"DQ\")","v":"DQ"},"DQ",{"$f":"'LIGHT GUN'!S131","v":"DQ"},{"$f":"'HEAVY GUN'!S131","v":"DQ"},{"$f":" IF(AND('Competitor List'!D110=\"Y\",ISNUMBER(I128),ISNUMBER(J128)),(SUM(I128:J128)),\"DQ\")","v":"DQ"},"DQ",{"$f":"'LIGHT GUN'!U131+'HEAVY GUN'!U131","v":0},{"$f":" IF(AND('Competitor List'!D110=\"Y\",ISNUMBER(H128),ISNUMBER(L128)),H128+L128,\"DQ\")","v":"DQ"},"DQ",0]
[{"$f":"'Competitor List'!O111","v":801},{"$f":"IF('Competitor List'!D111=\"Y\",'Competitor List'!B111,\" \")","v":" "},{"$f":"IF('Competitor List'!H111=\"Y\",\"Y\",\"N\")","v":"N"},{"$f":" T('Competitor List'!F111)","v":""},{"$f":"'LIGHT GUN'!V132","v":"DQ"},{"$f":"'HEAVY GUN'!V132","v":"DQ"},{"$f":" IF(AND('Competitor List'!D111=\"Y\",ISNUMBER(E129),ISNUMBER(F129)),(SUM(E129:F129))/2,\"DQ\")","v":"DQ"},"DQ",{"$f":"'LIGHT GUN'!S132","v":"DQ"},{"$f":"'HEAVY GUN'!S132","v":"DQ"},{"$f":" IF(AND('Competitor List'!D111=\"Y\",ISNUMBER(I129),ISNUMBER(J129)),(SUM(I129:J129)),\"DQ\")","v":"DQ"},"DQ",{"$f":"'LIGHT GUN'!U132+'HEAVY GUN'!U132","v":0},{"$f":" IF(AND('Competitor List'!D111=\"Y\",ISNUMBER(H129),ISNUMBER(L129)),(H129+L129),\"DQ\")","v":"DQ"},"DQ",0]
[{"$f":"'Competitor List'!O112","v":802},{"$f":"IF('Competitor List'!D112=\"Y\",'Competitor List'!B112,\" \")","v":" "},{"$f":"IF('Competitor List'!H112=\"Y\",\"Y\",\"N\")","v":"N"},{"$f":" T('Competitor List'!F112)","v":""},{"$f":"'LIGHT GUN'!V133","v":"DQ"},{"$f":"'HEAVY GUN'!V133","v":"DQ"},{"$f":" IF(AND('Competitor List'!D112=\"Y\",ISNUMBER(E130),ISNUMBER(F130)),(SUM(E130:F130))/2,\"DQ\")","v":"DQ"},"DQ",{"$f":"'LIGHT GUN'!S133","v":"DQ"},{"$f":"'HEAVY GUN'!S133","v":"DQ"},{"$f":" IF(AND('Competitor List'!D112=\"Y\",ISNUMBER(I130),ISNUMBER(J130)),(SUM(I130:J130)),\"DQ\")","v":"DQ"},"DQ",{"$f":"'LIGHT GUN'!U133+'HEAVY GUN'!U133","v":0},{"$f":" IF(AND('Competitor List'!D112=\"Y\",ISNUMBER(H130),ISNUMBER(L130)),H130+L130,\"DQ\")","v":"DQ"},"DQ",0]
[{"$f":"'Competitor List'!O113","v":803},{"$f":"IF('Competitor List'!D113=\"Y\",'Competitor List'!B113,\" \")","v":" "},{"$f":"IF('Competitor List'!H113=\"Y\",\"Y\",\"N\")","v":"N"},{"$f":" T('Competitor List'!F113)","v":""},{"$f":"'LIGHT GUN'!V134","v":"DQ"},{"$f":"'HEAVY GUN'!V134","v":"DQ"},{"$f":" IF(AND('Competitor List'!D113=\"Y\",ISNUMBER(E131),ISNUMBER(F131)),(SUM(E131:F131))/2,\"DQ\")","v":"DQ"},"DQ",{"$f":"'LIGHT GUN'!S134","v":"DQ"},{"$f":"'HEAVY GUN'!S134","v":"DQ"},{"$f":" IF(AND('Competitor List'!D113=\"Y\",ISNUMBER(I131),ISNUMBER(J131)),(SUM(I131:J131)),\"DQ\")","v":"DQ"},"DQ",{"$f":"'LIGHT GUN'!U134+'HEAVY GUN'!U134","v":0},{"$f":" IF(AND('Competitor List'!D113=\"Y\",ISNUMBER(H131),ISNUMBER(L131)),H131+L131,\"DQ\")","v":"DQ"},"DQ",0]
[{"$f":"'Competitor List'!O114","v":804},{"$f":"IF('Competitor List'!D114=\"Y\",'Competitor List'!B114,\" \")","v":" "},{"$f":"IF('Competitor List'!H114=\"Y\",\"Y\",\"N\")","v":"N"},{"$f":" T('Competitor List'!F114)","v":""},{"$f":"'LIGHT GUN'!V135","v":"DQ"},{"$f":"'HEAVY GUN'!V135","v":"DQ"},{"$f":" IF(AND('Competitor List'!D114=\"Y\",ISNUMBER(E132),ISNUMBER(F132)),(SUM(E132:F132))/2,\"DQ\")","v":"DQ"},"DQ",{"$f":"'LIGHT GUN'!S135","v":"DQ"},{"$f":"'HEAVY GUN'!S135","v":"DQ"},{"$f":" IF(AND('Competitor List'!D114=\"Y\",ISNUMBER(I132),ISNUMBER(J132)),(SUM(I132:J132)),\"DQ\")","v":"DQ"},"DQ",{"$f":"'LIGHT GUN'!U135+'HEAVY GUN'!U135","v":0},{"$f":" IF(AND('Competitor List'!D114=\"Y\",ISNUMBER(H132),ISNUMBER(L132)),(H132+L132),\"DQ\")","v":"DQ"},"DQ",0]
[{"$f":"'Competitor List'!O115","v":805},{"$f":"IF('Competitor List'!D115=\"Y\",'Competitor List'!B115,\" \")","v":" "},{"$f":"IF('Competitor List'!H115=\"Y\",\"Y\",\"N\")","v":"N"},{"$f":" T('Competitor List'!F115)","v":""},{"$f":"'LIGHT GUN'!V136","v":"DQ"},{"$f":"'HEAVY GUN'!V136","v":"DQ"},{"$f":" IF(AND('Competitor List'!D115=\"Y\",ISNUMBER(E133),ISNUMBER(F133)),(SUM(E133:F133))/2,\"DQ\")","v":"DQ"},"DQ",{"$f":"'LIGHT GUN'!S136","v":"DQ"},{"$f":"'HEAVY GUN'!S136","v":"DQ"},{"$f":" IF(AND('Competitor List'!D115=\"Y\",ISNUMBER(I133),ISNUMBER(J133)),(SUM(I133:J133)),\"DQ\")","v":"DQ"},"DQ",{"$f":"'LIGHT GUN'!U136+'HEAVY GUN'!U136","v":0},{"$f":" IF(AND('Competitor List'!D115=\"Y\",ISNUMBER(H133),ISNUMBER(L133)),H133+L133,\"DQ\")","v":"DQ"},"DQ",0]
[{"$f":"'Competitor List'!O116","v":806},{"$f":"IF('Competitor List'!D116=\"Y\",'Competitor List'!B116,\" \")","v":" "},{"$f":"IF('Competitor List'!H116=\"Y\",\"Y\",\"N\")","v":"N"},{"$f":" T('Competitor List'!F116)","v":""},{"$f":"'LIGHT GUN'!V137","v":"DQ"},{"$f":"'HEAVY GUN'!V137","v":"DQ"},{"$f":" IF(AND('Competitor List'!D116=\"Y\",ISNUMBER(E134),ISNUMBER(F134)),(SUM(E134:F134))/2,\"DQ\")","v":"DQ"},"DQ",{"$f":"'LIGHT GUN'!S137","v":"DQ"},{"$f":"'HEAVY GUN'!S137","v":"DQ"},{"$f":" IF(AND('Competitor List'!D116=\"Y\",ISNUMBER(I134),ISNUMBER(J134)),(SUM(I134:J134)),\"DQ\")","v":"DQ"},"DQ",{"$f":"'LIGHT GUN'!U137+'HEAVY GUN'!U137","v":0},{"$f":" IF(AND('Competitor List'!D116=\"Y\",ISNUMBER(H134),ISNUMBER(L134)),H134+L134,\"DQ\")","v":"DQ"},"DQ",0]
[{"$f":"'Competitor List'!O117","v":807},{"$f":"IF('Competitor List'!D117=\"Y\",'Competitor List'!B117,\" \")","v":" "},{"$f":"IF('Competitor List'!H117=\"Y\",\"Y\",\"N\")","v":"N"},{"$f":" T('Competitor List'!F117)","v":""},{"$f":"'LIGHT GUN'!V138","v":"DQ"},{"$f":"'HEAVY GUN'!V138","v":"DQ"},{"$f":" IF(AND('Competitor List'!D117=\"Y\",ISNUMBER(E135),ISNUMBER(F135)),(SUM(E135:F135))/2,\"DQ\")","v":"DQ"},"DQ",{"$f":"'LIGHT GUN'!S138","v":"DQ"},{"$f":"'HEAVY GUN'!S138","v":"DQ"},{"$f":" IF(AND('Competitor List'!D117=\"Y\",ISNUMBER(I135),ISNUMBER(J135)),(SUM(I135:J135)),\"DQ\")","v":"DQ"},"DQ",{"$f":"'LIGHT GUN'!U138+'HEAVY GUN'!U138","v":0},{"$f":" IF(AND('Competitor List'!D117=\"Y\",ISNUMBER(H135),ISNUMBER(L135)),(H135+L135),\"DQ\")","v":"DQ"},"DQ",0]
[{"$f":"'Competitor List'!O118","v":808},{"$f":"IF('Competitor List'!D118=\"Y\",'Competitor List'!B118,\" \")","v":" "},{"$f":"IF('Competitor List'!H118=\"Y\",\"Y\",\"N\")","v":"N"},{"$f":" T('Competitor List'!F118)","v":""},{"$f":"'LIGHT GUN'!V139","v":"DQ"},{"$f":"'HEAVY GUN'!V139","v":"DQ"},{"$f":" IF(AND('Competitor List'!D118=\"Y\",ISNUMBER(E136),ISNUMBER(F136)),(SUM(E136:F136))/2,\"DQ\")","v":"DQ"},"DQ",{"$f":"'LIGHT GUN'!S139","v":"DQ"},{"$f":"'HEAVY GUN'!S139","v":"DQ"},{"$f":" IF(AND('Competitor List'!D118=\"Y\",ISNUMBER(I136),ISNUMBER(J136)),(SUM(I136:J136)),\"DQ\")","v":"DQ"},"DQ",{"$f":"'LIGHT GUN'!U139+'HEAVY GUN'!U139","v":0},{"$f":" IF(AND('Competitor List'!D118=\"Y\",ISNUMBER(H136),ISNUMBER(L136)),H136+L136,\"DQ\")","v":"DQ"},"DQ",0]
[{"$f":"'Competitor List'!O119","v":809},{"$f":"IF('Competitor List'!D119=\"Y\",'Competitor List'!B119,\" \")","v":" "},{"$f":"IF('Competitor List'!H119=\"Y\",\"Y\",\"N\")","v":"N"},{"$f":" T('Competitor List'!F119)","v":""},{"$f":"'LIGHT GUN'!V140","v":"DQ"},{"$f":"'HEAVY GUN'!V140","v":"DQ"},{"$f":" IF(AND('Competitor List'!D119=\"Y\",ISNUMBER(E137),ISNUMBER(F137)),(SUM(E137:F137))/2,\"DQ\")","v":"DQ"},"DQ",{"$f":"'LIGHT GUN'!S140","v":"DQ"},{"$f":"'HEAVY GUN'!S140","v":"DQ"},{"$f":" IF(AND('Competitor List'!D119=\"Y\",ISNUMBER(I137),ISNUMBER(J137)),(SUM(I137:J137)),\"DQ\")","v":"DQ"},"DQ",{"$f":"'LIGHT GUN'!U140+'HEAVY GUN'!U140","v":0},{"$f":" IF(AND('Competitor List'!D119=\"Y\",ISNUMBER(H137),ISNUMBER(L137)),H137+L137,\"DQ\")","v":"DQ"},"DQ",0]
[{"$f":"'Competitor List'!O120","v":810},{"$f":"IF('Competitor List'!D120=\"Y\",'Competitor List'!B120,\" \")","v":" "},{"$f":"IF('Competitor List'!H120=\"Y\",\"Y\",\"N\")","v":"N"},{"$f":" T('Competitor List'!F120)","v":""},{"$f":"'LIGHT GUN'!V141","v":"DQ"},{"$f":"'HEAVY GUN'!V141","v":"DQ"},{"$f":" IF(AND('Competitor List'!D120=\"Y\",ISNUMBER(E138),ISNUMBER(F138)),(SUM(E138:F138))/2,\"DQ\")","v":"DQ"},"DQ",{"$f":"'LIGHT GUN'!S141","v":"DQ"},{"$f":"'HEAVY GUN'!S141","v":"DQ"},{"$f":" IF(AND('Competitor List'!D120=\"Y\",ISNUMBER(I138),ISNUMBER(J138)),(SUM(I138:J138)),\"DQ\")","v":"DQ"},"DQ",{"$f":"'LIGHT GUN'!U141+'HEAVY GUN'!U141","v":0},{"$f":" IF(AND('Competitor List'!D120=\"Y\",ISNUMBER(H138),ISNUMBER(L138)),(H138+L138),\"DQ\")","v":"DQ"},"DQ",0]
[{"$f":"'Competitor List'!O121","v":811},{"$f":"IF('Competitor List'!D121=\"Y\",'Competitor List'!B121,\" \")","v":" "},{"$f":"IF('Competitor List'!H121=\"Y\",\"Y\",\"N\")","v":"N"},{"$f":" T('Competitor List'!F121)","v":""},{"$f":"'LIGHT GUN'!V142","v":"DQ"},{"$f":"'HEAVY GUN'!V142","v":"DQ"},{"$f":" IF(AND('Competitor List'!D121=\"Y\",ISNUMBER(E139),ISNUMBER(F139)),(SUM(E139:F139))/2,\"DQ\")","v":"DQ"},"DQ",{"$f":"'LIGHT GUN'!S142","v":"DQ"},{"$f":"'HEAVY GUN'!S142","v":"DQ"},{"$f":" IF(AND('Competitor List'!D121=\"Y\",ISNUMBER(I139),ISNUMBER(J139)),(SUM(I139:J139)),\"DQ\")","v":"DQ"},"DQ",{"$f":"'LIGHT GUN'!U142+'HEAVY GUN'!U142","v":0},{"$f":" IF(AND('Competitor List'!D121=\"Y\",ISNUMBER(H139),ISNUMBER(L139)),H139+L139,\"DQ\")","v":"DQ"},"DQ",0]
[{"$f":"'Competitor List'!O122","v":812},{"$f":"IF('Competitor List'!D122=\"Y\",'Competitor List'!B122,\" \")","v":" "},{"$f":"IF('Competitor List'!H122=\"Y\",\"Y\",\"N\")","v":"N"},{"$f":" T('Competitor List'!F122)","v":""},{"$f":"'LIGHT GUN'!V143","v":"DQ"},{"$f":"'HEAVY GUN'!V143","v":"DQ"},{"$f":" IF(AND('Competitor List'!D122=\"Y\",ISNUMBER(E140),ISNUMBER(F140)),(SUM(E140:F140))/2,\"DQ\")","v":"DQ"},"DQ",{"$f":"'LIGHT GUN'!S143","v":"DQ"},{"$f":"'HEAVY GUN'!S143","v":"DQ"},{"$f":" IF(AND('Competitor List'!D122=\"Y\",ISNUMBER(I140),ISNUMBER(J140)),(SUM(I140:J140)),\"DQ\")","v":"DQ"},"DQ",{"$f":"'LIGHT GUN'!U143+'HEAVY GUN'!U143","v":0},{"$f":" IF(AND('Competitor List'!D122=\"Y\",ISNUMBER(H140),ISNUMBER(L140)),H140+L140,\"DQ\")","v":"DQ"},"DQ",0]
[{"$f":"'Competitor List'!O123","v":813},{"$f":"IF('Competitor List'!D123=\"Y\",'Competitor List'!B123,\" \")","v":" "},{"$f":"IF('Competitor List'!H123=\"Y\",\"Y\",\"N\")","v":"N"},{"$f":" T('Competitor List'!F123)","v":""},{"$f":"'LIGHT GUN'!V144","v":"DQ"},{"$f":"'HEAVY GUN'!V144","v":"DQ"},{"$f":" IF(AND('Competitor List'!D123=\"Y\",ISNUMBER(E141),ISNUMBER(F141)),(SUM(E141:F141))/2,\"DQ\")","v":"DQ"},"DQ",{"$f":"'LIGHT GUN'!S144","v":"DQ"},{"$f":"'HEAVY GUN'!S144","v":"DQ"},{"$f":" IF(AND('Competitor List'!D123=\"Y\",ISNUMBER(I141),ISNUMBER(J141)),(SUM(I141:J141)),\"DQ\")","v":"DQ"},"DQ",{"$f":"'LIGHT GUN'!U144+'HEAVY GUN'!U144","v":0},{"$f":" IF(AND('Competitor List'!D123=\"Y\",ISNUMBER(H141),ISNUMBER(L141)),(H141+L141),\"DQ\")","v":"DQ"},"DQ",0]
[{"$f":"'Competitor List'!O124","v":814},{"$f":"IF('Competitor List'!D124=\"Y\",'Competitor List'!B124,\" \")","v":" "},{"$f":"IF('Competitor List'!H124=\"Y\",\"Y\",\"N\")","v":"N"},{"$f":" T('Competitor List'!F124)","v":""},{"$f":"'LIGHT GUN'!V145","v":"DQ"},{"$f":"'HEAVY GUN'!V145","v":"DQ"},{"$f":" IF(AND('Competitor List'!D124=\"Y\",ISNUMBER(E142),ISNUMBER(F142)),(SUM(E142:F142))/2,\"DQ\")","v":"DQ"},"DQ",{"$f":"'LIGHT GUN'!S145","v":"DQ"},{"$f":"'HEAVY GUN'!S145","v":"DQ"},{"$f":" IF(AND('Competitor List'!D124=\"Y\",ISNUMBER(I142),ISNUMBER(J142)),(SUM(I142:J142)),\"DQ\")","v":"DQ"},"DQ",{"$f":"'LIGHT GUN'!U145+'HEAVY GUN'!U145","v":0},{"$f":" IF(AND('Competitor List'!D124=\"Y\",ISNUMBER(H142),ISNUMBER(L142)),H142+L142,\"DQ\")","v":"DQ"},"DQ",0]
[{"$f":"'Competitor List'!O125","v":815},{"$f":"IF('Competitor List'!D125=\"Y\",'Competitor List'!B125,\" \")","v":" "},{"$f":"IF('Competitor List'!H125=\"Y\",\"Y\",\"N\")","v":"N"},{"$f":" T('Competitor List'!F125)","v":""},{"$f":"'LIGHT GUN'!V146","v":"DQ"},{"$f":"'HEAVY GUN'!V146","v":"DQ"},{"$f":" IF(AND('Competitor List'!D125=\"Y\",ISNUMBER(E143),ISNUMBER(F143)),(SUM(E143:F143))/2,\"DQ\")","v":"DQ"},"DQ",{"$f":"'LIGHT GUN'!S146","v":"DQ"},{"$f":"'HEAVY GUN'!S146","v":"DQ"},{"$f":" IF(AND('Competitor List'!D125=\"Y\",ISNUMBER(I143),ISNUMBER(J143)),(SUM(I143:J143)),\"DQ\")","v":"DQ"},"DQ",{"$f":"'LIGHT GUN'!U146+'HEAVY GUN'!U146","v":0},{"$f":" IF(AND('Competitor List'!D125=\"Y\",ISNUMBER(H143),ISNUMBER(L143)),H143+L143,\"DQ\")","v":"DQ"},"DQ",0]
[{"$f":"'Competitor List'!O126","v":901},{"$f":"IF('Competitor List'!D126=\"Y\",'Competitor List'!B126,\" \")","v":" "},{"$f":"IF('Competitor List'!H126=\"Y\",\"Y\",\"N\")","v":"N"},{"$f":" T('Competitor List'!F126)","v":""},{"$f":"'LIGHT GUN'!V147","v":"DQ"},{"$f":"'HEAVY GUN'!V147","v":"DQ"},{"$f":" IF(AND('Competitor List'!D126=\"Y\",ISNUMBER(E144),ISNUMBER(F144)),(SUM(E144:F144))/2,\"DQ\")","v":"DQ"},"DQ",{"$f":"'LIGHT GUN'!S147","v":"DQ"},{"$f":"'HEAVY GUN'!S147","v":"DQ"},{"$f":" IF(AND('Competitor List'!D126=\"Y\",ISNUMBER(I144),ISNUMBER(J144)),(SUM(I144:J144)),\"DQ\")","v":"DQ"},"DQ",{"$f":"'LIGHT GUN'!U147+'HEAVY GUN'!U147","v":0},{"$f":" IF(AND('Competitor List'!D126=\"Y\",ISNUMBER(H144),ISNUMBER(L144)),(H144+L144),\"DQ\")","v":"DQ"},"DQ",0]
[{"$f":"'Competitor List'!O127","v":902},{"$f":"IF('Competitor List'!D127=\"Y\",'Competitor List'!B127,\" \")","v":" "},{"$f":"IF('Competitor List'!H127=\"Y\",\"Y\",\"N\")","v":"N"},{"$f":" T('Competitor List'!F127)","v":""},{"$f":"'LIGHT GUN'!V148","v":"DQ"},{"$f":"'HEAVY GUN'!V148","v":"DQ"},{"$f":" IF(AND('Competitor List'!D127=\"Y\",ISNUMBER(E145),ISNUMBER(F145)),(SUM(E145:F145))/2,\"DQ\")","v":"DQ"},"DQ",{"$f":"'LIGHT GUN'!S148","v":"DQ"},{"$f":"'HEAVY GUN'!S148","v":"DQ"},{"$f":" IF(AND('Competitor List'!D127=\"Y\",ISNUMBER(I145),ISNUMBER(J145)),(SUM(I145:J145)),\"DQ\")","v":"DQ"},"DQ",{"$f":"'LIGHT GUN'!U148+'HEAVY GUN'!U148","v":0},{"$f":" IF(AND('Competitor List'!D127=\"Y\",ISNUMBER(H145),ISNUMBER(L145)),H145+L145,\"DQ\")","v":"DQ"},"DQ",0]
[{"$f":"'Competitor List'!O128","v":903},{"$f":"IF('Competitor List'!D128=\"Y\",'Competitor List'!B128,\" \")","v":" "},{"$f":"IF('Competitor List'!H128=\"Y\",\"Y\",\"N\")","v":"N"},{"$f":" T('Competitor List'!F128)","v":""},{"$f":"'LIGHT GUN'!V149","v":"DQ"},{"$f":"'HEAVY GUN'!V149","v":"DQ"},{"$f":" IF(AND('Competitor List'!D128=\"Y\",ISNUMBER(E146),ISNUMBER(F146)),(SUM(E146:F146))/2,\"DQ\")","v":"DQ"},"DQ",{"$f":"'LIGHT GUN'!S149","v":"DQ"},{"$f":"'HEAVY GUN'!S149","v":"DQ"},{"$f":" IF(AND('Competitor List'!D128=\"Y\",ISNUMBER(I146),ISNUMBER(J146)),(SUM(I146:J146)),\"DQ\")","v":"DQ"},"DQ",{"$f":"'LIGHT GUN'!U149+'HEAVY GUN'!U149","v":0},{"$f":" IF(AND('Competitor List'!D128=\"Y\",ISNUMBER(H146),ISNUMBER(L146)),H146+L146,\"DQ\")","v":"DQ"},"DQ",0]
[{"$f":"'Competitor List'!O129","v":904},{"$f":"IF('Competitor List'!D129=\"Y\",'Competitor List'!B129,\" \")","v":" "},{"$f":"IF('Competitor List'!H129=\"Y\",\"Y\",\"N\")","v":"N"},{"$f":" T('Competitor List'!F129)","v":""},{"$f":"'LIGHT GUN'!V150","v":"DQ"},{"$f":"'HEAVY GUN'!V150","v":"DQ"},{"$f":" IF(AND('Competitor List'!D129=\"Y\",ISNUMBER(E147),ISNUMBER(F147)),(SUM(E147:F147))/2,\"DQ\")","v":"DQ"},"DQ",{"$f":"'LIGHT GUN'!S150","v":"DQ"},{"$f":"'HEAVY GUN'!S150","v":"DQ"},{"$f":" IF(AND('Competitor List'!D129=\"Y\",ISNUMBER(I147),ISNUMBER(J147)),(SUM(I147:J147)),\"DQ\")","v":"DQ"},"DQ",{"$f":"'LIGHT GUN'!U150+'HEAVY GUN'!U150","v":0},{"$f":" IF(AND('Competitor List'!D129=\"Y\",ISNUMBER(H147),ISNUMBER(L147)),(H147+L147),\"DQ\")","v":"DQ"},"DQ",0]
[{"$f":"'Competitor List'!O130","v":905},{"$f":"IF('Competitor List'!D130=\"Y\",'Competitor List'!B130,\" \")","v":" "},{"$f":"IF('Competitor List'!H130=\"Y\",\"Y\",\"N\")","v":"N"},{"$f":" T('Competitor List'!F130)","v":""},{"$f":"'LIGHT GUN'!V151","v":"DQ"},{"$f":"'HEAVY GUN'!V151","v":"DQ"},{"$f":" IF(AND('Competitor List'!D130=\"Y\",ISNUMBER(E148),ISNUMBER(F148)),(SUM(E148:F148))/2,\"DQ\")","v":"DQ"},"DQ",{"$f":"'LIGHT GUN'!S151","v":"DQ"},{"$f":"'HEAVY GUN'!S151","v":"DQ"},{"$f":" IF(AND('Competitor List'!D130=\"Y\",ISNUMBER(I148),ISNUMBER(J148)),(SUM(I148:J148)),\"DQ\")","v":"DQ"},"DQ",{"$f":"'LIGHT GUN'!U151+'HEAVY GUN'!U151","v":0},{"$f":" IF(AND('Competitor List'!D130=\"Y\",ISNUMBER(H148),ISNUMBER(L148)),H148+L148,\"DQ\")","v":"DQ"},"DQ",0]
[{"$f":"'Competitor List'!O131","v":906},{"$f":"IF('Competitor List'!D131=\"Y\",'Competitor List'!B131,\" \")","v":" "},{"$f":"IF('Competitor List'!H131=\"Y\",\"Y\",\"N\")","v":"N"},{"$f":" T('Competitor List'!F131)","v":""},{"$f":"'LIGHT GUN'!V152","v":"DQ"},{"$f":"'HEAVY GUN'!V152","v":"DQ"},{"$f":" IF(AND('Competitor List'!D131=\"Y\",ISNUMBER(E149),ISNUMBER(F149)),(SUM(E149:F149))/2,\"DQ\")","v":"DQ"},"DQ",{"$f":"'LIGHT GUN'!S152","v":"DQ"},{"$f":"'HEAVY GUN'!S152","v":"DQ"},{"$f":" IF(AND('Competitor List'!D131=\"Y\",ISNUMBER(I149),ISNUMBER(J149)),(SUM(I149:J149)),\"DQ\")","v":"DQ"},"DQ",{"$f":"'LIGHT GUN'!U152+'HEAVY GUN'!U152","v":0},{"$f":" IF(AND('Competitor List'!D131=\"Y\",ISNUMBER(H149),ISNUMBER(L149)),H149+L149,\"DQ\")","v":"DQ"},"DQ",0]
[{"$f":"'Competitor List'!O132","v":907},{"$f":"IF('Competitor List'!D132=\"Y\",'Competitor List'!B132,\" \")","v":" "},{"$f":"IF('Competitor List'!H132=\"Y\",\"Y\",\"N\")","v":"N"},{"$f":" T('Competitor List'!F132)","v":""},{"$f":"'LIGHT GUN'!V153","v":"DQ"},{"$f":"'HEAVY GUN'!V153","v":"DQ"},{"$f":" IF(AND('Competitor List'!D132=\"Y\",ISNUMBER(E150),ISNUMBER(F150)),(SUM(E150:F150))/2,\"DQ\")","v":"DQ"},"DQ",{"$f":"'LIGHT GUN'!S153","v":"DQ"},{"$f":"'HEAVY GUN'!S153","v":"DQ"},{"$f":" IF(AND('Competitor List'!D132=\"Y\",ISNUMBER(I150),ISNUMBER(J150)),(SUM(I150:J150)),\"DQ\")","v":"DQ"},"DQ",{"$f":"'LIGHT GUN'!U153+'HEAVY GUN'!U153","v":0},{"$f":" IF(AND('Competitor List'!D132=\"Y\",ISNUMBER(H150),ISNUMBER(L150)),(H150+L150),\"DQ\")","v":"DQ"},"DQ",0]
[{"$f":"'Competitor List'!O133","v":908},{"$f":"IF('Competitor List'!D133=\"Y\",'Competitor List'!B133,\" \")","v":" "},{"$f":"IF('Competitor List'!H133=\"Y\",\"Y\",\"N\")","v":"N"},{"$f":" T('Competitor List'!F133)","v":""},{"$f":"'LIGHT GUN'!V154","v":"DQ"},{"$f":"'HEAVY GUN'!V154","v":"DQ"},{"$f":" IF(AND('Competitor List'!D133=\"Y\",ISNUMBER(E151),ISNUMBER(F151)),(SUM(E151:F151))/2,\"DQ\")","v":"DQ"},"DQ",{"$f":"'LIGHT GUN'!S154","v":"DQ"},{"$f":"'HEAVY GUN'!S154","v":"DQ"},{"$f":" IF(AND('Competitor List'!D133=\"Y\",ISNUMBER(I151),ISNUMBER(J151)),(SUM(I151:J151)),\"DQ\")","v":"DQ"},"DQ",{"$f":"'LIGHT GUN'!U154+'HEAVY GUN'!U154","v":0},{"$f":" IF(AND('Competitor List'!D133=\"Y\",ISNUMBER(H151),ISNUMBER(L151)),H151+L151,\"DQ\")","v":"DQ"},"DQ",0]
[{"$f":"'Competitor List'!O134","v":909},{"$f":"IF('Competitor List'!D134=\"Y\",'Competitor List'!B134,\" \")","v":" "},{"$f":"IF('Competitor List'!H134=\"Y\",\"Y\",\"N\")","v":"N"},{"$f":" T('Competitor List'!F134)","v":""},{"$f":"'LIGHT GUN'!V155","v":"DQ"},{"$f":"'HEAVY GUN'!V155","v":"DQ"},{"$f":" IF(AND('Competitor List'!D134=\"Y\",ISNUMBER(E152),ISNUMBER(F152)),(SUM(E152:F152))/2,\"DQ\")","v":"DQ"},"DQ",{"$f":"'LIGHT GUN'!S155","v":"DQ"},{"$f":"'HEAVY GUN'!S155","v":"DQ"},{"$f":" IF(AND('Competitor List'!D134=\"Y\",ISNUMBER(I152),ISNUMBER(J152)),(SUM(I152:J152)),\"DQ\")","v":"DQ"},"DQ",{"$f":"'LIGHT GUN'!U155+'HEAVY GUN'!U155","v":0},{"$f":" IF(AND('Competitor List'!D134=\"Y\",ISNUMBER(H152),ISNUMBER(L152)),H152+L152,\"DQ\")","v":"DQ"},{"$f":" IF(AND(ISNUMBER(N152)),RANK(N152,$N$24:$N$173,1)+SUMPRODUCT(($N$24:$N$173=N152)*($G$24:$G$173<G152))+SUMPRODUCT(($N$24:$N$173=N152)*($G$24:$G$173=G152)*($K$24:$K$173>K152))+SUMPRODUCT(($N$24:$N$173=N152)*($G$24:$G$173=G152)*($K$24:$K$173=K152)*($M$24:$M$173>M152))+SUMPRODUCT(($N$24:$N$173=N152)*($G$24:$G$173=G152)*($K$24:$K$173=K152)*($M$24:$M$173=M152)*($R$24:$R$173<R152)),\"DQ\")","v":"DQ"},0]
[{"$f":"'Competitor List'!O135","v":910},{"$f":"IF('Competitor List'!D135=\"Y\",'Competitor List'!B135,\" \")","v":" "},{"$f":"IF('Competitor List'!H135=\"Y\",\"Y\",\"N\")","v":"N"},{"$f":" T('Competitor List'!F135)","v":""},{"$f":"'LIGHT GUN'!V156","v":"DQ"},{"$f":"'HEAVY GUN'!V156","v":"DQ"},{"$f":" IF(AND('Competitor List'!D135=\"Y\",ISNUMBER(E153),ISNUMBER(F153)),(SUM(E153:F153))/2,\"DQ\")","v":"DQ"},{"$f":" IF(AND(ISNUMBER(G153)),RANK(G153,$G$24:$G$173,1)+SUMPRODUCT(($G$24:$G$173=G153)*($K$24:$K$173>K153))+SUMPRODUCT(($G$24:$G$173=G153)*($K$24:$K$173=K153)*($M$24:$M$173>M153))+SUMPRODUCT(($G$24:$G$173=G153)*($K$24:$K$173=K153)*($M$24:$M$173=M153)*($A$24:$A$173<A153)),\"DQ\")","v":"DQ"},{"$f":"'LIGHT GUN'!S156","v":"DQ"},{"$f":"'HEAVY GUN'!S156","v":"DQ"},{"$f":" IF(AND('Competitor List'!D135=\"Y\",ISNUMBER(I153),ISNUMBER(J153)),(SUM(I153:J153)),\"DQ\")","v":"DQ"},{"$f":" IF(AND(ISNUMBER(K153)),RANK(K153,$K$24:$K$173,0)+SUMPRODUCT(($K$24:$K$173=K153)*($G$24:$G$173<G153))+SUMPRODUCT(($K$24:$K$173=K153)*($G$24:$G$173=G153)*($M$24:$M$173>M153))+SUMPRODUCT(($K$24:$K$173=K153)*($G$24:$G$173=G153)*($M$24:$M$173=M153)*($A$24:$A$173<A153)),\"DQ\")","v":"DQ"},{"$f":"'LIGHT GUN'!U156+'HEAVY GUN'!U156","v":0},{"$f":" IF(AND('Competitor List'!D135=\"Y\",ISNUMBER(H153),ISNUMBER(L153)),(H153+L153),\"DQ\")","v":"DQ"},"DQ",0]
[{"$f":"'Competitor List'!O136","v":911},{"$f":"IF('Competitor List'!D136=\"Y\",'Competitor List'!B136,\" \")","v":" "},{"$f":"IF('Competitor List'!H136=\"Y\",\"Y\",\"N\")","v":"N"},{"$f":" T('Competitor List'!F136)","v":""},{"$f":"'LIGHT GUN'!V157","v":"DQ"},{"$f":"'HEAVY GUN'!V157","v":"DQ"},{"$f":" IF(AND('Competitor List'!D136=\"Y\",ISNUMBER(E154),ISNUMBER(F154)),(SUM(E154:F154))/2,\"DQ\")","v":"DQ"},"DQ",{"$f":"'LIGHT GUN'!S157","v":"DQ"},{"$f":"'HEAVY GUN'!S157","v":"DQ"},{"$f":" IF(AND('Competitor List'!D136=\"Y\",ISNUMBER(I154),ISNUMBER(J154)),(SUM(I154:J154)),\"DQ\")","v":"DQ"},"DQ",{"$f":"'LIGHT GUN'!U157+'HEAVY GUN'!U157","v":0},{"$f":" IF(AND('Competitor List'!D136=\"Y\",ISNUMBER(H154),ISNUMBER(L154)),H154+L154,\"DQ\")","v":"DQ"},"DQ",0]
[{"$f":"'Competitor List'!O137","v":912},{"$f":"IF('Competitor List'!D137=\"Y\",'Competitor List'!B137,\" \")","v":" "},{"$f":"IF('Competitor List'!H137=\"Y\",\"Y\",\"N\")","v":"N"},{"$f":" T('Competitor List'!F137)","v":""},{"$f":"'LIGHT GUN'!V158","v":"DQ"},{"$f":"'HEAVY GUN'!V158","v":"DQ"},{"$f":" IF(AND('Competitor List'!D137=\"Y\",ISNUMBER(E155),ISNUMBER(F155)),(SUM(E155:F155))/2,\"DQ\")","v":"DQ"},"DQ",{"$f":"'LIGHT GUN'!S158","v":"DQ"},{"$f":"'HEAVY GUN'!S158","v":"DQ"},{"$f":" IF(AND('Competitor List'!D137=\"Y\",ISNUMBER(I155),ISNUMBER(J155)),(SUM(I155:J155)),\"DQ\")","v":"DQ"},"DQ",{"$f":"'LIGHT GUN'!U158+'HEAVY GUN'!U158","v":0},{"$f":" IF(AND('Competitor List'!D137=\"Y\",ISNUMBER(H155),ISNUMBER(L155)),H155+L155,\"DQ\")","v":"DQ"},"DQ",{"$f":"IF(O155=1,$U$23,IF(O155=2,$U$24,IF(O155=3,$U$25,IF(O155=4,$U$26,IF(O155=5,$U$27,IF(O155=6,$U$28,IF(O155=7,$U$29,IF(O155=8,$U$30,IF(O155=9,$U$31,IF(O155=10,$U$32,0))))))))))","v":0}]
[{"$f":"'Competitor List'!O138","v":913},{"$f":"IF('Competitor List'!D138=\"Y\",'Competitor List'!B138,\" \")","v":" "},{"$f":"IF('Competitor List'!H138=\"Y\",\"Y\",\"N\")","v":"N"},{"$f":" T('Competitor List'!F138)","v":""},{"$f":"'LIGHT GUN'!V159","v":"DQ"},{"$f":"'HEAVY GUN'!V159","v":"DQ"},{"$f":" IF(AND('Competitor List'!D138=\"Y\",ISNUMBER(E156),ISNUMBER(F156)),(SUM(E156:F156))/2,\"DQ\")","v":"DQ"},"DQ",{"$f":"'LIGHT GUN'!S159","v":"DQ"},{"$f":"'HEAVY GUN'!S159","v":"DQ"},{"$f":" IF(AND('Competitor List'!D138=\"Y\",ISNUMBER(I156),ISNUMBER(J156)),(SUM(I156:J156)),\"DQ\")","v":"DQ"},"DQ",{"$f":"'LIGHT GUN'!U159+'HEAVY GUN'!U159","v":0},{"$f":" IF(AND('Competitor List'!D138=\"Y\",ISNUMBER(H156),ISNUMBER(L156)),(H156+L156),\"DQ\")","v":"DQ"},"DQ",0]
[{"$f":"'Competitor List'!O139","v":914},{"$f":"IF('Competitor List'!D139=\"Y\",'Competitor List'!B139,\" \")","v":" "},{"$f":"IF('Competitor List'!H139=\"Y\",\"Y\",\"N\")","v":"N"},{"$f":" T('Competitor List'!F139)","v":""},{"$f":"'LIGHT GUN'!V160","v":"DQ"},{"$f":"'HEAVY GUN'!V160","v":"DQ"},{"$f":" IF(AND('Competitor List'!D139=\"Y\",ISNUMBER(E157),ISNUMBER(F157)),(SUM(E157:F157))/2,\"DQ\")","v":"DQ"},"DQ",{"$f":"'LIGHT GUN'!S160","v":"DQ"},{"$f":"'HEAVY GUN'!S160","v":"DQ"},{"$f":" IF(AND('Competitor List'!D139=\"Y\",ISNUMBER(I157),ISNUMBER(J157)),(SUM(I157:J157)),\"DQ\")","v":"DQ"},"DQ",{"$f":"'LIGHT GUN'!U160+'HEAVY GUN'!U160","v":0},{"$f":" IF(AND('Competitor List'!D139=\"Y\",ISNUMBER(H157),ISNUMBER(L157)),H157+L157,\"DQ\")","v":"DQ"},"DQ",0]
[{"$f":"'Competitor List'!O140","v":915},{"$f":"IF('Competitor List'!D140=\"Y\",'Competitor List'!B140,\" \")","v":" "},{"$f":"IF('Competitor List'!H140=\"Y\",\"Y\",\"N\")","v":"N"},{"$f":" T('Competitor List'!F140)","v":""},{"$f":"'LIGHT GUN'!V161","v":"DQ"},{"$f":"'HEAVY GUN'!V161","v":"DQ"},{"$f":" IF(AND('Competitor List'!D140=\"Y\",ISNUMBER(E158),ISNUMBER(F158)),(SUM(E158:F158))/2,\"DQ\")","v":"DQ"},"DQ",{"$f":"'LIGHT GUN'!S161","v":"DQ"},{"$f":"'HEAVY GUN'!S161","v":"DQ"},{"$f":" IF(AND('Competitor List'!D140=\"Y\",ISNUMBER(I158),ISNUMBER(J158)),(SUM(I158:J158)),\"DQ\")","v":"DQ"},"DQ",{"$f":"'LIGHT GUN'!U161+'HEAVY GUN'!U161","v":0},{"$f":" IF(AND('Competitor List'!D140=\"Y\",ISNUMBER(H158),ISNUMBER(L158)),H158+L158,\"DQ\")","v":"DQ"},"DQ",0]
[{"$f":"'Competitor List'!O141","v":1001},{"$f":"IF('Competitor List'!D141=\"Y\",'Competitor List'!B141,\" \")","v":" "},{"$f":"IF('Competitor List'!H141=\"Y\",\"Y\",\"N\")","v":"N"},{"$f":" T('Competitor List'!F141)","v":""},{"$f":"'LIGHT GUN'!V162","v":"DQ"},{"$f":"'HEAVY GUN'!V162","v":"DQ"},{"$f":" IF(AND('Competitor List'!D141=\"Y\",ISNUMBER(E159),ISNUMBER(F159)),(SUM(E159:F159))/2,\"DQ\")","v":"DQ"},"DQ",{"$f":"'LIGHT GUN'!S162","v":"DQ"},{"$f":"'HEAVY GUN'!S162","v":"DQ"},{"$f":" IF(AND('Competitor List'!D141=\"Y\",ISNUMBER(I159),ISNUMBER(J159)),(SUM(I159:J159)),\"DQ\")","v":"DQ"},"DQ",{"$f":"'LIGHT GUN'!U162+'HEAVY GUN'!U162","v":0},{"$f":" IF(AND('Competitor List'!D141=\"Y\",ISNUMBER(H159),ISNUMBER(L159)),(H159+L159),\"DQ\")","v":"DQ"},"DQ",0]
[{"$f":"'Competitor List'!O142","v":1002},{"$f":"IF('Competitor List'!D142=\"Y\",'Competitor List'!B142,\" \")","v":" "},{"$f":"IF('Competitor List'!H142=\"Y\",\"Y\",\"N\")","v":"N"},{"$f":" T('Competitor List'!F142)","v":""},{"$f":"'LIGHT GUN'!V163","v":"DQ"},{"$f":"'HEAVY GUN'!V163","v":"DQ"},{"$f":" IF(AND('Competitor List'!D142=\"Y\",ISNUMBER(E160),ISNUMBER(F160)),(SUM(E160:F160))/2,\"DQ\")","v":"DQ"},"DQ",{"$f":"'LIGHT GUN'!S163","v":"DQ"},{"$f":"'HEAVY GUN'!S163","v":"DQ"},{"$f":" IF(AND('Competitor List'!D142=\"Y\",ISNUMBER(I160),ISNUMBER(J160)),(SUM(I160:J160)),\"DQ\")","v":"DQ"},"DQ",{"$f":"'LIGHT GUN'!U163+'HEAVY GUN'!U163","v":0},{"$f":" IF(AND('Competitor List'!D142=\"Y\",ISNUMBER(H160),ISNUMBER(L160)),H160+L160,\"DQ\")","v":"DQ"},"DQ",0]
[{"$f":"'Competitor List'!O143","v":1003},{"$f":"IF('Competitor List'!D143=\"Y\",'Competitor List'!B143,\" \")","v":" "},{"$f":"IF('Competitor List'!H143=\"Y\",\"Y\",\"N\")","v":"N"},{"$f":" T('Competitor List'!F143)","v":""},{"$f":"'LIGHT GUN'!V164","v":"DQ"},{"$f":"'HEAVY GUN'!V164","v":"DQ"},{"$f":" IF(AND('Competitor List'!D143=\"Y\",ISNUMBER(E161),ISNUMBER(F161)),(SUM(E161:F161))/2,\"DQ\")","v":"DQ"},"DQ",{"$f":"'LIGHT GUN'!S164","v":"DQ"},{"$f":"'HEAVY GUN'!S164","v":"DQ"},{"$f":" IF(AND('Competitor List'!D143=\"Y\",ISNUMBER(I161),ISNUMBER(J161)),(SUM(I161:J161)),\"DQ\")","v":"DQ"},"DQ",{"$f":"'LIGHT GUN'!U164+'HEAVY GUN'!U164","v":0},{"$f":" IF(AND('Competitor List'!D143=\"Y\",ISNUMBER(H161),ISNUMBER(L161)),H161+L161,\"DQ\")","v":"DQ"},"DQ",0]
[{"$f":"'Competitor List'!O144","v":1004},{"$f":"IF('Competitor List'!D144=\"Y\",'Competitor List'!B144,\" \")","v":" "},{"$f":"IF('Competitor List'!H144=\"Y\",\"Y\",\"N\")","v":"N"},{"$f":" T('Competitor List'!F144)","v":""},{"$f":"'LIGHT GUN'!V165","v":"DQ"},{"$f":"'HEAVY GUN'!V165","v":"DQ"},{"$f":" IF(AND('Competitor List'!D144=\"Y\",ISNUMBER(E162),ISNUMBER(F162)),(SUM(E162:F162))/2,\"DQ\")","v":"DQ"},"DQ",{"$f":"'LIGHT GUN'!S165","v":"DQ"},{"$f":"'HEAVY GUN'!S165","v":"DQ"},{"$f":" IF(AND('Competitor List'!D144=\"Y\",ISNUMBER(I162),ISNUMBER(J162)),(SUM(I162:J162)),\"DQ\")","v":"DQ"},"DQ",{"$f":"'LIGHT GUN'!U165+'HEAVY GUN'!U165","v":0},{"$f":" IF(AND('Competitor List'!D144=\"Y\",ISNUMBER(H162),ISNUMBER(L162)),(H162+L162),\"DQ\")","v":"DQ"},"DQ",0]
[{"$f":"'Competitor List'!O145","v":1005},{"$f":"IF('Competitor List'!D145=\"Y\",'Competitor List'!B145,\" \")","v":" "},{"$f":"IF('Competitor List'!H145=\"Y\",\"Y\",\"N\")","v":"N"},{"$f":" T('Competitor List'!F145)","v":""},{"$f":"'LIGHT GUN'!V166","v":"DQ"},{"$f":"'HEAVY GUN'!V166","v":"DQ"},{"$f":" IF(AND('Competitor List'!D145=\"Y\",ISNUMBER(E163),ISNUMBER(F163)),(SUM(E163:F163))/2,\"DQ\")","v":"DQ"},"DQ",{"$f":"'LIGHT GUN'!S166","v":"DQ"},{"$f":"'HEAVY GUN'!S166","v":"DQ"},{"$f":" IF(AND('Competitor List'!D145=\"Y\",ISNUMBER(I163),ISNUMBER(J163)),(SUM(I163:J163)),\"DQ\")","v":"DQ"},"DQ",{"$f":"'LIGHT GUN'!U166+'HEAVY GUN'!U166","v":0},{"$f":" IF(AND('Competitor List'!D145=\"Y\",ISNUMBER(H163),ISNUMBER(L163)),H163+L163,\"DQ\")","v":"DQ"},"DQ",0]
[{"$f":"'Competitor List'!O146","v":1006},{"$f":"IF('Competitor List'!D146=\"Y\",'Competitor List'!B146,\" \")","v":" "},{"$f":"IF('Competitor List'!H146=\"Y\",\"Y\",\"N\")","v":"N"},{"$f":" T('Competitor List'!F146)","v":""},{"$f":"'LIGHT GUN'!V167","v":"DQ"},{"$f":"'HEAVY GUN'!V167","v":"DQ"},{"$f":" IF(AND('Competitor List'!D146=\"Y\",ISNUMBER(E164),ISNUMBER(F164)),(SUM(E164:F164))/2,\"DQ\")","v":"DQ"},"DQ",{"$f":"'LIGHT GUN'!S167","v":"DQ"},{"$f":"'HEAVY GUN'!S167","v":"DQ"},{"$f":" IF(AND('Competitor List'!D146=\"Y\",ISNUMBER(I164),ISNUMBER(J164)),(SUM(I164:J164)),\"DQ\")","v":"DQ"},"DQ",{"$f":"'LIGHT GUN'!U167+'HEAVY GUN'!U167","v":0},{"$f":" IF(AND('Competitor List'!D146=\"Y\",ISNUMBER(H164),ISNUMBER(L164)),H164+L164,\"DQ\")","v":"DQ"},"DQ",0]
[{"$f":"'Competitor List'!O147","v":1007},{"$f":"IF('Competitor List'!D147=\"Y\",'Competitor List'!B147,\" \")","v":" "},{"$f":"IF('Competitor List'!H147=\"Y\",\"Y\",\"N\")","v":"N"},{"$f":" T('Competitor List'!F147)","v":""},{"$f":"'LIGHT GUN'!V168","v":"DQ"},{"$f":"'HEAVY GUN'!V168","v":"DQ"},{"$f":" IF(AND('Competitor List'!D147=\"Y\",ISNUMBER(E165),ISNUMBER(F165)),(SUM(E165:F165))/2,\"DQ\")","v":"DQ"},"DQ",{"$f":"'LIGHT GUN'!S168","v":"DQ"},{"$f":"'HEAVY GUN'!S168","v":"DQ"},{"$f":" IF(AND('Competitor List'!D147=\"Y\",ISNUMBER(I165),ISNUMBER(J165)),(SUM(I165:J165)),\"DQ\")","v":"DQ"},"DQ",{"$f":"'LIGHT GUN'!U168+'HEAVY GUN'!U168","v":0},{"$f":" IF(AND('Competitor List'!D147=\"Y\",ISNUMBER(H165),ISNUMBER(L165)),(H165+L165),\"DQ\")","v":"DQ"},"DQ",0]
[{"$f":"'Competitor List'!O148","v":1008},{"$f":"IF('Competitor List'!D148=\"Y\",'Competitor List'!B148,\" \")","v":" "},{"$f":"IF('Competitor List'!H148=\"Y\",\"Y\",\"N\")","v":"N"},{"$f":" T('Competitor List'!F148)","v":""},{"$f":"'LIGHT GUN'!V169","v":"DQ"},{"$f":"'HEAVY GUN'!V169","v":"DQ"},{"$f":" IF(AND('Competitor List'!D148=\"Y\",ISNUMBER(E166),ISNUMBER(F166)),(SUM(E166:F166))/2,\"DQ\")","v":"DQ"},"DQ",{"$f":"'LIGHT GUN'!S169","v":"DQ"},{"$f":"'HEAVY GUN'!S169","v":"DQ"},{"$f":" IF(AND('Competitor List'!D148=\"Y\",ISNUMBER(I166),ISNUMBER(J166)),(SUM(I166:J166)),\"DQ\")","v":"DQ"},"DQ",{"$f":"'LIGHT GUN'!U169+'HEAVY GUN'!U169","v":0},{"$f":" IF(AND('Competitor List'!D148=\"Y\",ISNUMBER(H166),ISNUMBER(L166)),H166+L166,\"DQ\")","v":"DQ"},"DQ",0]
[{"$f":"'Competitor List'!O149","v":1009},{"$f":"IF('Competitor List'!D149=\"Y\",'Competitor List'!B149,\" \")","v":" "},{"$f":"IF('Competitor List'!H149=\"Y\",\"Y\",\"N\")","v":"N"},{"$f":" T('Competitor List'!F149)","v":""},{"$f":"'LIGHT GUN'!V170","v":"DQ"},{"$f":"'HEAVY GUN'!V170","v":"DQ"},{"$f":" IF(AND('Competitor List'!D149=\"Y\",ISNUMBER(E167),ISNUMBER(F167)),(SUM(E167:F167))/2,\"DQ\")","v":"DQ"},"DQ",{"$f":"'LIGHT GUN'!S170","v":"DQ"},{"$f":"'HEAVY GUN'!S170","v":"DQ"},{"$f":" IF(AND('Competitor List'!D149=\"Y\",ISNUMBER(I167),ISNUMBER(J167)),(SUM(I167:J167)),\"DQ\")","v":"DQ"},"DQ",{"$f":"'LIGHT GUN'!U170+'HEAVY GUN'!U170","v":0},{"$f":" IF(AND('Competitor List'!D149=\"Y\",ISNUMBER(H167),ISNUMBER(L167)),H167+L167,\"DQ\")","v":"DQ"},"DQ",0]
[{"$f":"'Competitor List'!O150","v":1010},{"$f":"IF('Competitor List'!D150=\"Y\",'Competitor List'!B150,\" \")","v":" "},{"$f":"IF('Competitor List'!H150=\"Y\",\"Y\",\"N\")","v":"N"},{"$f":" T('Competitor List'!F150)","v":""},{"$f":"'LIGHT GUN'!V171","v":"DQ"},{"$f":"'HEAVY GUN'!V171","v":"DQ"},{"$f":" IF(AND('Competitor List'!D150=\"Y\",ISNUMBER(E168),ISNUMBER(F168)),(SUM(E168:F168))/2,\"DQ\")","v":"DQ"},"DQ",{"$f":"'LIGHT GUN'!S171","v":"DQ"},{"$f":"'HEAVY GUN'!S171","v":"DQ"},{"$f":" IF(AND('Competitor List'!D150=\"Y\",ISNUMBER(I168),ISNUMBER(J168)),(SUM(I168:J168)),\"DQ\")","v":"DQ"},"DQ",{"$f":"'LIGHT GUN'!U171+'HEAVY GUN'!U171","v":0},{"$f":" IF(AND('Competitor List'!D150=\"Y\",ISNUMBER(H168),ISNUMBER(L168)),(H168+L168),\"DQ\")","v":"DQ"},"DQ",0]
[{"$f":"'Competitor List'!O151","v":1011},{"$f":"IF('Competitor List'!D151=\"Y\",'Competitor List'!B151,\" \")","v":" "},{"$f":"IF('Competitor List'!H151=\"Y\",\"Y\",\"N\")","v":"N"},{"$f":" T('Competitor List'!F151)","v":""},{"$f":"'LIGHT GUN'!V172","v":"DQ"},{"$f":"'HEAVY GUN'!V172","v":"DQ"},{"$f":" IF(AND('Competitor List'!D151=\"Y\",ISNUMBER(E169),ISNUMBER(F169)),(SUM(E169:F169))/2,\"DQ\")","v":"DQ"},"DQ",{"$f":"'LIGHT GUN'!S172","v":"DQ"},{"$f":"'HEAVY GUN'!S172","v":"DQ"},{"$f":" IF(AND('Competitor List'!D151=\"Y\",ISNUMBER(I169),ISNUMBER(J169)),(SUM(I169:J169)),\"DQ\")","v":"DQ"},"DQ",{"$f":"'LIGHT GUN'!U172+'HEAVY GUN'!U172","v":0},{"$f":" IF(AND('Competitor List'!D151=\"Y\",ISNUMBER(H169),ISNUMBER(L169)),H169+L169,\"DQ\")","v":"DQ"},"DQ",0]
[{"$f":"'Competitor List'!O152","v":1012},{"$f":"IF('Competitor List'!D152=\"Y\",'Competitor List'!B152,\" \")","v":" "},{"$f":"IF('Competitor List'!H152=\"Y\",\"Y\",\"N\")","v":"N"},{"$f":" T('Competitor List'!F152)","v":""},{"$f":"'LIGHT GUN'!V173","v":"DQ"},{"$f":"'HEAVY GUN'!V173","v":"DQ"},{"$f":" IF(AND('Competitor List'!D152=\"Y\",ISNUMBER(E170),ISNUMBER(F170)),(SUM(E170:F170))/2,\"DQ\")","v":"DQ"},"DQ",{"$f":"'LIGHT GUN'!S173","v":"DQ"},{"$f":"'HEAVY GUN'!S173","v":"DQ"},{"$f":" IF(AND('Competitor List'!D152=\"Y\",ISNUMBER(I170),ISNUMBER(J170)),(SUM(I170:J170)),\"DQ\")","v":"DQ"},"DQ",{"$f":"'LIGHT GUN'!U173+'HEAVY GUN'!U173","v":0},{"$f":" IF(AND('Competitor List'!D152=\"Y\",ISNUMBER(H170),ISNUMBER(L170)),H170+L170,\"DQ\")","v":"DQ"},"DQ",0]
[{"$f":"'Competitor List'!O153","v":1013},{"$f":"IF('Competitor List'!D153=\"Y\",'Competitor List'!B153,\" \")","v":" "},{"$f":"IF('Competitor List'!H153=\"Y\",\"Y\",\"N\")","v":"N"},{"$f":" T('Competitor List'!F153)","v":""},{"$f":"'LIGHT GUN'!V174","v":"DQ"},{"$f":"'HEAVY GUN'!V174","v":"DQ"},{"$f":" IF(AND('Competitor List'!D153=\"Y\",ISNUMBER(E171),ISNUMBER(F171)),(SUM(E171:F171))/2,\"DQ\")","v":"DQ"},"DQ",{"$f":"'LIGHT GUN'!S174","v":"DQ"},{"$f":"'HEAVY GUN'!S174","v":"DQ"},{"$f":" IF(AND('Competitor List'!D153=\"Y\",ISNUMBER(I171),ISNUMBER(J171)),(SUM(I171:J171)),\"DQ\")","v":"DQ"},"DQ",{"$f":"'LIGHT GUN'!U174+'HEAVY GUN'!U174","v":0},{"$f":" IF(AND('Competitor List'!D153=\"Y\",ISNUMBER(H171),ISNUMBER(L171)),(H171+L171),\"DQ\")","v":"DQ"},"DQ",0]
[{"$f":"'Competitor List'!O154","v":1014},{"$f":"IF('Competitor List'!D154=\"Y\",'Competitor List'!B154,\" \")","v":" "},{"$f":"IF('Competitor List'!H154=\"Y\",\"Y\",\"N\")","v":"N"},{"$f":" T('Competitor List'!F154)","v":""},{"$f":"'LIGHT GUN'!V175","v":"DQ"},{"$f":"'HEAVY GUN'!V175","v":"DQ"},{"$f":" IF(AND('Competitor List'!D154=\"Y\",ISNUMBER(E172),ISNUMBER(F172)),(SUM(E172:F172))/2,\"DQ\")","v":"DQ"},"DQ",{"$f":"'LIGHT GUN'!S175","v":"DQ"},{"$f":"'HEAVY GUN'!S175","v":"DQ"},{"$f":" IF(AND('Competitor List'!D154=\"Y\",ISNUMBER(I172),ISNUMBER(J172)),(SUM(I172:J172)),\"DQ\")","v":"DQ"},"DQ",{"$f":"'LIGHT GUN'!U175+'HEAVY GUN'!U175","v":0},{"$f":" IF(AND('Competitor List'!D154=\"Y\",ISNUMBER(H172),ISNUMBER(L172)),H172+L172,\"DQ\")","v":"DQ"},"DQ",0]
[{"$f":"'Competitor List'!O155","v":1015},{"$f":"IF('Competitor List'!D155=\"Y\",'Competitor List'!B155,\" \")","v":" "},{"$f":"IF('Competitor List'!H155=\"Y\",\"Y\",\"N\")","v":"N"},{"$f":" T('Competitor List'!F155)","v":""},{"$f":"'LIGHT GUN'!V176","v":"DQ"},{"$f":"'HEAVY GUN'!V176","v":"DQ"},{"$f":" IF(AND('Competitor List'!D155=\"Y\",ISNUMBER(E173),ISNUMBER(F173)),(SUM(E173:F173))/2,\"DQ\")","v":"DQ"},"DQ",{"$f":"'LIGHT GUN'!S176","v":"DQ"},{"$f":"'HEAVY GUN'!S176","v":"DQ"},{"$f":" IF(AND('Competitor List'!D155=\"Y\",ISNUMBER(I173),ISNUMBER(J173)),(SUM(I173:J173)),\"DQ\")","v":"DQ"},"DQ",{"$f":"'LIGHT GUN'!U176+'HEAVY GUN'!U176","v":0},{"$f":" IF(AND('Competitor List'!D155=\"Y\",ISNUMBER(H173),ISNUMBER(L173)),H173+L173,\"DQ\")","v":"DQ"},"DQ",0]

{"sheet":"LIGHT GUN","index":1,"n_rows":176,"n_cols":36,"rows_kept":176,"cut":false,"hidden":false,"merged":[[34,34,34,35],[8,27,8,28],[9,27,9,28],[10,27,10,28],[11,27,11,28],[12,27,12,28],[13,27,13,28],[14,27,14,28],[15,27,15,28],[16,27,16,28],[17,27,17,28],[18,27,18,28],[19,27,19,28],[20,27,20,28],[23,32,25,32],[158,1,158,2],[159,1,159,2],[160,1,160,2],[161,1,161,2],[162,1,162,2],[153,1,153,2],[154,1,154,2],[155,1,155,2],[156,1,156,2],[157,1,157,2],[173,1,173,2],[174,1,174,2],[175,1,175,2],[168,1,168,2],[169,1,169,2],[170,1,170,2],[171,1,171,2],[172,1,172,2],[163,1,163,2],[164,1,164,2],[165,1,165,2],[166,1,166,2],[167,1,167,2],[148,1,148,2],[149,1,149,2],[150,1,150,2],[151,1,151,2],[152,1,152,2],[143,1,143,2],[144,1,144,2],[145,1,145,2],[146,1,146,2],[147,1,147,2],[138,1,138,2],[139,1,139,2],[140,1,140,2],[141,1,141,2],[142,1,142,2],[133,1,133,2],[134,1,134,2],[135,1,135,2],[136,1,136,2],[137,1,137,2],[128,1,128,2],[129,1,129,2],[130,1,130,2],[131,1,131,2],[132,1,132,2],[123,1,123,2],[124,1,124,2],[125,1,125,2],[126,1,126,2],[127,1,127,2],[118,1,118,2],[119,1,119,2],[120,1,120,2],[121,1,121,2],[122,1,122,2],[113,1,113,2],[114,1,114,2],[115,1,115,2],[116,1,116,2],[117,1,117,2],[108,1,108,2],[109,1,109,2],[110,1,110,2],[111,1,111,2],[112,1,112,2],[103,1,103,2],[104,1,104,2],[105,1,105,2],[106,1,106,2],[107,1,107,2],[98,1,98,2],[99,1,99,2],[100,1,100,2],[101,1,101,2],[102,1,102,2],[93,1,93,2],[94,1,94,2],[95,1,95,2],[96,1,96,2],[97,1,97,2],[88,1,88,2],[89,1,89,2],[90,1,90,2],[91,1,91,2],[92,1,92,2],[83,1,83,2],[84,1,84,2],[85,1,85,2],[86,1,86,2],[87,1,87,2],[78,1,78,2],[79,1,79,2],[80,1,80,2],[81,1,81,2],[82,1,82,2],[73,1,73,2],[74,1,74,2],[75,1,75,2],[76,1,76,2],[77,1,77,2],[57,1,57,2],[58,1,58,2],[59,1,59,2],[60,1,60,2],[61,1,61,2],[52,1,52,2],[53,1,53,2],[54,1,54,2],[55,1,55,2],[56,1,56,2],[68,1,68,2],[69,1,69,2],[70,1,70,2],[71,1,71,2],[72,1,72,2],[66,1,66,2],[67,1,67,2],[62,1,62,2],[63,1,63,2],[64,1,64,2],[65,1,65,2],[47,1,47,2],[48,1,48,2],[49,1,49,2],[50,1,50,2],[51,1,51,2],[42,1,42,2],[43,1,43,2],[44,1,44,2],[45,1,45,2],[46,1,46,2],[38,1,38,2],[25,1,25,2],[39,1,39,2],[40,1,40,2],[41,1,41,2],[32,1,32,2],[33,1,33,2],[34,1,34,2],[35,1,35,2],[36,1,36,2],[27,1,27,2],[28,1,28,2],[29,1,29,2],[30,1,30,2],[31,1,31,2],[26,1,26,2],[37,1,37,2],[21,20,21,23],[16,9,16,16],[16,20,16,24],[17,20,17,24],[18,20,18,24],[19,20,19,24],[20,20,20,24],[22,19,22,23],[16,1,16,4],[17,1,17,4],[0,0,1,24],[3,0,3,24],[5,0,5,24],[2,0,2,24],[4,0,4,24],[8,1,8,4],[9,1,9,4],[7,0,7,5],[10,1,10,4],[8,9,8,16],[9,9,9,16],[10,9,10,16],[7,19,7,28],[7,8,7,17],[24,12,24,14],[15,9,15,16],[11,1,11,4],[12,1,12,4],[13,1,13,4],[14,1,14,4],[15,1,15,4],[20,15,20,16],[21,15,21,16],[22,15,22,16],[20,9,20,14],[21,9,21,14],[22,9,22,14],[19,8,19,17],[12,9,12,16],[13,9,13,16],[17,9,17,16],[11,9,11,16],[14,9,14,16],[20,1,20,3],[21,1,21,3],[22,1,22,3],[19,0,19,5],[24,24,25,24],[24,5,25,5],[24,4,25,4],[24,25,25,25],[24,27,24,30],[8,20,8,24],[9,20,9,24],[10,20,10,24],[11,20,11,24],[12,20,12,24],[24,15,24,17],[24,20,25,20],[13,20,13,24],[23,27,23,28],[24,26,25,26],[14,20,14,24],[15,20,15,24],[24,18,25,18],[24,19,25,19],[24,21,25,21],[24,22,25,22],[24,23,25,23],[24,6,24,8],[24,9,24,11]]}
[{"$f":"'Competitor List'!B1","v":"Freedom Benchrest 600 YARD MATCH #1"},null,null,null,null,null,null,null,null,null,null,null,null,null,null,null,null,null,null,null,null,null,null,null,null,null,null,null,null,null,null,null,null,null,"Notes here are outside print area"]
[]
[{"$f":"'Competitor List'!B2","v":"Vapor Trail Valley Spickard, Mo"},null,null,null,null,null,null,null,null,null,null,null,null,null,null,null,null,null,null,null,null,null,null,null,null,null,null,null,null,null,null,null,null,null," - page is protected - no password"]
[{"$f":"'Competitor List'!B3","v":"2023-03-15"}]
[null,null,null,null,null,null,null,null,null,null,null,null,null,null,null,null,null,null,null,null,null,null,null,null,null,null,null,null,null,null,null,null,null,null," - keep scale at 100% for best viewing"]
["LIGHT GUN RESULTS"]
[null,null,null,null,null,null,null,null,null,null,null,null,null,null,null,null,null,null,null,null,null,null,null,null,null,null,null,null,null,null,null,null,null,null," - top scores and groups automatically highlighted"]
["LIGHT GUN SCORE AGG",null,null,null,null,null,null,null,"LIGHT GUN GROUP AGG",null,null,null,null,null,null,null,null,null,null,"LIGHT GUN OVERALL"]
["1ST",{"$f":"INDEX($B$27:$B$176,MATCH(1,$T$27:T$176,0))","v":{"$error":"#N/A"}},null,null,null,{"$f":"INDEX($Z$27:$Z$176,MATCH(1,$T$27:T$176,0))","v":{"$error":"#N/A"}},null,null,"1ST",{"$f":"INDEX($B$27:$B$176,MATCH(1,$W$27:$W$176,0))","v":{"$error":"#N/A"}},null,null,null,null,null,null,null,{"$f":"INDEX($AA$27:$AA$176,MATCH(1,$W$27:$W$176,0))","v":{"$error":"#N/A"}},null,"1ST",{"$f":"INDEX($B$27:$B$176,MATCH(1,$Y$27:$Y$176,0))","v":{"$error":"#N/A"}},null,null,null,null,null,null,{"$f":"INDEX($X$27:$X$176,MATCH(1,$Y$27:$Y$176,0))","v":{"$error":"#N/A"}},null,null,null,null,null,null," - Set print area to only print needed rows"]
["2ND",{"$f":"INDEX($B$27:$B$176,MATCH(2,$T$27:T$176,0))","v":{"$error":"#N/A"}},null,null,null,{"$f":"INDEX($Z$27:$Z$176,MATCH(2,$T$27:T$176,0))","v":{"$error":"#N/A"}},null,null,"2nd",{"$f":"INDEX($B$27:$B$176,MATCH(2,$W$27:$W$176,0))","v":{"$error":"#N/A"}},null,null,null,null,null,null,null,{"$f":"INDEX($AA$27:$AA$176,MATCH(2,$W$27:$W$176,0))","v":{"$error":"#N/A"}},null,"2ND",{"$f":"INDEX($B$27:$B$176,MATCH(2,$Y$27:$Y$176,0))","v":{"$error":"#N/A"}},null,null,null,null,null,null,{"$f":"INDEX($X$27:$X$176,MATCH(2,$Y$27:$Y$176,0))","v":{"$error":"#N/A"}}]
["3RD",{"$f":"INDEX($B$27:$B$176,MATCH(3,$T$27:T$176,0))","v":{"$error":"#N/A"}},null,null,null,{"$f":"INDEX($Z$27:$Z$176,MATCH(3,$T$27:T$176,0))","v":{"$error":"#N/A"}},null,null,"3rd",{"$f":"INDEX($B$27:$B$176,MATCH(3,$W$27:$W$176,0))","v":{"$error":"#N/A"}},null,null,null,null,null,null,null,{"$f":"INDEX($AA$27:$AA$176,MATCH(3,$W$27:$W$176,0))","v":{"$error":"#N/A"}},null,"3RD",{"$f":"INDEX($B$27:$B$176,MATCH(3,$Y$27:$Y$176,0))","v":{"$error":"#N/A"}},null,null,null,null,null,null,{"$f":"INDEX($X$27:$X$176,MATCH(3,$Y$27:$Y$176,0))","v":{"$error":"#N/A"}},null,null,null,null,null,null," - For a DQ target, enter DQ in the score and group column"]
["4TH",{"$f":"INDEX($B$27:$B$176,MATCH(4,$T$27:T$176,0))","v":{"$error":"#N/A"}},null,null,null,{"$f":"INDEX($Z$27:$Z$176,MATCH(4,$T$27:T$176,0))","v":{"$error":"#N/A"}},null,null,"4th",{"$f":"INDEX($B$27:$B$176,MATCH(4,$W$27:$W$176,0))","v":{"$error":"#N/A"}},null,null,null,null,null,null,null,{"$f":"INDEX($AA$27:$AA$176,MATCH(4,$W$27:$W$176,0))","v":{"$error":"#N/A"}},null,"4TH",{"$f":"INDEX($B$27:$B$176,MATCH(4,$Y$27:$Y$176,0))","v":{"$error":"#N/A"}},null,null,null,null,null,null,{"$f":"INDEX($X$27:$X$176,MATCH(4,$Y$27:$Y$176,0))","v":{"$error":"#N/A"}}]
["5TH",{"$f":"INDEX($B$27:$B$176,MATCH(5,$T$27:T$176,0))","v":{"$error":"#N/A"}},null,null,null,{"$f":"INDEX($Z$27:$Z$176,MATCH(5,$T$27:T$176,0))","v":{"$error":"#N/A"}},null,null,"5th",{"$f":"INDEX($B$27:$B$176,MATCH(5,$W$27:$W$176,0))","v":{"$error":"#N/A"}},null,null,null,null,null,null,null,{"$f":"INDEX($AA$27:$AA$176,MATCH(5,$W$27:$W$176,0))","v":{"$error":"#N/A"}},null,"5TH",{"$f":"INDEX($B$27:$B$176,MATCH(5,$Y$27:$Y$176,0))","v":{"$error":"#N/A"}},null,null,null,null,null,null,{"$f":"INDEX($X$27:$X$176,MATCH(5,$Y$27:$Y$176,0))","v":{"$error":"#N/A"}},null,null,null,null,null,null," - group ranking is only correct when all shooters have shot the same # of targets"]
["6TH",{"$f":"INDEX($B$27:$B$176,MATCH(6,$T$27:T$176,0))","v":{"$error":"#N/A"}},null,null,null,{"$f":"INDEX($Z$27:$Z$176,MATCH(6,$T$27:T$176,0))","v":{"$error":"#N/A"}},null,null,"6th",{"$f":"INDEX($B$27:$B$176,MATCH(6,$W$27:$W$176,0))","v":{"$error":"#N/A"}},null,null,null,null,null,null,null,{"$f":"INDEX($AA$27:$AA$176,MATCH(6,$W$27:$W$176,0))","v":{"$error":"#N/A"}},null,"6TH",{"$f":"INDEX($B$27:$B$176,MATCH(6,$Y$27:$Y$176,0))","v":{"$error":"#N/A"}},null,null,null,null,null,null,{"$f":"INDEX($X$27:$X$176,MATCH(6,$Y$27:$Y$176,0))","v":{"$error":"#N/A"}}]
["7TH",{"$f":"INDEX($B$27:$B$176,MATCH(7,$T$27:T$176,0))","v":{"$error":"#N/A"}},null,null,null,{"$f":"INDEX($Z$27:$Z$176,MATCH(7,$T$27:T$176,0))","v":{"$error":"#N/A"}},null,null,"7th",{"$f":"INDEX($B$27:$B$176,MATCH(7,$W$27:$W$176,0))","v":{"$error":"#N/A"}},null,null,null,null,null,null,null,{"$f":"INDEX($AA$27:$AA$176,MATCH(7,$W$27:$W$176,0))","v":{"$error":"#N/A"}},null,"7TH",{"$f":"INDEX($B$27:$B$176,MATCH(7,$Y$27:$Y$176,0))","v":{"$error":"#N/A"}},null,null,null,null,null,null,{"$f":"INDEX($X$27:$X$176,MATCH(7,$Y$27:$Y$176,0))","v":{"$error":"#N/A"}},null,null,null,null,null,null,"Score tie breaker = 1st Group, 2nd X-xount, 3rd closest to center"]
["8TH",{"$f":"INDEX($B$27:$B$176,MATCH(8,$T$27:T$176,0))","v":{"$error":"#N/A"}},null,null,null,{"$f":"INDEX($Z$27:$Z$176,MATCH(8,$T$27:T$176,0))","v":{"$error":"#N/A"}},null,null,"8th",{"$f":"INDEX($B$27:$B$176,MATCH(8,$W$27:$W$176,0))","v":{"$error":"#N/A"}},null,null,null,null,null,null,null,{"$f":"INDEX($AA$27:$AA$176,MATCH(8,$W$27:$W$176,0))","v":{"$error":"#N/A"}},null,"8TH",{"$f":"INDEX($B$27:$B$176,MATCH(8,$Y$27:$Y$176,0))","v":{"$error":"#N/A"}},null,null,null,null,null,null,{"$f":"INDEX($X$27:$X$176,MATCH(8,$Y$27:$Y$176,0))","v":{"$error":"#N/A"}},null,null,null,null,null,null,"Group tie breaker = 1st score, 2nd X-count, 3rd closest to center"]
["9TH",{"$f":"INDEX($B$27:$B$176,MATCH(9,$T$27:T$176,0))","v":{"$error":"#N/A"}},null,null,null,{"$f":"INDEX($Z$27:$Z$176,MATCH(9,$T$27:T$176,0))","v":{"$error":"#N/A"}},null,null,"9th",{"$f":"INDEX($B$27:$B$176,MATCH(9,$W$27:$W$176,0))","v":{"$error":"#N/A"}},null,null,null,null,null,null,null,{"$f":"INDEX($AA$27:$AA$176,MATCH(9,$W$27:$W$176,0))","v":{"$error":"#N/A"}},null,"9TH",{"$f":"INDEX($B$27:$B$176,MATCH(9,$Y$27:$Y$176,0))","v":{"$error":"#N/A"}},null,null,null,null,null,null,{"$f":"INDEX($X$27:$X$176,MATCH(9,$Y$27:$Y$176,0))","v":{"$error":"#N/A"}},null,null,null,null,null,null,"Overall tie breaker = 1st Group, 2nd score, 3rd X-count"]
["10TH",{"$f":"INDEX($B$27:$B$176,MATCH(10,$T$27:T$176,0))","v":{"$error":"#N/A"}},null,null,null,{"$f":"INDEX($Z$27:$Z$176,MATCH(10,$T$27:T$176,0))","v":{"$error":"#N/A"}},null,null,"10th",{"$f":"INDEX($B$27:$B$176,MATCH(10,$W$27:$W$176,0))","v":{"$error":"#N/A"}},null,null,null,null,null,null,null,{"$f":"INDEX($AA$27:$AA$176,MATCH(10,$W$27:$W$176,0))","v":{"$error":"#N/A"}},null,"10TH",{"$f":"INDEX($B$27:$B$176,MATCH(10,$Y$27:$Y$176,0))","v":{"$error":"#N/A"}},null,null,null,null,null,null,{"$f":"INDEX($X$27:$X$176,MATCH(10,$Y$27:$Y$176,0))","v":{"$error":"#N/A"}}]
[null,null,null,null,null,null,null,null,null,null,null,null,null,null,null,null,null,null,null,"11th",{"$f":"INDEX($B$27:$B$176,MATCH(11,$Y$27:$Y$176,0))","v":{"$error":"#N/A"}},null,null,null,null,null,null,{"$f":"INDEX($X$27:$X$176,MATCH(11,$Y$27:$Y$176,0))","v":{"$error":"#N/A"}},null,null,null,null,null,null,"- Closest to center column only needs to be filled in for extreme cases for a tie breaker"]
["LIGHT GUN SINGLE TARGET HIGHEST SCORE",null,null,null,null,null,"X",null,"LIGHT GUN SINGLE TARGET SMALLEST GROUP",null,null,null,null,null,null,null,null,null,null,"12th",{"$f":"INDEX($B$27:$B$176,MATCH(12,$Y$27:$Y$176,0))","v":{"$error":"#N/A"}},null,null,null,null,null,null,{"$f":"INDEX($X$27:$X$176,MATCH(12,$Y$27:$Y$176,0))","v":{"$error":"#N/A"}},null,null,null,null,null,null,"    (since it will probably never be needed it was left out of the printable area)"]
["1ST",{"$f":"INDEX('single target'!C2:C606,MATCH(1,'single target'!I2:I606,0))","v":" "},null,null,{"$f":"INDEX('single target'!D7:D606,MATCH(1,'single target'!I7:I606,0))","v":0},{"$f":"INDEX('single target'!F7:F606,MATCH(1,'single target'!I7:I606,0))","v":0},{"$f":"INDEX('single target'!E7:E606,MATCH(1,'single target'!I7:I606,0))","v":0},null,"1ST",{"$f":"INDEX('single target'!C7:C606,MATCH(1,'single target'!J7:J606,0))","v":{"$error":"#N/A"}},null,null,null,null,null,{"$f":"INDEX('single target'!D7:D606,MATCH(1,'single target'!J7:J606,0))","v":{"$error":"#N/A"}},null,{"$f":"INDEX('single target'!F7:F606,MATCH(1,'single target'!J7:J606,0))","v":{"$error":"#N/A"}},null,"13th",{"$f":"INDEX($B$27:$B$176,MATCH(13,$Y$27:$Y$176,0))","v":{"$error":"#N/A"}},null,null,null,null,null,null,{"$f":"INDEX($X$27:$X$176,MATCH(13,$Y$27:$Y$176,0))","v":{"$error":"#N/A"}}]
["2ND",{"$f":"INDEX('single target'!C2:C606,MATCH(2,'single target'!I2:I606,0))","v":" "},null,null,{"$f":"INDEX('single target'!D7:D606,MATCH(2,'single target'!I7:I606,0))","v":0},{"$f":"INDEX('single target'!F7:F606,MATCH(2,'single target'!I7:I606,0))","v":0},{"$f":"INDEX('single target'!E7:E606,MATCH(2,'single target'!I7:I606,0))","v":0},null,"2nd",{"$f":"INDEX('single target'!C7:C606,MATCH(2,'single target'!J7:J606,0))","v":{"$error":"#N/A"}},null,null,null,null,null,{"$f":"INDEX('single target'!D7:D606,MATCH(2,'single target'!J7:J606,0))","v":{"$error":"#N/A"}},null,{"$f":"INDEX('single target'!F7:F606,MATCH(2,'single target'!J7:J606,0))","v":{"$error":"#N/A"}}]
["3RD",{"$f":"INDEX('single target'!C2:C606,MATCH(3,'single target'!I2:I606,0))","v":" "},null,null,{"$f":"INDEX('single target'!D7:D606,MATCH(3,'single target'!I7:I606,0))","v":0},{"$f":"INDEX('single target'!F7:F606,MATCH(3,'single target'!I7:I606,0))","v":0},{"$f":"INDEX('single target'!E7:E606,MATCH(3,'single target'!I7:I606,0))","v":0},null,"3rd",{"$f":"INDEX('single target'!C7:C606,MATCH(3,'single target'!J7:J606,0))","v":{"$error":"#N/A"}},null,null,null,null,null,{"$f":"INDEX('single target'!D7:D606,MATCH(3,'single target'!J7:J606,0))","v":{"$error":"#N/A"}},null,{"$f":"INDEX('single target'!F7:F606,MATCH(3,'single target'!J7:J606,0))","v":{"$error":"#N/A"}},null,"Number of LG FB shooters:  ",null,null,null,null,{"$f":"'Competitor List'!L4","v":0}]
[null,null,null,null,null,null,null,null,null,null,null,null,null,null,null,null,null,null,null,null,null,null,null,null,null,null,null,null,null,null,null,null,"Closest shot to center"]
[null,null,null,null,"RELAY- BENCH","ROOKIE, FEMALE, JUNIOR","LG TARGET 1",null,null,"LG TARGET 2",null,null,"LG TARGET 3",null,null,"LG TARGET 4",null,null,"SCORE AGG","SCORE RANK","X TOTAL","GROUP AGG","GROUP RANK","(GROUP + SCORE)","OVERALL PLACE","LG SCORE FOR RANKING","LG GROUP FOR RANKING","SOY Points",null,null,null,null,null,null,"Tip for when entering data"]
[null,"Competitor",null,"FB",null,null,"Score","X","Group","Score","X","Group","Score","X","Group","Score","X","Group",null,null,null,null,null,null,null,null,null,"Score","Group","Overall","Total",null,null,null," - Scroll down until line 24 is at the top of the screen"]
[1,{"$f":"IF('Competitor List'!J6=\"Y\",'Competitor List'!B6,\" \")","v":" "},null,{"$f":"IF('Competitor List'!H6=\"Y\",\"Y\",\"N\")","v":"N"},{"$f":"'Competitor List'!O6","v":101},{"$f":" T('Competitor List'!F6)","v":""},null,null,null,null,null,null,null,null,null,null,null,null,{"$f":" IF(AND(SUM(G27,J27,M27,P27)>0,ISNONTEXT(G27),ISNONTEXT(J27),ISNONTEXT(M27),ISNONTEXT(P27)),SUM(G27,J27,M27,P27),\"DQ\")","v":"DQ"},{"$f":" IF(AND(ISNUMBER(Z27),NOT(D27=\"N\")),RANK(Z27,$Z$27:$Z$176,0)+SUMPRODUCT(($Z$27:$Z$176=Z27)*($AA$27:$AA$176<AA27))+SUMPRODUCT(($Z$27:$Z$176=Z27)*($AA$27:$AA$176=AA27)*($U$27:$U$176>U27))+SUMPRODUCT(($Z$27:$Z$176=Z27)*($AA$27:$AA$176=AA27)*($U$27:$U$176=U27)*($AG$27:$AG$176<AG27)),\"DQ\")","v":"DQ"},{"$f":"IF(AND(ISNONTEXT(H27),ISNONTEXT(K27),ISNONTEXT(N27),ISNONTEXT(Q27)),SUM(H27+K27+N27+Q27),0)","v":0},{"$f":"IF(AND(SUM(I27,L27,O27,R27)>0,ISNONTEXT(I27),ISNONTEXT(L27),ISNONTEXT(O27),ISNONTEXT(R27)),(I27+L27+O27+R27) / ((I27<>0)+(L27<>0)+(O27<>0)+(R27<>0)),\"DQ\")","v":"DQ"},{"$f":" IF(AND(ISNUMBER(AA27),D27=\"Y\"),RANK(AA27,$AA$27:$AA$176,1)+SUMPRODUCT(($AA$27:$AA$176=AA27)*($Z$27:$Z$176>Z27))+SUMPRODUCT(($AA$27:$AA$176=AA27)*($Z$27:$Z$176=Z27)*($U$27:$U$176>U27))+SUMPRODUCT(($AA$27:$AA$176=AA27)*($Z$27:$Z$176=Z27)*($U$27:$U$176=U27)*($AG$27:$AG$176<AG27)),\"DQ\")","v":"DQ"},{"$f":"IF(AND(ISNUMBER(T27),ISNUMBER(W27)), SUM(T27,W27),\"DQ\")","v":"DQ"},{"$f":" IF(AND(ISNUMBER(X27)),RANK(X27,$X$27:$X$176,1)+SUMPRODUCT(($X$27:$X$176=X27)*($AA$27:$AA$176<AA27))+SUMPRODUCT(($X$27:$X$176=X27)*($AA$27:$AA$176=AA27)*($Z$27:$Z$176>Z27)+SUMPRODUCT(($X$27:$X$176=X27)*($AA$27:$AA$176=AA27)*($Z$27:$Z$176=Z27)*($U$27:$U$176>U27))),\"DQ\")","v":"DQ"},{"$f":" IF(AND(SUM(G27,J27,M27,P27)>0,ISNONTEXT(G27),ISNONTEXT(J27),ISNONTEXT(M27),ISNONTEXT(P27),D27=\"Y\"),SUM(G27,J27,M27,P27),\"DQ\")","v":"DQ"},{"$f":"IF(AND(D27=\"Y\",SUM(I27,L27,O27,R27)>0,ISNONTEXT(I27),ISNONTEXT(L27),ISNONTEXT(O27),ISNONTEXT(R27)),(I27+L27+O27+R27) / ((I27<>0)+(L27<>0)+(O27<>0)+(R27<>0)),\"DQ\")","v":"DQ"},{"$f":"IF(T27=1,$AJ$37,IF(T27=2,$AJ$38,IF(T27=3,$AJ$39,IF(T27=4,$AJ$40,IF(T27=5,$AJ$41,IF(T27=6,$AJ$42,IF(T27=7,$AJ$43,IF(T27=8,$AJ$44,IF(T27=9,$AJ$45,IF(T27=10,$AJ$46,\"\"))))))))))","v":""},{"$f":"IF(W27=1,$AJ$37,IF(W27=2,$AJ$38,IF(W27=3,$AJ$39,IF(W27=4,$AJ$40,IF(W27=5,$AJ$41,IF(W27=6,$AJ$42,IF(W27=7,$AJ$43,IF(W27=8,$AJ$44,IF(W27=9,$AJ$45,IF(W27=10,$AJ$46,\"\"))))))))))","v":""},{"$f":"IF(Y27=1,$AJ$37,IF(Y27=2,$AJ$38,IF(Y27=3,$AJ$39,IF(Y27=4,$AJ$40,IF(Y27=5,$AJ$41,IF(Y27=6,$AJ$42,IF(Y27=7,$AJ$43,IF(Y27=8,$AJ$44,IF(Y27=9,$AJ$45,IF(Y27=10,$AJ$46,\"\"))))))))))","v":""},{"$f":"SUM(AB27:AD27)","v":0},null,null,null,"  - Select 27 on left side"]
[2,{"$f":"IF('Competitor List'!J7=\"Y\",'Competitor List'!B7,\" \")","v":" "},null,{"$f":"IF('Competitor List'!H7=\"Y\",\"Y\",\"N\")","v":"N"},{"$f":"'Competitor List'!O7","v":102},{"$f":" T('Competitor List'!F7)","v":""},null,null,null,null,null,null,null,null,null,null,null,null,{"$f":" IF(AND(SUM(G28,J28,M28,P28)>0,ISNONTEXT(G28),ISNONTEXT(J28),ISNONTEXT(M28),ISNONTEXT(P28)),SUM(G28,J28,M28,P28),\"DQ\")","v":"DQ"},"DQ",{"$f":"IF(AND(ISNONTEXT(H28),ISNONTEXT(K28),ISNONTEXT(N28),ISNONTEXT(Q28)),SUM(H28+K28+N28+Q28),0)","v":0},{"$f":"IF(AND(SUM(I28,L28,O28,R28)>0,ISNONTEXT(I28),ISNONTEXT(L28),ISNONTEXT(O28),ISNONTEXT(R28)),(I28+L28+O28+R28) / ((I28<>0)+(L28<>0)+(O28<>0)+(R28<>0)),\"DQ\")","v":"DQ"},{"$f":" IF(AND(ISNUMBER(AA28),D28=\"Y\"),RANK(AA28,$AA$27:$AA$176,1)+SUMPRODUCT(($AA$27:$AA$176=AA28)*($Z$27:$Z$176>Z28))+SUMPRODUCT(($AA$27:$AA$176=AA28)*($Z$27:$Z$176=Z28)*($U$27:$U$176>U28))+SUMPRODUCT(($AA$27:$AA$176=AA28)*($Z$27:$Z$176=Z28)*($U$27:$U$176=U28)*($E$27:$E$176<E28)),\"DQ\")","v":"DQ"},"DQ","DQ","DQ","DQ",{"$f":"IF(T28=1,$AJ$37,IF(T28=2,$AJ$38,IF(T28=3,$AJ$39,IF(T28=4,$AJ$40,IF(T28=5,$AJ$41,IF(T28=6,$AJ$42,IF(T28=7,$AJ$43,IF(T28=8,$AJ$44,IF(T28=9,$AJ$45,IF(T28=10,$AJ$46,\"\"))))))))))","v":""},{"$f":"IF(W28=1,$AJ$37,IF(W28=2,$AJ$38,IF(W28=3,$AJ$39,IF(W28=4,$AJ$40,IF(W28=5,$AJ$41,IF(W28=6,$AJ$42,IF(W28=7,$AJ$43,IF(W28=8,$AJ$44,IF(W28=9,$AJ$45,IF(W28=10,$AJ$46,\"\"))))))))))","v":""},{"$f":"IF(Y28=1,$AJ$37,IF(Y28=2,$AJ$38,IF(Y28=3,$AJ$39,IF(Y28=4,$AJ$40,IF(Y28=5,$AJ$41,IF(Y28=6,$AJ$42,IF(Y28=7,$AJ$43,IF(Y28=8,$AJ$44,IF(Y28=9,$AJ$45,IF(Y28=10,$AJ$46,\"\"))))))))))","v":""},{"$f":"SUM(AB28:AD28)","v":0},null,null,null,"   - view at top"]
[3,{"$f":"IF('Competitor List'!J8=\"Y\",'Competitor List'!B8,\" \")","v":" "},null,{"$f":"IF('Competitor List'!H8=\"Y\",\"Y\",\"N\")","v":"N"},{"$f":"'Competitor List'!O8","v":103},{"$f":" T('Competitor List'!F8)","v":""},null,null,null,null,null,null,null,null,null,null,null,null,"DQ","DQ",{"$f":"IF(AND(ISNONTEXT(H29),ISNONTEXT(K29),ISNONTEXT(N29),ISNONTEXT(Q29)),SUM(H29+K29+N29+Q29),0)","v":0},"DQ","DQ","DQ","DQ","DQ","DQ","","","",0,null,null,null,"    - freeze panes"]
[4,{"$f":"IF('Competitor List'!J9=\"Y\",'Competitor List'!B9,\" \")","v":" "},null,{"$f":"IF('Competitor List'!H9=\"Y\",\"Y\",\"N\")","v":"N"},{"$f":"'Competitor List'!O9","v":104},{"$f":" T('Competitor List'!F9)","v":""},null,null,null,null,null,null,null,null,null,null,null,null,"DQ","DQ",{"$f":"IF(AND(ISNONTEXT(H30),ISNONTEXT(K30),ISNONTEXT(N30),ISNONTEXT(Q30)),SUM(H30+K30+N30+Q30),0)","v":0},"DQ","DQ","DQ","DQ","DQ","DQ","","","",0,null,null,null,"     - freeze panes again"]
[5,{"$f":"IF('Competitor List'!J10=\"Y\",'Competitor List'!B10,\" \")","v":" "},null,{"$f":"IF('Competitor List'!H10=\"Y\",\"Y\",\"N\")","v":"N"},{"$f":"'Competitor List'!O10","v":105},{"$f":" T('Competitor List'!F10)","v":""},null,null,null,null,null,null,null,null,null,null,null,null,"DQ","DQ",0,"DQ","DQ","DQ","DQ","DQ","DQ",{"$f":"IF(T31=1,$AJ$37,IF(T31=2,$AJ$38,IF(T31=3,$AJ$39,IF(T31=4,$AJ$40,IF(T31=5,$AJ$41,IF(T31=6,$AJ$42,IF(T31=7,$AJ$43,IF(T31=8,$AJ$44,IF(T31=9,$AJ$45,IF(T31=10,$AJ$46,\"\"))))))))))","v":""},{"$f":"IF(W31=1,$AJ$37,IF(W31=2,$AJ$38,IF(W31=3,$AJ$39,IF(W31=4,$AJ$40,IF(W31=5,$AJ$41,IF(W31=6,$AJ$42,IF(W31=7,$AJ$43,IF(W31=8,$AJ$44,IF(W31=9,$AJ$45,IF(W31=10,$AJ$46,\"\"))))))))))","v":""},"",0,null,null,null," ---unfreeze panes when you want to view the top results"]
[6,{"$f":"IF('Competitor List'!J11=\"Y\",'Competitor List'!B11,\" \")","v":" "},null,{"$f":"IF('Competitor List'!H11=\"Y\",\"Y\",\"N\")","v":"N"},{"$f":"'Competitor List'!O11","v":106},{"$f":" T('Competitor List'!F11)","v":""},null,null,null,null,null,null,null,null,null,null,null,null,"DQ","DQ",0,"DQ","DQ","DQ","DQ","DQ","DQ","","","",0,null,null,null,"  - change scale in bottom right corner to enlarge as needed"]
[7,{"$f":"IF('Competitor List'!J12=\"Y\",'Competitor List'!B12,\" \")","v":" "},null,{"$f":"IF('Competitor List'!H12=\"Y\",\"Y\",\"N\")","v":"N"},{"$f":"'Competitor List'!O12","v":107},{"$f":" T('Competitor List'!F12)","v":""},null,null,null,null,null,null,null,null,null,null,null,null,"DQ","DQ",0,"DQ","DQ","DQ","DQ","DQ","DQ","","","",0,null,null,null,"     - return to 100% after entering data"]
[8,{"$f":"IF('Competitor List'!J13=\"Y\",'Competitor List'!B13,\" \")","v":" "},null,{"$f":"IF('Competitor List'!H13=\"Y\",\"Y\",\"N\")","v":"N"},{"$f":"'Competitor List'!O13","v":108},{"$f":" T('Competitor List'!F13)","v":""},null,null,null,null,null,null,null,null,null,null,null,null,"DQ","DQ",0,"DQ","DQ","DQ","DQ","DQ","DQ","","","",0]
[9,{"$f":"IF('Competitor List'!J14=\"Y\",'Competitor List'!B14,\" \")","v":" "},null,{"$f":"IF('Competitor List'!H14=\"Y\",\"Y\",\"N\")","v":"N"},{"$f":"'Competitor List'!O14","v":109},{"$f":" T('Competitor List'!F14)","v":""},null,null,null,null,null,null,null,null,null,null,null,null,"DQ","DQ",0,"DQ","DQ","DQ","DQ","DQ","DQ","","","",0,null,null,null,"SOY points this match"]
[10,{"$f":"IF('Competitor List'!J15=\"Y\",'Competitor List'!B15,\" \")","v":" "},null,{"$f":"IF('Competitor List'!H15=\"Y\",\"Y\",\"N\")","v":"N"},{"$f":"'Competitor List'!O15","v":110},{"$f":" T('Competitor List'!F15)","v":""},null,null,null,null,null,null,null,null,null,null,null,null,"DQ","DQ",0,"DQ","DQ","DQ","DQ","DQ","DQ","","","",0,null,null,null,null,"Light"]
[11,{"$f":"IF('Competitor List'!J16=\"Y\",'Competitor List'!B16,\" \")","v":" "},null,{"$f":"IF('Competitor List'!H16=\"Y\",\"Y\",\"N\")","v":"N"},{"$f":"'Competitor List'!O16","v":111},{"$f":" T('Competitor List'!F16)","v":""},null,null,null,null,null,null,null,null,null,null,null,null,"DQ","DQ",0,"DQ","DQ","DQ","DQ","DQ","DQ","","","",0,null,null,null,"1st",{"$f":"IF(Y23<=7,1,IF(Y23<=14,2,IF(Y23<=21,3,IF(Y23<=28,4,IF(Y23<=35,5,IF(Y23<=42,6,IF(Y23<=49,7,IF(Y23<=56,8,IF(Y23<=63,9,10)))))))))","v":1}]
[12,{"$f":"IF('Competitor List'!J17=\"Y\",'Competitor List'!B17,\" \")","v":" "},null,{"$f":"IF('Competitor List'!H17=\"Y\",\"Y\",\"N\")","v":"N"},{"$f":"'Competitor List'!O17","v":112},{"$f":" T('Competitor List'!F17)","v":""},null,null,null,null,null,null,null,null,null,null,null,null,"DQ","DQ",0,"DQ","DQ","DQ","DQ","DQ","DQ","","","",0,null,null,null,"2nd",{"$f":"IF(AND(AJ37>=2,ISNUMBER(AJ37)),AJ37-1,0)","v":0}]
[13,{"$f":"IF('Competitor List'!J18=\"Y\",'Competitor List'!B18,\" \")","v":" "},null,{"$f":"IF('Competitor List'!H18=\"Y\",\"Y\",\"N\")","v":"N"},{"$f":"'Competitor List'!O18","v":113},{"$f":" T('Competitor List'!F18)","v":""},null,null,null,null,null,null,null,null,null,null,null,null,"DQ","DQ",0,"DQ","DQ","DQ","DQ","DQ","DQ","","","",0,null,null,null,"3rd",0]
[14,{"$f":"IF('Competitor List'!J19=\"Y\",'Competitor List'!B19,\" \")","v":" "},null,{"$f":"IF('Competitor List'!H19=\"Y\",\"Y\",\"N\")","v":"N"},{"$f":"'Competitor List'!O19","v":114},{"$f":" T('Competitor List'!F19)","v":""},null,null,null,null,null,null,null,null,null,null,null,null,"DQ","DQ",0,"DQ","DQ","DQ","DQ","DQ","DQ","","","",0,null,null,null,"4th",0]
[15,{"$f":"IF('Competitor List'!J20=\"Y\",'Competitor List'!B20,\" \")","v":" "},null,{"$f":"IF('Competitor List'!H20=\"Y\",\"Y\",\"N\")","v":"N"},{"$f":"'Competitor List'!O20","v":115},{"$f":" T('Competitor List'!F20)","v":""},null,null,null,null,null,null,null,null,null,null,null,null,"DQ","DQ",0,"DQ","DQ","DQ","DQ","DQ","DQ","","","",0,null,null,null,"5th",0]
[16,{"$f":"IF('Competitor List'!J21=\"Y\",'Competitor List'!B21,\" \")","v":" "},null,{"$f":"IF('Competitor List'!H21=\"Y\",\"Y\",\"N\")","v":"N"},{"$f":"'Competitor List'!O21","v":201},{"$f":" T('Competitor List'!F21)","v":""},null,null,null,null,null,null,null,null,null,null,null,null,"DQ","DQ",0,"DQ","DQ","DQ","DQ","DQ","DQ","","","",0,null,null,null,"6th",0]
[17,{"$f":"IF('Competitor List'!J22=\"Y\",'Competitor List'!B22,\" \")","v":" "},null,{"$f":"IF('Competitor List'!H22=\"Y\",\"Y\",\"N\")","v":"N"},{"$f":"'Competitor List'!O22","v":202},{"$f":" T('Competitor List'!F22)","v":""},null,null,null,null,null,null,null,null,null,null,null,null,"DQ","DQ",0,"DQ","DQ","DQ","DQ","DQ","DQ","","","",0,null,null,null,"7th",0]
[18,{"$f":"IF('Competitor List'!J23=\"Y\",'Competitor List'!B23,\" \")","v":" "},null,{"$f":"IF('Competitor List'!H23=\"Y\",\"Y\",\"N\")","v":"N"},{"$f":"'Competitor List'!O23","v":203},{"$f":" T('Competitor List'!F23)","v":""},null,null,null,null,null,null,null,null,null,null,null,null,"DQ","DQ",0,"DQ","DQ","DQ","DQ","DQ","DQ","","","",0,null,null,null,"8th",0]
[19,{"$f":"IF('Competitor List'!J24=\"Y\",'Competitor List'!B24,\" \")","v":" "},null,{"$f":"IF('Competitor List'!H24=\"Y\",\"Y\",\"N\")","v":"N"},{"$f":"'Competitor List'!O24","v":204},{"$f":" T('Competitor List'!F24)","v":""},null,null,null,null,null,null,null,null,null,null,null,null,"DQ","DQ",0,"DQ","DQ","DQ","DQ","DQ","DQ","","","",0,null,null,null,"9th",0]
[20,{"$f":"IF('Competitor List'!J25=\"Y\",'Competitor List'!B25,\" \")","v":" "},null,{"$f":"IF('Competitor List'!H25=\"Y\",\"Y\",\"N\")","v":"N"},{"$f":"'Competitor List'!O25","v":205},{"$f":" T('Competitor List'!F25)","v":""},null,null,null,null,null,null,null,null,null,null,null,null,"DQ","DQ",0,"DQ","DQ","DQ","DQ","DQ","DQ","","","",0,null,null,null,"10th",0]
[21,{"$f":"IF('Competitor List'!J26=\"Y\",'Competitor List'!B26,\" \")","v":" "},null,{"$f":"IF('Competitor List'!H26=\"Y\",\"Y\",\"N\")","v":"N"},{"$f":"'Competitor List'!O26","v":206},{"$f":" T('Competitor List'!F26)","v":""},null,null,null,null,null,null,null,null,null,null,null,null,"DQ","DQ",0,"DQ","DQ","DQ","DQ","DQ","DQ","","","",0]
[22,{"$f":"IF('Competitor List'!J27=\"Y\",'Competitor List'!B27,\" \")","v":" "},null,{"$f":"IF('Competitor List'!H27=\"Y\",\"Y\",\"N\")","v":"N"},{"$f":"'Competitor List'!O27","v":207},{"$f":" T('Competitor List'!F27)","v":""},null,null,null,null,null,null,null,null,null,null,null,null,"DQ","DQ",0,"DQ","DQ","DQ","DQ","DQ","DQ","","","",0,null,null,null,"Enter your notes here"]
[23,{"$f":"IF('Competitor List'!J28=\"Y\",'Competitor List'!B28,\" \")","v":" "},null,{"$f":"IF('Competitor List'!H28=\"Y\",\"Y\",\"N\")","v":"N"},{"$f":"'Competitor List'!O28","v":208},{"$f":" T('Competitor List'!F28)","v":""},null,null,null,null,null,null,null,null,null,null,null,null,"DQ","DQ",0,"DQ","DQ","DQ","DQ","DQ","DQ","","","",0]
[24,{"$f":"IF('Competitor List'!J29=\"Y\",'Competitor List'!B29,\" \")","v":" "},null,{"$f":"IF('Competitor List'!H29=\"Y\",\"Y\",\"N\")","v":"N"},{"$f":"'Competitor List'!O29","v":209},{"$f":" T('Competitor List'!F29)","v":""},null,null,null,null,null,null,null,null,null,null,null,null,"DQ","DQ",0,"DQ","DQ","DQ","DQ","DQ","DQ","","","",0]
[25,{"$f":"IF('Competitor List'!J30=\"Y\",'Competitor List'!B30,\" \")","v":" "},null,{"$f":"IF('Competitor List'!H30=\"Y\",\"Y\",\"N\")","v":"N"},{"$f":"'Competitor List'!O30","v":210},{"$f":" T('Competitor List'!F30)","v":""},null,null,null,null,null,null,null,null,null,null,null,null,"DQ","DQ",0,"DQ","DQ","DQ","DQ","DQ","DQ","","","",0]
[26,{"$f":"IF('Competitor List'!J31=\"Y\",'Competitor List'!B31,\" \")","v":" "},null,{"$f":"IF('Competitor List'!H31=\"Y\",\"Y\",\"N\")","v":"N"},{"$f":"'Competitor List'!O31","v":211},{"$f":" T('Competitor List'!F31)","v":""},null,null,null,null,null,null,null,null,null,null,null,null,"DQ","DQ",0,"DQ","DQ","DQ","DQ","DQ","DQ","","","",0]
[27,{"$f":"IF('Competitor List'!J32=\"Y\",'Competitor List'!B32,\" \")","v":" "},null,{"$f":"IF('Competitor List'!H32=\"Y\",\"Y\",\"N\")","v":"N"},{"$f":"'Competitor List'!O32","v":212},{"$f":" T('Competitor List'!F32)","v":""},null,null,null,null,null,null,null,null,null,null,null,null,"DQ","DQ",0,"DQ","DQ","DQ","DQ","DQ","DQ","","","",0]
[28,{"$f":"IF('Competitor List'!J33=\"Y\",'Competitor List'!B33,\" \")","v":" "},null,{"$f":"IF('Competitor List'!H33=\"Y\",\"Y\",\"N\")","v":"N"},{"$f":"'Competitor List'!O33","v":213},{"$f":" T('Competitor List'!F33)","v":""},null,null,null,null,null,null,null,null,null,null,null,null,"DQ","DQ",0,"DQ","DQ","DQ","DQ","DQ","DQ","","","",0]
[29,{"$f":"IF('Competitor List'!J34=\"Y\",'Competitor List'!B34,\" \")","v":" "},null,{"$f":"IF('Competitor List'!H34=\"Y\",\"Y\",\"N\")","v":"N"},{"$f":"'Competitor List'!O34","v":214},{"$f":" T('Competitor List'!F34)","v":""},null,null,null,null,null,null,null,null,null,null,null,null,"DQ","DQ",0,"DQ","DQ","DQ","DQ","DQ","DQ","","","",0]
[30,{"$f":"IF('Competitor List'!J35=\"Y\",'Competitor List'!B35,\" \")","v":" "},null,{"$f":"IF('Competitor List'!H35=\"Y\",\"Y\",\"N\")","v":"N"},{"$f":"'Competitor List'!O35","v":215},{"$f":" T('Competitor List'!F35)","v":""},null,null,null,null,null,null,null,null,null,null,null,null,"DQ","DQ",0,"DQ","DQ","DQ","DQ","DQ","DQ","","","",0]
[31,{"$f":"IF('Competitor List'!J36=\"Y\",'Competitor List'!B36,\" \")","v":" "},null,{"$f":"IF('Competitor List'!H36=\"Y\",\"Y\",\"N\")","v":"N"},{"$f":"'Competitor List'!O36","v":301},{"$f":" T('Competitor List'!F36)","v":""},null,null,null,null,null,null,null,null,null,null,null,null,"DQ","DQ",0,"DQ","DQ","DQ","DQ","DQ","DQ","","","",0]
[32,{"$f":"IF('Competitor List'!J37=\"Y\",'Competitor List'!B37,\" \")","v":" "},null,{"$f":"IF('Competitor List'!H37=\"Y\",\"Y\",\"N\")","v":"N"},{"$f":"'Competitor List'!O37","v":302},{"$f":" T('Competitor List'!F37)","v":""},null,null,null,null,null,null,null,null,null,null,null,null,"DQ","DQ",0,"DQ","DQ","DQ","DQ","DQ","DQ","","","",0]
[33,{"$f":"IF('Competitor List'!J38=\"Y\",'Competitor List'!B38,\" \")","v":" "},null,{"$f":"IF('Competitor List'!H38=\"Y\",\"Y\",\"N\")","v":"N"},{"$f":"'Competitor List'!O38","v":303},{"$f":" T('Competitor List'!F38)","v":""},null,null,null,null,null,null,null,null,null,null,null,null,"DQ",{"$f":" IF(AND(ISNUMBER(Z59),NOT(D59=\"N\")),RANK(Z59,$Z$27:$Z$176,0)+SUMPRODUCT(($Z$27:$Z$176=Z59)*($AA$27:$AA$176<AA59))+SUMPRODUCT(($Z$27:$Z$176=Z59)*($AA$27:$AA$176=AA59)*($U$27:$U$176>U59))+SUMPRODUCT(($Z$27:$Z$176=Z59)*($AA$27:$AA$176=AA59)*($U$27:$U$176=U59)*($AG$27:$AG$176<AG59)),\"DQ\")","v":"DQ"},0,"DQ","DQ",{"$f":"IF(AND(ISNUMBER(T59),ISNUMBER(W59)), SUM(T59,W59),\"DQ\")","v":"DQ"},{"$f":" IF(AND(ISNUMBER(X59)),RANK(X59,$X$27:$X$176,1)+SUMPRODUCT(($X$27:$X$176=X59)*($AA$27:$AA$176<AA59))+SUMPRODUCT(($X$27:$X$176=X59)*($AA$27:$AA$176=AA59)*($Z$27:$Z$176>Z59)+SUMPRODUCT(($X$27:$X$176=X59)*($AA$27:$AA$176=AA59)*($Z$27:$Z$176=Z59)*($U$27:$U$176>U59))),\"DQ\")","v":"DQ"},{"$f":" IF(AND(SUM(G59,J59,M59,P59)>0,ISNONTEXT(G59),ISNONTEXT(J59),ISNONTEXT(M59),ISNONTEXT(P59),D59=\"Y\"),SUM(G59,J59,M59,P59),\"DQ\")","v":"DQ"},{"$f":"IF(AND(D59=\"Y\",SUM(I59,L59,O59,R59)>0,ISNONTEXT(I59),ISNONTEXT(L59),ISNONTEXT(O59),ISNONTEXT(R59)),(I59+L59+O59+R59) / ((I59<>0)+(L59<>0)+(O59<>0)+(R59<>0)),\"DQ\")","v":"DQ"},"","","",0]
[34,{"$f":"IF('Competitor List'!J39=\"Y\",'Competitor List'!B39,\" \")","v":" "},null,{"$f":"IF('Competitor List'!H39=\"Y\",\"Y\",\"N\")","v":"N"},{"$f":"'Competitor List'!O39","v":304},{"$f":" T('Competitor List'!F39)","v":""},null,null,null,null,null,null,null,null,null,null,null,null,"DQ","DQ",0,"DQ",{"$f":" IF(AND(ISNUMBER(AA60),D60=\"Y\"),RANK(AA60,$AA$27:$AA$176,1)+SUMPRODUCT(($AA$27:$AA$176=AA60)*($Z$27:$Z$176>Z60))+SUMPRODUCT(($AA$27:$AA$176=AA60)*($Z$27:$Z$176=Z60)*($U$27:$U$176>U60))+SUMPRODUCT(($AA$27:$AA$176=AA60)*($Z$27:$Z$176=Z60)*($U$27:$U$176=U60)*($E$27:$E$176<E60)),\"DQ\")","v":"DQ"},"DQ","DQ","DQ","DQ","","","",0]
[35,{"$f":"IF('Competitor List'!J40=\"Y\",'Competitor List'!B40,\" \")","v":" "},null,{"$f":"IF('Competitor List'!H40=\"Y\",\"Y\",\"N\")","v":"N"},{"$f":"'Competitor List'!O40","v":305},{"$f":" T('Competitor List'!F40)","v":""},null,null,null,null,null,null,null,null,null,null,null,null,"DQ","DQ",0,"DQ","DQ","DQ","DQ","DQ","DQ","","","",0]
[36,{"$f":"IF('Competitor List'!J41=\"Y\",'Competitor List'!B41,\" \")","v":" "},null,{"$f":"IF('Competitor List'!H41=\"Y\",\"Y\",\"N\")","v":"N"},{"$f":"'Competitor List'!O41","v":306},{"$f":" T('Competitor List'!F41)","v":""},null,null,null,null,null,null,null,null,null,null,null,null,"DQ","DQ",0,"DQ","DQ","DQ","DQ","DQ","DQ","","","",0]
[37,{"$f":"IF('Competitor List'!J42=\"Y\",'Competitor List'!B42,\" \")","v":" "},null,{"$f":"IF('Competitor List'!H42=\"Y\",\"Y\",\"N\")","v":"N"},{"$f":"'Competitor List'!O42","v":307},{"$f":" T('Competitor List'!F42)","v":""},null,null,null,null,null,null,null,null,null,null,null,null,"DQ","DQ",0,"DQ","DQ","DQ","DQ","DQ","DQ","","","",0]
[38,{"$f":"IF('Competitor List'!J43=\"Y\",'Competitor List'!B43,\" \")","v":" "},null,{"$f":"IF('Competitor List'!H43=\"Y\",\"Y\",\"N\")","v":"N"},{"$f":"'Competitor List'!O43","v":308},{"$f":" T('Competitor List'!F43)","v":""},null,null,null,null,null,null,null,null,null,null,null,null,"DQ","DQ",0,"DQ","DQ","DQ","DQ","DQ","DQ","","","",0]
[39,{"$f":"IF('Competitor List'!J44=\"Y\",'Competitor List'!B44,\" \")","v":" "},null,{"$f":"IF('Competitor List'!H44=\"Y\",\"Y\",\"N\")","v":"N"},{"$f":"'Competitor List'!O44","v":309},{"$f":" T('Competitor List'!F44)","v":""},null,null,null,null,null,null,null,null,null,null,null,null,"DQ","DQ",0,"DQ","DQ","DQ","DQ","DQ","DQ","","","",0]
[40,{"$f":"IF('Competitor List'!J45=\"Y\",'Competitor List'!B45,\" \")","v":" "},null,{"$f":"IF('Competitor List'!H45=\"Y\",\"Y\",\"N\")","v":"N"},{"$f":"'Competitor List'!O45","v":310},{"$f":" T('Competitor List'!F45)","v":""},null,null,null,null,null,null,null,null,null,null,null,null,"DQ","DQ",0,"DQ","DQ","DQ","DQ","DQ","DQ","","","",0]
[41,{"$f":"IF('Competitor List'!J46=\"Y\",'Competitor List'!B46,\" \")","v":" "},null,{"$f":"IF('Competitor List'!H46=\"Y\",\"Y\",\"N\")","v":"N"},{"$f":"'Competitor List'!O46","v":311},{"$f":" T('Competitor List'!F46)","v":""},null,null,null,null,null,null,null,null,null,null,null,null,"DQ","DQ",0,"DQ","DQ","DQ","DQ","DQ","DQ","","","",0]
[42,{"$f":"IF('Competitor List'!J47=\"Y\",'Competitor List'!B47,\" \")","v":" "},null,{"$f":"IF('Competitor List'!H47=\"Y\",\"Y\",\"N\")","v":"N"},{"$f":"'Competitor List'!O47","v":312},{"$f":" T('Competitor List'!F47)","v":""},null,null,null,null,null,null,null,null,null,null,null,null,"DQ","DQ",0,"DQ","DQ","DQ","DQ","DQ","DQ","","","",0]
[43,{"$f":"IF('Competitor List'!J48=\"Y\",'Competitor List'!B48,\" \")","v":" "},null,{"$f":"IF('Competitor List'!H48=\"Y\",\"Y\",\"N\")","v":"N"},{"$f":"'Competitor List'!O48","v":313},{"$f":" T('Competitor List'!F48)","v":""},null,null,null,null,null,null,null,null,null,null,null,null,"DQ","DQ",0,"DQ","DQ","DQ","DQ","DQ","DQ","","","",0]
[44,{"$f":"IF('Competitor List'!J49=\"Y\",'Competitor List'!B49,\" \")","v":" "},null,{"$f":"IF('Competitor List'!H49=\"Y\",\"Y\",\"N\")","v":"N"},{"$f":"'Competitor List'!O49","v":314},{"$f":" T('Competitor List'!F49)","v":""},null,null,null,null,null,null,null,null,null,null,null,null,"DQ","DQ",0,"DQ","DQ","DQ","DQ","DQ","DQ","","","",0]
[45,{"$f":"IF('Competitor List'!J50=\"Y\",'Competitor List'!B50,\" \")","v":" "},null,{"$f":"IF('Competitor List'!H50=\"Y\",\"Y\",\"N\")","v":"N"},{"$f":"'Competitor List'!O50","v":315},{"$f":" T('Competitor List'!F50)","v":""},null,null,null,null,null,null,null,null,null,null,null,null,"DQ","DQ",0,"DQ","DQ","DQ","DQ","DQ","DQ","","","",0]
[46,{"$f":"IF('Competitor List'!J51=\"Y\",'Competitor List'!B51,\" \")","v":" "},null,{"$f":"IF('Competitor List'!H51=\"Y\",\"Y\",\"N\")","v":"N"},{"$f":"'Competitor List'!O51","v":401},{"$f":" T('Competitor List'!F51)","v":""},null,null,null,null,null,null,null,null,null,null,null,null,"DQ","DQ",0,"DQ","DQ","DQ","DQ","DQ","DQ","","","",0]
[47,{"$f":"IF('Competitor List'!J52=\"Y\",'Competitor List'!B52,\" \")","v":" "},null,{"$f":"IF('Competitor List'!H52=\"Y\",\"Y\",\"N\")","v":"N"},{"$f":"'Competitor List'!O52","v":402},{"$f":" T('Competitor List'!F52)","v":""},null,null,null,null,null,null,null,null,null,null,null,null,"DQ","DQ",0,"DQ","DQ","DQ","DQ","DQ","DQ","","","",0]
[48,{"$f":"IF('Competitor List'!J53=\"Y\",'Competitor List'!B53,\" \")","v":" "},null,{"$f":"IF('Competitor List'!H53=\"Y\",\"Y\",\"N\")","v":"N"},{"$f":"'Competitor List'!O53","v":403},{"$f":" T('Competitor List'!F53)","v":""},null,null,null,null,null,null,null,null,null,null,null,null,"DQ","DQ",0,"DQ","DQ","DQ","DQ","DQ","DQ","","","",0]
[49,{"$f":"IF('Competitor List'!J54=\"Y\",'Competitor List'!B54,\" \")","v":" "},null,{"$f":"IF('Competitor List'!H54=\"Y\",\"Y\",\"N\")","v":"N"},{"$f":"'Competitor List'!O54","v":404},{"$f":" T('Competitor List'!F54)","v":""},null,null,null,null,null,null,null,null,null,null,null,null,"DQ","DQ",0,"DQ","DQ","DQ","DQ","DQ","DQ","","","",0]
[50,{"$f":"IF('Competitor List'!J55=\"Y\",'Competitor List'!B55,\" \")","v":" "},null,{"$f":"IF('Competitor List'!H55=\"Y\",\"Y\",\"N\")","v":"N"},{"$f":"'Competitor List'!O55","v":405},{"$f":" T('Competitor List'!F55)","v":""},null,null,null,null,null,null,null,null,null,null,null,null,"DQ","DQ",0,"DQ","DQ","DQ","DQ","DQ","DQ","","","",0]
[51,{"$f":"IF('Competitor List'!J56=\"Y\",'Competitor List'!B56,\" \")","v":" "},null,{"$f":"IF('Competitor List'!H56=\"Y\",\"Y\",\"N\")","v":"N"},{"$f":"'Competitor List'!O56","v":406},{"$f":" T('Competitor List'!F56)","v":""},null,null,null,null,null,null,null,null,null,null,null,null,"DQ","DQ",0,"DQ","DQ","DQ","DQ","DQ","DQ","","","",0]
[52,{"$f":"IF('Competitor List'!J57=\"Y\",'Competitor List'!B57,\" \")","v":" "},null,{"$f":"IF('Competitor List'!H57=\"Y\",\"Y\",\"N\")","v":"N"},{"$f":"'Competitor List'!O57","v":407},{"$f":" T('Competitor List'!F57)","v":""},null,null,null,null,null,null,null,null,null,null,null,null,"DQ","DQ",0,"DQ","DQ","DQ","DQ","DQ","DQ","","","",0]
[53,{"$f":"IF('Competitor List'!J58=\"Y\",'Competitor List'!B58,\" \")","v":" "},null,{"$f":"IF('Competitor List'!H58=\"Y\",\"Y\",\"N\")","v":"N"},{"$f":"'Competitor List'!O58","v":408},{"$f":" T('Competitor List'!F58)","v":""},null,null,null,null,null,null,null,null,null,null,null,null,"DQ","DQ",0,"DQ","DQ","DQ","DQ","DQ","DQ","","","",0]
[54,{"$f":"IF('Competitor List'!J59=\"Y\",'Competitor List'!B59,\" \")","v":" "},null,{"$f":"IF('Competitor List'!H59=\"Y\",\"Y\",\"N\")","v":"N"},{"$f":"'Competitor List'!O59","v":409},{"$f":" T('Competitor List'!F59)","v":""},null,null,null,null,null,null,null,null,null,null,null,null,"DQ","DQ",0,"DQ","DQ","DQ","DQ","DQ","DQ","","","",0]
[55,{"$f":"IF('Competitor List'!J60=\"Y\",'Competitor List'!B60,\" \")","v":" "},null,{"$f":"IF('Competitor List'!H60=\"Y\",\"Y\",\"N\")","v":"N"},{"$f":"'Competitor List'!O60","v":410},{"$f":" T('Competitor List'!F60)","v":""},null,null,null,null,null,null,null,null,null,null,null,null,"DQ","DQ",0,"DQ","DQ","DQ","DQ","DQ","DQ","","","",0]
[56,{"$f":"IF('Competitor List'!J61=\"Y\",'Competitor List'!B61,\" \")","v":" "},null,{"$f":"IF('Competitor List'!H61=\"Y\",\"Y\",\"N\")","v":"N"},{"$f":"'Competitor List'!O61","v":411},{"$f":" T('Competitor List'!F61)","v":""},null,null,null,null,null,null,null,null,null,null,null,null,"DQ","DQ",0,"DQ","DQ","DQ","DQ","DQ","DQ","","","",0]
[57,{"$f":"IF('Competitor List'!J62=\"Y\",'Competitor List'!B62,\" \")","v":" "},null,{"$f":"IF('Competitor List'!H62=\"Y\",\"Y\",\"N\")","v":"N"},{"$f":"'Competitor List'!O62","v":412},{"$f":" T('Competitor List'!F62)","v":""},null,null,null,null,null,null,null,null,null,null,null,null,"DQ","DQ",0,"DQ","DQ","DQ","DQ","DQ","DQ","","","",0]
[58,{"$f":"IF('Competitor List'!J63=\"Y\",'Competitor List'!B63,\" \")","v":" "},null,{"$f":"IF('Competitor List'!H63=\"Y\",\"Y\",\"N\")","v":"N"},{"$f":"'Competitor List'!O63","v":413},{"$f":" T('Competitor List'!F63)","v":""},null,null,null,null,null,null,null,null,null,null,null,null,"DQ","DQ",0,"DQ","DQ","DQ","DQ","DQ","DQ","","","",0]
[59,{"$f":"IF('Competitor List'!J64=\"Y\",'Competitor List'!B64,\" \")","v":" "},null,{"$f":"IF('Competitor List'!H64=\"Y\",\"Y\",\"N\")","v":"N"},{"$f":"'Competitor List'!O64","v":414},{"$f":" T('Competitor List'!F64)","v":""},null,null,null,null,null,null,null,null,null,null,null,null,"DQ","DQ",0,"DQ","DQ","DQ","DQ","DQ","DQ","","","",0]
[60,{"$f":"IF('Competitor List'!J65=\"Y\",'Competitor List'!B65,\" \")","v":" "},null,{"$f":"IF('Competitor List'!H65=\"Y\",\"Y\",\"N\")","v":"N"},{"$f":"'Competitor List'!O65","v":415},{"$f":" T('Competitor List'!F65)","v":""},null,null,null,null,null,null,null,null,null,null,null,null,"DQ","DQ",0,"DQ","DQ","DQ","DQ","DQ","DQ","","","",0]
[61,{"$f":"IF('Competitor List'!J66=\"Y\",'Competitor List'!B66,\" \")","v":" "},null,{"$f":"IF('Competitor List'!H66=\"Y\",\"Y\",\"N\")","v":"N"},{"$f":"'Competitor List'!O66","v":501},{"$f":" T('Competitor List'!F66)","v":""},null,null,null,null,null,null,null,null,null,null,null,null,"DQ","DQ",0,"DQ","DQ","DQ","DQ","DQ","DQ","","","",0]
[62,{"$f":"IF('Competitor List'!J67=\"Y\",'Competitor List'!B67,\" \")","v":" "},null,{"$f":"IF('Competitor List'!H67=\"Y\",\"Y\",\"N\")","v":"N"},{"$f":"'Competitor List'!O67","v":502},{"$f":" T('Competitor List'!F67)","v":""},null,null,null,null,null,null,null,null,null,null,null,null,"DQ","DQ",0,"DQ","DQ","DQ","DQ","DQ","DQ","","","",0]
[63,{"$f":"IF('Competitor List'!J68=\"Y\",'Competitor List'!B68,\" \")","v":" "},null,{"$f":"IF('Competitor List'!H68=\"Y\",\"Y\",\"N\")","v":"N"},{"$f":"'Competitor List'!O68","v":503},{"$f":" T('Competitor List'!F68)","v":""},null,null,null,null,null,null,null,null,null,null,null,null,"DQ","DQ",0,"DQ","DQ","DQ","DQ","DQ","DQ","","","",0]
[64,{"$f":"IF('Competitor List'!J69=\"Y\",'Competitor List'!B69,\" \")","v":" "},null,{"$f":"IF('Competitor List'!H69=\"Y\",\"Y\",\"N\")","v":"N"},{"$f":"'Competitor List'!O69","v":504},{"$f":" T('Competitor List'!F69)","v":""},null,null,null,null,null,null,null,null,null,null,null,null,"DQ","DQ",0,"DQ","DQ","DQ","DQ","DQ","DQ","","","",0]
[65,{"$f":"IF('Competitor List'!J70=\"Y\",'Competitor List'!B70,\" \")","v":" "},null,{"$f":"IF('Competitor List'!H70=\"Y\",\"Y\",\"N\")","v":"N"},{"$f":"'Competitor List'!O70","v":505},{"$f":" T('Competitor List'!F70)","v":""},null,null,null,null,null,null,null,null,null,null,null,null,"DQ",{"$f":" IF(AND(ISNUMBER(Z91),NOT(D91=\"N\")),RANK(Z91,$Z$27:$Z$176,0)+SUMPRODUCT(($Z$27:$Z$176=Z91)*($AA$27:$AA$176<AA91))+SUMPRODUCT(($Z$27:$Z$176=Z91)*($AA$27:$AA$176=AA91)*($U$27:$U$176>U91))+SUMPRODUCT(($Z$27:$Z$176=Z91)*($AA$27:$AA$176=AA91)*($U$27:$U$176=U91)*($AG$27:$AG$176<AG91)),\"DQ\")","v":"DQ"},0,"DQ","DQ",{"$f":"IF(AND(ISNUMBER(T91),ISNUMBER(W91)), SUM(T91,W91),\"DQ\")","v":"DQ"},{"$f":" IF(AND(ISNUMBER(X91)),RANK(X91,$X$27:$X$176,1)+SUMPRODUCT(($X$27:$X$176=X91)*($AA$27:$AA$176<AA91))+SUMPRODUCT(($X$27:$X$176=X91)*($AA$27:$AA$176=AA91)*($Z$27:$Z$176>Z91)+SUMPRODUCT(($X$27:$X$176=X91)*($AA$27:$AA$176=AA91)*($Z$27:$Z$176=Z91)*($U$27:$U$176>U91))),\"DQ\")","v":"DQ"},{"$f":" IF(AND(SUM(G91,J91,M91,P91)>0,ISNONTEXT(G91),ISNONTEXT(J91),ISNONTEXT(M91),ISNONTEXT(P91),D91=\"Y\"),SUM(G91,J91,M91,P91),\"DQ\")","v":"DQ"},{"$f":"IF(AND(D91=\"Y\",SUM(I91,L91,O91,R91)>0,ISNONTEXT(I91),ISNONTEXT(L91),ISNONTEXT(O91),ISNONTEXT(R91)),(I91+L91+O91+R91) / ((I91<>0)+(L91<>0)+(O91<>0)+(R91<>0)),\"DQ\")","v":"DQ"},"","","",0]
[66,{"$f":"IF('Competitor List'!J71=\"Y\",'Competitor List'!B71,\" \")","v":" "},null,{"$f":"IF('Competitor List'!H71=\"Y\",\"Y\",\"N\")","v":"N"},{"$f":"'Competitor List'!O71","v":506},{"$f":" T('Competitor List'!F71)","v":""},null,null,null,null,null,null,null,null,null,null,null,null,{"$f":" IF(AND(SUM(G92,J92,M92,P92)>0,ISNONTEXT(G92),ISNONTEXT(J92),ISNONTEXT(M92),ISNONTEXT(P92)),SUM(G92,J92,M92,P92),\"DQ\")","v":"DQ"},"DQ",0,{"$f":"IF(AND(SUM(I92,L92,O92,R92)>0,ISNONTEXT(I92),ISNONTEXT(L92),ISNONTEXT(O92),ISNONTEXT(R92)),(I92+L92+O92+R92) / ((I92<>0)+(L92<>0)+(O92<>0)+(R92<>0)),\"DQ\")","v":"DQ"},{"$f":" IF(AND(ISNUMBER(AA92),D92=\"Y\"),RANK(AA92,$AA$27:$AA$176,1)+SUMPRODUCT(($AA$27:$AA$176=AA92)*($Z$27:$Z$176>Z92))+SUMPRODUCT(($AA$27:$AA$176=AA92)*($Z$27:$Z$176=Z92)*($U$27:$U$176>U92))+SUMPRODUCT(($AA$27:$AA$176=AA92)*($Z$27:$Z$176=Z92)*($U$27:$U$176=U92)*($E$27:$E$176<E92)),\"DQ\")","v":"DQ"},"DQ","DQ","DQ","DQ","","",{"$f":"IF(Y92=1,$AJ$37,IF(Y92=2,$AJ$38,IF(Y92=3,$AJ$39,IF(Y92=4,$AJ$40,IF(Y92=5,$AJ$41,IF(Y92=6,$AJ$42,IF(Y92=7,$AJ$43,IF(Y92=8,$AJ$44,IF(Y92=9,$AJ$45,IF(Y92=10,$AJ$46,\"\"))))))))))","v":""},{"$f":"SUM(AB92:AD92)","v":0}]
[67,{"$f":"IF('Competitor List'!J72=\"Y\",'Competitor List'!B72,\" \")","v":" "},null,{"$f":"IF('Competitor List'!H72=\"Y\",\"Y\",\"N\")","v":"N"},{"$f":"'Competitor List'!O72","v":507},{"$f":" T('Competitor List'!F72)","v":""},null,null,null,null,null,null,null,null,null,null,null,null,"DQ","DQ",0,"DQ","DQ","DQ","DQ","DQ","DQ","","","",0]
[68,{"$f":"IF('Competitor List'!J73=\"Y\",'Competitor List'!B73,\" \")","v":" "},null,{"$f":"IF('Competitor List'!H73=\"Y\",\"Y\",\"N\")","v":"N"},{"$f":"'Competitor List'!O73","v":508},{"$f":" T('Competitor List'!F73)","v":""},null,null,null,null,null,null,null,null,null,null,null,null,"DQ","DQ",{"$f":"IF(AND(ISNONTEXT(H94),ISNONTEXT(K94),ISNONTEXT(N94),ISNONTEXT(Q94)),SUM(H94+K94+N94+Q94),0)","v":0},"DQ","DQ","DQ","DQ","DQ","DQ","","","",0]
[69,{"$f":"IF('Competitor List'!J74=\"Y\",'Competitor List'!B74,\" \")","v":" "},null,{"$f":"IF('Competitor List'!H74=\"Y\",\"Y\",\"N\")","v":"N"},{"$f":"'Competitor List'!O74","v":509},{"$f":" T('Competitor List'!F74)","v":""},null,null,null,null,null,null,null,null,null,null,null,null,"DQ","DQ",0,"DQ","DQ","DQ","DQ","DQ","DQ",{"$f":"IF(T95=1,$AJ$37,IF(T95=2,$AJ$38,IF(T95=3,$AJ$39,IF(T95=4,$AJ$40,IF(T95=5,$AJ$41,IF(T95=6,$AJ$42,IF(T95=7,$AJ$43,IF(T95=8,$AJ$44,IF(T95=9,$AJ$45,IF(T95=10,$AJ$46,\"\"))))))))))","v":""},{"$f":"IF(W95=1,$AJ$37,IF(W95=2,$AJ$38,IF(W95=3,$AJ$39,IF(W95=4,$AJ$40,IF(W95=5,$AJ$41,IF(W95=6,$AJ$42,IF(W95=7,$AJ$43,IF(W95=8,$AJ$44,IF(W95=9,$AJ$45,IF(W95=10,$AJ$46,\"\"))))))))))","v":""},"",0]
[70,{"$f":"IF('Competitor List'!J75=\"Y\",'Competitor List'!B75,\" \")","v":" "},null,{"$f":"IF('Competitor List'!H75=\"Y\",\"Y\",\"N\")","v":"N"},{"$f":"'Competitor List'!O75","v":510},{"$f":" T('Competitor List'!F75)","v":""},null,null,null,null,null,null,null,null,null,null,null,null,"DQ","DQ",0,"DQ","DQ","DQ","DQ","DQ","DQ","","","",0]
[71,{"$f":"IF('Competitor List'!J76=\"Y\",'Competitor List'!B76,\" \")","v":" "},null,{"$f":"IF('Competitor List'!H76=\"Y\",\"Y\",\"N\")","v":"N"},{"$f":"'Competitor List'!O76","v":511},{"$f":" T('Competitor List'!F76)","v":""},null,null,null,null,null,null,null,null,null,null,null,null,"DQ","DQ",0,"DQ","DQ","DQ","DQ","DQ","DQ","","","",0]
[72,{"$f":"IF('Competitor List'!J77=\"Y\",'Competitor List'!B77,\" \")","v":" "},null,{"$f":"IF('Competitor List'!H77=\"Y\",\"Y\",\"N\")","v":"N"},{"$f":"'Competitor List'!O77","v":512},{"$f":" T('Competitor List'!F77)","v":""},null,null,null,null,null,null,null,null,null,null,null,null,"DQ","DQ",0,"DQ","DQ","DQ","DQ","DQ","DQ","","","",0]
[73,{"$f":"IF('Competitor List'!J78=\"Y\",'Competitor List'!B78,\" \")","v":" "},null,{"$f":"IF('Competitor List'!H78=\"Y\",\"Y\",\"N\")","v":"N"},{"$f":"'Competitor List'!O78","v":513},{"$f":" T('Competitor List'!F78)","v":""},null,null,null,null,null,null,null,null,null,null,null,null,"DQ","DQ",0,"DQ","DQ","DQ","DQ","DQ","DQ","","","",0]
[74,{"$f":"IF('Competitor List'!J79=\"Y\",'Competitor List'!B79,\" \")","v":" "},null,{"$f":"IF('Competitor List'!H79=\"Y\",\"Y\",\"N\")","v":"N"},{"$f":"'Competitor List'!O79","v":514},{"$f":" T('Competitor List'!F79)","v":""},null,null,null,null,null,null,null,null,null,null,null,null,"DQ","DQ",0,"DQ","DQ","DQ","DQ","DQ","DQ","","","",0]
[75,{"$f":"IF('Competitor List'!J80=\"Y\",'Competitor List'!B80,\" \")","v":" "},null,{"$f":"IF('Competitor List'!H80=\"Y\",\"Y\",\"N\")","v":"N"},{"$f":"'Competitor List'!O80","v":515},{"$f":" T('Competitor List'!F80)","v":""},null,null,null,null,null,null,null,null,null,null,null,null,"DQ","DQ",0,"DQ","DQ","DQ","DQ","DQ","DQ","","","",0]
[76,{"$f":"IF('Competitor List'!J81=\"Y\",'Competitor List'!B81,\" \")","v":" "},null,{"$f":"IF('Competitor List'!H81=\"Y\",\"Y\",\"N\")","v":"N"},{"$f":"'Competitor List'!O81","v":601},{"$f":" T('Competitor List'!F81)","v":""},null,null,null,null,null,null,null,null,null,null,null,null,"DQ","DQ",0,"DQ","DQ","DQ","DQ","DQ","DQ","","","",0]
[77,{"$f":"IF('Competitor List'!J82=\"Y\",'Competitor List'!B82,\" \")","v":" "},null,{"$f":"IF('Competitor List'!H82=\"Y\",\"Y\",\"N\")","v":"N"},{"$f":"'Competitor List'!O82","v":602},{"$f":" T('Competitor List'!F82)","v":""},null,null,null,null,null,null,null,null,null,null,null,null,"DQ","DQ",0,"DQ","DQ","DQ","DQ","DQ","DQ","","","",0]
[78,{"$f":"IF('Competitor List'!J83=\"Y\",'Competitor List'!B83,\" \")","v":" "},null,{"$f":"IF('Competitor List'!H83=\"Y\",\"Y\",\"N\")","v":"N"},{"$f":"'Competitor List'!O83","v":603},{"$f":" T('Competitor List'!F83)","v":""},null,null,null,null,null,null,null,null,null,null,null,null,"DQ","DQ",0,"DQ","DQ","DQ","DQ","DQ","DQ","","","",0]
[79,{"$f":"IF('Competitor List'!J84=\"Y\",'Competitor List'!B84,\" \")","v":" "},null,{"$f":"IF('Competitor List'!H84=\"Y\",\"Y\",\"N\")","v":"N"},{"$f":"'Competitor List'!O84","v":604},{"$f":" T('Competitor List'!F84)","v":""},null,null,null,null,null,null,null,null,null,null,null,null,"DQ","DQ",0,"DQ","DQ","DQ","DQ","DQ","DQ","","","",0]
[80,{"$f":"IF('Competitor List'!J85=\"Y\",'Competitor List'!B85,\" \")","v":" "},null,{"$f":"IF('Competitor List'!H85=\"Y\",\"Y\",\"N\")","v":"N"},{"$f":"'Competitor List'!O85","v":605},{"$f":" T('Competitor List'!F85)","v":""},null,null,null,null,null,null,null,null,null,null,null,null,"DQ","DQ",0,"DQ","DQ","DQ","DQ","DQ","DQ","","","",0]
[81,{"$f":"IF('Competitor List'!J86=\"Y\",'Competitor List'!B86,\" \")","v":" "},null,{"$f":"IF('Competitor List'!H86=\"Y\",\"Y\",\"N\")","v":"N"},{"$f":"'Competitor List'!O86","v":606},{"$f":" T('Competitor List'!F86)","v":""},null,null,null,null,null,null,null,null,null,null,null,null,"DQ","DQ",0,"DQ","DQ","DQ","DQ","DQ","DQ","","","",0]
[82,{"$f":"IF('Competitor List'!J87=\"Y\",'Competitor List'!B87,\" \")","v":" "},null,{"$f":"IF('Competitor List'!H87=\"Y\",\"Y\",\"N\")","v":"N"},{"$f":"'Competitor List'!O87","v":607},{"$f":" T('Competitor List'!F87)","v":""},null,null,null,null,null,null,null,null,null,null,null,null,"DQ","DQ",0,"DQ","DQ","DQ","DQ","DQ","DQ","","","",0]
[83,{"$f":"IF('Competitor List'!J88=\"Y\",'Competitor List'!B88,\" \")","v":" "},null,{"$f":"IF('Competitor List'!H88=\"Y\",\"Y\",\"N\")","v":"N"},{"$f":"'Competitor List'!O88","v":608},{"$f":" T('Competitor List'!F88)","v":""},null,null,null,null,null,null,null,null,null,null,null,null,"DQ","DQ",0,"DQ","DQ","DQ","DQ","DQ","DQ","","","",0]
[84,{"$f":"IF('Competitor List'!J89=\"Y\",'Competitor List'!B89,\" \")","v":" "},null,{"$f":"IF('Competitor List'!H89=\"Y\",\"Y\",\"N\")","v":"N"},{"$f":"'Competitor List'!O89","v":609},{"$f":" T('Competitor List'!F89)","v":""},null,null,null,null,null,null,null,null,null,null,null,null,"DQ","DQ",0,"DQ","DQ","DQ","DQ","DQ","DQ","","","",0]
[85,{"$f":"IF('Competitor List'!J90=\"Y\",'Competitor List'!B90,\" \")","v":" "},null,{"$f":"IF('Competitor List'!H90=\"Y\",\"Y\",\"N\")","v":"N"},{"$f":"'Competitor List'!O90","v":610},{"$f":" T('Competitor List'!F90)","v":""},null,null,null,null,null,null,null,null,null,null,null,null,"DQ","DQ",0,"DQ","DQ","DQ","DQ","DQ","DQ","","","",0]
[86,{"$f":"IF('Competitor List'!J91=\"Y\",'Competitor List'!B91,\" \")","v":" "},null,{"$f":"IF('Competitor List'!H91=\"Y\",\"Y\",\"N\")","v":"N"},{"$f":"'Competitor List'!O91","v":611},{"$f":" T('Competitor List'!F91)","v":""},null,null,null,null,null,null,null,null,null,null,null,null,"DQ","DQ",0,"DQ","DQ","DQ","DQ","DQ","DQ","","","",0]
[87,{"$f":"IF('Competitor List'!J92=\"Y\",'Competitor List'!B92,\" \")","v":" "},null,{"$f":"IF('Competitor List'!H92=\"Y\",\"Y\",\"N\")","v":"N"},{"$f":"'Competitor List'!O92","v":612},{"$f":" T('Competitor List'!F92)","v":""},null,null,null,null,null,null,null,null,null,null,null,null,"DQ","DQ",0,"DQ","DQ","DQ","DQ","DQ","DQ","","","",0]
[88,{"$f":"IF('Competitor List'!J93=\"Y\",'Competitor List'!B93,\" \")","v":" "},null,{"$f":"IF('Competitor List'!H93=\"Y\",\"Y\",\"N\")","v":"N"},{"$f":"'Competitor List'!O93","v":613},{"$f":" T('Competitor List'!F93)","v":""},null,null,null,null,null,null,null,null,null,null,null,null,"DQ","DQ",0,"DQ","DQ","DQ","DQ","DQ","DQ","","","",0]
[89,{"$f":"IF('Competitor List'!J94=\"Y\",'Competitor List'!B94,\" \")","v":" "},null,{"$f":"IF('Competitor List'!H94=\"Y\",\"Y\",\"N\")","v":"N"},{"$f":"'Competitor List'!O94","v":614},{"$f":" T('Competitor List'!F94)","v":""},null,null,null,null,null,null,null,null,null,null,null,null,"DQ","DQ",0,"DQ","DQ","DQ","DQ","DQ","DQ","","","",0]
[90,{"$f":"IF('Competitor List'!J95=\"Y\",'Competitor List'!B95,\" \")","v":" "},null,{"$f":"IF('Competitor List'!H95=\"Y\",\"Y\",\"N\")","v":"N"},{"$f":"'Competitor List'!O95","v":615},{"$f":" T('Competitor List'!F95)","v":""},null,null,null,null,null,null,null,null,null,null,null,null,"DQ","DQ",0,"DQ","DQ","DQ","DQ","DQ","DQ","","","",0]
[91,{"$f":"IF('Competitor List'!J96=\"Y\",'Competitor List'!B96,\" \")","v":" "},null,{"$f":"IF('Competitor List'!H96=\"Y\",\"Y\",\"N\")","v":"N"},{"$f":"'Competitor List'!O96","v":701},{"$f":" T('Competitor List'!F96)","v":""},null,null,null,null,null,null,null,null,null,null,null,null,"DQ","DQ",0,"DQ","DQ","DQ","DQ","DQ","DQ","","","",0]
[92,{"$f":"IF('Competitor List'!J97=\"Y\",'Competitor List'!B97,\" \")","v":" "},null,{"$f":"IF('Competitor List'!H97=\"Y\",\"Y\",\"N\")","v":"N"},{"$f":"'Competitor List'!O97","v":702},{"$f":" T('Competitor List'!F97)","v":""},null,null,null,null,null,null,null,null,null,null,null,null,"DQ","DQ",0,"DQ","DQ","DQ","DQ","DQ","DQ","","","",0]
[93,{"$f":"IF('Competitor List'!J98=\"Y\",'Competitor List'!B98,\" \")","v":" "},null,{"$f":"IF('Competitor List'!H98=\"Y\",\"Y\",\"N\")","v":"N"},{"$f":"'Competitor List'!O98","v":703},{"$f":" T('Competitor List'!F98)","v":""},null,null,null,null,null,null,null,null,null,null,null,null,"DQ","DQ",0,"DQ","DQ","DQ","DQ","DQ","DQ","","","",0]
[94,{"$f":"IF('Competitor List'!J99=\"Y\",'Competitor List'!B99,\" \")","v":" "},null,{"$f":"IF('Competitor List'!H99=\"Y\",\"Y\",\"N\")","v":"N"},{"$f":"'Competitor List'!O99","v":704},{"$f":" T('Competitor List'!F99)","v":""},null,null,null,null,null,null,null,null,null,null,null,null,"DQ","DQ",0,"DQ","DQ","DQ","DQ","DQ","DQ","","","",0]
[95,{"$f":"IF('Competitor List'!J100=\"Y\",'Competitor List'!B100,\" \")","v":" "},null,{"$f":"IF('Competitor List'!H100=\"Y\",\"Y\",\"N\")","v":"N"},{"$f":"'Competitor List'!O100","v":705},{"$f":" T('Competitor List'!F100)","v":""},null,null,null,null,null,null,null,null,null,null,null,null,"DQ","DQ",0,"DQ","DQ","DQ","DQ","DQ","DQ","","","",0]
[96,{"$f":"IF('Competitor List'!J101=\"Y\",'Competitor List'!B101,\" \")","v":" "},null,{"$f":"IF('Competitor List'!H101=\"Y\",\"Y\",\"N\")","v":"N"},{"$f":"'Competitor List'!O101","v":706},{"$f":" T('Competitor List'!F101)","v":""},null,null,null,null,null,null,null,null,null,null,null,null,"DQ","DQ",0,"DQ","DQ","DQ","DQ","DQ","DQ","","","",0]
[97,{"$f":"IF('Competitor List'!J102=\"Y\",'Competitor List'!B102,\" \")","v":" "},null,{"$f":"IF('Competitor List'!H102=\"Y\",\"Y\",\"N\")","v":"N"},{"$f":"'Competitor List'!O102","v":707},{"$f":" T('Competitor List'!F102)","v":""},null,null,null,null,null,null,null,null,null,null,null,null,"DQ",{"$f":" IF(AND(ISNUMBER(Z123),NOT(D123=\"N\")),RANK(Z123,$Z$27:$Z$176,0)+SUMPRODUCT(($Z$27:$Z$176=Z123)*($AA$27:$AA$176<AA123))+SUMPRODUCT(($Z$27:$Z$176=Z123)*($AA$27:$AA$176=AA123)*($U$27:$U$176>U123))+SUMPRODUCT(($Z$27:$Z$176=Z123)*($AA$27:$AA$176=AA123)*($U$27:$U$176=U123)*($AG$27:$AG$176<AG123)),\"DQ\")","v":"DQ"},0,"DQ","DQ",{"$f":"IF(AND(ISNUMBER(T123),ISNUMBER(W123)), SUM(T123,W123),\"DQ\")","v":"DQ"},{"$f":" IF(AND(ISNUMBER(X123)),RANK(X123,$X$27:$X$176,1)+SUMPRODUCT(($X$27:$X$176=X123)*($AA$27:$AA$176<AA123))+SUMPRODUCT(($X$27:$X$176=X123)*($AA$27:$AA$176=AA123)*($Z$27:$Z$176>Z123)+SUMPRODUCT(($X$27:$X$176=X123)*($AA$27:$AA$176=AA123)*($Z$27:$Z$176=Z123)*($U$27:$U$176>U123))),\"DQ\")","v":"DQ"},{"$f":" IF(AND(SUM(G123,J123,M123,P123)>0,ISNONTEXT(G123),ISNONTEXT(J123),ISNONTEXT(M123),ISNONTEXT(P123),D123=\"Y\"),SUM(G123,J123,M123,P123),\"DQ\")","v":"DQ"},{"$f":"IF(AND(D123=\"Y\",SUM(I123,L123,O123,R123)>0,ISNONTEXT(I123),ISNONTEXT(L123),ISNONTEXT(O123),ISNONTEXT(R123)),(I123+L123+O123+R123) / ((I123<>0)+(L123<>0)+(O123<>0)+(R123<>0)),\"DQ\")","v":"DQ"},"","","",0]
[98,{"$f":"IF('Competitor List'!J103=\"Y\",'Competitor List'!B103,\" \")","v":" "},null,{"$f":"IF('Competitor List'!H103=\"Y\",\"Y\",\"N\")","v":"N"},{"$f":"'Competitor List'!O103","v":708},{"$f":" T('Competitor List'!F103)","v":""},null,null,null,null,null,null,null,null,null,null,null,null,"DQ","DQ",0,"DQ",{"$f":" IF(AND(ISNUMBER(AA124),D124=\"Y\"),RANK(AA124,$AA$27:$AA$176,1)+SUMPRODUCT(($AA$27:$AA$176=AA124)*($Z$27:$Z$176>Z124))+SUMPRODUCT(($AA$27:$AA$176=AA124)*($Z$27:$Z$176=Z124)*($U$27:$U$176>U124))+SUMPRODUCT(($AA$27:$AA$176=AA124)*($Z$27:$Z$176=Z124)*($U$27:$U$176=U124)*($E$27:$E$176<E124)),\"DQ\")","v":"DQ"},"DQ","DQ","DQ","DQ","","","",0]
[99,{"$f":"IF('Competitor List'!J104=\"Y\",'Competitor List'!B104,\" \")","v":" "},null,{"$f":"IF('Competitor List'!H104=\"Y\",\"Y\",\"N\")","v":"N"},{"$f":"'Competitor List'!O104","v":709},{"$f":" T('Competitor List'!F104)","v":""},null,null,null,null,null,null,null,null,null,null,null,null,"DQ","DQ",0,"DQ","DQ","DQ","DQ","DQ","DQ","","","",0]
[100,{"$f":"IF('Competitor List'!J105=\"Y\",'Competitor List'!B105,\" \")","v":" "},null,{"$f":"IF('Competitor List'!H105=\"Y\",\"Y\",\"N\")","v":"N"},{"$f":"'Competitor List'!O105","v":710},{"$f":" T('Competitor List'!F105)","v":""},null,null,null,null,null,null,null,null,null,null,null,null,"DQ","DQ",0,"DQ","DQ","DQ","DQ","DQ","DQ","","","",0]
[101,{"$f":"IF('Competitor List'!J106=\"Y\",'Competitor List'!B106,\" \")","v":" "},null,{"$f":"IF('Competitor List'!H106=\"Y\",\"Y\",\"N\")","v":"N"},{"$f":"'Competitor List'!O106","v":711},{"$f":" T('Competitor List'!F106)","v":""},null,null,null,null,null,null,null,null,null,null,null,null,"DQ","DQ",0,"DQ","DQ","DQ","DQ","DQ","DQ","","","",0]
[102,{"$f":"IF('Competitor List'!J107=\"Y\",'Competitor List'!B107,\" \")","v":" "},null,{"$f":"IF('Competitor List'!H107=\"Y\",\"Y\",\"N\")","v":"N"},{"$f":"'Competitor List'!O107","v":712},{"$f":" T('Competitor List'!F107)","v":""},null,null,null,null,null,null,null,null,null,null,null,null,"DQ","DQ",0,"DQ","DQ","DQ","DQ","DQ","DQ","","","",0]
[103,{"$f":"IF('Competitor List'!J108=\"Y\",'Competitor List'!B108,\" \")","v":" "},null,{"$f":"IF('Competitor List'!H108=\"Y\",\"Y\",\"N\")","v":"N"},{"$f":"'Competitor List'!O108","v":713},{"$f":" T('Competitor List'!F108)","v":""},null,null,null,null,null,null,null,null,null,null,null,null,"DQ","DQ",0,"DQ","DQ","DQ","DQ","DQ","DQ","","","",0]
[104,{"$f":"IF('Competitor List'!J109=\"Y\",'Competitor List'!B109,\" \")","v":" "},null,{"$f":"IF('Competitor List'!H109=\"Y\",\"Y\",\"N\")","v":"N"},{"$f":"'Competitor List'!O109","v":714},{"$f":" T('Competitor List'!F109)","v":""},null,null,null,null,null,null,null,null,null,null,null,null,"DQ","DQ",0,"DQ","DQ","DQ","DQ","DQ","DQ","","","",0]
[105,{"$f":"IF('Competitor List'!J110=\"Y\",'Competitor List'!B110,\" \")","v":" "},null,{"$f":"IF('Competitor List'!H110=\"Y\",\"Y\",\"N\")","v":"N"},{"$f":"'Competitor List'!O110","v":715},{"$f":" T('Competitor List'!F110)","v":""},null,null,null,null,null,null,null,null,null,null,null,null,"DQ","DQ",0,"DQ","DQ","DQ","DQ","DQ","DQ","","","",0]
[106,{"$f":"IF('Competitor List'!J111=\"Y\",'Competitor List'!B111,\" \")","v":" "},null,{"$f":"IF('Competitor List'!H111=\"Y\",\"Y\",\"N\")","v":"N"},{"$f":"'Competitor List'!O111","v":801},{"$f":" T('Competitor List'!F111)","v":""},null,null,null,null,null,null,null,null,null,null,null,null,"DQ","DQ",0,"DQ","DQ","DQ","DQ","DQ","DQ","","","",0]
[107,{"$f":"IF('Competitor List'!J112=\"Y\",'Competitor List'!B112,\" \")","v":" "},null,{"$f":"IF('Competitor List'!H112=\"Y\",\"Y\",\"N\")","v":"N"},{"$f":"'Competitor List'!O112","v":802},{"$f":" T('Competitor List'!F112)","v":""},null,null,null,null,null,null,null,null,null,null,null,null,"DQ","DQ",0,"DQ","DQ","DQ","DQ","DQ","DQ","","","",0]
[108,{"$f":"IF('Competitor List'!J113=\"Y\",'Competitor List'!B113,\" \")","v":" "},null,{"$f":"IF('Competitor List'!H113=\"Y\",\"Y\",\"N\")","v":"N"},{"$f":"'Competitor List'!O113","v":803},{"$f":" T('Competitor List'!F113)","v":""},null,null,null,null,null,null,null,null,null,null,null,null,"DQ","DQ",0,"DQ","DQ","DQ","DQ","DQ","DQ","","","",0]
[109,{"$f":"IF('Competitor List'!J114=\"Y\",'Competitor List'!B114,\" \")","v":" "},null,{"$f":"IF('Competitor List'!H114=\"Y\",\"Y\",\"N\")","v":"N"},{"$f":"'Competitor List'!O114","v":804},{"$f":" T('Competitor List'!F114)","v":""},null,null,null,null,null,null,null,null,null,null,null,null,"DQ","DQ",0,"DQ","DQ","DQ","DQ","DQ","DQ","","","",0]
[110,{"$f":"IF('Competitor List'!J115=\"Y\",'Competitor List'!B115,\" \")","v":" "},null,{"$f":"IF('Competitor List'!H115=\"Y\",\"Y\",\"N\")","v":"N"},{"$f":"'Competitor List'!O115","v":805},{"$f":" T('Competitor List'!F115)","v":""},null,null,null,null,null,null,null,null,null,null,null,null,"DQ","DQ",0,"DQ","DQ","DQ","DQ","DQ","DQ","","","",0]
[111,{"$f":"IF('Competitor List'!J116=\"Y\",'Competitor List'!B116,\" \")","v":" "},null,{"$f":"IF('Competitor List'!H116=\"Y\",\"Y\",\"N\")","v":"N"},{"$f":"'Competitor List'!O116","v":806},{"$f":" T('Competitor List'!F116)","v":""},null,null,null,null,null,null,null,null,null,null,null,null,"DQ","DQ",0,"DQ","DQ","DQ","DQ","DQ","DQ","","","",0]
[112,{"$f":"IF('Competitor List'!J117=\"Y\",'Competitor List'!B117,\" \")","v":" "},null,{"$f":"IF('Competitor List'!H117=\"Y\",\"Y\",\"N\")","v":"N"},{"$f":"'Competitor List'!O117","v":807},{"$f":" T('Competitor List'!F117)","v":""},null,null,null,null,null,null,null,null,null,null,null,null,"DQ","DQ",0,"DQ","DQ","DQ","DQ","DQ","DQ","","","",0]
[113,{"$f":"IF('Competitor List'!J118=\"Y\",'Competitor List'!B118,\" \")","v":" "},null,{"$f":"IF('Competitor List'!H118=\"Y\",\"Y\",\"N\")","v":"N"},{"$f":"'Competitor List'!O118","v":808},{"$f":" T('Competitor List'!F118)","v":""},null,null,null,null,null,null,null,null,null,null,null,null,"DQ","DQ",0,"DQ","DQ","DQ","DQ","DQ","DQ","","","",0]
[114,{"$f":"IF('Competitor List'!J119=\"Y\",'Competitor List'!B119,\" \")","v":" "},null,{"$f":"IF('Competitor List'!H119=\"Y\",\"Y\",\"N\")","v":"N"},{"$f":"'Competitor List'!O119","v":809},{"$f":" T('Competitor List'!F119)","v":""},null,null,null,null,null,null,null,null,null,null,null,null,"DQ","DQ",0,"DQ","DQ","DQ","DQ","DQ","DQ","","","",0]
[115,{"$f":"IF('Competitor List'!J120=\"Y\",'Competitor List'!B120,\" \")","v":" "},null,{"$f":"IF('Competitor List'!H120=\"Y\",\"Y\",\"N\")","v":"N"},{"$f":"'Competitor List'!O120","v":810},{"$f":" T('Competitor List'!F120)","v":""},null,null,null,null,null,null,null,null,null,null,null,null,"DQ","DQ",0,"DQ","DQ","DQ","DQ","DQ","DQ","","","",0]
[116,{"$f":"IF('Competitor List'!J121=\"Y\",'Competitor List'!B121,\" \")","v":" "},null,{"$f":"IF('Competitor List'!H121=\"Y\",\"Y\",\"N\")","v":"N"},{"$f":"'Competitor List'!O121","v":811},{"$f":" T('Competitor List'!F121)","v":""},null,null,null,null,null,null,null,null,null,null,null,null,"DQ","DQ",0,"DQ","DQ","DQ","DQ","DQ","DQ","","","",0]
[117,{"$f":"IF('Competitor List'!J122=\"Y\",'Competitor List'!B122,\" \")","v":" "},null,{"$f":"IF('Competitor List'!H122=\"Y\",\"Y\",\"N\")","v":"N"},{"$f":"'Competitor List'!O122","v":812},{"$f":" T('Competitor List'!F122)","v":""},null,null,null,null,null,null,null,null,null,null,null,null,"DQ","DQ",0,"DQ","DQ","DQ","DQ","DQ","DQ","","","",0]
[118,{"$f":"IF('Competitor List'!J123=\"Y\",'Competitor List'!B123,\" \")","v":" "},null,{"$f":"IF('Competitor List'!H123=\"Y\",\"Y\",\"N\")","v":"N"},{"$f":"'Competitor List'!O123","v":813},{"$f":" T('Competitor List'!F123)","v":""},null,null,null,null,null,null,null,null,null,null,null,null,"DQ","DQ",0,"DQ","DQ","DQ","DQ","DQ","DQ","","","",0]
[119,{"$f":"IF('Competitor List'!J124=\"Y\",'Competitor List'!B124,\" \")","v":" "},null,{"$f":"IF('Competitor List'!H124=\"Y\",\"Y\",\"N\")","v":"N"},{"$f":"'Competitor List'!O124","v":814},{"$f":" T('Competitor List'!F124)","v":""},null,null,null,null,null,null,null,null,null,null,null,null,"DQ","DQ",0,"DQ","DQ","DQ","DQ","DQ","DQ","","","",0]
[120,{"$f":"IF('Competitor List'!J125=\"Y\",'Competitor List'!B125,\" \")","v":" "},null,{"$f":"IF('Competitor List'!H125=\"Y\",\"Y\",\"N\")","v":"N"},{"$f":"'Competitor List'!O125","v":815},{"$f":" T('Competitor List'!F125)","v":""},null,null,null,null,null,null,null,null,null,null,null,null,"DQ","DQ",0,"DQ","DQ","DQ","DQ","DQ","DQ","","","",0]
[121,{"$f":"IF('Competitor List'!J126=\"Y\",'Competitor List'!B126,\" \")","v":" "},null,{"$f":"IF('Competitor List'!H126=\"Y\",\"Y\",\"N\")","v":"N"},{"$f":"'Competitor List'!O126","v":901},{"$f":" T('Competitor List'!F126)","v":""},null,null,null,null,null,null,null,null,null,null,null,null,"DQ","DQ",0,"DQ","DQ","DQ","DQ","DQ","DQ","","","",0]
[122,{"$f":"IF('Competitor List'!J127=\"Y\",'Competitor List'!B127,\" \")","v":" "},null,{"$f":"IF('Competitor List'!H127=\"Y\",\"Y\",\"N\")","v":"N"},{"$f":"'Competitor List'!O127","v":902},{"$f":" T('Competitor List'!F127)","v":""},null,null,null,null,null,null,null,null,null,null,null,null,"DQ","DQ",0,"DQ","DQ","DQ","DQ","DQ","DQ","","","",0]
[123,{"$f":"IF('Competitor List'!J128=\"Y\",'Competitor List'!B128,\" \")","v":" "},null,{"$f":"IF('Competitor List'!H128=\"Y\",\"Y\",\"N\")","v":"N"},{"$f":"'Competitor List'!O128","v":903},{"$f":" T('Competitor List'!F128)","v":""},null,null,null,null,null,null,null,null,null,null,null,null,"DQ","DQ",0,"DQ","DQ","DQ","DQ","DQ","DQ","","","",0]
[124,{"$f":"IF('Competitor List'!J129=\"Y\",'Competitor List'!B129,\" \")","v":" "},null,{"$f":"IF('Competitor List'!H129=\"Y\",\"Y\",\"N\")","v":"N"},{"$f":"'Competitor List'!O129","v":904},{"$f":" T('Competitor List'!F129)","v":""},null,null,null,null,null,null,null,null,null,null,null,null,"DQ","DQ",0,"DQ","DQ","DQ","DQ","DQ","DQ","","","",0]
[125,{"$f":"IF('Competitor List'!J130=\"Y\",'Competitor List'!B130,\" \")","v":" "},null,{"$f":"IF('Competitor List'!H130=\"Y\",\"Y\",\"N\")","v":"N"},{"$f":"'Competitor List'!O130","v":905},{"$f":" T('Competitor List'!F130)","v":""},null,null,null,null,null,null,null,null,null,null,null,null,"DQ","DQ",0,"DQ","DQ","DQ","DQ","DQ","DQ","","","",0]
[126,{"$f":"IF('Competitor List'!J131=\"Y\",'Competitor List'!B131,\" \")","v":" "},null,{"$f":"IF('Competitor List'!H131=\"Y\",\"Y\",\"N\")","v":"N"},{"$f":"'Competitor List'!O131","v":906},{"$f":" T('Competitor List'!F131)","v":""},null,null,null,null,null,null,null,null,null,null,null,null,"DQ","DQ",0,"DQ","DQ","DQ","DQ","DQ","DQ","","","",0]
[127,{"$f":"IF('Competitor List'!J132=\"Y\",'Competitor List'!B132,\" \")","v":" "},null,{"$f":"IF('Competitor List'!H132=\"Y\",\"Y\",\"N\")","v":"N"},{"$f":"'Competitor List'!O132","v":907},{"$f":" T('Competitor List'!F132)","v":""},null,null,null,null,null,null,null,null,null,null,null,null,"DQ","DQ",0,"DQ","DQ","DQ","DQ","DQ","DQ","","","",0]
[128,{"$f":"IF('Competitor List'!J133=\"Y\",'Competitor List'!B133,\" \")","v":" "},null,{"$f":"IF('Competitor List'!H133=\"Y\",\"Y\",\"N\")","v":"N"},{"$f":"'Competitor List'!O133","v":908},{"$f":" T('Competitor List'!F133)","v":""},null,null,null,null,null,null,null,null,null,null,null,null,"DQ","DQ",0,"DQ","DQ","DQ","DQ","DQ","DQ","","","",0]
[129,{"$f":"IF('Competitor List'!J134=\"Y\",'Competitor List'!B134,\" \")","v":" "},null,{"$f":"IF('Competitor List'!H134=\"Y\",\"Y\",\"N\")","v":"N"},{"$f":"'Competitor List'!O134","v":909},{"$f":" T('Competitor List'!F134)","v":""},null,null,null,null,null,null,null,null,null,null,null,null,"DQ",{"$f":" IF(AND(ISNUMBER(Z155),NOT(D155=\"N\")),RANK(Z155,$Z$27:$Z$176,0)+SUMPRODUCT(($Z$27:$Z$176=Z155)*($AA$27:$AA$176<AA155))+SUMPRODUCT(($Z$27:$Z$176=Z155)*($AA$27:$AA$176=AA155)*($U$27:$U$176>U155))+SUMPRODUCT(($Z$27:$Z$176=Z155)*($AA$27:$AA$176=AA155)*($U$27:$U$176=U155)*($AG$27:$AG$176<AG155)),\"DQ\")","v":"DQ"},0,"DQ","DQ",{"$f":"IF(AND(ISNUMBER(T155),ISNUMBER(W155)), SUM(T155,W155),\"DQ\")","v":"DQ"},{"$f":" IF(AND(ISNUMBER(X155)),RANK(X155,$X$27:$X$176,1)+SUMPRODUCT(($X$27:$X$176=X155)*($AA$27:$AA$176<AA155))+SUMPRODUCT(($X$27:$X$176=X155)*($AA$27:$AA$176=AA155)*($Z$27:$Z$176>Z155)+SUMPRODUCT(($X$27:$X$176=X155)*($AA$27:$AA$176=AA155)*($Z$27:$Z$176=Z155)*($U$27:$U$176>U155))),\"DQ\")","v":"DQ"},"DQ","DQ","","","",0]
[130,{"$f":"IF('Competitor List'!J135=\"Y\",'Competitor List'!B135,\" \")","v":" "},null,{"$f":"IF('Competitor List'!H135=\"Y\",\"Y\",\"N\")","v":"N"},{"$f":"'Competitor List'!O135","v":910},{"$f":" T('Competitor List'!F135)","v":""},null,null,null,null,null,null,null,null,null,null,null,null,{"$f":" IF(AND(SUM(G156,J156,M156,P156)>0,ISNONTEXT(G156),ISNONTEXT(J156),ISNONTEXT(M156),ISNONTEXT(P156)),SUM(G156,J156,M156,P156),\"DQ\")","v":"DQ"},"DQ",0,{"$f":"IF(AND(SUM(I156,L156,O156,R156)>0,ISNONTEXT(I156),ISNONTEXT(L156),ISNONTEXT(O156),ISNONTEXT(R156)),(I156+L156+O156+R156) / ((I156<>0)+(L156<>0)+(O156<>0)+(R156<>0)),\"DQ\")","v":"DQ"},{"$f":" IF(AND(ISNUMBER(AA156),D156=\"Y\"),RANK(AA156,$AA$27:$AA$176,1)+SUMPRODUCT(($AA$27:$AA$176=AA156)*($Z$27:$Z$176>Z156))+SUMPRODUCT(($AA$27:$AA$176=AA156)*($Z$27:$Z$176=Z156)*($U$27:$U$176>U156))+SUMPRODUCT(($AA$27:$AA$176=AA156)*($Z$27:$Z$176=Z156)*($U$27:$U$176=U156)*($E$27:$E$176<E156)),\"DQ\")","v":"DQ"},"DQ","DQ",{"$f":" IF(AND(SUM(G156,J156,M156,P156)>0,ISNONTEXT(G156),ISNONTEXT(J156),ISNONTEXT(M156),ISNONTEXT(P156),D156=\"Y\"),SUM(G156,J156,M156,P156),\"DQ\")","v":"DQ"},{"$f":"IF(AND(D156=\"Y\",SUM(I156,L156,O156,R156)>0,ISNONTEXT(I156),ISNONTEXT(L156),ISNONTEXT(O156),ISNONTEXT(R156)),(I156+L156+O156+R156) / ((I156<>0)+(L156<>0)+(O156<>0)+(R156<>0)),\"DQ\")","v":"DQ"},"","",{"$f":"IF(Y156=1,$AJ$37,IF(Y156=2,$AJ$38,IF(Y156=3,$AJ$39,IF(Y156=4,$AJ$40,IF(Y156=5,$AJ$41,IF(Y156=6,$AJ$42,IF(Y156=7,$AJ$43,IF(Y156=8,$AJ$44,IF(Y156=9,$AJ$45,IF(Y156=10,$AJ$46,\"\"))))))))))","v":""},{"$f":"SUM(AB156:AD156)","v":0}]
[131,{"$f":"IF('Competitor List'!J136=\"Y\",'Competitor List'!B136,\" \")","v":" "},null,{"$f":"IF('Competitor List'!H136=\"Y\",\"Y\",\"N\")","v":"N"},{"$f":"'Competitor List'!O136","v":911},{"$f":" T('Competitor List'!F136)","v":""},null,null,null,null,null,null,null,null,null,null,null,null,"DQ","DQ",0,"DQ","DQ","DQ","DQ","DQ","DQ","","","",0]
[132,{"$f":"IF('Competitor List'!J137=\"Y\",'Competitor List'!B137,\" \")","v":" "},null,{"$f":"IF('Competitor List'!H137=\"Y\",\"Y\",\"N\")","v":"N"},{"$f":"'Competitor List'!O137","v":912},{"$f":" T('Competitor List'!F137)","v":""},null,null,null,null,null,null,null,null,null,null,null,null,"DQ","DQ",{"$f":"IF(AND(ISNONTEXT(H158),ISNONTEXT(K158),ISNONTEXT(N158),ISNONTEXT(Q158)),SUM(H158+K158+N158+Q158),0)","v":0},"DQ","DQ","DQ","DQ","DQ","DQ","","","",0]
[133,{"$f":"IF('Competitor List'!J138=\"Y\",'Competitor List'!B138,\" \")","v":" "},null,{"$f":"IF('Competitor List'!H138=\"Y\",\"Y\",\"N\")","v":"N"},{"$f":"'Competitor List'!O138","v":913},{"$f":" T('Competitor List'!F138)","v":""},null,null,null,null,null,null,null,null,null,null,null,null,"DQ","DQ",0,"DQ","DQ","DQ","DQ","DQ","DQ",{"$f":"IF(T159=1,$AJ$37,IF(T159=2,$AJ$38,IF(T159=3,$AJ$39,IF(T159=4,$AJ$40,IF(T159=5,$AJ$41,IF(T159=6,$AJ$42,IF(T159=7,$AJ$43,IF(T159=8,$AJ$44,IF(T159=9,$AJ$45,IF(T159=10,$AJ$46,\"\"))))))))))","v":""},{"$f":"IF(W159=1,$AJ$37,IF(W159=2,$AJ$38,IF(W159=3,$AJ$39,IF(W159=4,$AJ$40,IF(W159=5,$AJ$41,IF(W159=6,$AJ$42,IF(W159=7,$AJ$43,IF(W159=8,$AJ$44,IF(W159=9,$AJ$45,IF(W159=10,$AJ$46,\"\"))))))))))","v":""},"",0]
[134,{"$f":"IF('Competitor List'!J139=\"Y\",'Competitor List'!B139,\" \")","v":" "},null,{"$f":"IF('Competitor List'!H139=\"Y\",\"Y\",\"N\")","v":"N"},{"$f":"'Competitor List'!O139","v":914},{"$f":" T('Competitor List'!F139)","v":""},null,null,null,null,null,null,null,null,null,null,null,null,"DQ","DQ",0,"DQ","DQ","DQ","DQ","DQ","DQ","","","",0]
[135,{"$f":"IF('Competitor List'!J140=\"Y\",'Competitor List'!B140,\" \")","v":" "},null,{"$f":"IF('Competitor List'!H140=\"Y\",\"Y\",\"N\")","v":"N"},{"$f":"'Competitor List'!O140","v":915},{"$f":" T('Competitor List'!F140)","v":""},null,null,null,null,null,null,null,null,null,null,null,null,"DQ","DQ",0,"DQ","DQ","DQ","DQ","DQ","DQ","","","",0]
[136,{"$f":"IF('Competitor List'!J141=\"Y\",'Competitor List'!B141,\" \")","v":" "},null,{"$f":"IF('Competitor List'!H141=\"Y\",\"Y\",\"N\")","v":"N"},{"$f":"'Competitor List'!O141","v":1001},{"$f":" T('Competitor List'!F141)","v":""},null,null,null,null,null,null,null,null,null,null,null,null,"DQ","DQ",0,"DQ","DQ","DQ","DQ","DQ","DQ","","","",0]
[137,{"$f":"IF('Competitor List'!J142=\"Y\",'Competitor List'!B142,\" \")","v":" "},null,{"$f":"IF('Competitor List'!H142=\"Y\",\"Y\",\"N\")","v":"N"},{"$f":"'Competitor List'!O142","v":1002},{"$f":" T('Competitor List'!F142)","v":""},null,null,null,null,null,null,null,null,null,null,null,null,"DQ","DQ",0,"DQ","DQ","DQ","DQ","DQ","DQ","","","",0]
[138,{"$f":"IF('Competitor List'!J143=\"Y\",'Competitor List'!B143,\" \")","v":" "},null,{"$f":"IF('Competitor List'!H143=\"Y\",\"Y\",\"N\")","v":"N"},{"$f":"'Competitor List'!O143","v":1003},{"$f":" T('Competitor List'!F143)","v":""},null,null,null,null,null,null,null,null,null,null,null,null,"DQ","DQ",0,"DQ","DQ","DQ","DQ","DQ","DQ","","","",0]
[139,{"$f":"IF('Competitor List'!J144=\"Y\",'Competitor List'!B144,\" \")","v":" "},null,{"$f":"IF('Competitor List'!H144=\"Y\",\"Y\",\"N\")","v":"N"},{"$f":"'Competitor List'!O144","v":1004},{"$f":" T('Competitor List'!F144)","v":""},null,null,null,null,null,null,null,null,null,null,null,null,"DQ","DQ",0,"DQ","DQ","DQ","DQ","DQ","DQ","","","",0]
[140,{"$f":"IF('Competitor List'!J145=\"Y\",'Competitor List'!B145,\" \")","v":" "},null,{"$f":"IF('Competitor List'!H145=\"Y\",\"Y\",\"N\")","v":"N"},{"$f":"'Competitor List'!O145","v":1005},{"$f":" T('Competitor List'!F145)","v":""},null,null,null,null,null,null,null,null,null,null,null,null,"DQ","DQ",0,"DQ","DQ","DQ","DQ","DQ","DQ","","","",0]
[141,{"$f":"IF('Competitor List'!J146=\"Y\",'Competitor List'!B146,\" \")","v":" "},null,{"$f":"IF('Competitor List'!H146=\"Y\",\"Y\",\"N\")","v":"N"},{"$f":"'Competitor List'!O146","v":1006},{"$f":" T('Competitor List'!F146)","v":""},null,null,null,null,null,null,null,null,null,null,null,null,"DQ","DQ",0,"DQ","DQ","DQ","DQ","DQ","DQ","","","",0]
[142,{"$f":"IF('Competitor List'!J147=\"Y\",'Competitor List'!B147,\" \")","v":" "},null,{"$f":"IF('Competitor List'!H147=\"Y\",\"Y\",\"N\")","v":"N"},{"$f":"'Competitor List'!O147","v":1007},{"$f":" T('Competitor List'!F147)","v":""},null,null,null,null,null,null,null,null,null,null,null,null,"DQ","DQ",0,"DQ","DQ","DQ","DQ","DQ","DQ","","","",0]
[143,{"$f":"IF('Competitor List'!J148=\"Y\",'Competitor List'!B148,\" \")","v":" "},null,{"$f":"IF('Competitor List'!H148=\"Y\",\"Y\",\"N\")","v":"N"},{"$f":"'Competitor List'!O148","v":1008},{"$f":" T('Competitor List'!F148)","v":""},null,null,null,null,null,null,null,null,null,null,null,null,"DQ","DQ",0,"DQ","DQ","DQ","DQ","DQ","DQ","","","",0]
[144,{"$f":"IF('Competitor List'!J149=\"Y\",'Competitor List'!B149,\" \")","v":" "},null,{"$f":"IF('Competitor List'!H149=\"Y\",\"Y\",\"N\")","v":"N"},{"$f":"'Competitor List'!O149","v":1009},{"$f":" T('Competitor List'!F149)","v":""},null,null,null,null,null,null,null,null,null,null,null,null,"DQ","DQ",0,"DQ","DQ","DQ","DQ","DQ","DQ","","","",0]
[145,{"$f":"IF('Competitor List'!J150=\"Y\",'Competitor List'!B150,\" \")","v":" "},null,{"$f":"IF('Competitor List'!H150=\"Y\",\"Y\",\"N\")","v":"N"},{"$f":"'Competitor List'!O150","v":1010},{"$f":" T('Competitor List'!F150)","v":""},null,null,null,null,null,null,null,null,null,null,null,null,"DQ","DQ",0,"DQ","DQ","DQ","DQ","DQ","DQ","","","",0]
[146,{"$f":"IF('Competitor List'!J151=\"Y\",'Competitor List'!B151,\" \")","v":" "},null,{"$f":"IF('Competitor List'!H151=\"Y\",\"Y\",\"N\")","v":"N"},{"$f":"'Competitor List'!O151","v":1011},{"$f":" T('Competitor List'!F151)","v":""},null,null,null,null,null,null,null,null,null,null,null,null,"DQ","DQ",0,"DQ","DQ","DQ","DQ","DQ","DQ","","","",0]
[147,{"$f":"IF('Competitor List'!J152=\"Y\",'Competitor List'!B152,\" \")","v":" "},null,{"$f":"IF('Competitor List'!H152=\"Y\",\"Y\",\"N\")","v":"N"},{"$f":"'Competitor List'!O152","v":1012},{"$f":" T('Competitor List'!F152)","v":""},null,null,null,null,null,null,null,null,null,null,null,null,"DQ","DQ",0,"DQ","DQ","DQ","DQ","DQ","DQ","","","",0]
[148,{"$f":"IF('Competitor List'!J153=\"Y\",'Competitor List'!B153,\" \")","v":" "},null,{"$f":"IF('Competitor List'!H153=\"Y\",\"Y\",\"N\")","v":"N"},{"$f":"'Competitor List'!O153","v":1013},{"$f":" T('Competitor List'!F153)","v":""},null,null,null,null,null,null,null,null,null,null,null,null,"DQ","DQ",0,"DQ","DQ","DQ","DQ","DQ","DQ","","","",0]
[149,{"$f":"IF('Competitor List'!J154=\"Y\",'Competitor List'!B154,\" \")","v":" "},null,{"$f":"IF('Competitor List'!H154=\"Y\",\"Y\",\"N\")","v":"N"},{"$f":"'Competitor List'!O154","v":1014},{"$f":" T('Competitor List'!F154)","v":""},null,null,null,null,null,null,null,null,null,null,null,null,"DQ","DQ",0,"DQ","DQ","DQ","DQ","DQ","DQ","","","",0]
[150,{"$f":"IF('Competitor List'!J155=\"Y\",'Competitor List'!B155,\" \")","v":" "},null,{"$f":"IF('Competitor List'!H155=\"Y\",\"Y\",\"N\")","v":"N"},{"$f":"'Competitor List'!O155","v":1015},{"$f":" T('Competitor List'!F155)","v":""},null,null,null,null,null,null,null,null,null,null,null,null,"DQ","DQ",0,"DQ","DQ","DQ","DQ","DQ","DQ","","","",0]

{"sheet":"HEAVY GUN","index":2,"n_rows":176,"n_cols":36,"rows_kept":176,"cut":false,"hidden":false,"merged":[[34,34,34,36],[24,27,24,30],[7,19,7,28],[10,20,10,24],[11,20,11,24],[12,20,12,24],[13,20,13,24],[14,20,14,24],[15,20,15,24],[16,20,16,24],[17,20,17,24],[18,20,18,24],[8,27,8,28],[9,27,9,28],[10,27,10,28],[11,27,11,28],[12,27,12,28],[13,27,13,28],[14,27,14,28],[15,27,15,28],[16,27,16,28],[17,27,17,28],[18,27,18,28],[19,27,19,28],[13,1,13,4],[14,1,14,4],[8,20,8,24],[9,20,9,24],[20,27,20,28],[21,27,21,28],[22,27,22,28],[20,9,20,14],[22,15,22,16],[21,15,21,16],[20,15,20,16],[19,8,19,17],[21,20,21,23],[19,20,19,24],[20,20,20,24],[22,19,22,23],[5,0,5,24],[7,0,7,5],[8,9,8,16],[9,9,9,16],[10,9,10,16],[11,9,11,16],[12,9,12,16],[9,1,9,4],[10,1,10,4],[11,1,11,4],[12,1,12,4],[150,1,150,2],[151,1,151,2],[152,1,152,2],[153,1,153,2],[154,1,154,2],[145,1,145,2],[146,1,146,2],[147,1,147,2],[148,1,148,2],[149,1,149,2],[160,1,160,2],[161,1,161,2],[162,1,162,2],[163,1,163,2],[164,1,164,2],[155,1,155,2],[156,1,156,2],[157,1,157,2],[158,1,158,2],[159,1,159,2],[175,1,175,2],[170,1,170,2],[171,1,171,2],[172,1,172,2],[173,1,173,2],[174,1,174,2],[165,1,165,2],[166,1,166,2],[167,1,167,2],[168,1,168,2],[169,1,169,2],[142,1,142,2],[143,1,143,2],[144,1,144,2],[135,1,135,2],[136,1,136,2],[137,1,137,2],[138,1,138,2],[139,1,139,2],[130,1,130,2],[131,1,131,2],[132,1,132,2],[133,1,133,2],[134,1,134,2],[140,1,140,2],[141,1,141,2],[125,1,125,2],[126,1,126,2],[127,1,127,2],[128,1,128,2],[129,1,129,2],[120,1,120,2],[121,1,121,2],[122,1,122,2],[123,1,123,2],[124,1,124,2],[115,1,115,2],[116,1,116,2],[117,1,117,2],[118,1,118,2],[119,1,119,2],[110,1,110,2],[111,1,111,2],[112,1,112,2],[113,1,113,2],[114,1,114,2],[105,1,105,2],[106,1,106,2],[107,1,107,2],[108,1,108,2],[109,1,109,2],[100,1,100,2],[101,1,101,2],[102,1,102,2],[103,1,103,2],[104,1,104,2],[95,1,95,2],[96,1,96,2],[97,1,97,2],[98,1,98,2],[99,1,99,2],[90,1,90,2],[91,1,91,2],[92,1,92,2],[93,1,93,2],[94,1,94,2],[85,1,85,2],[86,1,86,2],[87,1,87,2],[88,1,88,2],[89,1,89,2],[80,1,80,2],[81,1,81,2],[82,1,82,2],[83,1,83,2],[84,1,84,2],[75,1,75,2],[76,1,76,2],[77,1,77,2],[78,1,78,2],[79,1,79,2],[70,1,70,2],[71,1,71,2],[72,1,72,2],[73,1,73,2],[74,1,74,2],[66,1,66,2],[67,1,67,2],[68,1,68,2],[69,1,69,2],[61,1,61,2],[62,1,62,2],[63,1,63,2],[64,1,64,2],[65,1,65,2],[56,1,56,2],[57,1,57,2],[58,1,58,2],[59,1,59,2],[60,1,60,2],[55,1,55,2],[46,1,46,2],[47,1,47,2],[48,1,48,2],[49,1,49,2],[50,1,50,2],[41,1,41,2],[42,1,42,2],[43,1,43,2],[44,1,44,2],[45,1,45,2],[51,1,51,2],[52,1,52,2],[53,1,53,2],[54,1,54,2],[36,1,36,2],[37,1,37,2],[38,1,38,2],[39,1,39,2],[40,1,40,2],[31,1,31,2],[32,1,32,2],[33,1,33,2],[34,1,34,2],[35,1,35,2],[26,1,26,2],[27,1,27,2],[28,1,28,2],[29,1,29,2],[24,23,25,23],[30,1,30,2],[24,4,25,4],[24,5,25,5],[24,18,25,18],[24,19,25,19],[24,21,25,21],[24,22,25,22],[25,1,25,2],[24,6,24,8],[24,9,24,11],[24,12,24,14],[24,15,24,17],[24,20,25,20],[23,32,25,32],[0,0,1,24],[2,0,2,24],[19,0,19,5],[20,1,20,3],[21,1,21,3],[22,1,22,3],[17,1,17,4],[24,24,25,24],[16,9,16,16],[17,9,17,16],[21,9,21,14],[22,9,22,14],[16,1,16,4],[13,9,13,16],[14,9,14,16],[15,9,15,16],[7,8,7,17],[8,1,8,4],[24,25,25,25],[24,26,25,26],[15,1,15,4],[3,0,3,24],[4,0,4,24]]}
[{"$f":"'Competitor List'!B1","v":"Freedom Benchrest 600 YARD MATCH #1"},null,null,null,null,null,null,null,null,null,null,null,null,null,null,null,null,null,null,null,null,null,null,null,null,null,null,null,null,null,null,null,null,null,"Notes here are outside print area"]
[]
[{"$f":"'Competitor List'!B2","v":"Vapor Trail Valley Spickard, Mo"},null,null,null,null,null,null,null,null,null,null,null,null,null,null,null,null,null,null,null,null,null,null,null,null,null,null,null,null,null,null,null,null,null," - page is protected - no password"]
[{"$f":"'Competitor List'!B3","v":"2023-03-15"}]
[null,null,null,null,null,null,null,null,null,null,null,null,null,null,null,null,null,null,null,null,null,null,null,null,null,null,null,null,null,null,null,null,null,null," - keep scale at 100% for best viewing"]
["HEAVY GUN RESULTS"]
[null,null,null,null,null,null,null,null,null,null,null,null,null,null,null,null,null,null,null,null,null,null,null,null,null,null,null,null,null,null,null,null,null,null," - top scores and groups automatically highlighted"]
["HEAVY GUN SCORE AGG",null,null,null,null,null,null,null,"HEAVY GUN GROUP AGG",null,null,null,null,null,null,null,null,null,null,"HEAVY GUN OVERALL"]
["1ST",{"$f":"INDEX($B$27:$B$176,MATCH(1,$T$27:$T$176,0))","v":{"$error":"#N/A"}},null,null,null,{"$f":"INDEX($Z$27:$Z$176,MATCH(1,$T$27:T$176,0))","v":{"$error":"#N/A"}},null,null,"1ST",{"$f":"INDEX($B$27:$B$176,MATCH(1,$W$27:$W$176,0))","v":{"$error":"#N/A"}},null,null,null,null,null,null,null,{"$f":"INDEX($AA$27:$AA$176,MATCH(1,$W$27:$W$176,0))","v":{"$error":"#N/A"}},null,"1ST",{"$f":"INDEX($B$27:$B$176,MATCH(1,$Y$27:$Y$176,0))","v":{"$error":"#N/A"}},null,null,null,null,null,null,{"$f":"INDEX($X$27:$X$176,MATCH(1,$Y$27:$Y$176,0))","v":{"$error":"#N/A"}},null,null,null,null,null,null," - Set print area to only print needed rows"]
["2ND",{"$f":"INDEX($B$27:$B$176,MATCH(2,$T$27:$T$176,0))","v":{"$error":"#N/A"}},null,null,null,{"$f":"INDEX($Z$27:$Z$176,MATCH(2,$T$27:T$176,0))","v":{"$error":"#N/A"}},null,null,"2nd",{"$f":"INDEX($B$27:$B$176,MATCH(2,$W$27:$W$176,0))","v":{"$error":"#N/A"}},null,null,null,null,null,null,null,{"$f":"INDEX($AA$27:$AA$176,MATCH(2,$W$27:$W$176,0))","v":{"$error":"#N/A"}},null,"2ND",{"$f":"INDEX($B$27:$B$176,MATCH(2,$Y$27:$Y$176,0))","v":{"$error":"#N/A"}},null,null,null,null,null,null,{"$f":"INDEX($X$27:$X$176,MATCH(2,$Y$27:$Y$176,0))","v":{"$error":"#N/A"}}]
["3RD",{"$f":"INDEX($B$27:$B$176,MATCH(3,$T$27:$T$176,0))","v":{"$error":"#N/A"}},null,null,null,{"$f":"INDEX($Z$27:$Z$176,MATCH(3,$T$27:T$176,0))","v":{"$error":"#N/A"}},null,null,"3rd",{"$f":"INDEX($B$27:$B$176,MATCH(3,$W$27:$W$176,0))","v":{"$error":"#N/A"}},null,null,null,null,null,null,null,{"$f":"INDEX($AA$27:$AA$176,MATCH(3,$W$27:$W$176,0))","v":{"$error":"#N/A"}},null,"3RD",{"$f":"INDEX($B$27:$B$176,MATCH(3,$Y$27:$Y$176,0))","v":{"$error":"#N/A"}},null,null,null,null,null,null,{"$f":"INDEX($X$27:$X$176,MATCH(3,$Y$27:$Y$176,0))","v":{"$error":"#N/A"}},null,null,null,null,null,null," - For a DQ target, enter DQ in the score and group column"]
["4TH",{"$f":"INDEX($B$27:$B$176,MATCH(4,$T$27:$T$176,0))","v":{"$error":"#N/A"}},null,null,null,{"$f":"INDEX($Z$27:$Z$176,MATCH(4,$T$27:T$176,0))","v":{"$error":"#N/A"}},null,null,"4th",{"$f":"INDEX($B$27:$B$176,MATCH(4,$W$27:$W$176,0))","v":{"$error":"#N/A"}},null,null,null,null,null,null,null,{"$f":"INDEX($AA$27:$AA$176,MATCH(4,$W$27:$W$176,0))","v":{"$error":"#N/A"}},null,"4TH",{"$f":"INDEX($B$27:$B$176,MATCH(4,$Y$27:$Y$176,0))","v":{"$error":"#N/A"}},null,null,null,null,null,null,{"$f":"INDEX($X$27:$X$176,MATCH(4,$Y$27:$Y$176,0))","v":{"$error":"#N/A"}}]
["5TH",{"$f":"INDEX($B$27:$B$176,MATCH(5,$T$27:$T$176,0))","v":{"$error":"#N/A"}},null,null,null,{"$f":"INDEX($Z$27:$Z$176,MATCH(5,$T$27:T$176,0))","v":{"$error":"#N/A"}},null,null,"5th",{"$f":"INDEX($B$27:$B$176,MATCH(5,$W$27:$W$176,0))","v":{"$error":"#N/A"}},null,null,null,null,null,null,null,{"$f":"INDEX($AA$27:$AA$176,MATCH(5,$W$27:$W$176,0))","v":{"$error":"#N/A"}},null,"5TH",{"$f":"INDEX($B$27:$B$176,MATCH(5,$Y$27:$Y$176,0))","v":{"$error":"#N/A"}},null,null,null,null,null,null,{"$f":"INDEX($X$27:$X$176,MATCH(5,$Y$27:$Y$176,0))","v":{"$error":"#N/A"}},null,null,null,null,null,null," - group ranking is only correct when all shooters have shot the same # of targets"]
["6TH",{"$f":"INDEX($B$27:$B$176,MATCH(6,$T$27:$T$176,0))","v":{"$error":"#N/A"}},null,null,null,{"$f":"INDEX($Z$27:$Z$176,MATCH(6,$T$27:T$176,0))","v":{"$error":"#N/A"}},null,null,"6th",{"$f":"INDEX($B$27:$B$176,MATCH(6,$W$27:$W$176,0))","v":{"$error":"#N/A"}},null,null,null,null,null,null,null,{"$f":"INDEX($AA$27:$AA$176,MATCH(6,$W$27:$W$176,0))","v":{"$error":"#N/A"}},null,"6TH",{"$f":"INDEX($B$27:$B$176,MATCH(6,$Y$27:$Y$176,0))","v":{"$error":"#N/A"}},null,null,null,null,null,null,{"$f":"INDEX($X$27:$X$176,MATCH(6,$Y$27:$Y$176,0))","v":{"$error":"#N/A"}}]
["7TH",{"$f":"INDEX($B$27:$B$176,MATCH(7,$T$27:$T$176,0))","v":{"$error":"#N/A"}},null,null,null,{"$f":"INDEX($Z$27:$Z$176,MATCH(7,$T$27:T$176,0))","v":{"$error":"#N/A"}},null,null,"7th",{"$f":"INDEX($B$27:$B$176,MATCH(7,$W$27:$W$176,0))","v":{"$error":"#N/A"}},null,null,null,null,null,null,null,{"$f":"INDEX($AA$27:$AA$176,MATCH(7,$W$27:$W$176,0))","v":{"$error":"#N/A"}},null,"7TH",{"$f":"INDEX($B$27:$B$176,MATCH(7,$Y$27:$Y$176,0))","v":{"$error":"#N/A"}},null,null,null,null,null,null,{"$f":"INDEX($X$27:$X$176,MATCH(7,$Y$27:$Y$176,0))","v":{"$error":"#N/A"}},null,null,null,null,null,null,"Score tie breaker = 1st Group, 2nd X-xount, 3rd closest to center"]
["8TH",{"$f":"INDEX($B$27:$B$176,MATCH(8,$T$27:$T$176,0))","v":{"$error":"#N/A"}},null,null,null,{"$f":"INDEX($Z$27:$Z$176,MATCH(8,$T$27:T$176,0))","v":{"$error":"#N/A"}},null,null,"8th",{"$f":"INDEX($B$27:$B$176,MATCH(8,$W$27:$W$176,0))","v":{"$error":"#N/A"}},null,null,null,null,null,null,null,{"$f":"INDEX($AA$27:$AA$176,MATCH(8,$W$27:$W$176,0))","v":{"$error":"#N/A"}},null,"8TH",{"$f":"INDEX($B$27:$B$176,MATCH(8,$Y$27:$Y$176,0))","v":{"$error":"#N/A"}},null,null,null,null,null,null,{"$f":"INDEX($X$27:$X$176,MATCH(8,$Y$27:$Y$176,0))","v":{"$error":"#N/A"}},null,null,null,null,null,null,"Group tie breaker = 1st score, 2nd X-count, 3rd closest to center"]
["9TH",{"$f":"INDEX($B$27:$B$176,MATCH(9,$T$27:$T$176,0))","v":{"$error":"#N/A"}},null,null,null,{"$f":"INDEX($Z$27:$Z$176,MATCH(9,$T$27:T$176,0))","v":{"$error":"#N/A"}},null,null,"9th",{"$f":"INDEX($B$27:$B$176,MATCH(9,$W$27:$W$176,0))","v":{"$error":"#N/A"}},null,null,null,null,null,null,null,{"$f":"INDEX($AA$27:$AA$176,MATCH(9,$W$27:$W$176,0))","v":{"$error":"#N/A"}},null,"9TH",{"$f":"INDEX($B$27:$B$176,MATCH(9,$Y$27:$Y$176,0))","v":{"$error":"#N/A"}},null,null,null,null,null,null,{"$f":"INDEX($X$27:$X$176,MATCH(9,$Y$27:$Y$176,0))","v":{"$error":"#N/A"}},null,null,null,null,null,null,"Overall tie breaker = 1st Group, 2nd score, 3rd X-count"]
["10TH",{"$f":"INDEX($B$27:$B$176,MATCH(10,$T$27:$T$176,0))","v":{"$error":"#N/A"}},null,null,null,{"$f":"INDEX($Z$27:$Z$176,MATCH(10,$T$27:T$176,0))","v":{"$error":"#N/A"}},null,null,"10th",{"$f":"INDEX($B$27:$B$176,MATCH(10,$W$27:$W$176,0))","v":{"$error":"#N/A"}},null,null,null,null,null,null,null,{"$f":"INDEX($AA$27:$AA$176,MATCH(10,$W$27:$W$176,0))","v":{"$error":"#N/A"}},null,"10TH",{"$f":"INDEX($B$27:$B$176,MATCH(10,$Y$27:$Y$176,0))","v":{"$error":"#N/A"}},null,null,null,null,null,null,{"$f":"INDEX($X$27:$X$176,MATCH(10,$Y$27:$Y$176,0))","v":{"$error":"#N/A"}}]
[null,null,null,null,null,null,null,null,null,null,null,null,null,null,null,null,null,null,null,"11th",{"$f":"INDEX($B$27:$B$176,MATCH(11,$Y$27:$Y$176,0))","v":{"$error":"#N/A"}},null,null,null,null,null,null,{"$f":"INDEX($X$27:$X$176,MATCH(11,$Y$27:$Y$176,0))","v":{"$error":"#N/A"}},null,null,null,null,null,null,"- Closest to center column only needs to be filled in for extreme cases for a tie breaker"]
["HEAVY GUN SINGLE TARGET HIGHEST SCORE",null,null,null,null,null,"X",null,"HEAVY GUN SINGLE TARGET SMALLEST GROUP",null,null,null,null,null,null,null,null,null,null,"12th",{"$f":"INDEX($B$27:$B$176,MATCH(12,$Y$27:$Y$176,0))","v":{"$error":"#N/A"}},null,null,null,null,null,null,{"$f":"INDEX($X$27:$X$176,MATCH(12,$Y$27:$Y$176,0))","v":{"$error":"#N/A"}},null,null,null,null,null,null,"    (since it will probably never be needed it was left out of the printable area)"]
["1ST",{"$f":"INDEX('single target'!L7:L606,MATCH(1,'single target'!R7:R606,0))","v":" "},null,null,{"$f":"INDEX('single target'!M7:M606,MATCH(1,'single target'!R7:R606,0))","v":0},{"$f":"INDEX('single target'!O7:O606,MATCH(1,'single target'!R7:R606,0))","v":0},{"$f":"INDEX('single target'!N7:N606,MATCH(1,'single target'!R7:R606,0))","v":0},null,"1ST",{"$f":"INDEX('single target'!L7:L606,MATCH(1,'single target'!S7:S606,0))","v":{"$error":"#N/A"}},null,null,null,null,null,{"$f":"INDEX('single target'!M7:M606,MATCH(1,'single target'!S7:S606,0))","v":{"$error":"#N/A"}},null,{"$f":"INDEX('single target'!O7:O606,MATCH(1,'single target'!S7:S606,0))","v":{"$error":"#N/A"}},null,"13th",{"$f":"INDEX($B$27:$B$176,MATCH(13,$Y$27:$Y$176,0))","v":{"$error":"#N/A"}},null,null,null,null,null,null,{"$f":"INDEX($X$27:$X$176,MATCH(13,$Y$27:$Y$176,0))","v":{"$error":"#N/A"}}]
["2nd",{"$f":"INDEX('single target'!L7:L606,MATCH(2,'single target'!R7:R606,0))","v":" "},null,null,{"$f":"INDEX('single target'!M7:M606,MATCH(2,'single target'!R7:R606,0))","v":0},{"$f":"INDEX('single target'!O7:O606,MATCH(2,'single target'!R7:R606,0))","v":0},{"$f":"INDEX('single target'!N7:N606,MATCH(2,'single target'!R7:R606,0))","v":0},null,"2ND",{"$f":"INDEX('single target'!L7:L606,MATCH(2,'single target'!S7:S606,0))","v":{"$error":"#N/A"}},null,null,null,null,null,{"$f":"INDEX('single target'!M7:M606,MATCH(2,'single target'!S7:S606,0))","v":{"$error":"#N/A"}},null,{"$f":"INDEX('single target'!O7:O606,MATCH(2,'single target'!S7:S606,0))","v":{"$error":"#N/A"}}]
["3rd",{"$f":"INDEX('single target'!L7:L606,MATCH(3,'single target'!R7:R606,0))","v":" "},null,null,{"$f":"INDEX('single target'!M7:M606,MATCH(3,'single target'!R7:R606,0))","v":0},{"$f":"INDEX('single target'!O7:O606,MATCH(3,'single target'!R7:R606,0))","v":0},{"$f":"INDEX('single target'!N7:N606,MATCH(3,'single target'!R7:R606,0))","v":0},null,"3RD",{"$f":"INDEX('single target'!L7:L606,MATCH(3,'single target'!S7:S606,0))","v":{"$error":"#N/A"}},null,null,null,null,null,{"$f":"INDEX('single target'!M7:M606,MATCH(3,'single target'!S7:S606,0))","v":{"$error":"#N/A"}},null,{"$f":"INDEX('single target'!O7:O606,MATCH(3,'single target'!S7:S606,0))","v":{"$error":"#N/A"}},null,"Number of HG FB shooters:  ",null,null,null,null,{"$f":"'Competitor List'!M4","v":0}]
[null,null,null,null,null,null,null,null,null,null,null,null,null,null,null,null,null,null,null,null,null,null,null,null,null,null,null,null,null,null,null,null,"Closest shot to center"]
[null,null,null,null,"RELAY- BENCH","ROOKIE, FEMALE, JUNIOR","HG TARGET 1",null,null,"HG TARGET 2",null,null,"HG TARGET 3",null,null,"HG TARGET 4",null,null,"SCORE AGG","SCORE RANK","X TOTAL","GROUP AGG","GROUP RANK","(GROUP + SCORE)","OVERALL PLACE","HG SCORE FOR RANKING","HG GROUP FOR RANKING","SOY Points",null,null,null,null,null,null,"Tip for when entering data"]
[null,"Competitor",null,"FB",null,null,"Score","X","Group","Score","X","Group","Score","X","Group","Score","X","Group",null,null,null,null,null,null,null,null,null,"Score","Group","Overall","Total",null,null,null," - Scroll down until line 24 is at the top of the screen"]
[1,{"$f":"IF('Competitor List'!K6=\"Y\",'Competitor List'!C6,\" \")","v":" "},null,{"$f":"IF('Competitor List'!I6=\"Y\",\"Y\",\"N\")","v":"N"},{"$f":"'LIGHT GUN'!E27","v":101},{"$f":" T('Competitor List'!G6)","v":""},null,null,null,null,null,null,null,null,null,null,null,null,{"$f":" IF(AND(SUM(G27,J27,M27,P27)>0,ISNONTEXT(G27),ISNONTEXT(J27),ISNONTEXT(M27),ISNONTEXT(P27)),SUM(G27,J27,M27,P27),\"DQ\")","v":"DQ"},{"$f":" IF(AND(ISNUMBER(Z27),NOT(D27=\"N\")),RANK(Z27,$Z$27:$Z$176,0)+SUMPRODUCT(($Z$27:$Z$176=Z27)*($AA$27:$AA$176<AA27))+SUMPRODUCT(($Z$27:$Z$176=Z27)*($AA$27:$AA$176=AA27)*($U$27:$U$176>U27))+SUMPRODUCT(($Z$27:$Z$176=Z27)*($AA$27:$AA$176=AA27)*($U$27:$U$176=U27)*($AG$27:$AG$176<AG27)),\"DQ\")","v":"DQ"},{"$f":"IF(AND(ISNONTEXT(H27),ISNONTEXT(K27),ISNONTEXT(N27),ISNONTEXT(Q27)),SUM(H27+K27+N27+Q27),0)","v":0},{"$f":"IF(AND(SUM(I27,L27,O27,R27)>0,ISNONTEXT(I27),ISNONTEXT(L27),ISNONTEXT(O27),ISNONTEXT(R27)),(I27+L27+O27+R27) / ((I27<>0)+(L27<>0)+(O27<>0)+(R27<>0)),\"DQ\")","v":"DQ"},{"$f":" IF(AND(ISNUMBER(AA27),D27=\"Y\"),RANK(AA27,$AA$27:$AA$176,1)+SUMPRODUCT(($AA$27:$AA$176=AA27)*($Z$27:$Z$176>Z27))+SUMPRODUCT(($AA$27:$AA$176=AA27)*($Z$27:$Z$176=Z27)*($U$27:$U$176>U27))+SUMPRODUCT(($AA$27:$AA$176=AA27)*($Z$27:$Z$176=Z27)*($U$27:$U$176=U27)*($AG$27:$AG$176<AG27)),\"DQ\")","v":"DQ"},{"$f":"IF(AND(ISNUMBER(T27),ISNUMBER(W27)), SUM(T27,W27),\"DQ\")","v":"DQ"},{"$f":" IF(AND(ISNUMBER(X27)),RANK(X27,$X$27:$X$176,1)+SUMPRODUCT(($X$27:$X$176=X27)*($AA$27:$AA$176<AA27))+SUMPRODUCT(($X$27:$X$176=X27)*($AA$27:$AA$176=AA27)*($Z$27:$Z$176>Z27)+SUMPRODUCT(($X$27:$X$176=X27)*($AA$27:$AA$176=AA27)*($Z$27:$Z$176=Z27)*($U$27:$U$176>U27))),\"DQ\")","v":"DQ"},{"$f":" IF(AND(SUM(G27,J27,M27,P27)>0,ISNONTEXT(G27),ISNONTEXT(J27),ISNONTEXT(M27),ISNONTEXT(P27),D27=\"Y\"),SUM(G27,J27,M27,P27),\"DQ\")","v":"DQ"},{"$f":"IF(AND(D27=\"Y\",SUM(I27,L27,O27,R27)>0,ISNONTEXT(I27),ISNONTEXT(L27),ISNONTEXT(O27),ISNONTEXT(R27)),(I27+L27+O27+R27) / ((I27<>0)+(L27<>0)+(O27<>0)+(R27<>0)),\"DQ\")","v":"DQ"},{"$f":"IF(T27=1,$AJ$37,IF(T27=2,$AJ$38,IF(T27=3,$AJ$39,IF(T27=4,$AJ$40,IF(T27=5,$AJ$41,IF(T27=6,$AJ$42,IF(T27=7,$AJ$43,IF(T27=8,$AJ$44,IF(T27=9,$AJ$45,IF(T27=10,$AJ$46,\"\"))))))))))","v":""},{"$f":"IF(W27=1,$AJ$37,IF(W27=2,$AJ$38,IF(W27=3,$AJ$39,IF(W27=4,$AJ$40,IF(W27=5,$AJ$41,IF(W27=6,$AJ$42,IF(W27=7,$AJ$43,IF(W27=8,$AJ$44,IF(W27=9,$AJ$45,IF(W27=10,$AJ$46,\"\"))))))))))","v":""},{"$f":"IF(Y27=1,$AJ$37,IF(Y27=2,$AJ$38,IF(Y27=3,$AJ$39,IF(Y27=4,$AJ$40,IF(Y27=5,$AJ$41,IF(Y27=6,$AJ$42,IF(Y27=7,$AJ$43,IF(Y27=8,$AJ$44,IF(Y27=9,$AJ$45,IF(Y27=10,$AJ$46,\"\"))))))))))","v":""},{"$f":"SUM(AB27:AD27)","v":0},null,null,null,"  - Select 27 on left side"]
[2,{"$f":"IF('Competitor List'!K7=\"Y\",'Competitor List'!C7,\" \")","v":" "},null,{"$f":"IF('Competitor List'!I7=\"Y\",\"Y\",\"N\")","v":"N"},{"$f":"'LIGHT GUN'!E28","v":102},{"$f":" T('Competitor List'!G7)","v":""},null,null,null,null,null,null,null,null,null,null,null,null,{"$f":" IF(AND(SUM(G28,J28,M28,P28)>0,ISNONTEXT(G28),ISNONTEXT(J28),ISNONTEXT(M28),ISNONTEXT(P28)),SUM(G28,J28,M28,P28),\"DQ\")","v":"DQ"},{"$f":" IF(AND(ISNUMBER(Z28),NOT(D28=\"N\")),RANK(Z28,$Z$27:$Z$176,0)+SUMPRODUCT(($Z$27:$Z$176=Z28)*($AA$27:$AA$176<AA28))+SUMPRODUCT(($Z$27:$Z$176=Z28)*($AA$27:$AA$176=AA28)*($U$27:$U$176>U28))+SUMPRODUCT(($Z$27:$Z$176=Z28)*($AA$27:$AA$176=AA28)*($U$27:$U$176=U28)*($AG$27:$AG$176<AG28)),\"DQ\")","v":"DQ"},{"$f":"IF(AND(ISNONTEXT(H28),ISNONTEXT(K28),ISNONTEXT(N28),ISNONTEXT(Q28)),SUM(H28+K28+N28+Q28),0)","v":0},{"$f":"IF(AND(SUM(I28,L28,O28,R28)>0,ISNONTEXT(I28),ISNONTEXT(L28),ISNONTEXT(O28),ISNONTEXT(R28)),(I28+L28+O28+R28) / ((I28<>0)+(L28<>0)+(O28<>0)+(R28<>0)),\"DQ\")","v":"DQ"},{"$f":" IF(AND(ISNUMBER(AA28),D28=\"Y\"),RANK(AA28,$AA$27:$AA$176,1)+SUMPRODUCT(($AA$27:$AA$176=AA28)*($Z$27:$Z$176>Z28))+SUMPRODUCT(($AA$27:$AA$176=AA28)*($Z$27:$Z$176=Z28)*($U$27:$U$176>U28))+SUMPRODUCT(($AA$27:$AA$176=AA28)*($Z$27:$Z$176=Z28)*($U$27:$U$176=U28)*($AG$27:$AG$176<AG28)),\"DQ\")","v":"DQ"},"DQ",{"$f":" IF(AND(ISNUMBER(X28)),RANK(X28,$X$27:$X$176,1)+SUMPRODUCT(($X$27:$X$176=X28)*($AA$27:$AA$176<AA28))+SUMPRODUCT(($X$27:$X$176=X28)*($AA$27:$AA$176=AA28)*($Z$27:$Z$176>Z28)+SUMPRODUCT(($X$27:$X$176=X28)*($AA$27:$AA$176=AA28)*($Z$27:$Z$176=Z28)*($U$27:$U$176>U28))),\"DQ\")","v":"DQ"},{"$f":" IF(AND(SUM(G28,J28,M28,P28)>0,ISNONTEXT(G28),ISNONTEXT(J28),ISNONTEXT(M28),ISNONTEXT(P28),D28=\"Y\"),SUM(G28,J28,M28,P28),\"DQ\")","v":"DQ"},{"$f":"IF(AND(D28=\"Y\",SUM(I28,L28,O28,R28)>0,ISNONTEXT(I28),ISNONTEXT(L28),ISNONTEXT(O28),ISNONTEXT(R28)),(I28+L28+O28+R28) / ((I28<>0)+(L28<>0)+(O28<>0)+(R28<>0)),\"DQ\")","v":"DQ"},{"$f":"IF(T28=1,$AJ$37,IF(T28=2,$AJ$38,IF(T28=3,$AJ$39,IF(T28=4,$AJ$40,IF(T28=5,$AJ$41,IF(T28=6,$AJ$42,IF(T28=7,$AJ$43,IF(T28=8,$AJ$44,IF(T28=9,$AJ$45,IF(T28=10,$AJ$46,\"\"))))))))))","v":""},{"$f":"IF(W28=1,$AJ$37,IF(W28=2,$AJ$38,IF(W28=3,$AJ$39,IF(W28=4,$AJ$40,IF(W28=5,$AJ$41,IF(W28=6,$AJ$42,IF(W28=7,$AJ$43,IF(W28=8,$AJ$44,IF(W28=9,$AJ$45,IF(W28=10,$AJ$46,\"\"))))))))))","v":""},{"$f":"IF(Y28=1,$AJ$37,IF(Y28=2,$AJ$38,IF(Y28=3,$AJ$39,IF(Y28=4,$AJ$40,IF(Y28=5,$AJ$41,IF(Y28=6,$AJ$42,IF(Y28=7,$AJ$43,IF(Y28=8,$AJ$44,IF(Y28=9,$AJ$45,IF(Y28=10,$AJ$46,\"\"))))))))))","v":""},{"$f":"SUM(AB28:AD28)","v":0},null,null,null,"   - view at top"]
[3,{"$f":"IF('Competitor List'!K8=\"Y\",'Competitor List'!C8,\" \")","v":" "},null,{"$f":"IF('Competitor List'!I8=\"Y\",\"Y\",\"N\")","v":"N"},{"$f":"'LIGHT GUN'!E29","v":103},{"$f":" T('Competitor List'!G8)","v":""},null,null,null,null,null,null,null,null,null,null,null,null,"DQ","DQ",{"$f":"IF(AND(ISNONTEXT(H29),ISNONTEXT(K29),ISNONTEXT(N29),ISNONTEXT(Q29)),SUM(H29+K29+N29+Q29),0)","v":0},"DQ","DQ","DQ","DQ","DQ","DQ","","","",{"$f":"SUM(AB29:AD29)","v":0},null,null,null,"    - freeze panes"]
[4,{"$f":"IF('Competitor List'!K9=\"Y\",'Competitor List'!C9,\" \")","v":" "},null,{"$f":"IF('Competitor List'!I9=\"Y\",\"Y\",\"N\")","v":"N"},{"$f":"'LIGHT GUN'!E30","v":104},{"$f":" T('Competitor List'!G9)","v":""},null,null,null,null,null,null,null,null,null,null,null,null,"DQ","DQ",{"$f":"IF(AND(ISNONTEXT(H30),ISNONTEXT(K30),ISNONTEXT(N30),ISNONTEXT(Q30)),SUM(H30+K30+N30+Q30),0)","v":0},"DQ","DQ","DQ","DQ","DQ","DQ","","","",{"$f":"SUM(AB30:AD30)","v":0},null,null,null,"     - freeze panes again"]
[5,{"$f":"IF('Competitor List'!K10=\"Y\",'Competitor List'!C10,\" \")","v":" "},null,{"$f":"IF('Competitor List'!I10=\"Y\",\"Y\",\"N\")","v":"N"},{"$f":"'LIGHT GUN'!E31","v":105},{"$f":" T('Competitor List'!G10)","v":""},null,null,null,null,null,null,null,null,null,null,null,null,"DQ","DQ",0,"DQ","DQ","DQ","DQ","DQ","DQ",{"$f":"IF(T31=1,$AJ$37,IF(T31=2,$AJ$38,IF(T31=3,$AJ$39,IF(T31=4,$AJ$40,IF(T31=5,$AJ$41,IF(T31=6,$AJ$42,IF(T31=7,$AJ$43,IF(T31=8,$AJ$44,IF(T31=9,$AJ$45,IF(T31=10,$AJ$46,\"\"))))))))))","v":""},{"$f":"IF(W31=1,$AJ$37,IF(W31=2,$AJ$38,IF(W31=3,$AJ$39,IF(W31=4,$AJ$40,IF(W31=5,$AJ$41,IF(W31=6,$AJ$42,IF(W31=7,$AJ$43,IF(W31=8,$AJ$44,IF(W31=9,$AJ$45,IF(W31=10,$AJ$46,\"\"))))))))))","v":""},"",0,null,null,null," ---unfreeze panes when you want to view the top results"]
[6,{"$f":"IF('Competitor List'!K11=\"Y\",'Competitor List'!C11,\" \")","v":" "},null,{"$f":"IF('Competitor List'!I11=\"Y\",\"Y\",\"N\")","v":"N"},{"$f":"'LIGHT GUN'!E32","v":106},{"$f":" T('Competitor List'!G11)","v":""},null,null,null,null,null,null,null,null,null,null,null,null,"DQ","DQ",0,"DQ","DQ","DQ","DQ","DQ","DQ","","","",0,null,null,null,"  - change scale in bottom right corner to enlarge as needed"]
[7,{"$f":"IF('Competitor List'!K12=\"Y\",'Competitor List'!C12,\" \")","v":" "},null,{"$f":"IF('Competitor List'!I12=\"Y\",\"Y\",\"N\")","v":"N"},{"$f":"'LIGHT GUN'!E33","v":107},{"$f":" T('Competitor List'!G12)","v":""},null,null,null,null,null,null,null,null,null,null,null,null,"DQ","DQ",0,"DQ","DQ","DQ","DQ","DQ","DQ","","","",0,null,null,null,"     - return to 100% after entering data"]
[8,{"$f":"IF('Competitor List'!K13=\"Y\",'Competitor List'!C13,\" \")","v":" "},null,{"$f":"IF('Competitor List'!I13=\"Y\",\"Y\",\"N\")","v":"N"},{"$f":"'LIGHT GUN'!E34","v":108},{"$f":" T('Competitor List'!G13)","v":""},null,null,null,null,null,null,null,null,null,null,null,null,"DQ","DQ",0,"DQ","DQ","DQ","DQ","DQ","DQ","","","",0]
[9,{"$f":"IF('Competitor List'!K14=\"Y\",'Competitor List'!C14,\" \")","v":" "},null,{"$f":"IF('Competitor List'!I14=\"Y\",\"Y\",\"N\")","v":"N"},{"$f":"'LIGHT GUN'!E35","v":109},{"$f":" T('Competitor List'!G14)","v":""},null,null,null,null,null,null,null,null,null,null,null,null,"DQ","DQ",0,"DQ","DQ","DQ","DQ","DQ","DQ","","","",0,null,null,null,"SOY points this match"]
[10,{"$f":"IF('Competitor List'!K15=\"Y\",'Competitor List'!C15,\" \")","v":" "},null,{"$f":"IF('Competitor List'!I15=\"Y\",\"Y\",\"N\")","v":"N"},{"$f":"'LIGHT GUN'!E36","v":110},{"$f":" T('Competitor List'!G15)","v":""},null,null,null,null,null,null,null,null,null,null,null,null,"DQ","DQ",0,"DQ","DQ","DQ","DQ","DQ","DQ","","","",0,null,null,null,null,"Heavy"]
[11,{"$f":"IF('Competitor List'!K16=\"Y\",'Competitor List'!C16,\" \")","v":" "},null,{"$f":"IF('Competitor List'!I16=\"Y\",\"Y\",\"N\")","v":"N"},{"$f":"'LIGHT GUN'!E37","v":111},{"$f":" T('Competitor List'!G16)","v":""},null,null,null,null,null,null,null,null,null,null,null,null,"DQ","DQ",0,"DQ","DQ","DQ","DQ","DQ","DQ","","","",0,null,null,null,"1st",{"$f":"IF(Y23<=7,1,IF(Y23<=14,2,IF(Y23<=21,3,IF(Y23<=28,4,IF(Y23<=35,5,IF(Y23<=42,6,IF(Y23<=49,7,IF(Y23<=56,8,IF(Y23<=63,9,10)))))))))","v":1}]
[12,{"$f":"IF('Competitor List'!K17=\"Y\",'Competitor List'!C17,\" \")","v":" "},null,{"$f":"IF('Competitor List'!I17=\"Y\",\"Y\",\"N\")","v":"N"},{"$f":"'LIGHT GUN'!E38","v":112},{"$f":" T('Competitor List'!G17)","v":""},null,null,null,null,null,null,null,null,null,null,null,null,"DQ","DQ",0,"DQ","DQ","DQ","DQ","DQ","DQ","","","",0,null,null,null,"2nd",{"$f":"IF(AND(AJ37>=2,ISNUMBER(AJ37)),AJ37-1,0)","v":0}]
[13,{"$f":"IF('Competitor List'!K18=\"Y\",'Competitor List'!C18,\" \")","v":" "},null,{"$f":"IF('Competitor List'!I18=\"Y\",\"Y\",\"N\")","v":"N"},{"$f":"'LIGHT GUN'!E39","v":113},{"$f":" T('Competitor List'!G18)","v":""},null,null,null,null,null,null,null,null,null,null,null,null,"DQ","DQ",0,"DQ","DQ","DQ","DQ","DQ","DQ","","","",0,null,null,null,"3rd",0]
[14,{"$f":"IF('Competitor List'!K19=\"Y\",'Competitor List'!C19,\" \")","v":" "},null,{"$f":"IF('Competitor List'!I19=\"Y\",\"Y\",\"N\")","v":"N"},{"$f":"'LIGHT GUN'!E40","v":114},{"$f":" T('Competitor List'!G19)","v":""},null,null,null,null,null,null,null,null,null,null,null,null,"DQ","DQ",0,"DQ","DQ","DQ","DQ","DQ","DQ","","","",0,null,null,null,"4th",0]
[15,{"$f":"IF('Competitor List'!K20=\"Y\",'Competitor List'!C20,\" \")","v":" "},null,{"$f":"IF('Competitor List'!I20=\"Y\",\"Y\",\"N\")","v":"N"},{"$f":"'LIGHT GUN'!E41","v":115},{"$f":" T('Competitor List'!G20)","v":""},null,null,null,null,null,null,null,null,null,null,null,null,"DQ","DQ",0,"DQ","DQ","DQ","DQ","DQ","DQ","","","",0,null,null,null,"5th",0]
[16,{"$f":"IF('Competitor List'!K21=\"Y\",'Competitor List'!C21,\" \")","v":" "},null,{"$f":"IF('Competitor List'!I21=\"Y\",\"Y\",\"N\")","v":"N"},{"$f":"'LIGHT GUN'!E42","v":201},{"$f":" T('Competitor List'!G21)","v":""},null,null,null,null,null,null,null,null,null,null,null,null,"DQ","DQ",0,"DQ","DQ","DQ","DQ","DQ","DQ","","","",0,null,null,null,"6th",0]
[17,{"$f":"IF('Competitor List'!K22=\"Y\",'Competitor List'!C22,\" \")","v":" "},null,{"$f":"IF('Competitor List'!I22=\"Y\",\"Y\",\"N\")","v":"N"},{"$f":"'LIGHT GUN'!E43","v":202},{"$f":" T('Competitor List'!G22)","v":""},null,null,null,null,null,null,null,null,null,null,null,null,"DQ","DQ",0,"DQ","DQ","DQ","DQ","DQ","DQ","","","",0,null,null,null,"7th",0]
[18,{"$f":"IF('Competitor List'!K23=\"Y\",'Competitor List'!C23,\" \")","v":" "},null,{"$f":"IF('Competitor List'!I23=\"Y\",\"Y\",\"N\")","v":"N"},{"$f":"'LIGHT GUN'!E44","v":203},{"$f":" T('Competitor List'!G23)","v":""},null,null,null,null,null,null,null,null,null,null,null,null,"DQ","DQ",0,"DQ","DQ","DQ","DQ","DQ","DQ","","","",0,null,null,null,"8th",0]
[19,{"$f":"IF('Competitor List'!K24=\"Y\",'Competitor List'!C24,\" \")","v":" "},null,{"$f":"IF('Competitor List'!I24=\"Y\",\"Y\",\"N\")","v":"N"},{"$f":"'LIGHT GUN'!E45","v":204},{"$f":" T('Competitor List'!G24)","v":""},null,null,null,null,null,null,null,null,null,null,null,null,"DQ","DQ",0,"DQ","DQ","DQ","DQ","DQ","DQ","","","",0,null,null,null,"9th",0]
[20,{"$f":"IF('Competitor List'!K25=\"Y\",'Competitor List'!C25,\" \")","v":" "},null,{"$f":"IF('Competitor List'!I25=\"Y\",\"Y\",\"N\")","v":"N"},{"$f":"'LIGHT GUN'!E46","v":205},{"$f":" T('Competitor List'!G25)","v":""},null,null,null,null,null,null,null,null,null,null,null,null,"DQ","DQ",0,"DQ","DQ","DQ","DQ","DQ","DQ","","","",0,null,null,null,"10th",0]
[21,{"$f":"IF('Competitor List'!K26=\"Y\",'Competitor List'!C26,\" \")","v":" "},null,{"$f":"IF('Competitor List'!I26=\"Y\",\"Y\",\"N\")","v":"N"},{"$f":"'LIGHT GUN'!E47","v":206},{"$f":" T('Competitor List'!G26)","v":""},null,null,null,null,null,null,null,null,null,null,null,null,"DQ","DQ",0,"DQ","DQ","DQ","DQ","DQ","DQ","","","",0]
[22,{"$f":"IF('Competitor List'!K27=\"Y\",'Competitor List'!C27,\" \")","v":" "},null,{"$f":"IF('Competitor List'!I27=\"Y\",\"Y\",\"N\")","v":"N"},{"$f":"'LIGHT GUN'!E48","v":207},{"$f":" T('Competitor List'!G27)","v":""},null,null,null,null,null,null,null,null,null,null,null,null,"DQ","DQ",0,"DQ","DQ","DQ","DQ","DQ","DQ","","","",0,null,null,null,"Enter your notes here"]
[23,{"$f":"IF('Competitor List'!K28=\"Y\",'Competitor List'!C28,\" \")","v":" "},null,{"$f":"IF('Competitor List'!I28=\"Y\",\"Y\",\"N\")","v":"N"},{"$f":"'LIGHT GUN'!E49","v":208},{"$f":" T('Competitor List'!G28)","v":""},null,null,null,null,null,null,null,null,null,null,null,null,"DQ","DQ",0,"DQ","DQ","DQ","DQ","DQ","DQ","","","",0]
[24,{"$f":"IF('Competitor List'!K29=\"Y\",'Competitor List'!C29,\" \")","v":" "},null,{"$f":"IF('Competitor List'!I29=\"Y\",\"Y\",\"N\")","v":"N"},{"$f":"'LIGHT GUN'!E50","v":209},{"$f":" T('Competitor List'!G29)","v":""},null,null,null,null,null,null,null,null,null,null,null,null,"DQ","DQ",0,"DQ","DQ","DQ","DQ","DQ","DQ","","","",0]
[25,{"$f":"IF('Competitor List'!K30=\"Y\",'Competitor List'!C30,\" \")","v":" "},null,{"$f":"IF('Competitor List'!I30=\"Y\",\"Y\",\"N\")","v":"N"},{"$f":"'LIGHT GUN'!E51","v":210},{"$f":" T('Competitor List'!G30)","v":""},null,null,null,null,null,null,null,null,null,null,null,null,"DQ","DQ",0,"DQ","DQ","DQ","DQ","DQ","DQ","","","",0]
[26,{"$f":"IF('Competitor List'!K31=\"Y\",'Competitor List'!C31,\" \")","v":" "},null,{"$f":"IF('Competitor List'!I31=\"Y\",\"Y\",\"N\")","v":"N"},{"$f":"'LIGHT GUN'!E52","v":211},{"$f":" T('Competitor List'!G31)","v":""},null,null,null,null,null,null,null,null,null,null,null,null,"DQ","DQ",0,"DQ","DQ","DQ","DQ","DQ","DQ","","","",0]
[27,{"$f":"IF('Competitor List'!K32=\"Y\",'Competitor List'!C32,\" \")","v":" "},null,{"$f":"IF('Competitor List'!I32=\"Y\",\"Y\",\"N\")","v":"N"},{"$f":"'LIGHT GUN'!E53","v":212},{"$f":" T('Competitor List'!G32)","v":""},null,null,null,null,null,null,null,null,null,null,null,null,"DQ","DQ",0,"DQ","DQ","DQ","DQ","DQ","DQ","","","",0]
[28,{"$f":"IF('Competitor List'!K33=\"Y\",'Competitor List'!C33,\" \")","v":" "},null,{"$f":"IF('Competitor List'!I33=\"Y\",\"Y\",\"N\")","v":"N"},{"$f":"'LIGHT GUN'!E54","v":213},{"$f":" T('Competitor List'!G33)","v":""},null,null,null,null,null,null,null,null,null,null,null,null,"DQ","DQ",0,"DQ","DQ","DQ","DQ","DQ","DQ","","","",0]
[29,{"$f":"IF('Competitor List'!K34=\"Y\",'Competitor List'!C34,\" \")","v":" "},null,{"$f":"IF('Competitor List'!I34=\"Y\",\"Y\",\"N\")","v":"N"},{"$f":"'LIGHT GUN'!E55","v":214},{"$f":" T('Competitor List'!G34)","v":""},null,null,null,null,null,null,null,null,null,null,null,null,"DQ","DQ",0,"DQ","DQ","DQ","DQ","DQ","DQ","","","",0]
[30,{"$f":"IF('Competitor List'!K35=\"Y\",'Competitor List'!C35,\" \")","v":" "},null,{"$f":"IF('Competitor List'!I35=\"Y\",\"Y\",\"N\")","v":"N"},{"$f":"'LIGHT GUN'!E56","v":215},{"$f":" T('Competitor List'!G35)","v":""},null,null,null,null,null,null,null,null,null,null,null,null,"DQ","DQ",0,"DQ","DQ","DQ","DQ","DQ","DQ","","","",0]
[31,{"$f":"IF('Competitor List'!K36=\"Y\",'Competitor List'!C36,\" \")","v":" "},null,{"$f":"IF('Competitor List'!I36=\"Y\",\"Y\",\"N\")","v":"N"},{"$f":"'LIGHT GUN'!E57","v":301},{"$f":" T('Competitor List'!G36)","v":""},null,null,null,null,null,null,null,null,null,null,null,null,"DQ","DQ",0,"DQ","DQ","DQ","DQ","DQ","DQ","","","",0]
[32,{"$f":"IF('Competitor List'!K37=\"Y\",'Competitor List'!C37,\" \")","v":" "},null,{"$f":"IF('Competitor List'!I37=\"Y\",\"Y\",\"N\")","v":"N"},{"$f":"'LIGHT GUN'!E58","v":302},{"$f":" T('Competitor List'!G37)","v":""},null,null,null,null,null,null,null,null,null,null,null,null,"DQ","DQ",0,"DQ","DQ","DQ","DQ","DQ","DQ","","","",0]
[33,{"$f":"IF('Competitor List'!K38=\"Y\",'Competitor List'!C38,\" \")","v":" "},null,{"$f":"IF('Competitor List'!I38=\"Y\",\"Y\",\"N\")","v":"N"},{"$f":"'LIGHT GUN'!E59","v":303},{"$f":" T('Competitor List'!G38)","v":""},null,null,null,null,null,null,null,null,null,null,null,null,"DQ","DQ",0,"DQ","DQ",{"$f":"IF(AND(ISNUMBER(T59),ISNUMBER(W59)), SUM(T59,W59),\"DQ\")","v":"DQ"},"DQ","DQ","DQ","","","",0]
[34,{"$f":"IF('Competitor List'!K39=\"Y\",'Competitor List'!C39,\" \")","v":" "},null,{"$f":"IF('Competitor List'!I39=\"Y\",\"Y\",\"N\")","v":"N"},{"$f":"'LIGHT GUN'!E60","v":304},{"$f":" T('Competitor List'!G39)","v":""},null,null,null,null,null,null,null,null,null,null,null,null,"DQ","DQ",0,"DQ","DQ","DQ","DQ","DQ","DQ","","","",0]
[35,{"$f":"IF('Competitor List'!K40=\"Y\",'Competitor List'!C40,\" \")","v":" "},null,{"$f":"IF('Competitor List'!I40=\"Y\",\"Y\",\"N\")","v":"N"},{"$f":"'LIGHT GUN'!E61","v":305},{"$f":" T('Competitor List'!G40)","v":""},null,null,null,null,null,null,null,null,null,null,null,null,"DQ","DQ",0,"DQ","DQ","DQ","DQ","DQ","DQ","","","",0]
[36,{"$f":"IF('Competitor List'!K41=\"Y\",'Competitor List'!C41,\" \")","v":" "},null,{"$f":"IF('Competitor List'!I41=\"Y\",\"Y\",\"N\")","v":"N"},{"$f":"'LIGHT GUN'!E62","v":306},{"$f":" T('Competitor List'!G41)","v":""},null,null,null,null,null,null,null,null,null,null,null,null,"DQ","DQ",0,"DQ","DQ","DQ","DQ","DQ","DQ","","","",0]
[37,{"$f":"IF('Competitor List'!K42=\"Y\",'Competitor List'!C42,\" \")","v":" "},null,{"$f":"IF('Competitor List'!I42=\"Y\",\"Y\",\"N\")","v":"N"},{"$f":"'LIGHT GUN'!E63","v":307},{"$f":" T('Competitor List'!G42)","v":""},null,null,null,null,null,null,null,null,null,null,null,null,"DQ","DQ",0,"DQ","DQ","DQ","DQ","DQ","DQ","","","",0]
[38,{"$f":"IF('Competitor List'!K43=\"Y\",'Competitor List'!C43,\" \")","v":" "},null,{"$f":"IF('Competitor List'!I43=\"Y\",\"Y\",\"N\")","v":"N"},{"$f":"'LIGHT GUN'!E64","v":308},{"$f":" T('Competitor List'!G43)","v":""},null,null,null,null,null,null,null,null,null,null,null,null,"DQ","DQ",0,"DQ","DQ","DQ","DQ","DQ","DQ","","","",0]
[39,{"$f":"IF('Competitor List'!K44=\"Y\",'Competitor List'!C44,\" \")","v":" "},null,{"$f":"IF('Competitor List'!I44=\"Y\",\"Y\",\"N\")","v":"N"},{"$f":"'LIGHT GUN'!E65","v":309},{"$f":" T('Competitor List'!G44)","v":""},null,null,null,null,null,null,null,null,null,null,null,null,"DQ","DQ",0,"DQ","DQ","DQ","DQ","DQ","DQ","","","",0]
[40,{"$f":"IF('Competitor List'!K45=\"Y\",'Competitor List'!C45,\" \")","v":" "},null,{"$f":"IF('Competitor List'!I45=\"Y\",\"Y\",\"N\")","v":"N"},{"$f":"'LIGHT GUN'!E66","v":310},{"$f":" T('Competitor List'!G45)","v":""},null,null,null,null,null,null,null,null,null,null,null,null,"DQ","DQ",0,"DQ","DQ","DQ","DQ","DQ","DQ","","","",0]
[41,{"$f":"IF('Competitor List'!K46=\"Y\",'Competitor List'!C46,\" \")","v":" "},null,{"$f":"IF('Competitor List'!I46=\"Y\",\"Y\",\"N\")","v":"N"},{"$f":"'LIGHT GUN'!E67","v":311},{"$f":" T('Competitor List'!G46)","v":""},null,null,null,null,null,null,null,null,null,null,null,null,"DQ","DQ",0,"DQ","DQ","DQ","DQ","DQ","DQ","","","",0]
[42,{"$f":"IF('Competitor List'!K47=\"Y\",'Competitor List'!C47,\" \")","v":" "},null,{"$f":"IF('Competitor List'!I47=\"Y\",\"Y\",\"N\")","v":"N"},{"$f":"'LIGHT GUN'!E68","v":312},{"$f":" T('Competitor List'!G47)","v":""},null,null,null,null,null,null,null,null,null,null,null,null,"DQ","DQ",0,"DQ","DQ","DQ","DQ","DQ","DQ","","","",0]
[43,{"$f":"IF('Competitor List'!K48=\"Y\",'Competitor List'!C48,\" \")","v":" "},null,{"$f":"IF('Competitor List'!I48=\"Y\",\"Y\",\"N\")","v":"N"},{"$f":"'LIGHT GUN'!E69","v":313},{"$f":" T('Competitor List'!G48)","v":""},null,null,null,null,null,null,null,null,null,null,null,null,"DQ","DQ",0,"DQ","DQ","DQ","DQ","DQ","DQ","","","",0]
[44,{"$f":"IF('Competitor List'!K49=\"Y\",'Competitor List'!C49,\" \")","v":" "},null,{"$f":"IF('Competitor List'!I49=\"Y\",\"Y\",\"N\")","v":"N"},{"$f":"'LIGHT GUN'!E70","v":314},{"$f":" T('Competitor List'!G49)","v":""},null,null,null,null,null,null,null,null,null,null,null,null,"DQ","DQ",0,"DQ","DQ","DQ","DQ","DQ","DQ","","","",0]
[45,{"$f":"IF('Competitor List'!K50=\"Y\",'Competitor List'!C50,\" \")","v":" "},null,{"$f":"IF('Competitor List'!I50=\"Y\",\"Y\",\"N\")","v":"N"},{"$f":"'LIGHT GUN'!E71","v":315},{"$f":" T('Competitor List'!G50)","v":""},null,null,null,null,null,null,null,null,null,null,null,null,"DQ","DQ",0,"DQ","DQ","DQ","DQ","DQ","DQ","","","",0]
[46,{"$f":"IF('Competitor List'!K51=\"Y\",'Competitor List'!C51,\" \")","v":" "},null,{"$f":"IF('Competitor List'!I51=\"Y\",\"Y\",\"N\")","v":"N"},{"$f":"'LIGHT GUN'!E72","v":401},{"$f":" T('Competitor List'!G51)","v":""},null,null,null,null,null,null,null,null,null,null,null,null,"DQ","DQ",0,"DQ","DQ","DQ","DQ","DQ","DQ","","","",0]
[47,{"$f":"IF('Competitor List'!K52=\"Y\",'Competitor List'!C52,\" \")","v":" "},null,{"$f":"IF('Competitor List'!I52=\"Y\",\"Y\",\"N\")","v":"N"},{"$f":"'LIGHT GUN'!E73","v":402},{"$f":" T('Competitor List'!G52)","v":""},null,null,null,null,null,null,null,null,null,null,null,null,"DQ","DQ",0,"DQ","DQ","DQ","DQ","DQ","DQ","","","",0]
[48,{"$f":"IF('Competitor List'!K53=\"Y\",'Competitor List'!C53,\" \")","v":" "},null,{"$f":"IF('Competitor List'!I53=\"Y\",\"Y\",\"N\")","v":"N"},{"$f":"'LIGHT GUN'!E74","v":403},{"$f":" T('Competitor List'!G53)","v":""},null,null,null,null,null,null,null,null,null,null,null,null,"DQ","DQ",0,"DQ","DQ","DQ","DQ","DQ","DQ","","","",0]
[49,{"$f":"IF('Competitor List'!K54=\"Y\",'Competitor List'!C54,\" \")","v":" "},null,{"$f":"IF('Competitor List'!I54=\"Y\",\"Y\",\"N\")","v":"N"},{"$f":"'LIGHT GUN'!E75","v":404},{"$f":" T('Competitor List'!G54)","v":""},null,null,null,null,null,null,null,null,null,null,null,null,"DQ","DQ",0,"DQ","DQ","DQ","DQ","DQ","DQ","","","",0]
[50,{"$f":"IF('Competitor List'!K55=\"Y\",'Competitor List'!C55,\" \")","v":" "},null,{"$f":"IF('Competitor List'!I55=\"Y\",\"Y\",\"N\")","v":"N"},{"$f":"'LIGHT GUN'!E76","v":405},{"$f":" T('Competitor List'!G55)","v":""},null,null,null,null,null,null,null,null,null,null,null,null,"DQ","DQ",0,"DQ","DQ","DQ","DQ","DQ","DQ","","","",0]
[51,{"$f":"IF('Competitor List'!K56=\"Y\",'Competitor List'!C56,\" \")","v":" "},null,{"$f":"IF('Competitor List'!I56=\"Y\",\"Y\",\"N\")","v":"N"},{"$f":"'LIGHT GUN'!E77","v":406},{"$f":" T('Competitor List'!G56)","v":""},null,null,null,null,null,null,null,null,null,null,null,null,"DQ","DQ",0,"DQ","DQ","DQ","DQ","DQ","DQ","","","",0]
[52,{"$f":"IF('Competitor List'!K57=\"Y\",'Competitor List'!C57,\" \")","v":" "},null,{"$f":"IF('Competitor List'!I57=\"Y\",\"Y\",\"N\")","v":"N"},{"$f":"'LIGHT GUN'!E78","v":407},{"$f":" T('Competitor List'!G57)","v":""},null,null,null,null,null,null,null,null,null,null,null,null,"DQ","DQ",0,"DQ","DQ","DQ","DQ","DQ","DQ","","","",0]
[53,{"$f":"IF('Competitor List'!K58=\"Y\",'Competitor List'!C58,\" \")","v":" "},null,{"$f":"IF('Competitor List'!I58=\"Y\",\"Y\",\"N\")","v":"N"},{"$f":"'LIGHT GUN'!E79","v":408},{"$f":" T('Competitor List'!G58)","v":""},null,null,null,null,null,null,null,null,null,null,null,null,"DQ","DQ",0,"DQ","DQ","DQ","DQ","DQ","DQ","","","",0]
[54,{"$f":"IF('Competitor List'!K59=\"Y\",'Competitor List'!C59,\" \")","v":" "},null,{"$f":"IF('Competitor List'!I59=\"Y\",\"Y\",\"N\")","v":"N"},{"$f":"'LIGHT GUN'!E80","v":409},{"$f":" T('Competitor List'!G59)","v":""},null,null,null,null,null,null,null,null,null,null,null,null,"DQ","DQ",0,"DQ","DQ","DQ","DQ","DQ","DQ","","","",0]
[55,{"$f":"IF('Competitor List'!K60=\"Y\",'Competitor List'!C60,\" \")","v":" "},null,{"$f":"IF('Competitor List'!I60=\"Y\",\"Y\",\"N\")","v":"N"},{"$f":"'LIGHT GUN'!E81","v":410},{"$f":" T('Competitor List'!G60)","v":""},null,null,null,null,null,null,null,null,null,null,null,null,"DQ","DQ",0,"DQ","DQ","DQ","DQ","DQ","DQ","","","",0]
[56,{"$f":"IF('Competitor List'!K61=\"Y\",'Competitor List'!C61,\" \")","v":" "},null,{"$f":"IF('Competitor List'!I61=\"Y\",\"Y\",\"N\")","v":"N"},{"$f":"'LIGHT GUN'!E82","v":411},{"$f":" T('Competitor List'!G61)","v":""},null,null,null,null,null,null,null,null,null,null,null,null,"DQ","DQ",0,"DQ","DQ","DQ","DQ","DQ","DQ","","","",0]
[57,{"$f":"IF('Competitor List'!K62=\"Y\",'Competitor List'!C62,\" \")","v":" "},null,{"$f":"IF('Competitor List'!I62=\"Y\",\"Y\",\"N\")","v":"N"},{"$f":"'LIGHT GUN'!E83","v":412},{"$f":" T('Competitor List'!G62)","v":""},null,null,null,null,null,null,null,null,null,null,null,null,"DQ","DQ",0,"DQ","DQ","DQ","DQ","DQ","DQ","","","",0]
[58,{"$f":"IF('Competitor List'!K63=\"Y\",'Competitor List'!C63,\" \")","v":" "},null,{"$f":"IF('Competitor List'!I63=\"Y\",\"Y\",\"N\")","v":"N"},{"$f":"'LIGHT GUN'!E84","v":413},{"$f":" T('Competitor List'!G63)","v":""},null,null,null,null,null,null,null,null,null,null,null,null,"DQ","DQ",0,"DQ","DQ","DQ","DQ","DQ","DQ","","","",0]
[59,{"$f":"IF('Competitor List'!K64=\"Y\",'Competitor List'!C64,\" \")","v":" "},null,{"$f":"IF('Competitor List'!I64=\"Y\",\"Y\",\"N\")","v":"N"},{"$f":"'LIGHT GUN'!E85","v":414},{"$f":" T('Competitor List'!G64)","v":""},null,null,null,null,null,null,null,null,null,null,null,null,"DQ","DQ",0,"DQ","DQ","DQ","DQ","DQ","DQ","","","",0]
[60,{"$f":"IF('Competitor List'!K65=\"Y\",'Competitor List'!C65,\" \")","v":" "},null,{"$f":"IF('Competitor List'!I65=\"Y\",\"Y\",\"N\")","v":"N"},{"$f":"'LIGHT GUN'!E86","v":415},{"$f":" T('Competitor List'!G65)","v":""},null,null,null,null,null,null,null,null,null,null,null,null,"DQ","DQ",0,"DQ","DQ","DQ","DQ","DQ","DQ","","","",0]
[61,{"$f":"IF('Competitor List'!K66=\"Y\",'Competitor List'!C66,\" \")","v":" "},null,{"$f":"IF('Competitor List'!I66=\"Y\",\"Y\",\"N\")","v":"N"},{"$f":"'LIGHT GUN'!E87","v":501},{"$f":" T('Competitor List'!G66)","v":""},null,null,null,null,null,null,null,null,null,null,null,null,"DQ","DQ",0,"DQ","DQ","DQ","DQ","DQ","DQ","","","",0]
[62,{"$f":"IF('Competitor List'!K67=\"Y\",'Competitor List'!C67,\" \")","v":" "},null,{"$f":"IF('Competitor List'!I67=\"Y\",\"Y\",\"N\")","v":"N"},{"$f":"'LIGHT GUN'!E88","v":502},{"$f":" T('Competitor List'!G67)","v":""},null,null,null,null,null,null,null,null,null,null,null,null,"DQ","DQ",0,"DQ","DQ","DQ","DQ","DQ","DQ","","","",0]
[63,{"$f":"IF('Competitor List'!K68=\"Y\",'Competitor List'!C68,\" \")","v":" "},null,{"$f":"IF('Competitor List'!I68=\"Y\",\"Y\",\"N\")","v":"N"},{"$f":"'LIGHT GUN'!E89","v":503},{"$f":" T('Competitor List'!G68)","v":""},null,null,null,null,null,null,null,null,null,null,null,null,"DQ","DQ",0,"DQ","DQ","DQ","DQ","DQ","DQ","","","",0]
[64,{"$f":"IF('Competitor List'!K69=\"Y\",'Competitor List'!C69,\" \")","v":" "},null,{"$f":"IF('Competitor List'!I69=\"Y\",\"Y\",\"N\")","v":"N"},{"$f":"'LIGHT GUN'!E90","v":504},{"$f":" T('Competitor List'!G69)","v":""},null,null,null,null,null,null,null,null,null,null,null,null,"DQ","DQ",0,"DQ","DQ","DQ","DQ","DQ","DQ","","","",0]
[65,{"$f":"IF('Competitor List'!K70=\"Y\",'Competitor List'!C70,\" \")","v":" "},null,{"$f":"IF('Competitor List'!I70=\"Y\",\"Y\",\"N\")","v":"N"},{"$f":"'LIGHT GUN'!E91","v":505},{"$f":" T('Competitor List'!G70)","v":""},null,null,null,null,null,null,null,null,null,null,null,null,"DQ","DQ",0,"DQ","DQ",{"$f":"IF(AND(ISNUMBER(T91),ISNUMBER(W91)), SUM(T91,W91),\"DQ\")","v":"DQ"},"DQ","DQ","DQ","","","",0]
[66,{"$f":"IF('Competitor List'!K71=\"Y\",'Competitor List'!C71,\" \")","v":" "},null,{"$f":"IF('Competitor List'!I71=\"Y\",\"Y\",\"N\")","v":"N"},{"$f":"'LIGHT GUN'!E92","v":506},{"$f":" T('Competitor List'!G71)","v":""},null,null,null,null,null,null,null,null,null,null,null,null,{"$f":" IF(AND(SUM(G92,J92,M92,P92)>0,ISNONTEXT(G92),ISNONTEXT(J92),ISNONTEXT(M92),ISNONTEXT(P92)),SUM(G92,J92,M92,P92),\"DQ\")","v":"DQ"},{"$f":" IF(AND(ISNUMBER(Z92),NOT(D92=\"N\")),RANK(Z92,$Z$27:$Z$176,0)+SUMPRODUCT(($Z$27:$Z$176=Z92)*($AA$27:$AA$176<AA92))+SUMPRODUCT(($Z$27:$Z$176=Z92)*($AA$27:$AA$176=AA92)*($U$27:$U$176>U92))+SUMPRODUCT(($Z$27:$Z$176=Z92)*($AA$27:$AA$176=AA92)*($U$27:$U$176=U92)*($AG$27:$AG$176<AG92)),\"DQ\")","v":"DQ"},0,{"$f":"IF(AND(SUM(I92,L92,O92,R92)>0,ISNONTEXT(I92),ISNONTEXT(L92),ISNONTEXT(O92),ISNONTEXT(R92)),(I92+L92+O92+R92) / ((I92<>0)+(L92<>0)+(O92<>0)+(R92<>0)),\"DQ\")","v":"DQ"},{"$f":" IF(AND(ISNUMBER(AA92),D92=\"Y\"),RANK(AA92,$AA$27:$AA$176,1)+SUMPRODUCT(($AA$27:$AA$176=AA92)*($Z$27:$Z$176>Z92))+SUMPRODUCT(($AA$27:$AA$176=AA92)*($Z$27:$Z$176=Z92)*($U$27:$U$176>U92))+SUMPRODUCT(($AA$27:$AA$176=AA92)*($Z$27:$Z$176=Z92)*($U$27:$U$176=U92)*($AG$27:$AG$176<AG92)),\"DQ\")","v":"DQ"},"DQ",{"$f":" IF(AND(ISNUMBER(X92)),RANK(X92,$X$27:$X$176,1)+SUMPRODUCT(($X$27:$X$176=X92)*($AA$27:$AA$176<AA92))+SUMPRODUCT(($X$27:$X$176=X92)*($AA$27:$AA$176=AA92)*($Z$27:$Z$176>Z92)+SUMPRODUCT(($X$27:$X$176=X92)*($AA$27:$AA$176=AA92)*($Z$27:$Z$176=Z92)*($U$27:$U$176>U92))),\"DQ\")","v":"DQ"},{"$f":" IF(AND(SUM(G92,J92,M92,P92)>0,ISNONTEXT(G92),ISNONTEXT(J92),ISNONTEXT(M92),ISNONTEXT(P92),D92=\"Y\"),SUM(G92,J92,M92,P92),\"DQ\")","v":"DQ"},{"$f":"IF(AND(D92=\"Y\",SUM(I92,L92,O92,R92)>0,ISNONTEXT(I92),ISNONTEXT(L92),ISNONTEXT(O92),ISNONTEXT(R92)),(I92+L92+O92+R92) / ((I92<>0)+(L92<>0)+(O92<>0)+(R92<>0)),\"DQ\")","v":"DQ"},"","",{"$f":"IF(Y92=1,$AJ$37,IF(Y92=2,$AJ$38,IF(Y92=3,$AJ$39,IF(Y92=4,$AJ$40,IF(Y92=5,$AJ$41,IF(Y92=6,$AJ$42,IF(Y92=7,$AJ$43,IF(Y92=8,$AJ$44,IF(Y92=9,$AJ$45,IF(Y92=10,$AJ$46,\"\"))))))))))","v":""},0]
[67,{"$f":"IF('Competitor List'!K72=\"Y\",'Competitor List'!C72,\" \")","v":" "},null,{"$f":"IF('Competitor List'!I72=\"Y\",\"Y\",\"N\")","v":"N"},{"$f":"'LIGHT GUN'!E93","v":507},{"$f":" T('Competitor List'!G72)","v":""},null,null,null,null,null,null,null,null,null,null,null,null,"DQ","DQ",0,"DQ","DQ","DQ","DQ","DQ","DQ","","","",0]
[68,{"$f":"IF('Competitor List'!K73=\"Y\",'Competitor List'!C73,\" \")","v":" "},null,{"$f":"IF('Competitor List'!I73=\"Y\",\"Y\",\"N\")","v":"N"},{"$f":"'LIGHT GUN'!E94","v":508},{"$f":" T('Competitor List'!G73)","v":""},null,null,null,null,null,null,null,null,null,null,null,null,"DQ","DQ",{"$f":"IF(AND(ISNONTEXT(H94),ISNONTEXT(K94),ISNONTEXT(N94),ISNONTEXT(Q94)),SUM(H94+K94+N94+Q94),0)","v":0},"DQ","DQ","DQ","DQ","DQ","DQ","","","",{"$f":"SUM(AB94:AD94)","v":0}]
[69,{"$f":"IF('Competitor List'!K74=\"Y\",'Competitor List'!C74,\" \")","v":" "},null,{"$f":"IF('Competitor List'!I74=\"Y\",\"Y\",\"N\")","v":"N"},{"$f":"'LIGHT GUN'!E95","v":509},{"$f":" T('Competitor List'!G74)","v":""},null,null,null,null,null,null,null,null,null,null,null,null,"DQ","DQ",0,"DQ","DQ","DQ","DQ","DQ","DQ",{"$f":"IF(T95=1,$AJ$37,IF(T95=2,$AJ$38,IF(T95=3,$AJ$39,IF(T95=4,$AJ$40,IF(T95=5,$AJ$41,IF(T95=6,$AJ$42,IF(T95=7,$AJ$43,IF(T95=8,$AJ$44,IF(T95=9,$AJ$45,IF(T95=10,$AJ$46,\"\"))))))))))","v":""},{"$f":"IF(W95=1,$AJ$37,IF(W95=2,$AJ$38,IF(W95=3,$AJ$39,IF(W95=4,$AJ$40,IF(W95=5,$AJ$41,IF(W95=6,$AJ$42,IF(W95=7,$AJ$43,IF(W95=8,$AJ$44,IF(W95=9,$AJ$45,IF(W95=10,$AJ$46,\"\"))))))))))","v":""},"",0]
[70,{"$f":"IF('Competitor List'!K75=\"Y\",'Competitor List'!C75,\" \")","v":" "},null,{"$f":"IF('Competitor List'!I75=\"Y\",\"Y\",\"N\")","v":"N"},{"$f":"'LIGHT GUN'!E96","v":510},{"$f":" T('Competitor List'!G75)","v":""},null,null,null,null,null,null,null,null,null,null,null,null,"DQ","DQ",0,"DQ","DQ","DQ","DQ","DQ","DQ","","","",0]
[71,{"$f":"IF('Competitor List'!K76=\"Y\",'Competitor List'!C76,\" \")","v":" "},null,{"$f":"IF('Competitor List'!I76=\"Y\",\"Y\",\"N\")","v":"N"},{"$f":"'LIGHT GUN'!E97","v":511},{"$f":" T('Competitor List'!G76)","v":""},null,null,null,null,null,null,null,null,null,null,null,null,"DQ","DQ",0,"DQ","DQ","DQ","DQ","DQ","DQ","","","",0]
[72,{"$f":"IF('Competitor List'!K77=\"Y\",'Competitor List'!C77,\" \")","v":" "},null,{"$f":"IF('Competitor List'!I77=\"Y\",\"Y\",\"N\")","v":"N"},{"$f":"'LIGHT GUN'!E98","v":512},{"$f":" T('Competitor List'!G77)","v":""},null,null,null,null,null,null,null,null,null,null,null,null,"DQ","DQ",0,"DQ","DQ","DQ","DQ","DQ","DQ","","","",0]
[73,{"$f":"IF('Competitor List'!K78=\"Y\",'Competitor List'!C78,\" \")","v":" "},null,{"$f":"IF('Competitor List'!I78=\"Y\",\"Y\",\"N\")","v":"N"},{"$f":"'LIGHT GUN'!E99","v":513},{"$f":" T('Competitor List'!G78)","v":""},null,null,null,null,null,null,null,null,null,null,null,null,"DQ","DQ",0,"DQ","DQ","DQ","DQ","DQ","DQ","","","",0]
[74,{"$f":"IF('Competitor List'!K79=\"Y\",'Competitor List'!C79,\" \")","v":" "},null,{"$f":"IF('Competitor List'!I79=\"Y\",\"Y\",\"N\")","v":"N"},{"$f":"'LIGHT GUN'!E100","v":514},{"$f":" T('Competitor List'!G79)","v":""},null,null,null,null,null,null,null,null,null,null,null,null,"DQ","DQ",0,"DQ","DQ","DQ","DQ","DQ","DQ","","","",0]
[75,{"$f":"IF('Competitor List'!K80=\"Y\",'Competitor List'!C80,\" \")","v":" "},null,{"$f":"IF('Competitor List'!I80=\"Y\",\"Y\",\"N\")","v":"N"},{"$f":"'LIGHT GUN'!E101","v":515},{"$f":" T('Competitor List'!G80)","v":""},null,null,null,null,null,null,null,null,null,null,null,null,"DQ","DQ",0,"DQ","DQ","DQ","DQ","DQ","DQ","","","",0]
[76,{"$f":"IF('Competitor List'!K81=\"Y\",'Competitor List'!C81,\" \")","v":" "},null,{"$f":"IF('Competitor List'!I81=\"Y\",\"Y\",\"N\")","v":"N"},{"$f":"'LIGHT GUN'!E102","v":601},{"$f":" T('Competitor List'!G81)","v":""},null,null,null,null,null,null,null,null,null,null,null,null,"DQ","DQ",0,"DQ","DQ","DQ","DQ","DQ","DQ","","","",0]
[77,{"$f":"IF('Competitor List'!K82=\"Y\",'Competitor List'!C82,\" \")","v":" "},null,{"$f":"IF('Competitor List'!I82=\"Y\",\"Y\",\"N\")","v":"N"},{"$f":"'LIGHT GUN'!E103","v":602},{"$f":" T('Competitor List'!G82)","v":""},null,null,null,null,null,null,null,null,null,null,null,null,"DQ","DQ",0,"DQ","DQ","DQ","DQ","DQ","DQ","","","",0]
[78,{"$f":"IF('Competitor List'!K83=\"Y\",'Competitor List'!C83,\" \")","v":" "},null,{"$f":"IF('Competitor List'!I83=\"Y\",\"Y\",\"N\")","v":"N"},{"$f":"'LIGHT GUN'!E104","v":603},{"$f":" T('Competitor List'!G83)","v":""},null,null,null,null,null,null,null,null,null,null,null,null,"DQ","DQ",0,"DQ","DQ","DQ","DQ","DQ","DQ","","","",0]
[79,{"$f":"IF('Competitor List'!K84=\"Y\",'Competitor List'!C84,\" \")","v":" "},null,{"$f":"IF('Competitor List'!I84=\"Y\",\"Y\",\"N\")","v":"N"},{"$f":"'LIGHT GUN'!E105","v":604},{"$f":" T('Competitor List'!G84)","v":""},null,null,null,null,null,null,null,null,null,null,null,null,"DQ","DQ",0,"DQ","DQ","DQ","DQ","DQ","DQ","","","",0]
[80,{"$f":"IF('Competitor List'!K85=\"Y\",'Competitor List'!C85,\" \")","v":" "},null,{"$f":"IF('Competitor List'!I85=\"Y\",\"Y\",\"N\")","v":"N"},{"$f":"'LIGHT GUN'!E106","v":605},{"$f":" T('Competitor List'!G85)","v":""},null,null,null,null,null,null,null,null,null,null,null,null,"DQ","DQ",0,"DQ","DQ","DQ","DQ","DQ","DQ","","","",0]
[81,{"$f":"IF('Competitor List'!K86=\"Y\",'Competitor List'!C86,\" \")","v":" "},null,{"$f":"IF('Competitor List'!I86=\"Y\",\"Y\",\"N\")","v":"N"},{"$f":"'LIGHT GUN'!E107","v":606},{"$f":" T('Competitor List'!G86)","v":""},null,null,null,null,null,null,null,null,null,null,null,null,"DQ","DQ",0,"DQ","DQ","DQ","DQ","DQ","DQ","","","",0]
[82,{"$f":"IF('Competitor List'!K87=\"Y\",'Competitor List'!C87,\" \")","v":" "},null,{"$f":"IF('Competitor List'!I87=\"Y\",\"Y\",\"N\")","v":"N"},{"$f":"'LIGHT GUN'!E108","v":607},{"$f":" T('Competitor List'!G87)","v":""},null,null,null,null,null,null,null,null,null,null,null,null,"DQ","DQ",0,"DQ","DQ","DQ","DQ","DQ","DQ","","","",0]
[83,{"$f":"IF('Competitor List'!K88=\"Y\",'Competitor List'!C88,\" \")","v":" "},null,{"$f":"IF('Competitor List'!I88=\"Y\",\"Y\",\"N\")","v":"N"},{"$f":"'LIGHT GUN'!E109","v":608},{"$f":" T('Competitor List'!G88)","v":""},null,null,null,null,null,null,null,null,null,null,null,null,"DQ","DQ",0,"DQ","DQ","DQ","DQ","DQ","DQ","","","",0]
[84,{"$f":"IF('Competitor List'!K89=\"Y\",'Competitor List'!C89,\" \")","v":" "},null,{"$f":"IF('Competitor List'!I89=\"Y\",\"Y\",\"N\")","v":"N"},{"$f":"'LIGHT GUN'!E110","v":609},{"$f":" T('Competitor List'!G89)","v":""},null,null,null,null,null,null,null,null,null,null,null,null,"DQ","DQ",0,"DQ","DQ","DQ","DQ","DQ","DQ","","","",0]
[85,{"$f":"IF('Competitor List'!K90=\"Y\",'Competitor List'!C90,\" \")","v":" "},null,{"$f":"IF('Competitor List'!I90=\"Y\",\"Y\",\"N\")","v":"N"},{"$f":"'LIGHT GUN'!E111","v":610},{"$f":" T('Competitor List'!G90)","v":""},null,null,null,null,null,null,null,null,null,null,null,null,"DQ","DQ",0,"DQ","DQ","DQ","DQ","DQ","DQ","","","",0]
[86,{"$f":"IF('Competitor List'!K91=\"Y\",'Competitor List'!C91,\" \")","v":" "},null,{"$f":"IF('Competitor List'!I91=\"Y\",\"Y\",\"N\")","v":"N"},{"$f":"'LIGHT GUN'!E112","v":611},{"$f":" T('Competitor List'!G91)","v":""},null,null,null,null,null,null,null,null,null,null,null,null,"DQ","DQ",0,"DQ","DQ","DQ","DQ","DQ","DQ","","","",0]
[87,{"$f":"IF('Competitor List'!K92=\"Y\",'Competitor List'!C92,\" \")","v":" "},null,{"$f":"IF('Competitor List'!I92=\"Y\",\"Y\",\"N\")","v":"N"},{"$f":"'LIGHT GUN'!E113","v":612},{"$f":" T('Competitor List'!G92)","v":""},null,null,null,null,null,null,null,null,null,null,null,null,"DQ","DQ",0,"DQ","DQ","DQ","DQ","DQ","DQ","","","",0]
[88,{"$f":"IF('Competitor List'!K93=\"Y\",'Competitor List'!C93,\" \")","v":" "},null,{"$f":"IF('Competitor List'!I93=\"Y\",\"Y\",\"N\")","v":"N"},{"$f":"'LIGHT GUN'!E114","v":613},{"$f":" T('Competitor List'!G93)","v":""},null,null,null,null,null,null,null,null,null,null,null,null,"DQ","DQ",0,"DQ","DQ","DQ","DQ","DQ","DQ","","","",0]
[89,{"$f":"IF('Competitor List'!K94=\"Y\",'Competitor List'!C94,\" \")","v":" "},null,{"$f":"IF('Competitor List'!I94=\"Y\",\"Y\",\"N\")","v":"N"},{"$f":"'LIGHT GUN'!E115","v":614},{"$f":" T('Competitor List'!G94)","v":""},null,null,null,null,null,null,null,null,null,null,null,null,"DQ","DQ",0,"DQ","DQ","DQ","DQ","DQ","DQ","","","",0]
[90,{"$f":"IF('Competitor List'!K95=\"Y\",'Competitor List'!C95,\" \")","v":" "},null,{"$f":"IF('Competitor List'!I95=\"Y\",\"Y\",\"N\")","v":"N"},{"$f":"'LIGHT GUN'!E116","v":615},{"$f":" T('Competitor List'!G95)","v":""},null,null,null,null,null,null,null,null,null,null,null,null,"DQ","DQ",0,"DQ","DQ","DQ","DQ","DQ","DQ","","","",0]
[91,{"$f":"IF('Competitor List'!K96=\"Y\",'Competitor List'!C96,\" \")","v":" "},null,{"$f":"IF('Competitor List'!I96=\"Y\",\"Y\",\"N\")","v":"N"},{"$f":"'LIGHT GUN'!E117","v":701},{"$f":" T('Competitor List'!G96)","v":""},null,null,null,null,null,null,null,null,null,null,null,null,"DQ","DQ",0,"DQ","DQ","DQ","DQ","DQ","DQ","","","",0]
[92,{"$f":"IF('Competitor List'!K97=\"Y\",'Competitor List'!C97,\" \")","v":" "},null,{"$f":"IF('Competitor List'!I97=\"Y\",\"Y\",\"N\")","v":"N"},{"$f":"'LIGHT GUN'!E118","v":702},{"$f":" T('Competitor List'!G97)","v":""},null,null,null,null,null,null,null,null,null,null,null,null,"DQ","DQ",0,"DQ","DQ","DQ","DQ","DQ","DQ","","","",0]
[93,{"$f":"IF('Competitor List'!K98=\"Y\",'Competitor List'!C98,\" \")","v":" "},null,{"$f":"IF('Competitor List'!I98=\"Y\",\"Y\",\"N\")","v":"N"},{"$f":"'LIGHT GUN'!E119","v":703},{"$f":" T('Competitor List'!G98)","v":""},null,null,null,null,null,null,null,null,null,null,null,null,"DQ","DQ",0,"DQ","DQ","DQ","DQ","DQ","DQ","","","",0]
[94,{"$f":"IF('Competitor List'!K99=\"Y\",'Competitor List'!C99,\" \")","v":" "},null,{"$f":"IF('Competitor List'!I99=\"Y\",\"Y\",\"N\")","v":"N"},{"$f":"'LIGHT GUN'!E120","v":704},{"$f":" T('Competitor List'!G99)","v":""},null,null,null,null,null,null,null,null,null,null,null,null,"DQ","DQ",0,"DQ","DQ","DQ","DQ","DQ","DQ","","","",0]
[95,{"$f":"IF('Competitor List'!K100=\"Y\",'Competitor List'!C100,\" \")","v":" "},null,{"$f":"IF('Competitor List'!I100=\"Y\",\"Y\",\"N\")","v":"N"},{"$f":"'LIGHT GUN'!E121","v":705},{"$f":" T('Competitor List'!G100)","v":""},null,null,null,null,null,null,null,null,null,null,null,null,"DQ","DQ",0,"DQ","DQ","DQ","DQ","DQ","DQ","","","",0]
[96,{"$f":"IF('Competitor List'!K101=\"Y\",'Competitor List'!C101,\" \")","v":" "},null,{"$f":"IF('Competitor List'!I101=\"Y\",\"Y\",\"N\")","v":"N"},{"$f":"'LIGHT GUN'!E122","v":706},{"$f":" T('Competitor List'!G101)","v":""},null,null,null,null,null,null,null,null,null,null,null,null,"DQ","DQ",0,"DQ","DQ","DQ","DQ","DQ","DQ","","","",0]
[97,{"$f":"IF('Competitor List'!K102=\"Y\",'Competitor List'!C102,\" \")","v":" "},null,{"$f":"IF('Competitor List'!I102=\"Y\",\"Y\",\"N\")","v":"N"},{"$f":"'LIGHT GUN'!E123","v":707},{"$f":" T('Competitor List'!G102)","v":""},null,null,null,null,null,null,null,null,null,null,null,null,"DQ","DQ",0,"DQ","DQ",{"$f":"IF(AND(ISNUMBER(T123),ISNUMBER(W123)), SUM(T123,W123),\"DQ\")","v":"DQ"},"DQ","DQ","DQ","","","",0]
[98,{"$f":"IF('Competitor List'!K103=\"Y\",'Competitor List'!C103,\" \")","v":" "},null,{"$f":"IF('Competitor List'!I103=\"Y\",\"Y\",\"N\")","v":"N"},{"$f":"'LIGHT GUN'!E124","v":708},{"$f":" T('Competitor List'!G103)","v":""},null,null,null,null,null,null,null,null,null,null,null,null,"DQ","DQ",0,"DQ","DQ","DQ","DQ","DQ","DQ","","","",0]
[99,{"$f":"IF('Competitor List'!K104=\"Y\",'Competitor List'!C104,\" \")","v":" "},null,{"$f":"IF('Competitor List'!I104=\"Y\",\"Y\",\"N\")","v":"N"},{"$f":"'LIGHT GUN'!E125","v":709},{"$f":" T('Competitor List'!G104)","v":""},null,null,null,null,null,null,null,null,null,null,null,null,"DQ","DQ",0,"DQ","DQ","DQ","DQ","DQ","DQ","","","",0]
[100,{"$f":"IF('Competitor List'!K105=\"Y\",'Competitor List'!C105,\" \")","v":" "},null,{"$f":"IF('Competitor List'!I105=\"Y\",\"Y\",\"N\")","v":"N"},{"$f":"'LIGHT GUN'!E126","v":710},{"$f":" T('Competitor List'!G105)","v":""},null,null,null,null,null,null,null,null,null,null,null,null,"DQ","DQ",0,"DQ","DQ","DQ","DQ","DQ","DQ","","","",0]
[101,{"$f":"IF('Competitor List'!K106=\"Y\",'Competitor List'!C106,\" \")","v":" "},null,{"$f":"IF('Competitor List'!I106=\"Y\",\"Y\",\"N\")","v":"N"},{"$f":"'LIGHT GUN'!E127","v":711},{"$f":" T('Competitor List'!G106)","v":""},null,null,null,null,null,null,null,null,null,null,null,null,"DQ","DQ",0,"DQ","DQ","DQ","DQ","DQ","DQ","","","",0]
[102,{"$f":"IF('Competitor List'!K107=\"Y\",'Competitor List'!C107,\" \")","v":" "},null,{"$f":"IF('Competitor List'!I107=\"Y\",\"Y\",\"N\")","v":"N"},{"$f":"'LIGHT GUN'!E128","v":712},{"$f":" T('Competitor List'!G107)","v":""},null,null,null,null,null,null,null,null,null,null,null,null,"DQ","DQ",0,"DQ","DQ","DQ","DQ","DQ","DQ","","","",0]
[103,{"$f":"IF('Competitor List'!K108=\"Y\",'Competitor List'!C108,\" \")","v":" "},null,{"$f":"IF('Competitor List'!I108=\"Y\",\"Y\",\"N\")","v":"N"},{"$f":"'LIGHT GUN'!E129","v":713},{"$f":" T('Competitor List'!G108)","v":""},null,null,null,null,null,null,null,null,null,null,null,null,"DQ","DQ",0,"DQ","DQ","DQ","DQ","DQ","DQ","","","",0]
[104,{"$f":"IF('Competitor List'!K109=\"Y\",'Competitor List'!C109,\" \")","v":" "},null,{"$f":"IF('Competitor List'!I109=\"Y\",\"Y\",\"N\")","v":"N"},{"$f":"'LIGHT GUN'!E130","v":714},{"$f":" T('Competitor List'!G109)","v":""},null,null,null,null,null,null,null,null,null,null,null,null,"DQ","DQ",0,"DQ","DQ","DQ","DQ","DQ","DQ","","","",0]
[105,{"$f":"IF('Competitor List'!K110=\"Y\",'Competitor List'!C110,\" \")","v":" "},null,{"$f":"IF('Competitor List'!I110=\"Y\",\"Y\",\"N\")","v":"N"},{"$f":"'LIGHT GUN'!E131","v":715},{"$f":" T('Competitor List'!G110)","v":""},null,null,null,null,null,null,null,null,null,null,null,null,"DQ","DQ",0,"DQ","DQ","DQ","DQ","DQ","DQ","","","",0]
[106,{"$f":"IF('Competitor List'!K111=\"Y\",'Competitor List'!C111,\" \")","v":" "},null,{"$f":"IF('Competitor List'!I111=\"Y\",\"Y\",\"N\")","v":"N"},{"$f":"'LIGHT GUN'!E132","v":801},{"$f":" T('Competitor List'!G111)","v":""},null,null,null,null,null,null,null,null,null,null,null,null,"DQ","DQ",0,"DQ","DQ","DQ","DQ","DQ","DQ","","","",0]
[107,{"$f":"IF('Competitor List'!K112=\"Y\",'Competitor List'!C112,\" \")","v":" "},null,{"$f":"IF('Competitor List'!I112=\"Y\",\"Y\",\"N\")","v":"N"},{"$f":"'LIGHT GUN'!E133","v":802},{"$f":" T('Competitor List'!G112)","v":""},null,null,null,null,null,null,null,null,null,null,null,null,"DQ","DQ",0,"DQ","DQ","DQ","DQ","DQ","DQ","","","",0]
[108,{"$f":"IF('Competitor List'!K113=\"Y\",'Competitor List'!C113,\" \")","v":" "},null,{"$f":"IF('Competitor List'!I113=\"Y\",\"Y\",\"N\")","v":"N"},{"$f":"'LIGHT GUN'!E134","v":803},{"$f":" T('Competitor List'!G113)","v":""},null,null,null,null,null,null,null,null,null,null,null,null,"DQ","DQ",0,"DQ","DQ","DQ","DQ","DQ","DQ","","","",0]
[109,{"$f":"IF('Competitor List'!K114=\"Y\",'Competitor List'!C114,\" \")","v":" "},null,{"$f":"IF('Competitor List'!I114=\"Y\",\"Y\",\"N\")","v":"N"},{"$f":"'LIGHT GUN'!E135","v":804},{"$f":" T('Competitor List'!G114)","v":""},null,null,null,null,null,null,null,null,null,null,null,null,"DQ","DQ",0,"DQ","DQ","DQ","DQ","DQ","DQ","","","",0]
[110,{"$f":"IF('Competitor List'!K115=\"Y\",'Competitor List'!C115,\" \")","v":" "},null,{"$f":"IF('Competitor List'!I115=\"Y\",\"Y\",\"N\")","v":"N"},{"$f":"'LIGHT GUN'!E136","v":805},{"$f":" T('Competitor List'!G115)","v":""},null,null,null,null,null,null,null,null,null,null,null,null,"DQ","DQ",0,"DQ","DQ","DQ","DQ","DQ","DQ","","","",0]
[111,{"$f":"IF('Competitor List'!K116=\"Y\",'Competitor List'!C116,\" \")","v":" "},null,{"$f":"IF('Competitor List'!I116=\"Y\",\"Y\",\"N\")","v":"N"},{"$f":"'LIGHT GUN'!E137","v":806},{"$f":" T('Competitor List'!G116)","v":""},null,null,null,null,null,null,null,null,null,null,null,null,"DQ","DQ",0,"DQ","DQ","DQ","DQ","DQ","DQ","","","",0]
[112,{"$f":"IF('Competitor List'!K117=\"Y\",'Competitor List'!C117,\" \")","v":" "},null,{"$f":"IF('Competitor List'!I117=\"Y\",\"Y\",\"N\")","v":"N"},{"$f":"'LIGHT GUN'!E138","v":807},{"$f":" T('Competitor List'!G117)","v":""},null,null,null,null,null,null,null,null,null,null,null,null,"DQ","DQ",0,"DQ","DQ","DQ","DQ","DQ","DQ","","","",0]
[113,{"$f":"IF('Competitor List'!K118=\"Y\",'Competitor List'!C118,\" \")","v":" "},null,{"$f":"IF('Competitor List'!I118=\"Y\",\"Y\",\"N\")","v":"N"},{"$f":"'LIGHT GUN'!E139","v":808},{"$f":" T('Competitor List'!G118)","v":""},null,null,null,null,null,null,null,null,null,null,null,null,"DQ","DQ",0,"DQ","DQ","DQ","DQ","DQ","DQ","","","",0]
[114,{"$f":"IF('Competitor List'!K119=\"Y\",'Competitor List'!C119,\" \")","v":" "},null,{"$f":"IF('Competitor List'!I119=\"Y\",\"Y\",\"N\")","v":"N"},{"$f":"'LIGHT GUN'!E140","v":809},{"$f":" T('Competitor List'!G119)","v":""},null,null,null,null,null,null,null,null,null,null,null,null,"DQ","DQ",0,"DQ","DQ","DQ","DQ","DQ","DQ","","","",0]
[115,{"$f":"IF('Competitor List'!K120=\"Y\",'Competitor List'!C120,\" \")","v":" "},null,{"$f":"IF('Competitor List'!I120=\"Y\",\"Y\",\"N\")","v":"N"},{"$f":"'LIGHT GUN'!E141","v":810},{"$f":" T('Competitor List'!G120)","v":""},null,null,null,null,null,null,null,null,null,null,null,null,"DQ","DQ",0,"DQ","DQ","DQ","DQ","DQ","DQ","","","",0]
[116,{"$f":"IF('Competitor List'!K121=\"Y\",'Competitor List'!C121,\" \")","v":" "},null,{"$f":"IF('Competitor List'!I121=\"Y\",\"Y\",\"N\")","v":"N"},{"$f":"'LIGHT GUN'!E142","v":811},{"$f":" T('Competitor List'!G121)","v":""},null,null,null,null,null,null,null,null,null,null,null,null,"DQ","DQ",0,"DQ","DQ","DQ","DQ","DQ","DQ","","","",0]
[117,{"$f":"IF('Competitor List'!K122=\"Y\",'Competitor List'!C122,\" \")","v":" "},null,{"$f":"IF('Competitor List'!I122=\"Y\",\"Y\",\"N\")","v":"N"},{"$f":"'LIGHT GUN'!E143","v":812},{"$f":" T('Competitor List'!G122)","v":""},null,null,null,null,null,null,null,null,null,null,null,null,"DQ","DQ",0,"DQ","DQ","DQ","DQ","DQ","DQ","","","",0]
[118,{"$f":"IF('Competitor List'!K123=\"Y\",'Competitor List'!C123,\" \")","v":" "},null,{"$f":"IF('Competitor List'!I123=\"Y\",\"Y\",\"N\")","v":"N"},{"$f":"'LIGHT GUN'!E144","v":813},{"$f":" T('Competitor List'!G123)","v":""},null,null,null,null,null,null,null,null,null,null,null,null,"DQ","DQ",0,"DQ","DQ","DQ","DQ","DQ","DQ","","","",0]
[119,{"$f":"IF('Competitor List'!K124=\"Y\",'Competitor List'!C124,\" \")","v":" "},null,{"$f":"IF('Competitor List'!I124=\"Y\",\"Y\",\"N\")","v":"N"},{"$f":"'LIGHT GUN'!E145","v":814},{"$f":" T('Competitor List'!G124)","v":""},null,null,null,null,null,null,null,null,null,null,null,null,"DQ","DQ",0,"DQ","DQ","DQ","DQ","DQ","DQ","","","",0]
[120,{"$f":"IF('Competitor List'!K125=\"Y\",'Competitor List'!C125,\" \")","v":" "},null,{"$f":"IF('Competitor List'!I125=\"Y\",\"Y\",\"N\")","v":"N"},{"$f":"'LIGHT GUN'!E146","v":815},{"$f":" T('Competitor List'!G125)","v":""},null,null,null,null,null,null,null,null,null,null,null,null,"DQ","DQ",0,"DQ","DQ","DQ","DQ","DQ","DQ","","","",0]
[121,{"$f":"IF('Competitor List'!K126=\"Y\",'Competitor List'!C126,\" \")","v":" "},null,{"$f":"IF('Competitor List'!I126=\"Y\",\"Y\",\"N\")","v":"N"},{"$f":"'LIGHT GUN'!E147","v":901},{"$f":" T('Competitor List'!G126)","v":""},null,null,null,null,null,null,null,null,null,null,null,null,"DQ","DQ",0,"DQ","DQ","DQ","DQ","DQ","DQ","","","",0]
[122,{"$f":"IF('Competitor List'!K127=\"Y\",'Competitor List'!C127,\" \")","v":" "},null,{"$f":"IF('Competitor List'!I127=\"Y\",\"Y\",\"N\")","v":"N"},{"$f":"'LIGHT GUN'!E148","v":902},{"$f":" T('Competitor List'!G127)","v":""},null,null,null,null,null,null,null,null,null,null,null,null,"DQ","DQ",0,"DQ","DQ","DQ","DQ","DQ","DQ","","","",0]
[123,{"$f":"IF('Competitor List'!K128=\"Y\",'Competitor List'!C128,\" \")","v":" "},null,{"$f":"IF('Competitor List'!I128=\"Y\",\"Y\",\"N\")","v":"N"},{"$f":"'LIGHT GUN'!E149","v":903},{"$f":" T('Competitor List'!G128)","v":""},null,null,null,null,null,null,null,null,null,null,null,null,"DQ","DQ",0,"DQ","DQ","DQ","DQ","DQ","DQ","","","",0]
[124,{"$f":"IF('Competitor List'!K129=\"Y\",'Competitor List'!C129,\" \")","v":" "},null,{"$f":"IF('Competitor List'!I129=\"Y\",\"Y\",\"N\")","v":"N"},{"$f":"'LIGHT GUN'!E150","v":904},{"$f":" T('Competitor List'!G129)","v":""},null,null,null,null,null,null,null,null,null,null,null,null,"DQ","DQ",0,"DQ","DQ","DQ","DQ","DQ","DQ","","","",0]
[125,{"$f":"IF('Competitor List'!K130=\"Y\",'Competitor List'!C130,\" \")","v":" "},null,{"$f":"IF('Competitor List'!I130=\"Y\",\"Y\",\"N\")","v":"N"},{"$f":"'LIGHT GUN'!E151","v":905},{"$f":" T('Competitor List'!G130)","v":""},null,null,null,null,null,null,null,null,null,null,null,null,"DQ","DQ",0,"DQ","DQ","DQ","DQ","DQ","DQ","","","",0]
[126,{"$f":"IF('Competitor List'!K131=\"Y\",'Competitor List'!C131,\" \")","v":" "},null,{"$f":"IF('Competitor List'!I131=\"Y\",\"Y\",\"N\")","v":"N"},{"$f":"'LIGHT GUN'!E152","v":906},{"$f":" T('Competitor List'!G131)","v":""},null,null,null,null,null,null,null,null,null,null,null,null,"DQ","DQ",0,"DQ","DQ","DQ","DQ","DQ","DQ","","","",0]
[127,{"$f":"IF('Competitor List'!K132=\"Y\",'Competitor List'!C132,\" \")","v":" "},null,{"$f":"IF('Competitor List'!I132=\"Y\",\"Y\",\"N\")","v":"N"},{"$f":"'LIGHT GUN'!E153","v":907},{"$f":" T('Competitor List'!G132)","v":""},null,null,null,null,null,null,null,null,null,null,null,null,"DQ","DQ",0,"DQ","DQ","DQ","DQ","DQ","DQ","","","",0]
[128,{"$f":"IF('Competitor List'!K133=\"Y\",'Competitor List'!C133,\" \")","v":" "},null,{"$f":"IF('Competitor List'!I133=\"Y\",\"Y\",\"N\")","v":"N"},{"$f":"'LIGHT GUN'!E154","v":908},{"$f":" T('Competitor List'!G133)","v":""},null,null,null,null,null,null,null,null,null,null,null,null,"DQ","DQ",0,"DQ","DQ","DQ","DQ","DQ","DQ","","","",0]
[129,{"$f":"IF('Competitor List'!K134=\"Y\",'Competitor List'!C134,\" \")","v":" "},null,{"$f":"IF('Competitor List'!I134=\"Y\",\"Y\",\"N\")","v":"N"},{"$f":"'LIGHT GUN'!E155","v":909},{"$f":" T('Competitor List'!G134)","v":""},null,null,null,null,null,null,null,null,null,null,null,null,"DQ","DQ",0,"DQ","DQ",{"$f":"IF(AND(ISNUMBER(T155),ISNUMBER(W155)), SUM(T155,W155),\"DQ\")","v":"DQ"},"DQ","DQ","DQ","","","",0]
[130,{"$f":"IF('Competitor List'!K135=\"Y\",'Competitor List'!C135,\" \")","v":" "},null,{"$f":"IF('Competitor List'!I135=\"Y\",\"Y\",\"N\")","v":"N"},{"$f":"'LIGHT GUN'!E156","v":910},{"$f":" T('Competitor List'!G135)","v":""},null,null,null,null,null,null,null,null,null,null,null,null,{"$f":" IF(AND(SUM(G156,J156,M156,P156)>0,ISNONTEXT(G156),ISNONTEXT(J156),ISNONTEXT(M156),ISNONTEXT(P156)),SUM(G156,J156,M156,P156),\"DQ\")","v":"DQ"},{"$f":" IF(AND(ISNUMBER(Z156),NOT(D156=\"N\")),RANK(Z156,$Z$27:$Z$176,0)+SUMPRODUCT(($Z$27:$Z$176=Z156)*($AA$27:$AA$176<AA156))+SUMPRODUCT(($Z$27:$Z$176=Z156)*($AA$27:$AA$176=AA156)*($U$27:$U$176>U156))+SUMPRODUCT(($Z$27:$Z$176=Z156)*($AA$27:$AA$176=AA156)*($U$27:$U$176=U156)*($AG$27:$AG$176<AG156)),\"DQ\")","v":"DQ"},0,{"$f":"IF(AND(SUM(I156,L156,O156,R156)>0,ISNONTEXT(I156),ISNONTEXT(L156),ISNONTEXT(O156),ISNONTEXT(R156)),(I156+L156+O156+R156) / ((I156<>0)+(L156<>0)+(O156<>0)+(R156<>0)),\"DQ\")","v":"DQ"},{"$f":" IF(AND(ISNUMBER(AA156),D156=\"Y\"),RANK(AA156,$AA$27:$AA$176,1)+SUMPRODUCT(($AA$27:$AA$176=AA156)*($Z$27:$Z$176>Z156))+SUMPRODUCT(($AA$27:$AA$176=AA156)*($Z$27:$Z$176=Z156)*($U$27:$U$176>U156))+SUMPRODUCT(($AA$27:$AA$176=AA156)*($Z$27:$Z$176=Z156)*($U$27:$U$176=U156)*($AG$27:$AG$176<AG156)),\"DQ\")","v":"DQ"},"DQ",{"$f":" IF(AND(ISNUMBER(X156)),RANK(X156,$X$27:$X$176,1)+SUMPRODUCT(($X$27:$X$176=X156)*($AA$27:$AA$176<AA156))+SUMPRODUCT(($X$27:$X$176=X156)*($AA$27:$AA$176=AA156)*($Z$27:$Z$176>Z156)+SUMPRODUCT(($X$27:$X$176=X156)*($AA$27:$AA$176=AA156)*($Z$27:$Z$176=Z156)*($U$27:$U$176>U156))),\"DQ\")","v":"DQ"},{"$f":" IF(AND(SUM(G156,J156,M156,P156)>0,ISNONTEXT(G156),ISNONTEXT(J156),ISNONTEXT(M156),ISNONTEXT(P156),D156=\"Y\"),SUM(G156,J156,M156,P156),\"DQ\")","v":"DQ"},{"$f":"IF(AND(D156=\"Y\",SUM(I156,L156,O156,R156)>0,ISNONTEXT(I156),ISNONTEXT(L156),ISNONTEXT(O156),ISNONTEXT(R156)),(I156+L156+O156+R156) / ((I156<>0)+(L156<>0)+(O156<>0)+(R156<>0)),\"DQ\")","v":"DQ"},"","",{"$f":"IF(Y156=1,$AJ$37,IF(Y156=2,$AJ$38,IF(Y156=3,$AJ$39,IF(Y156=4,$AJ$40,IF(Y156=5,$AJ$41,IF(Y156=6,$AJ$42,IF(Y156=7,$AJ$43,IF(Y156=8,$AJ$44,IF(Y156=9,$AJ$45,IF(Y156=10,$AJ$46,\"\"))))))))))","v":""},0]
[131,{"$f":"IF('Competitor List'!K136=\"Y\",'Competitor List'!C136,\" \")","v":" "},null,{"$f":"IF('Competitor List'!I136=\"Y\",\"Y\",\"N\")","v":"N"},{"$f":"'LIGHT GUN'!E157","v":911},{"$f":" T('Competitor List'!G136)","v":""},null,null,null,null,null,null,null,null,null,null,null,null,"DQ","DQ",0,"DQ","DQ","DQ","DQ","DQ","DQ","","","",0]
[132,{"$f":"IF('Competitor List'!K137=\"Y\",'Competitor List'!C137,\" \")","v":" "},null,{"$f":"IF('Competitor List'!I137=\"Y\",\"Y\",\"N\")","v":"N"},{"$f":"'LIGHT GUN'!E158","v":912},{"$f":" T('Competitor List'!G137)","v":""},null,null,null,null,null,null,null,null,null,null,null,null,"DQ","DQ",{"$f":"IF(AND(ISNONTEXT(H158),ISNONTEXT(K158),ISNONTEXT(N158),ISNONTEXT(Q158)),SUM(H158+K158+N158+Q158),0)","v":0},"DQ","DQ","DQ","DQ","DQ","DQ","","","",{"$f":"SUM(AB158:AD158)","v":0}]
[133,{"$f":"IF('Competitor List'!K138=\"Y\",'Competitor List'!C138,\" \")","v":" "},null,{"$f":"IF('Competitor List'!I138=\"Y\",\"Y\",\"N\")","v":"N"},{"$f":"'LIGHT GUN'!E159","v":913},{"$f":" T('Competitor List'!G138)","v":""},null,null,null,null,null,null,null,null,null,null,null,null,"DQ","DQ",0,"DQ","DQ","DQ","DQ","DQ","DQ",{"$f":"IF(T159=1,$AJ$37,IF(T159=2,$AJ$38,IF(T159=3,$AJ$39,IF(T159=4,$AJ$40,IF(T159=5,$AJ$41,IF(T159=6,$AJ$42,IF(T159=7,$AJ$43,IF(T159=8,$AJ$44,IF(T159=9,$AJ$45,IF(T159=10,$AJ$46,\"\"))))))))))","v":""},{"$f":"IF(W159=1,$AJ$37,IF(W159=2,$AJ$38,IF(W159=3,$AJ$39,IF(W159=4,$AJ$40,IF(W159=5,$AJ$41,IF(W159=6,$AJ$42,IF(W159=7,$AJ$43,IF(W159=8,$AJ$44,IF(W159=9,$AJ$45,IF(W159=10,$AJ$46,\"\"))))))))))","v":""},"",0]
[134,{"$f":"IF('Competitor List'!K139=\"Y\",'Competitor List'!C139,\" \")","v":" "},null,{"$f":"IF('Competitor List'!I139=\"Y\",\"Y\",\"N\")","v":"N"},{"$f":"'LIGHT GUN'!E160","v":914},{"$f":" T('Competitor List'!G139)","v":""},null,null,null,null,null,null,null,null,null,null,null,null,"DQ","DQ",0,"DQ","DQ","DQ","DQ","DQ","DQ","","","",0]
[135,{"$f":"IF('Competitor List'!K140=\"Y\",'Competitor List'!C140,\" \")","v":" "},null,{"$f":"IF('Competitor List'!I140=\"Y\",\"Y\",\"N\")","v":"N"},{"$f":"'LIGHT GUN'!E161","v":915},{"$f":" T('Competitor List'!G140)","v":""},null,null,null,null,null,null,null,null,null,null,null,null,"DQ","DQ",0,"DQ","DQ","DQ","DQ","DQ","DQ","","","",0]
[136,{"$f":"IF('Competitor List'!K141=\"Y\",'Competitor List'!C141,\" \")","v":" "},null,{"$f":"IF('Competitor List'!I141=\"Y\",\"Y\",\"N\")","v":"N"},{"$f":"'LIGHT GUN'!E162","v":1001},{"$f":" T('Competitor List'!G141)","v":""},null,null,null,null,null,null,null,null,null,null,null,null,"DQ","DQ",0,"DQ","DQ","DQ","DQ","DQ","DQ","","","",0]
[137,{"$f":"IF('Competitor List'!K142=\"Y\",'Competitor List'!C142,\" \")","v":" "},null,{"$f":"IF('Competitor List'!I142=\"Y\",\"Y\",\"N\")","v":"N"},{"$f":"'LIGHT GUN'!E163","v":1002},{"$f":" T('Competitor List'!G142)","v":""},null,null,null,null,null,null,null,null,null,null,null,null,"DQ","DQ",0,"DQ","DQ","DQ","DQ","DQ","DQ","","","",0]
[138,{"$f":"IF('Competitor List'!K143=\"Y\",'Competitor List'!C143,\" \")","v":" "},null,{"$f":"IF('Competitor List'!I143=\"Y\",\"Y\",\"N\")","v":"N"},{"$f":"'LIGHT GUN'!E164","v":1003},{"$f":" T('Competitor List'!G143)","v":""},null,null,null,null,null,null,null,null,null,null,null,null,"DQ","DQ",0,"DQ","DQ","DQ","DQ","DQ","DQ","","","",0]
[139,{"$f":"IF('Competitor List'!K144=\"Y\",'Competitor List'!C144,\" \")","v":" "},null,{"$f":"IF('Competitor List'!I144=\"Y\",\"Y\",\"N\")","v":"N"},{"$f":"'LIGHT GUN'!E165","v":1004},{"$f":" T('Competitor List'!G144)","v":""},null,null,null,null,null,null,null,null,null,null,null,null,"DQ","DQ",0,"DQ","DQ","DQ","DQ","DQ","DQ","","","",0]
[140,{"$f":"IF('Competitor List'!K145=\"Y\",'Competitor List'!C145,\" \")","v":" "},null,{"$f":"IF('Competitor List'!I145=\"Y\",\"Y\",\"N\")","v":"N"},{"$f":"'LIGHT GUN'!E166","v":1005},{"$f":" T('Competitor List'!G145)","v":""},null,null,null,null,null,null,null,null,null,null,null,null,"DQ","DQ",0,"DQ","DQ","DQ","DQ","DQ","DQ","","","",0]
[141,{"$f":"IF('Competitor List'!K146=\"Y\",'Competitor List'!C146,\" \")","v":" "},null,{"$f":"IF('Competitor List'!I146=\"Y\",\"Y\",\"N\")","v":"N"},{"$f":"'LIGHT GUN'!E167","v":1006},{"$f":" T('Competitor List'!G146)","v":""},null,null,null,null,null,null,null,null,null,null,null,null,"DQ","DQ",0,"DQ","DQ","DQ","DQ","DQ","DQ","","","",0]
[142,{"$f":"IF('Competitor List'!K147=\"Y\",'Competitor List'!C147,\" \")","v":" "},null,{"$f":"IF('Competitor List'!I147=\"Y\",\"Y\",\"N\")","v":"N"},{"$f":"'LIGHT GUN'!E168","v":1007},{"$f":" T('Competitor List'!G147)","v":""},null,null,null,null,null,null,null,null,null,null,null,null,"DQ","DQ",0,"DQ","DQ","DQ","DQ","DQ","DQ","","","",0]
[143,{"$f":"IF('Competitor List'!K148=\"Y\",'Competitor List'!C148,\" \")","v":" "},null,{"$f":"IF('Competitor List'!I148=\"Y\",\"Y\",\"N\")","v":"N"},{"$f":"'LIGHT GUN'!E169","v":1008},{"$f":" T('Competitor List'!G148)","v":""},null,null,null,null,null,null,null,null,null,null,null,null,"DQ","DQ",0,"DQ","DQ","DQ","DQ","DQ","DQ","","","",0]
[144,{"$f":"IF('Competitor List'!K149=\"Y\",'Competitor List'!C149,\" \")","v":" "},null,{"$f":"IF('Competitor List'!I149=\"Y\",\"Y\",\"N\")","v":"N"},{"$f":"'LIGHT GUN'!E170","v":1009},{"$f":" T('Competitor List'!G149)","v":""},null,null,null,null,null,null,null,null,null,null,null,null,"DQ","DQ",0,"DQ","DQ","DQ","DQ","DQ","DQ","","","",0]
[145,{"$f":"IF('Competitor List'!K150=\"Y\",'Competitor List'!C150,\" \")","v":" "},null,{"$f":"IF('Competitor List'!I150=\"Y\",\"Y\",\"N\")","v":"N"},{"$f":"'LIGHT GUN'!E171","v":1010},{"$f":" T('Competitor List'!G150)","v":""},null,null,null,null,null,null,null,null,null,null,null,null,"DQ","DQ",0,"DQ","DQ","DQ","DQ","DQ","DQ","","","",0]
[146,{"$f":"IF('Competitor List'!K151=\"Y\",'Competitor List'!C151,\" \")","v":" "},null,{"$f":"IF('Competitor List'!I151=\"Y\",\"Y\",\"N\")","v":"N"},{"$f":"'LIGHT GUN'!E172","v":1011},{"$f":" T('Competitor List'!G151)","v":""},null,null,null,null,null,null,null,null,null,null,null,null,"DQ","DQ",0,"DQ","DQ","DQ","DQ","DQ","DQ","","","",0]
[147,{"$f":"IF('Competitor List'!K152=\"Y\",'Competitor List'!C152,\" \")","v":" "},null,{"$f":"IF('Competitor List'!I152=\"Y\",\"Y\",\"N\")","v":"N"},{"$f":"'LIGHT GUN'!E173","v":1012},{"$f":" T('Competitor List'!G152)","v":""},null,null,null,null,null,null,null,null,null,null,null,null,"DQ","DQ",0,"DQ","DQ","DQ","DQ","DQ","DQ","","","",0]
[148,{"$f":"IF('Competitor List'!K153=\"Y\",'Competitor List'!C153,\" \")","v":" "},null,{"$f":"IF('Competitor List'!I153=\"Y\",\"Y\",\"N\")","v":"N"},{"$f":"'LIGHT GUN'!E174","v":1013},{"$f":" T('Competitor List'!G153)","v":""},null,null,null,null,null,null,null,null,null,null,null,null,"DQ","DQ",0,"DQ","DQ","DQ","DQ","DQ","DQ","","","",0]
[149,{"$f":"IF('Competitor List'!K154=\"Y\",'Competitor List'!C154,\" \")","v":" "},null,{"$f":"IF('Competitor List'!I154=\"Y\",\"Y\",\"N\")","v":"N"},{"$f":"'LIGHT GUN'!E175","v":1014},{"$f":" T('Competitor List'!G154)","v":""},null,null,null,null,null,null,null,null,null,null,null,null,"DQ","DQ",0,"DQ","DQ","DQ","DQ","DQ","DQ","","","",0]
[150,{"$f":"IF('Competitor List'!K155=\"Y\",'Competitor List'!C155,\" \")","v":" "},null,{"$f":"IF('Competitor List'!I155=\"Y\",\"Y\",\"N\")","v":"N"},{"$f":"'LIGHT GUN'!E176","v":1015},{"$f":" T('Competitor List'!G155)","v":""},null,null,null,null,null,null,null,null,null,null,null,null,"DQ","DQ",0,"DQ","DQ","DQ","DQ","DQ","DQ","","","",0]

{"sheet":"TACTICAL GUN","index":3,"n_rows":176,"n_cols":31,"rows_kept":176,"cut":false,"hidden":false,"merged":[[175,1,175,2],[169,1,169,2],[170,1,170,2],[171,1,171,2],[172,1,172,2],[173,1,173,2],[174,1,174,2],[163,1,163,2],[164,1,164,2],[165,1,165,2],[166,1,166,2],[167,1,167,2],[168,1,168,2],[157,1,157,2],[158,1,158,2],[159,1,159,2],[160,1,160,2],[161,1,161,2],[162,1,162,2],[151,1,151,2],[152,1,152,2],[153,1,153,2],[154,1,154,2],[155,1,155,2],[156,1,156,2],[145,1,145,2],[146,1,146,2],[147,1,147,2],[148,1,148,2],[149,1,149,2],[150,1,150,2],[139,1,139,2],[140,1,140,2],[141,1,141,2],[142,1,142,2],[143,1,143,2],[144,1,144,2],[133,1,133,2],[134,1,134,2],[135,1,135,2],[136,1,136,2],[137,1,137,2],[138,1,138,2],[127,1,127,2],[128,1,128,2],[129,1,129,2],[130,1,130,2],[131,1,131,2],[132,1,132,2],[121,1,121,2],[122,1,122,2],[123,1,123,2],[124,1,124,2],[125,1,125,2],[126,1,126,2],[115,1,115,2],[116,1,116,2],[117,1,117,2],[118,1,118,2],[119,1,119,2],[120,1,120,2],[109,1,109,2],[110,1,110,2],[111,1,111,2],[112,1,112,2],[113,1,113,2],[114,1,114,2],[103,1,103,2],[104,1,104,2],[105,1,105,2],[106,1,106,2],[107,1,107,2],[108,1,108,2],[97,1,97,2],[98,1,98,2],[99,1,99,2],[100,1,100,2],[101,1,101,2],[102,1,102,2],[91,1,91,2],[92,1,92,2],[93,1,93,2],[94,1,94,2],[95,1,95,2],[96,1,96,2],[85,1,85,2],[86,1,86,2],[87,1,87,2],[88,1,88,2],[89,1,89,2],[90,1,90,2],[79,1,79,2],[80,1,80,2],[81,1,81,2],[82,1,82,2],[83,1,83,2],[84,1,84,2],[73,1,73,2],[74,1,74,2],[75,1,75,2],[76,1,76,2],[77,1,77,2],[78,1,78,2],[67,1,67,2],[68,1,68,2],[69,1,69,2],[70,1,70,2],[71,1,71,2],[72,1,72,2],[61,1,61,2],[62,1,62,2],[63,1,63,2],[64,1,64,2],[65,1,65,2],[66,1,66,2],[55,1,55,2],[56,1,56,2],[57,1,57,2],[58,1,58,2],[59,1,59,2],[60,1,60,2],[49,1,49,2],[50,1,50,2],[51,1,51,2],[52,1,52,2],[53,1,53,2],[54,1,54,2],[43,1,43,2],[44,1,44,2],[45,1,45,2],[46,1,46,2],[47,1,47,2],[48,1,48,2],[37,1,37,2],[38,1,38,2],[39,1,39,2],[40,1,40,2],[41,1,41,2],[42,1,42,2],[31,1,31,2],[32,1,32,2],[33,1,33,2],[34,1,34,2],[35,1,35,2],[36,1,36,2],[25,1,25,2],[26,1,26,2],[27,1,27,2],[28,1,28,2],[29,1,29,2],[30,1,30,2],[24,21,25,21],[24,22,25,22],[24,23,25,23],[24,24,25,24],[24,25,25,25],[24,26,25,26],[23,28,25,28],[24,4,25,4],[24,5,25,5],[24,6,24,8],[24,9,24,11],[24,12,24,14],[24,15,24,17],[24,18,25,18],[24,19,25,19],[24,20,25,20],[21,1,21,3],[21,9,21,14],[21,15,21,16],[21,20,21,23],[22,1,22,3],[22,9,22,14],[22,15,22,16],[22,20,22,23],[18,20,18,23],[19,0,19,5],[19,8,19,17],[19,20,19,23],[20,1,20,3],[20,9,20,14],[20,15,20,16],[20,20,20,23],[16,1,16,4],[16,9,16,16],[16,20,16,23],[17,1,17,4],[17,9,17,16],[17,20,17,23],[14,1,14,4],[14,9,14,16],[14,20,14,23],[15,1,15,4],[15,9,15,16],[15,20,15,23],[12,1,12,4],[12,9,12,16],[12,20,12,23],[13,1,13,4],[13,9,13,16],[13,20,13,23],[10,1,10,4],[10,9,10,16],[10,20,10,23],[11,1,11,4],[11,9,11,16],[11,20,11,23],[8,1,8,4],[8,9,8,16],[8,20,8,23],[9,1,9,4],[9,9,9,16],[9,20,9,23],[0,0,1,24],[2,0,2,24],[3,0,3,24],[4,0,4,24],[5,0,5,24],[7,0,7,5],[7,8,7,17],[7,19,7,24]]}
[{"$f":"'Competitor List'!B1","v":"Freedom Benchrest 600 YARD MATCH #1"},null,null,null,null,null,null,null,null,null,null,null,null,null,null,null,null,null,null,null,null,null,null,null,null,null,null,null,null,null,"Notes here are outside print area"]
[]
[{"$f":"'Competitor List'!B2","v":"Vapor Trail Valley Spickard, Mo"},null,null,null,null,null,null,null,null,null,null,null,null,null,null,null,null,null,null,null,null,null,null,null,null,null,null,null,null,null," - page is protected - no password"]
[{"$f":"'Competitor List'!B3","v":"2023-03-15"}]
[null,null,null,null,null,null,null,null,null,null,null,null,null,null,null,null,null,null,null,null,null,null,null,null,null,null,null,null,null,null," - keep scale at 100% for best viewing"]
["TACTICAL GUN RESULTS"]
[null,null,null,null,null,null,null,null,null,null,null,null,null,null,null,null,null,null,null,null,null,null,null,null,null,null,null,null,null,null," - top scores and groups automatically highlighted"]
["TACTICAL GUN SCORE AGG",null,null,null,null,null,null,null,"TACTICAL GUN GROUP AGG",null,null,null,null,null,null,null,null,null,null,"TACTICAL GUN OVERALL"]
["1ST",{"$f":"INDEX($B$27:$B$176,MATCH(1,$T$27:T$176,0))","v":{"$error":"#N/A"}},null,null,null,{"$f":"INDEX($Z$27:$Z$176,MATCH(1,$T$27:T$176,0))","v":{"$error":"#N/A"}},null,null,"1ST",{"$f":"INDEX($B$27:$B$176,MATCH(1,$W$27:$W$176,0))","v":{"$error":"#N/A"}},null,null,null,null,null,null,null,{"$f":"INDEX($AA$27:$AA$176,MATCH(1,$W$27:$W$176,0))","v":{"$error":"#N/A"}},null,"1ST",{"$f":"INDEX($B$27:$B$176,MATCH(1,$Y$27:$Y$176,0))","v":{"$error":"#N/A"}},null,null,null,{"$f":"INDEX($X$27:$X$176,MATCH(1,$Y$27:$Y$176,0))","v":{"$error":"#N/A"}},null,null,null,null,null," - Set print area to only print needed rows"]
["2ND",{"$f":"INDEX($B$27:$B$176,MATCH(2,$T$27:T$176,0))","v":{"$error":"#N/A"}},null,null,null,{"$f":"INDEX($Z$27:$Z$176,MATCH(2,$T$27:T$176,0))","v":{"$error":"#N/A"}},null,null,"2nd",{"$f":"INDEX($B$27:$B$176,MATCH(2,$W$27:$W$176,0))","v":{"$error":"#N/A"}},null,null,null,null,null,null,null,{"$f":"INDEX($AA$27:$AA$176,MATCH(2,$W$27:$W$176,0))","v":{"$error":"#N/A"}},null,"2ND",{"$f":"INDEX($B$27:$B$176,MATCH(2,$Y$27:$Y$176,0))","v":{"$error":"#N/A"}},null,null,null,{"$f":"INDEX($X$27:$X$176,MATCH(2,$Y$27:$Y$176,0))","v":{"$error":"#N/A"}}]
["3RD",{"$f":"INDEX($B$27:$B$176,MATCH(3,$T$27:T$176,0))","v":{"$error":"#N/A"}},null,null,null,{"$f":"INDEX($Z$27:$Z$176,MATCH(3,$T$27:T$176,0))","v":{"$error":"#N/A"}},null,null,"3rd",{"$f":"INDEX($B$27:$B$176,MATCH(3,$W$27:$W$176,0))","v":{"$error":"#N/A"}},null,null,null,null,null,null,null,{"$f":"INDEX($AA$27:$AA$176,MATCH(3,$W$27:$W$176,0))","v":{"$error":"#N/A"}},null,"3RD",{"$f":"INDEX($B$27:$B$176,MATCH(3,$Y$27:$Y$176,0))","v":{"$error":"#N/A"}},null,null,null,{"$f":"INDEX($X$27:$X$176,MATCH(3,$Y$27:$Y$176,0))","v":{"$error":"#N/A"}},null,null,null,null,null," - For a DQ target, enter DQ in the score and group column"]
["4TH",{"$f":"INDEX($B$27:$B$176,MATCH(4,$T$27:T$176,0))","v":{"$error":"#N/A"}},null,null,null,{"$f":"INDEX($Z$27:$Z$176,MATCH(4,$T$27:T$176,0))","v":{"$error":"#N/A"}},null,null,"4th",{"$f":"INDEX($B$27:$B$176,MATCH(4,$W$27:$W$176,0))","v":{"$error":"#N/A"}},null,null,null,null,null,null,null,{"$f":"INDEX($AA$27:$AA$176,MATCH(4,$W$27:$W$176,0))","v":{"$error":"#N/A"}},null,"4TH",{"$f":"INDEX($B$27:$B$176,MATCH(4,$Y$27:$Y$176,0))","v":{"$error":"#N/A"}},null,null,null,{"$f":"INDEX($X$27:$X$176,MATCH(4,$Y$27:$Y$176,0))","v":{"$error":"#N/A"}}]
["5TH",{"$f":"INDEX($B$27:$B$176,MATCH(5,$T$27:T$176,0))","v":{"$error":"#N/A"}},null,null,null,{"$f":"INDEX($Z$27:$Z$176,MATCH(5,$T$27:T$176,0))","v":{"$error":"#N/A"}},null,null,"5th",{"$f":"INDEX($B$27:$B$176,MATCH(5,$W$27:$W$176,0))","v":{"$error":"#N/A"}},null,null,null,null,null,null,null,{"$f":"INDEX($AA$27:$AA$176,MATCH(5,$W$27:$W$176,0))","v":{"$error":"#N/A"}},null,"5TH",{"$f":"INDEX($B$27:$B$176,MATCH(5,$Y$27:$Y$176,0))","v":{"$error":"#N/A"}},null,null,null,{"$f":"INDEX($X$27:$X$176,MATCH(5,$Y$27:$Y$176,0))","v":{"$error":"#N/A"}},null,null,null,null,null," - group ranking is only correct when all shooters have shot the same # of targets"]
["6TH",{"$f":"INDEX($B$27:$B$176,MATCH(6,$T$27:T$176,0))","v":{"$error":"#N/A"}},null,null,null,{"$f":"INDEX($Z$27:$Z$176,MATCH(6,$T$27:T$176,0))","v":{"$error":"#N/A"}},null,null,"6th",{"$f":"INDEX($B$27:$B$176,MATCH(6,$W$27:$W$176,0))","v":{"$error":"#N/A"}},null,null,null,null,null,null,null,{"$f":"INDEX($AA$27:$AA$176,MATCH(6,$W$27:$W$176,0))","v":{"$error":"#N/A"}},null,"6TH",{"$f":"INDEX($B$27:$B$176,MATCH(6,$Y$27:$Y$176,0))","v":{"$error":"#N/A"}},null,null,null,{"$f":"INDEX($X$27:$X$176,MATCH(6,$Y$27:$Y$176,0))","v":{"$error":"#N/A"}}]
["7TH",{"$f":"INDEX($B$27:$B$176,MATCH(7,$T$27:T$176,0))","v":{"$error":"#N/A"}},null,null,null,{"$f":"INDEX($Z$27:$Z$176,MATCH(7,$T$27:T$176,0))","v":{"$error":"#N/A"}},null,null,"7th",{"$f":"INDEX($B$27:$B$176,MATCH(7,$W$27:$W$176,0))","v":{"$error":"#N/A"}},null,null,null,null,null,null,null,{"$f":"INDEX($AA$27:$AA$176,MATCH(7,$W$27:$W$176,0))","v":{"$error":"#N/A"}},null,"7TH",{"$f":"INDEX($B$27:$B$176,MATCH(7,$Y$27:$Y$176,0))","v":{"$error":"#N/A"}},null,null,null,{"$f":"INDEX($X$27:$X$176,MATCH(7,$Y$27:$Y$176,0))","v":{"$error":"#N/A"}},null,null,null,null,null,"Score tie breaker = 1st Group, 2nd X-xount, 3rd closest to center"]
["8TH",{"$f":"INDEX($B$27:$B$176,MATCH(8,$T$27:T$176,0))","v":{"$error":"#N/A"}},null,null,null,{"$f":"INDEX($Z$27:$Z$176,MATCH(8,$T$27:T$176,0))","v":{"$error":"#N/A"}},null,null,"8th",{"$f":"INDEX($B$27:$B$176,MATCH(8,$W$27:$W$176,0))","v":{"$error":"#N/A"}},null,null,null,null,null,null,null,{"$f":"INDEX($AA$27:$AA$176,MATCH(8,$W$27:$W$176,0))","v":{"$error":"#N/A"}},null,"8TH",{"$f":"INDEX($B$27:$B$176,MATCH(8,$Y$27:$Y$176,0))","v":{"$error":"#N/A"}},null,null,null,{"$f":"INDEX($X$27:$X$176,MATCH(8,$Y$27:$Y$176,0))","v":{"$error":"#N/A"}},null,null,null,null,null,"Group tie breaker = 1st score, 2nd X-count, 3rd closest to center"]
["9TH",{"$f":"INDEX($B$27:$B$176,MATCH(9,$T$27:T$176,0))","v":{"$error":"#N/A"}},null,null,null,{"$f":"INDEX($Z$27:$Z$176,MATCH(9,$T$27:T$176,0))","v":{"$error":"#N/A"}},null,null,"9th",{"$f":"INDEX($B$27:$B$176,MATCH(9,$W$27:$W$176,0))","v":{"$error":"#N/A"}},null,null,null,null,null,null,null,{"$f":"INDEX($AA$27:$AA$176,MATCH(9,$W$27:$W$176,0))","v":{"$error":"#N/A"}},null,"9TH",{"$f":"INDEX($B$27:$B$176,MATCH(9,$Y$27:$Y$176,0))","v":{"$error":"#N/A"}},null,null,null,{"$f":"INDEX($X$27:$X$176,MATCH(9,$Y$27:$Y$176,0))","v":{"$error":"#N/A"}},null,null,null,null,null,"Overall tie breaker = 1st Group, 2nd score, 3rd X-count"]
["10TH",{"$f":"INDEX($B$27:$B$176,MATCH(10,$T$27:T$176,0))","v":{"$error":"#N/A"}},null,null,null,{"$f":"INDEX($Z$27:$Z$176,MATCH(10,$T$27:T$176,0))","v":{"$error":"#N/A"}},null,null,"10th",{"$f":"INDEX($B$27:$B$176,MATCH(10,$W$27:$W$176,0))","v":{"$error":"#N/A"}},null,null,null,null,null,null,null,{"$f":"INDEX($AA$27:$AA$176,MATCH(10,$W$27:$W$176,0))","v":{"$error":"#N/A"}},null,"10TH",{"$f":"INDEX($B$27:$B$176,MATCH(10,$Y$27:$Y$176,0))","v":{"$error":"#N/A"}},null,null,null,{"$f":"INDEX($X$27:$X$176,MATCH(10,$Y$27:$Y$176,0))","v":{"$error":"#N/A"}}]
[null,null,null,null,null,null,null,null,null,null,null,null,null,null,null,null,null,null,null,"11th",{"$f":"INDEX($B$27:$B$176,MATCH(11,$Y$27:$Y$176,0))","v":{"$error":"#N/A"}},null,null,null,{"$f":"INDEX($X$27:$X$176,MATCH(11,$Y$27:$Y$176,0))","v":{"$error":"#N/A"}},null,null,null,null,null,"- Closest to center column only needs to be filled in for extreme cases"]
["TACTICAL GUN SINGLE TARGET HIGHEST SCORE",null,null,null,null,null,"X",null,"TACTICAL  GUN SINGLE TARGET SMALLEST GROUP",null,null,null,null,null,null,null,null,null,null,"12th",{"$f":"INDEX($B$27:$B$176,MATCH(12,$Y$27:$Y$176,0))","v":{"$error":"#N/A"}},null,null,null,{"$f":"INDEX($X$27:$X$176,MATCH(12,$Y$27:$Y$176,0))","v":{"$error":"#N/A"}},null,null,null,null,null,"    (since it will probably never be needed it was left out of the printable area)"]
["1ST",{"$f":"INDEX('single target'!U2:U606,MATCH(1,'single target'!AA2:AA606,0))","v":0},null,null,{"$f":"INDEX('single target'!V7:V606,MATCH(1,'single target'!AA7:AA606,0))","v":0},{"$f":"INDEX('single target'!X7:X606,MATCH(1,'single target'!AA7:AA606,0))","v":0},{"$f":"INDEX('single target'!W7:W606,MATCH(1,'single target'!AA7:AA606,0))","v":0},null,"1ST",{"$f":"INDEX('single target'!U7:U606,MATCH(1,'single target'!AB7:AB606,0))","v":{"$error":"#N/A"}},null,null,null,null,null,{"$f":"INDEX('single target'!V7:V606,MATCH(1,'single target'!AB7:AB606,0))","v":{"$error":"#N/A"}},null,{"$f":"INDEX('single target'!X7:X606,MATCH(1,'single target'!AB7:AB606,0))","v":{"$error":"#N/A"}},null,"13th",{"$f":"INDEX($B$27:$B$176,MATCH(13,$Y$27:$Y$176,0))","v":{"$error":"#N/A"}},null,null,null,{"$f":"INDEX($X$27:$X$176,MATCH(13,$Y$27:$Y$176,0))","v":{"$error":"#N/A"}}]
["2ND",{"$f":"INDEX('single target'!U2:U606,MATCH(2,'single target'!AA2:AA606,0))","v":0},null,null,{"$f":"INDEX('single target'!V7:V606,MATCH(2,'single target'!AA7:AA606,0))","v":0},{"$f":"INDEX('single target'!X7:X606,MATCH(2,'single target'!AA7:AA606,0))","v":0},{"$f":"INDEX('single target'!W7:W606,MATCH(2,'single target'!AA7:AA606,0))","v":0},null,"2nd",{"$f":"INDEX('single target'!U7:U606,MATCH(2,'single target'!AB7:AB606,0))","v":{"$error":"#N/A"}},null,null,null,null,null,{"$f":"INDEX('single target'!V7:V606,MATCH(2,'single target'!AB7:AB606,0))","v":{"$error":"#N/A"}},null,{"$f":"INDEX('single target'!X7:X606,MATCH(2,'single target'!AB7:AB606,0))","v":{"$error":"#N/A"}},null,"14th",{"$f":"INDEX($B$27:$B$176,MATCH(14,$Y$27:$Y$176,0))","v":{"$error":"#N/A"}},null,null,null,{"$f":"INDEX($X$27:$X$176,MATCH(14,$Y$27:$Y$176,0))","v":{"$error":"#N/A"}},null,null,null,null,null," - Names on this page are not filled in automatically"]
["3RD",{"$f":"INDEX('single target'!U2:U606,MATCH(3,'single target'!AA2:AA606,0))","v":0},null,null,{"$f":"INDEX('single target'!V7:V606,MATCH(3,'single target'!AA7:AA606,0))","v":0},{"$f":"INDEX('single target'!X7:X606,MATCH(3,'single target'!AA7:AA606,0))","v":0},{"$f":"INDEX('single target'!W7:W606,MATCH(3,'single target'!AA7:AA606,0))","v":0},null,"3rd",{"$f":"INDEX('single target'!U7:U606,MATCH(3,'single target'!AB7:AB606,0))","v":{"$error":"#N/A"}},null,null,null,null,null,{"$f":"INDEX('single target'!V7:V606,MATCH(3,'single target'!AB7:AB606,0))","v":{"$error":"#N/A"}},null,{"$f":"INDEX('single target'!X7:X606,MATCH(3,'single target'!AB7:AB606,0))","v":{"$error":"#N/A"}},null,"15th",{"$f":"INDEX($B$27:$B$176,MATCH(15,$Y$27:$Y$176,0))","v":{"$error":"#N/A"}},null,null,null,{"$f":"INDEX($X$27:$X$176,MATCH(15,$Y$27:$Y$176,0))","v":{"$error":"#N/A"}},null,null,null,null,null,"** For Bench assignment, fill in names on this page and print out and post"]
[null,null,null,null,null,null,null,null,null,null,null,null,null,null,null,null,null,null,null,null,null,null,null,null,null,null,null,null,"Closest shot to center",null,"     Or highlight desired rows and print selection"]
[null,null,null,null,"RELAY- BENCH","ROOKIE, FEMALE, JUNIOR","TARGET 1",null,null,"TARGET 2",null,null,"TARGET 3",null,null,"TARGET 4",null,null,"SCORE AGG","SCORE RANK","X TOTAL","GROUP AGG","GROUP RANK","(GROUP + SCORE)","OVERALL PLACE","LG SCORE FOR RANKING","LG GROUP FOR RANKING",null,null,null,"- this page does not print with the \"print to pdf\" button since most ranges do not shoot factory class"]
[null,"Competitor",null,"FB",null,null,"Score","X","Group","Score","X","Group","Score","X","Group","Score","X","Group",null,null,null,null,null,null,null,null,null,null,null,null,"- If page is not used, right click on \"Factory gun\" tab on bottom and hide"]
[1,null,null,null,{"$f":"'Competitor List'!O6","v":101},null,null,null,null,null,null,null,null,null,null,null,null,null,{"$f":" IF(AND(SUM(G27,J27,M27,P27)>0,ISNONTEXT(G27),ISNONTEXT(J27),ISNONTEXT(M27),ISNONTEXT(P27)),SUM(G27,J27,M27,P27),\"DQ\")","v":"DQ"},{"$f":" IF(AND(ISNUMBER(Z27)),RANK(Z27,$Z$27:$Z$176,0)+SUMPRODUCT(($Z$27:$Z$176=Z27)*($AA$27:$AA$176<AA27))+SUMPRODUCT(($Z$27:$Z$176=Z27)*($AA$27:$AA$176=AA27)*($U$27:$U$176>U27))+SUMPRODUCT(($Z$27:$Z$176=Z27)*($AA$27:$AA$176=AA27)*($U$27:$U$176=U27)*($AC$27:$AC$176<AC27)),\"DQ\")","v":"DQ"},{"$f":"H27+K27+N27+Q27","v":0},{"$f":"IF(AND(SUM(I27,L27,O27,R27)>0,ISNONTEXT(I27),ISNONTEXT(L27),ISNONTEXT(O27),ISNONTEXT(R27)),(I27+L27+O27+R27) / ((I27<>0)+(L27<>0)+(O27<>0)+(R27<>0)),\"DQ\")","v":"DQ"},{"$f":" IF(AND(ISNUMBER(AA27)),RANK(AA27,$AA$27:$AA$176,1)+SUMPRODUCT(($AA$27:$AA$176=AA27)*($Z$27:$Z$176>Z27))+SUMPRODUCT(($AA$27:$AA$176=AA27)*($Z$27:$Z$176=Z27)*($U$27:$U$176>U27))+SUMPRODUCT(($AA$27:$AA$176=AA27)*($Z$27:$Z$176=Z27)*($U$27:$U$176=U27)*($AC$27:$AC$176<AC27)),\"DQ\")","v":"DQ"},{"$f":"IF(AND(ISNUMBER(T27),ISNUMBER(W27)), SUM(T27,W27),\"DQ\")","v":"DQ"},{"$f":" IF(AND(ISNUMBER(X27)),RANK(X27,$X$27:$X$176,1)+SUMPRODUCT(($X$27:$X$176=X27)*($AA$27:$AA$176<AA27))+SUMPRODUCT(($X$27:$X$176=X27)*($AA$27:$AA$176=AA27)*($Z$27:$Z$176>Z27)+SUMPRODUCT(($X$27:$X$176=X27)*($AA$27:$AA$176=AA27)*($Z$27:$Z$176=Z27)*($U$27:$U$176>U27))),\"DQ\")","v":"DQ"},{"$f":" IF(AND(SUM(G27,J27,M27,P27)>0,ISNONTEXT(G27),ISNONTEXT(J27),ISNONTEXT(M27),ISNONTEXT(P27)),SUM(G27,J27,M27,P27),\"DQ\")","v":"DQ"},{"$f":"IF(AND(SUM(I27,L27,O27,R27)>0,ISNONTEXT(I27),ISNONTEXT(L27),ISNONTEXT(O27),ISNONTEXT(R27)),(I27+L27+O27+R27) / ((I27<>0)+(L27<>0)+(O27<>0)+(R27<>0)),\"DQ\")","v":"DQ"}]
[2,null,null,null,{"$f":"'Competitor List'!O7","v":102},null,null,null,null,null,null,null,null,null,null,null,null,null,{"$f":" IF(AND(SUM(G28,J28,M28,P28)>0,ISNONTEXT(G28),ISNONTEXT(J28),ISNONTEXT(M28),ISNONTEXT(P28)),SUM(G28,J28,M28,P28),\"DQ\")","v":"DQ"},{"$f":" IF(AND(ISNUMBER(Z28)),RANK(Z28,$Z$27:$Z$176,0)+SUMPRODUCT(($Z$27:$Z$176=Z28)*($AA$27:$AA$176<AA28))+SUMPRODUCT(($Z$27:$Z$176=Z28)*($AA$27:$AA$176=AA28)*($U$27:$U$176>U28))+SUMPRODUCT(($Z$27:$Z$176=Z28)*($AA$27:$AA$176=AA28)*($U$27:$U$176=U28)*($AC$27:$AC$176<AC28)),\"DQ\")","v":"DQ"},{"$f":"H28+K28+N28+Q28","v":0},{"$f":"IF(AND(SUM(I28,L28,O28,R28)>0,ISNONTEXT(I28),ISNONTEXT(L28),ISNONTEXT(O28),ISNONTEXT(R28)),(I28+L28+O28+R28) / ((I28<>0)+(L28<>0)+(O28<>0)+(R28<>0)),\"DQ\")","v":"DQ"},{"$f":" IF(AND(ISNUMBER(AA28)),RANK(AA28,$AA$27:$AA$176,1)+SUMPRODUCT(($AA$27:$AA$176=AA28)*($Z$27:$Z$176>Z28))+SUMPRODUCT(($AA$27:$AA$176=AA28)*($Z$27:$Z$176=Z28)*($U$27:$U$176>U28))+SUMPRODUCT(($AA$27:$AA$176=AA28)*($Z$27:$Z$176=Z28)*($U$27:$U$176=U28)*($E$27:$E$176<E28)),\"DQ\")","v":"DQ"},"DQ",{"$f":" IF(AND(ISNUMBER(X28)),RANK(X28,$X$27:$X$176,1)+SUMPRODUCT(($X$27:$X$176=X28)*($AA$27:$AA$176<AA28))+SUMPRODUCT(($X$27:$X$176=X28)*($AA$27:$AA$176=AA28)*($Z$27:$Z$176>Z28)+SUMPRODUCT(($X$27:$X$176=X28)*($AA$27:$AA$176=AA28)*($Z$27:$Z$176=Z28)*($U$27:$U$176>U28))),\"DQ\")","v":"DQ"},{"$f":" IF(AND(SUM(G28,J28,M28,P28)>0,ISNONTEXT(G28),ISNONTEXT(J28),ISNONTEXT(M28),ISNONTEXT(P28)),SUM(G28,J28,M28,P28),\"DQ\")","v":"DQ"},{"$f":"IF(AND(SUM(I28,L28,O28,R28)>0,ISNONTEXT(I28),ISNONTEXT(L28),ISNONTEXT(O28),ISNONTEXT(R28)),(I28+L28+O28+R28) / ((I28<>0)+(L28<>0)+(O28<>0)+(R28<>0)),\"DQ\")","v":"DQ"},null,null,null,"Tip for when entering data"]
[3,null,null,null,{"$f":"'Competitor List'!O8","v":103},null,null,null,null,null,null,null,null,null,null,null,null,null,"DQ",{"$f":" IF(AND(ISNUMBER(Z29)),RANK(Z29,$Z$27:$Z$176,0)+SUMPRODUCT(($Z$27:$Z$176=Z29)*($AA$27:$AA$176<AA29))+SUMPRODUCT(($Z$27:$Z$176=Z29)*($AA$27:$AA$176=AA29)*($U$27:$U$176>U29))+SUMPRODUCT(($Z$27:$Z$176=Z29)*($AA$27:$AA$176=AA29)*($U$27:$U$176=U29)*($AC$27:$AC$176<AC29)),\"DQ\")","v":"DQ"},0,"DQ",{"$f":" IF(AND(ISNUMBER(AA29)),RANK(AA29,$AA$27:$AA$176,1)+SUMPRODUCT(($AA$27:$AA$176=AA29)*($Z$27:$Z$176>Z29))+SUMPRODUCT(($AA$27:$AA$176=AA29)*($Z$27:$Z$176=Z29)*($U$27:$U$176>U29))+SUMPRODUCT(($AA$27:$AA$176=AA29)*($Z$27:$Z$176=Z29)*($U$27:$U$176=U29)*($E$27:$E$176<E29)),\"DQ\")","v":"DQ"},"DQ","DQ","DQ","DQ",null,null,null," - Scroll down until line 24 is at the top of the screen"]
[4,null,null,null,{"$f":"'Competitor List'!O9","v":104},null,null,null,null,null,null,null,null,null,null,null,null,null,"DQ",{"$f":" IF(AND(ISNUMBER(Z30)),RANK(Z30,$Z$27:$Z$176,0)+SUMPRODUCT(($Z$27:$Z$176=Z30)*($AA$27:$AA$176<AA30))+SUMPRODUCT(($Z$27:$Z$176=Z30)*($AA$27:$AA$176=AA30)*($U$27:$U$176>U30))+SUMPRODUCT(($Z$27:$Z$176=Z30)*($AA$27:$AA$176=AA30)*($U$27:$U$176=U30)*($AC$27:$AC$176<AC30)),\"DQ\")","v":"DQ"},0,"DQ",{"$f":" IF(AND(ISNUMBER(AA30)),RANK(AA30,$AA$27:$AA$176,1)+SUMPRODUCT(($AA$27:$AA$176=AA30)*($Z$27:$Z$176>Z30))+SUMPRODUCT(($AA$27:$AA$176=AA30)*($Z$27:$Z$176=Z30)*($U$27:$U$176>U30))+SUMPRODUCT(($AA$27:$AA$176=AA30)*($Z$27:$Z$176=Z30)*($U$27:$U$176=U30)*($AC$27:$AC$176<AC30)),\"DQ\")","v":"DQ"},"DQ","DQ","DQ","DQ",null,null,null,"  - Select 27 on left side"]
[5,null,null,null,{"$f":"'Competitor List'!O10","v":105},null,null,null,null,null,null,null,null,null,null,null,null,null,"DQ","DQ",0,"DQ",{"$f":" IF(AND(ISNUMBER(AA31)),RANK(AA31,$AA$27:$AA$176,1)+SUMPRODUCT(($AA$27:$AA$176=AA31)*($Z$27:$Z$176>Z31))+SUMPRODUCT(($AA$27:$AA$176=AA31)*($Z$27:$Z$176=Z31)*($U$27:$U$176>U31))+SUMPRODUCT(($AA$27:$AA$176=AA31)*($Z$27:$Z$176=Z31)*($U$27:$U$176=U31)*($E$27:$E$176<E31)),\"DQ\")","v":"DQ"},"DQ","DQ","DQ","DQ",null,null,null,"   - view at top"]
[6,null,null,null,{"$f":"'Competitor List'!O11","v":106},null,null,null,null,null,null,null,null,null,null,null,null,null,"DQ","DQ",0,"DQ","DQ","DQ","DQ","DQ","DQ",null,null,null,"    - freeze panes"]
[7,null,null,null,{"$f":"'Competitor List'!O12","v":107},null,null,null,null,null,null,null,null,null,null,null,null,null,"DQ","DQ",0,"DQ",{"$f":" IF(AND(ISNUMBER(AA33)),RANK(AA33,$AA$27:$AA$176,1)+SUMPRODUCT(($AA$27:$AA$176=AA33)*($Z$27:$Z$176>Z33))+SUMPRODUCT(($AA$27:$AA$176=AA33)*($Z$27:$Z$176=Z33)*($U$27:$U$176>U33))+SUMPRODUCT(($AA$27:$AA$176=AA33)*($Z$27:$Z$176=Z33)*($U$27:$U$176=U33)*($AC$27:$AC$176<AC33)),\"DQ\")","v":"DQ"},"DQ","DQ","DQ","DQ",null,null,null,"     - freeze panes again"]
[8,null,null,null,{"$f":"'Competitor List'!O13","v":108},null,null,null,null,null,null,null,null,null,null,null,null,null,"DQ","DQ",0,"DQ",{"$f":" IF(AND(ISNUMBER(AA34)),RANK(AA34,$AA$27:$AA$176,1)+SUMPRODUCT(($AA$27:$AA$176=AA34)*($Z$27:$Z$176>Z34))+SUMPRODUCT(($AA$27:$AA$176=AA34)*($Z$27:$Z$176=Z34)*($U$27:$U$176>U34))+SUMPRODUCT(($AA$27:$AA$176=AA34)*($Z$27:$Z$176=Z34)*($U$27:$U$176=U34)*($E$27:$E$176<E34)),\"DQ\")","v":"DQ"},"DQ","DQ","DQ","DQ",null,null,null," ---unfreeze panes when you want to view the top results"]
[9,null,null,null,{"$f":"'Competitor List'!O14","v":109},null,null,null,null,null,null,null,null,null,null,null,null,null,"DQ","DQ",0,"DQ","DQ","DQ","DQ","DQ","DQ",null,null,null,"  - change scale in bottom right corner to enlarge as needed"]
[10,null,null,null,{"$f":"'Competitor List'!O15","v":110},null,null,null,null,null,null,null,null,null,null,null,null,null,"DQ","DQ",0,"DQ",{"$f":" IF(AND(ISNUMBER(AA36)),RANK(AA36,$AA$27:$AA$176,1)+SUMPRODUCT(($AA$27:$AA$176=AA36)*($Z$27:$Z$176>Z36))+SUMPRODUCT(($AA$27:$AA$176=AA36)*($Z$27:$Z$176=Z36)*($U$27:$U$176>U36))+SUMPRODUCT(($AA$27:$AA$176=AA36)*($Z$27:$Z$176=Z36)*($U$27:$U$176=U36)*($AC$27:$AC$176<AC36)),\"DQ\")","v":"DQ"},"DQ","DQ","DQ","DQ",null,null,null,"     - return to 100% after entering data"]
[11,null,null,null,{"$f":"'Competitor List'!O16","v":111},null,null,null,null,null,null,null,null,null,null,null,null,null,"DQ","DQ",0,"DQ",{"$f":" IF(AND(ISNUMBER(AA37)),RANK(AA37,$AA$27:$AA$176,1)+SUMPRODUCT(($AA$27:$AA$176=AA37)*($Z$27:$Z$176>Z37))+SUMPRODUCT(($AA$27:$AA$176=AA37)*($Z$27:$Z$176=Z37)*($U$27:$U$176>U37))+SUMPRODUCT(($AA$27:$AA$176=AA37)*($Z$27:$Z$176=Z37)*($U$27:$U$176=U37)*($E$27:$E$176<E37)),\"DQ\")","v":"DQ"},"DQ","DQ","DQ","DQ"]
[12,null,null,null,{"$f":"'Competitor List'!O17","v":112},null,null,null,null,null,null,null,null,null,null,null,null,null,"DQ","DQ",0,"DQ","DQ","DQ","DQ","DQ","DQ"]
[13,null,null,null,{"$f":"'Competitor List'!O18","v":113},null,null,null,null,null,null,null,null,null,null,null,null,null,"DQ","DQ",0,"DQ",{"$f":" IF(AND(ISNUMBER(AA39)),RANK(AA39,$AA$27:$AA$176,1)+SUMPRODUCT(($AA$27:$AA$176=AA39)*($Z$27:$Z$176>Z39))+SUMPRODUCT(($AA$27:$AA$176=AA39)*($Z$27:$Z$176=Z39)*($U$27:$U$176>U39))+SUMPRODUCT(($AA$27:$AA$176=AA39)*($Z$27:$Z$176=Z39)*($U$27:$U$176=U39)*($AC$27:$AC$176<AC39)),\"DQ\")","v":"DQ"},"DQ","DQ","DQ","DQ",null,null,null,"Enter your notes here"]
[14,null,null,null,{"$f":"'Competitor List'!O19","v":114},null,null,null,null,null,null,null,null,null,null,null,null,null,"DQ","DQ",0,"DQ",{"$f":" IF(AND(ISNUMBER(AA40)),RANK(AA40,$AA$27:$AA$176,1)+SUMPRODUCT(($AA$27:$AA$176=AA40)*($Z$27:$Z$176>Z40))+SUMPRODUCT(($AA$27:$AA$176=AA40)*($Z$27:$Z$176=Z40)*($U$27:$U$176>U40))+SUMPRODUCT(($AA$27:$AA$176=AA40)*($Z$27:$Z$176=Z40)*($U$27:$U$176=U40)*($E$27:$E$176<E40)),\"DQ\")","v":"DQ"},"DQ","DQ","DQ","DQ"]
[15,null,null,null,{"$f":"'Competitor List'!O20","v":115},null,null,null,null,null,null,null,null,null,null,null,null,null,"DQ","DQ",0,"DQ","DQ","DQ","DQ","DQ","DQ"]
[16,null,null,null,{"$f":"'Competitor List'!O21","v":201},null,null,null,null,null,null,null,null,null,null,null,null,null,"DQ","DQ",0,"DQ",{"$f":" IF(AND(ISNUMBER(AA42)),RANK(AA42,$AA$27:$AA$176,1)+SUMPRODUCT(($AA$27:$AA$176=AA42)*($Z$27:$Z$176>Z42))+SUMPRODUCT(($AA$27:$AA$176=AA42)*($Z$27:$Z$176=Z42)*($U$27:$U$176>U42))+SUMPRODUCT(($AA$27:$AA$176=AA42)*($Z$27:$Z$176=Z42)*($U$27:$U$176=U42)*($AC$27:$AC$176<AC42)),\"DQ\")","v":"DQ"},"DQ","DQ","DQ","DQ"]
[17,null,null,null,{"$f":"'Competitor List'!O22","v":202},null,null,null,null,null,null,null,null,null,null,null,null,null,"DQ","DQ",0,"DQ",{"$f":" IF(AND(ISNUMBER(AA43)),RANK(AA43,$AA$27:$AA$176,1)+SUMPRODUCT(($AA$27:$AA$176=AA43)*($Z$27:$Z$176>Z43))+SUMPRODUCT(($AA$27:$AA$176=AA43)*($Z$27:$Z$176=Z43)*($U$27:$U$176>U43))+SUMPRODUCT(($AA$27:$AA$176=AA43)*($Z$27:$Z$176=Z43)*($U$27:$U$176=U43)*($E$27:$E$176<E43)),\"DQ\")","v":"DQ"},"DQ","DQ","DQ","DQ"]
[18,null,null,null,{"$f":"'Competitor List'!O23","v":203},null,null,null,null,null,null,null,null,null,null,null,null,null,"DQ","DQ",0,"DQ","DQ","DQ","DQ","DQ","DQ"]
[19,null,null,null,{"$f":"'Competitor List'!O24","v":204},null,null,null,null,null,null,null,null,null,null,null,null,null,"DQ","DQ",0,"DQ",{"$f":" IF(AND(ISNUMBER(AA45)),RANK(AA45,$AA$27:$AA$176,1)+SUMPRODUCT(($AA$27:$AA$176=AA45)*($Z$27:$Z$176>Z45))+SUMPRODUCT(($AA$27:$AA$176=AA45)*($Z$27:$Z$176=Z45)*($U$27:$U$176>U45))+SUMPRODUCT(($AA$27:$AA$176=AA45)*($Z$27:$Z$176=Z45)*($U$27:$U$176=U45)*($AC$27:$AC$176<AC45)),\"DQ\")","v":"DQ"},"DQ","DQ","DQ","DQ"]
[20,null,null,null,{"$f":"'Competitor List'!O25","v":205},null,null,null,null,null,null,null,null,null,null,null,null,null,"DQ","DQ",0,"DQ",{"$f":" IF(AND(ISNUMBER(AA46)),RANK(AA46,$AA$27:$AA$176,1)+SUMPRODUCT(($AA$27:$AA$176=AA46)*($Z$27:$Z$176>Z46))+SUMPRODUCT(($AA$27:$AA$176=AA46)*($Z$27:$Z$176=Z46)*($U$27:$U$176>U46))+SUMPRODUCT(($AA$27:$AA$176=AA46)*($Z$27:$Z$176=Z46)*($U$27:$U$176=U46)*($E$27:$E$176<E46)),\"DQ\")","v":"DQ"},"DQ","DQ","DQ","DQ"]
[21,null,null,null,{"$f":"'Competitor List'!O26","v":206},null,null,null,null,null,null,null,null,null,null,null,null,null,"DQ","DQ",0,"DQ","DQ","DQ","DQ","DQ","DQ"]
[22,null,null,null,{"$f":"'Competitor List'!O27","v":207},null,null,null,null,null,null,null,null,null,null,null,null,null,"DQ","DQ",0,"DQ",{"$f":" IF(AND(ISNUMBER(AA48)),RANK(AA48,$AA$27:$AA$176,1)+SUMPRODUCT(($AA$27:$AA$176=AA48)*($Z$27:$Z$176>Z48))+SUMPRODUCT(($AA$27:$AA$176=AA48)*($Z$27:$Z$176=Z48)*($U$27:$U$176>U48))+SUMPRODUCT(($AA$27:$AA$176=AA48)*($Z$27:$Z$176=Z48)*($U$27:$U$176=U48)*($AC$27:$AC$176<AC48)),\"DQ\")","v":"DQ"},"DQ","DQ","DQ","DQ"]
[23,null,null,null,{"$f":"'Competitor List'!O28","v":208},null,null,null,null,null,null,null,null,null,null,null,null,null,"DQ","DQ",0,"DQ",{"$f":" IF(AND(ISNUMBER(AA49)),RANK(AA49,$AA$27:$AA$176,1)+SUMPRODUCT(($AA$27:$AA$176=AA49)*($Z$27:$Z$176>Z49))+SUMPRODUCT(($AA$27:$AA$176=AA49)*($Z$27:$Z$176=Z49)*($U$27:$U$176>U49))+SUMPRODUCT(($AA$27:$AA$176=AA49)*($Z$27:$Z$176=Z49)*($U$27:$U$176=U49)*($E$27:$E$176<E49)),\"DQ\")","v":"DQ"},"DQ","DQ","DQ","DQ"]
[24,null,null,null,{"$f":"'Competitor List'!O29","v":209},null,null,null,null,null,null,null,null,null,null,null,null,null,"DQ","DQ",0,"DQ","DQ","DQ","DQ","DQ","DQ"]
[25,null,null,null,{"$f":"'Competitor List'!O30","v":210},null,null,null,null,null,null,null,null,null,null,null,null,null,"DQ","DQ",0,"DQ",{"$f":" IF(AND(ISNUMBER(AA51)),RANK(AA51,$AA$27:$AA$176,1)+SUMPRODUCT(($AA$27:$AA$176=AA51)*($Z$27:$Z$176>Z51))+SUMPRODUCT(($AA$27:$AA$176=AA51)*($Z$27:$Z$176=Z51)*($U$27:$U$176>U51))+SUMPRODUCT(($AA$27:$AA$176=AA51)*($Z$27:$Z$176=Z51)*($U$27:$U$176=U51)*($AC$27:$AC$176<AC51)),\"DQ\")","v":"DQ"},"DQ","DQ","DQ","DQ"]
[26,null,null,null,{"$f":"'Competitor List'!O31","v":211},null,null,null,null,null,null,null,null,null,null,null,null,null,"DQ","DQ",0,"DQ",{"$f":" IF(AND(ISNUMBER(AA52)),RANK(AA52,$AA$27:$AA$176,1)+SUMPRODUCT(($AA$27:$AA$176=AA52)*($Z$27:$Z$176>Z52))+SUMPRODUCT(($AA$27:$AA$176=AA52)*($Z$27:$Z$176=Z52)*($U$27:$U$176>U52))+SUMPRODUCT(($AA$27:$AA$176=AA52)*($Z$27:$Z$176=Z52)*($U$27:$U$176=U52)*($E$27:$E$176<E52)),\"DQ\")","v":"DQ"},"DQ","DQ","DQ","DQ"]
[27,null,null,null,{"$f":"'Competitor List'!O32","v":212},null,null,null,null,null,null,null,null,null,null,null,null,null,"DQ","DQ",0,"DQ","DQ","DQ","DQ","DQ","DQ"]
[28,null,null,null,{"$f":"'Competitor List'!O33","v":213},null,null,null,null,null,null,null,null,null,null,null,null,null,"DQ","DQ",0,"DQ",{"$f":" IF(AND(ISNUMBER(AA54)),RANK(AA54,$AA$27:$AA$176,1)+SUMPRODUCT(($AA$27:$AA$176=AA54)*($Z$27:$Z$176>Z54))+SUMPRODUCT(($AA$27:$AA$176=AA54)*($Z$27:$Z$176=Z54)*($U$27:$U$176>U54))+SUMPRODUCT(($AA$27:$AA$176=AA54)*($Z$27:$Z$176=Z54)*($U$27:$U$176=U54)*($AC$27:$AC$176<AC54)),\"DQ\")","v":"DQ"},"DQ","DQ","DQ","DQ"]
[29,null,null,null,{"$f":"'Competitor List'!O34","v":214},null,null,null,null,null,null,null,null,null,null,null,null,null,"DQ","DQ",0,"DQ",{"$f":" IF(AND(ISNUMBER(AA55)),RANK(AA55,$AA$27:$AA$176,1)+SUMPRODUCT(($AA$27:$AA$176=AA55)*($Z$27:$Z$176>Z55))+SUMPRODUCT(($AA$27:$AA$176=AA55)*($Z$27:$Z$176=Z55)*($U$27:$U$176>U55))+SUMPRODUCT(($AA$27:$AA$176=AA55)*($Z$27:$Z$176=Z55)*($U$27:$U$176=U55)*($E$27:$E$176<E55)),\"DQ\")","v":"DQ"},"DQ","DQ","DQ","DQ"]
[30,null,null,null,{"$f":"'Competitor List'!O35","v":215},null,null,null,null,null,null,null,null,null,null,null,null,null,"DQ","DQ",0,"DQ","DQ","DQ","DQ","DQ","DQ"]
[31,null,null,null,{"$f":"'Competitor List'!O36","v":301},null,null,null,null,null,null,null,null,null,null,null,null,null,"DQ","DQ",0,"DQ",{"$f":" IF(AND(ISNUMBER(AA57)),RANK(AA57,$AA$27:$AA$176,1)+SUMPRODUCT(($AA$27:$AA$176=AA57)*($Z$27:$Z$176>Z57))+SUMPRODUCT(($AA$27:$AA$176=AA57)*($Z$27:$Z$176=Z57)*($U$27:$U$176>U57))+SUMPRODUCT(($AA$27:$AA$176=AA57)*($Z$27:$Z$176=Z57)*($U$27:$U$176=U57)*($AC$27:$AC$176<AC57)),\"DQ\")","v":"DQ"},"DQ","DQ","DQ","DQ"]
[32,null,null,null,{"$f":"'Competitor List'!O37","v":302},null,null,null,null,null,null,null,null,null,null,null,null,null,"DQ","DQ",0,"DQ",{"$f":" IF(AND(ISNUMBER(AA58)),RANK(AA58,$AA$27:$AA$176,1)+SUMPRODUCT(($AA$27:$AA$176=AA58)*($Z$27:$Z$176>Z58))+SUMPRODUCT(($AA$27:$AA$176=AA58)*($Z$27:$Z$176=Z58)*($U$27:$U$176>U58))+SUMPRODUCT(($AA$27:$AA$176=AA58)*($Z$27:$Z$176=Z58)*($U$27:$U$176=U58)*($E$27:$E$176<E58)),\"DQ\")","v":"DQ"},"DQ","DQ","DQ","DQ"]
[33,null,null,null,{"$f":"'Competitor List'!O38","v":303},null,null,null,null,null,null,null,null,null,null,null,null,null,"DQ","DQ",0,"DQ","DQ","DQ","DQ","DQ","DQ"]
[34,null,null,null,{"$f":"'Competitor List'!O39","v":304},null,null,null,null,null,null,null,null,null,null,null,null,null,"DQ","DQ",0,"DQ",{"$f":" IF(AND(ISNUMBER(AA60)),RANK(AA60,$AA$27:$AA$176,1)+SUMPRODUCT(($AA$27:$AA$176=AA60)*($Z$27:$Z$176>Z60))+SUMPRODUCT(($AA$27:$AA$176=AA60)*($Z$27:$Z$176=Z60)*($U$27:$U$176>U60))+SUMPRODUCT(($AA$27:$AA$176=AA60)*($Z$27:$Z$176=Z60)*($U$27:$U$176=U60)*($AC$27:$AC$176<AC60)),\"DQ\")","v":"DQ"},"DQ","DQ","DQ","DQ"]
[35,null,null,null,{"$f":"'Competitor List'!O40","v":305},null,null,null,null,null,null,null,null,null,null,null,null,null,"DQ","DQ",0,"DQ",{"$f":" IF(AND(ISNUMBER(AA61)),RANK(AA61,$AA$27:$AA$176,1)+SUMPRODUCT(($AA$27:$AA$176=AA61)*($Z$27:$Z$176>Z61))+SUMPRODUCT(($AA$27:$AA$176=AA61)*($Z$27:$Z$176=Z61)*($U$27:$U$176>U61))+SUMPRODUCT(($AA$27:$AA$176=AA61)*($Z$27:$Z$176=Z61)*($U$27:$U$176=U61)*($E$27:$E$176<E61)),\"DQ\")","v":"DQ"},"DQ","DQ","DQ","DQ"]
[36,null,null,null,{"$f":"'Competitor List'!O41","v":306},null,null,null,null,null,null,null,null,null,null,null,null,null,"DQ","DQ",0,"DQ","DQ","DQ","DQ","DQ","DQ"]
[37,null,null,null,{"$f":"'Competitor List'!O42","v":307},null,null,null,null,null,null,null,null,null,null,null,null,null,"DQ","DQ",0,"DQ",{"$f":" IF(AND(ISNUMBER(AA63)),RANK(AA63,$AA$27:$AA$176,1)+SUMPRODUCT(($AA$27:$AA$176=AA63)*($Z$27:$Z$176>Z63))+SUMPRODUCT(($AA$27:$AA$176=AA63)*($Z$27:$Z$176=Z63)*($U$27:$U$176>U63))+SUMPRODUCT(($AA$27:$AA$176=AA63)*($Z$27:$Z$176=Z63)*($U$27:$U$176=U63)*($AC$27:$AC$176<AC63)),\"DQ\")","v":"DQ"},"DQ","DQ","DQ","DQ"]
[38,null,null,null,{"$f":"'Competitor List'!O43","v":308},null,null,null,null,null,null,null,null,null,null,null,null,null,"DQ","DQ",0,"DQ",{"$f":" IF(AND(ISNUMBER(AA64)),RANK(AA64,$AA$27:$AA$176,1)+SUMPRODUCT(($AA$27:$AA$176=AA64)*($Z$27:$Z$176>Z64))+SUMPRODUCT(($AA$27:$AA$176=AA64)*($Z$27:$Z$176=Z64)*($U$27:$U$176>U64))+SUMPRODUCT(($AA$27:$AA$176=AA64)*($Z$27:$Z$176=Z64)*($U$27:$U$176=U64)*($E$27:$E$176<E64)),\"DQ\")","v":"DQ"},"DQ","DQ","DQ","DQ"]
[39,null,null,null,{"$f":"'Competitor List'!O44","v":309},null,null,null,null,null,null,null,null,null,null,null,null,null,"DQ","DQ",0,"DQ","DQ","DQ","DQ","DQ","DQ"]
[40,null,null,null,{"$f":"'Competitor List'!O45","v":310},null,null,null,null,null,null,null,null,null,null,null,null,null,"DQ","DQ",0,"DQ",{"$f":" IF(AND(ISNUMBER(AA66)),RANK(AA66,$AA$27:$AA$176,1)+SUMPRODUCT(($AA$27:$AA$176=AA66)*($Z$27:$Z$176>Z66))+SUMPRODUCT(($AA$27:$AA$176=AA66)*($Z$27:$Z$176=Z66)*($U$27:$U$176>U66))+SUMPRODUCT(($AA$27:$AA$176=AA66)*($Z$27:$Z$176=Z66)*($U$27:$U$176=U66)*($AC$27:$AC$176<AC66)),\"DQ\")","v":"DQ"},"DQ","DQ","DQ","DQ"]
[41,null,null,null,{"$f":"'Competitor List'!O46","v":311},null,null,null,null,null,null,null,null,null,null,null,null,null,"DQ","DQ",0,"DQ",{"$f":" IF(AND(ISNUMBER(AA67)),RANK(AA67,$AA$27:$AA$176,1)+SUMPRODUCT(($AA$27:$AA$176=AA67)*($Z$27:$Z$176>Z67))+SUMPRODUCT(($AA$27:$AA$176=AA67)*($Z$27:$Z$176=Z67)*($U$27:$U$176>U67))+SUMPRODUCT(($AA$27:$AA$176=AA67)*($Z$27:$Z$176=Z67)*($U$27:$U$176=U67)*($E$27:$E$176<E67)),\"DQ\")","v":"DQ"},"DQ","DQ","DQ","DQ"]
[42,null,null,null,{"$f":"'Competitor List'!O47","v":312},null,null,null,null,null,null,null,null,null,null,null,null,null,"DQ","DQ",0,"DQ","DQ","DQ","DQ","DQ","DQ"]
[43,null,null,null,{"$f":"'Competitor List'!O48","v":313},null,null,null,null,null,null,null,null,null,null,null,null,null,"DQ","DQ",0,"DQ",{"$f":" IF(AND(ISNUMBER(AA69)),RANK(AA69,$AA$27:$AA$176,1)+SUMPRODUCT(($AA$27:$AA$176=AA69)*($Z$27:$Z$176>Z69))+SUMPRODUCT(($AA$27:$AA$176=AA69)*($Z$27:$Z$176=Z69)*($U$27:$U$176>U69))+SUMPRODUCT(($AA$27:$AA$176=AA69)*($Z$27:$Z$176=Z69)*($U$27:$U$176=U69)*($AC$27:$AC$176<AC69)),\"DQ\")","v":"DQ"},"DQ","DQ","DQ","DQ"]
[44,null,null,null,{"$f":"'Competitor List'!O49","v":314},null,null,null,null,null,null,null,null,null,null,null,null,null,"DQ","DQ",0,"DQ",{"$f":" IF(AND(ISNUMBER(AA70)),RANK(AA70,$AA$27:$AA$176,1)+SUMPRODUCT(($AA$27:$AA$176=AA70)*($Z$27:$Z$176>Z70))+SUMPRODUCT(($AA$27:$AA$176=AA70)*($Z$27:$Z$176=Z70)*($U$27:$U$176>U70))+SUMPRODUCT(($AA$27:$AA$176=AA70)*($Z$27:$Z$176=Z70)*($U$27:$U$176=U70)*($E$27:$E$176<E70)),\"DQ\")","v":"DQ"},"DQ","DQ","DQ","DQ"]
[45,null,null,null,{"$f":"'Competitor List'!O50","v":315},null,null,null,null,null,null,null,null,null,null,null,null,null,"DQ","DQ",0,"DQ","DQ","DQ","DQ","DQ","DQ"]
[46,null,null,null,{"$f":"'Competitor List'!O51","v":401},null,null,null,null,null,null,null,null,null,null,null,null,null,"DQ","DQ",0,"DQ",{"$f":" IF(AND(ISNUMBER(AA72)),RANK(AA72,$AA$27:$AA$176,1)+SUMPRODUCT(($AA$27:$AA$176=AA72)*($Z$27:$Z$176>Z72))+SUMPRODUCT(($AA$27:$AA$176=AA72)*($Z$27:$Z$176=Z72)*($U$27:$U$176>U72))+SUMPRODUCT(($AA$27:$AA$176=AA72)*($Z$27:$Z$176=Z72)*($U$27:$U$176=U72)*($AC$27:$AC$176<AC72)),\"DQ\")","v":"DQ"},"DQ","DQ","DQ","DQ"]
[47,null,null,null,{"$f":"'Competitor List'!O52","v":402},null,null,null,null,null,null,null,null,null,null,null,null,null,"DQ","DQ",0,"DQ",{"$f":" IF(AND(ISNUMBER(AA73)),RANK(AA73,$AA$27:$AA$176,1)+SUMPRODUCT(($AA$27:$AA$176=AA73)*($Z$27:$Z$176>Z73))+SUMPRODUCT(($AA$27:$AA$176=AA73)*($Z$27:$Z$176=Z73)*($U$27:$U$176>U73))+SUMPRODUCT(($AA$27:$AA$176=AA73)*($Z$27:$Z$176=Z73)*($U$27:$U$176=U73)*($E$27:$E$176<E73)),\"DQ\")","v":"DQ"},"DQ","DQ","DQ","DQ"]
[48,null,null,null,{"$f":"'Competitor List'!O53","v":403},null,null,null,null,null,null,null,null,null,null,null,null,null,"DQ","DQ",0,"DQ","DQ","DQ","DQ","DQ","DQ"]
[49,null,null,null,{"$f":"'Competitor List'!O54","v":404},null,null,null,null,null,null,null,null,null,null,null,null,null,"DQ","DQ",0,"DQ",{"$f":" IF(AND(ISNUMBER(AA75)),RANK(AA75,$AA$27:$AA$176,1)+SUMPRODUCT(($AA$27:$AA$176=AA75)*($Z$27:$Z$176>Z75))+SUMPRODUCT(($AA$27:$AA$176=AA75)*($Z$27:$Z$176=Z75)*($U$27:$U$176>U75))+SUMPRODUCT(($AA$27:$AA$176=AA75)*($Z$27:$Z$176=Z75)*($U$27:$U$176=U75)*($AC$27:$AC$176<AC75)),\"DQ\")","v":"DQ"},"DQ","DQ","DQ","DQ"]
[50,null,null,null,{"$f":"'Competitor List'!O55","v":405},null,null,null,null,null,null,null,null,null,null,null,null,null,"DQ","DQ",0,"DQ",{"$f":" IF(AND(ISNUMBER(AA76)),RANK(AA76,$AA$27:$AA$176,1)+SUMPRODUCT(($AA$27:$AA$176=AA76)*($Z$27:$Z$176>Z76))+SUMPRODUCT(($AA$27:$AA$176=AA76)*($Z$27:$Z$176=Z76)*($U$27:$U$176>U76))+SUMPRODUCT(($AA$27:$AA$176=AA76)*($Z$27:$Z$176=Z76)*($U$27:$U$176=U76)*($E$27:$E$176<E76)),\"DQ\")","v":"DQ"},"DQ","DQ","DQ","DQ"]
[51,null,null,null,{"$f":"'Competitor List'!O56","v":406},null,null,null,null,null,null,null,null,null,null,null,null,null,"DQ","DQ",0,"DQ","DQ","DQ","DQ","DQ","DQ"]
[52,null,null,null,{"$f":"'Competitor List'!O57","v":407},null,null,null,null,null,null,null,null,null,null,null,null,null,"DQ","DQ",0,"DQ",{"$f":" IF(AND(ISNUMBER(AA78)),RANK(AA78,$AA$27:$AA$176,1)+SUMPRODUCT(($AA$27:$AA$176=AA78)*($Z$27:$Z$176>Z78))+SUMPRODUCT(($AA$27:$AA$176=AA78)*($Z$27:$Z$176=Z78)*($U$27:$U$176>U78))+SUMPRODUCT(($AA$27:$AA$176=AA78)*($Z$27:$Z$176=Z78)*($U$27:$U$176=U78)*($AC$27:$AC$176<AC78)),\"DQ\")","v":"DQ"},"DQ","DQ","DQ","DQ"]
[53,null,null,null,{"$f":"'Competitor List'!O58","v":408},null,null,null,null,null,null,null,null,null,null,null,null,null,"DQ","DQ",0,"DQ",{"$f":" IF(AND(ISNUMBER(AA79)),RANK(AA79,$AA$27:$AA$176,1)+SUMPRODUCT(($AA$27:$AA$176=AA79)*($Z$27:$Z$176>Z79))+SUMPRODUCT(($AA$27:$AA$176=AA79)*($Z$27:$Z$176=Z79)*($U$27:$U$176>U79))+SUMPRODUCT(($AA$27:$AA$176=AA79)*($Z$27:$Z$176=Z79)*($U$27:$U$176=U79)*($E$27:$E$176<E79)),\"DQ\")","v":"DQ"},"DQ","DQ","DQ","DQ"]
[54,null,null,null,{"$f":"'Competitor List'!O59","v":409},null,null,null,null,null,null,null,null,null,null,null,null,null,"DQ","DQ",0,"DQ","DQ","DQ","DQ","DQ","DQ"]
[55,null,null,null,{"$f":"'Competitor List'!O60","v":410},null,null,null,null,null,null,null,null,null,null,null,null,null,"DQ","DQ",0,"DQ",{"$f":" IF(AND(ISNUMBER(AA81)),RANK(AA81,$AA$27:$AA$176,1)+SUMPRODUCT(($AA$27:$AA$176=AA81)*($Z$27:$Z$176>Z81))+SUMPRODUCT(($AA$27:$AA$176=AA81)*($Z$27:$Z$176=Z81)*($U$27:$U$176>U81))+SUMPRODUCT(($AA$27:$AA$176=AA81)*($Z$27:$Z$176=Z81)*($U$27:$U$176=U81)*($AC$27:$AC$176<AC81)),\"DQ\")","v":"DQ"},"DQ","DQ","DQ","DQ"]
[56,null,null,null,{"$f":"'Competitor List'!O61","v":411},null,null,null,null,null,null,null,null,null,null,null,null,null,"DQ","DQ",0,"DQ",{"$f":" IF(AND(ISNUMBER(AA82)),RANK(AA82,$AA$27:$AA$176,1)+SUMPRODUCT(($AA$27:$AA$176=AA82)*($Z$27:$Z$176>Z82))+SUMPRODUCT(($AA$27:$AA$176=AA82)*($Z$27:$Z$176=Z82)*($U$27:$U$176>U82))+SUMPRODUCT(($AA$27:$AA$176=AA82)*($Z$27:$Z$176=Z82)*($U$27:$U$176=U82)*($E$27:$E$176<E82)),\"DQ\")","v":"DQ"},"DQ","DQ","DQ","DQ"]
[57,null,null,null,{"$f":"'Competitor List'!O62","v":412},null,null,null,null,null,null,null,null,null,null,null,null,null,"DQ","DQ",0,"DQ","DQ","DQ","DQ","DQ","DQ"]
[58,null,null,null,{"$f":"'Competitor List'!O63","v":413},null,null,null,null,null,null,null,null,null,null,null,null,null,"DQ","DQ",0,"DQ",{"$f":" IF(AND(ISNUMBER(AA84)),RANK(AA84,$AA$27:$AA$176,1)+SUMPRODUCT(($AA$27:$AA$176=AA84)*($Z$27:$Z$176>Z84))+SUMPRODUCT(($AA$27:$AA$176=AA84)*($Z$27:$Z$176=Z84)*($U$27:$U$176>U84))+SUMPRODUCT(($AA$27:$AA$176=AA84)*($Z$27:$Z$176=Z84)*($U$27:$U$176=U84)*($AC$27:$AC$176<AC84)),\"DQ\")","v":"DQ"},"DQ","DQ","DQ","DQ"]
[59,null,null,null,{"$f":"'Competitor List'!O64","v":414},null,null,null,null,null,null,null,null,null,null,null,null,null,"DQ","DQ",0,"DQ",{"$f":" IF(AND(ISNUMBER(AA85)),RANK(AA85,$AA$27:$AA$176,1)+SUMPRODUCT(($AA$27:$AA$176=AA85)*($Z$27:$Z$176>Z85))+SUMPRODUCT(($AA$27:$AA$176=AA85)*($Z$27:$Z$176=Z85)*($U$27:$U$176>U85))+SUMPRODUCT(($AA$27:$AA$176=AA85)*($Z$27:$Z$176=Z85)*($U$27:$U$176=U85)*($E$27:$E$176<E85)),\"DQ\")","v":"DQ"},"DQ","DQ","DQ","DQ"]
[60,null,null,null,{"$f":"'Competitor List'!O65","v":415},null,null,null,null,null,null,null,null,null,null,null,null,null,"DQ","DQ",0,"DQ","DQ","DQ","DQ","DQ","DQ"]
[61,null,null,null,{"$f":"'Competitor List'!O66","v":501},null,null,null,null,null,null,null,null,null,null,null,null,null,"DQ","DQ",0,"DQ",{"$f":" IF(AND(ISNUMBER(AA87)),RANK(AA87,$AA$27:$AA$176,1)+SUMPRODUCT(($AA$27:$AA$176=AA87)*($Z$27:$Z$176>Z87))+SUMPRODUCT(($AA$27:$AA$176=AA87)*($Z$27:$Z$176=Z87)*($U$27:$U$176>U87))+SUMPRODUCT(($AA$27:$AA$176=AA87)*($Z$27:$Z$176=Z87)*($U$27:$U$176=U87)*($AC$27:$AC$176<AC87)),\"DQ\")","v":"DQ"},"DQ","DQ","DQ","DQ"]
[62,null,null,null,{"$f":"'Competitor List'!O67","v":502},null,null,null,null,null,null,null,null,null,null,null,null,null,"DQ","DQ",0,"DQ",{"$f":" IF(AND(ISNUMBER(AA88)),RANK(AA88,$AA$27:$AA$176,1)+SUMPRODUCT(($AA$27:$AA$176=AA88)*($Z$27:$Z$176>Z88))+SUMPRODUCT(($AA$27:$AA$176=AA88)*($Z$27:$Z$176=Z88)*($U$27:$U$176>U88))+SUMPRODUCT(($AA$27:$AA$176=AA88)*($Z$27:$Z$176=Z88)*($U$27:$U$176=U88)*($E$27:$E$176<E88)),\"DQ\")","v":"DQ"},"DQ","DQ","DQ","DQ"]
[63,null,null,null,{"$f":"'Competitor List'!O68","v":503},null,null,null,null,null,null,null,null,null,null,null,null,null,"DQ","DQ",0,"DQ","DQ","DQ","DQ","DQ","DQ"]
[64,null,null,null,{"$f":"'Competitor List'!O69","v":504},null,null,null,null,null,null,null,null,null,null,null,null,null,"DQ","DQ",0,"DQ",{"$f":" IF(AND(ISNUMBER(AA90)),RANK(AA90,$AA$27:$AA$176,1)+SUMPRODUCT(($AA$27:$AA$176=AA90)*($Z$27:$Z$176>Z90))+SUMPRODUCT(($AA$27:$AA$176=AA90)*($Z$27:$Z$176=Z90)*($U$27:$U$176>U90))+SUMPRODUCT(($AA$27:$AA$176=AA90)*($Z$27:$Z$176=Z90)*($U$27:$U$176=U90)*($AC$27:$AC$176<AC90)),\"DQ\")","v":"DQ"},"DQ","DQ","DQ","DQ"]
[65,null,null,null,{"$f":"'Competitor List'!O70","v":505},null,null,null,null,null,null,null,null,null,null,null,null,null,"DQ","DQ",0,"DQ",{"$f":" IF(AND(ISNUMBER(AA91)),RANK(AA91,$AA$27:$AA$176,1)+SUMPRODUCT(($AA$27:$AA$176=AA91)*($Z$27:$Z$176>Z91))+SUMPRODUCT(($AA$27:$AA$176=AA91)*($Z$27:$Z$176=Z91)*($U$27:$U$176>U91))+SUMPRODUCT(($AA$27:$AA$176=AA91)*($Z$27:$Z$176=Z91)*($U$27:$U$176=U91)*($E$27:$E$176<E91)),\"DQ\")","v":"DQ"},{"$f":"IF(AND(ISNUMBER(T91),ISNUMBER(W91)), SUM(T91,W91),\"DQ\")","v":"DQ"},"DQ","DQ","DQ"]
[66,null,null,null,{"$f":"'Competitor List'!O71","v":506},null,null,null,null,null,null,null,null,null,null,null,null,null,{"$f":" IF(AND(SUM(G92,J92,M92,P92)>0,ISNONTEXT(G92),ISNONTEXT(J92),ISNONTEXT(M92),ISNONTEXT(P92)),SUM(G92,J92,M92,P92),\"DQ\")","v":"DQ"},"DQ",{"$f":"H92+K92+N92+Q92","v":0},{"$f":"IF(AND(SUM(I92,L92,O92,R92)>0,ISNONTEXT(I92),ISNONTEXT(L92),ISNONTEXT(O92),ISNONTEXT(R92)),(I92+L92+O92+R92) / ((I92<>0)+(L92<>0)+(O92<>0)+(R92<>0)),\"DQ\")","v":"DQ"},"DQ","DQ",{"$f":" IF(AND(ISNUMBER(X92)),RANK(X92,$X$27:$X$176,1)+SUMPRODUCT(($X$27:$X$176=X92)*($AA$27:$AA$176<AA92))+SUMPRODUCT(($X$27:$X$176=X92)*($AA$27:$AA$176=AA92)*($Z$27:$Z$176>Z92)+SUMPRODUCT(($X$27:$X$176=X92)*($AA$27:$AA$176=AA92)*($Z$27:$Z$176=Z92)*($U$27:$U$176>U92))),\"DQ\")","v":"DQ"},{"$f":" IF(AND(SUM(G92,J92,M92,P92)>0,ISNONTEXT(G92),ISNONTEXT(J92),ISNONTEXT(M92),ISNONTEXT(P92)),SUM(G92,J92,M92,P92),\"DQ\")","v":"DQ"},{"$f":"IF(AND(SUM(I92,L92,O92,R92)>0,ISNONTEXT(I92),ISNONTEXT(L92),ISNONTEXT(O92),ISNONTEXT(R92)),(I92+L92+O92+R92) / ((I92<>0)+(L92<>0)+(O92<>0)+(R92<>0)),\"DQ\")","v":"DQ"}]
[67,null,null,null,{"$f":"'Competitor List'!O72","v":507},null,null,null,null,null,null,null,null,null,null,null,null,null,"DQ","DQ",0,"DQ",{"$f":" IF(AND(ISNUMBER(AA93)),RANK(AA93,$AA$27:$AA$176,1)+SUMPRODUCT(($AA$27:$AA$176=AA93)*($Z$27:$Z$176>Z93))+SUMPRODUCT(($AA$27:$AA$176=AA93)*($Z$27:$Z$176=Z93)*($U$27:$U$176>U93))+SUMPRODUCT(($AA$27:$AA$176=AA93)*($Z$27:$Z$176=Z93)*($U$27:$U$176=U93)*($AC$27:$AC$176<AC93)),\"DQ\")","v":"DQ"},"DQ","DQ","DQ","DQ"]
[68,null,null,null,{"$f":"'Competitor List'!O73","v":508},null,null,null,null,null,null,null,null,null,null,null,null,null,"DQ",{"$f":" IF(AND(ISNUMBER(Z94)),RANK(Z94,$Z$27:$Z$176,0)+SUMPRODUCT(($Z$27:$Z$176=Z94)*($AA$27:$AA$176<AA94))+SUMPRODUCT(($Z$27:$Z$176=Z94)*($AA$27:$AA$176=AA94)*($U$27:$U$176>U94))+SUMPRODUCT(($Z$27:$Z$176=Z94)*($AA$27:$AA$176=AA94)*($U$27:$U$176=U94)*($AC$27:$AC$176<AC94)),\"DQ\")","v":"DQ"},0,"DQ",{"$f":" IF(AND(ISNUMBER(AA94)),RANK(AA94,$AA$27:$AA$176,1)+SUMPRODUCT(($AA$27:$AA$176=AA94)*($Z$27:$Z$176>Z94))+SUMPRODUCT(($AA$27:$AA$176=AA94)*($Z$27:$Z$176=Z94)*($U$27:$U$176>U94))+SUMPRODUCT(($AA$27:$AA$176=AA94)*($Z$27:$Z$176=Z94)*($U$27:$U$176=U94)*($E$27:$E$176<E94)),\"DQ\")","v":"DQ"},"DQ","DQ","DQ","DQ"]
[69,null,null,null,{"$f":"'Competitor List'!O74","v":509},null,null,null,null,null,null,null,null,null,null,null,null,null,"DQ","DQ",0,"DQ","DQ","DQ","DQ","DQ","DQ"]
[70,null,null,null,{"$f":"'Competitor List'!O75","v":510},null,null,null,null,null,null,null,null,null,null,null,null,null,"DQ","DQ",0,"DQ",{"$f":" IF(AND(ISNUMBER(AA96)),RANK(AA96,$AA$27:$AA$176,1)+SUMPRODUCT(($AA$27:$AA$176=AA96)*($Z$27:$Z$176>Z96))+SUMPRODUCT(($AA$27:$AA$176=AA96)*($Z$27:$Z$176=Z96)*($U$27:$U$176>U96))+SUMPRODUCT(($AA$27:$AA$176=AA96)*($Z$27:$Z$176=Z96)*($U$27:$U$176=U96)*($AC$27:$AC$176<AC96)),\"DQ\")","v":"DQ"},"DQ","DQ","DQ","DQ"]
[71,null,null,null,{"$f":"'Competitor List'!O76","v":511},null,null,null,null,null,null,null,null,null,null,null,null,null,"DQ","DQ",0,"DQ",{"$f":" IF(AND(ISNUMBER(AA97)),RANK(AA97,$AA$27:$AA$176,1)+SUMPRODUCT(($AA$27:$AA$176=AA97)*($Z$27:$Z$176>Z97))+SUMPRODUCT(($AA$27:$AA$176=AA97)*($Z$27:$Z$176=Z97)*($U$27:$U$176>U97))+SUMPRODUCT(($AA$27:$AA$176=AA97)*($Z$27:$Z$176=Z97)*($U$27:$U$176=U97)*($E$27:$E$176<E97)),\"DQ\")","v":"DQ"},"DQ","DQ","DQ","DQ"]
[72,null,null,null,{"$f":"'Competitor List'!O77","v":512},null,null,null,null,null,null,null,null,null,null,null,null,null,"DQ","DQ",0,"DQ","DQ","DQ","DQ","DQ","DQ"]
[73,null,null,null,{"$f":"'Competitor List'!O78","v":513},null,null,null,null,null,null,null,null,null,null,null,null,null,"DQ","DQ",0,"DQ",{"$f":" IF(AND(ISNUMBER(AA99)),RANK(AA99,$AA$27:$AA$176,1)+SUMPRODUCT(($AA$27:$AA$176=AA99)*($Z$27:$Z$176>Z99))+SUMPRODUCT(($AA$27:$AA$176=AA99)*($Z$27:$Z$176=Z99)*($U$27:$U$176>U99))+SUMPRODUCT(($AA$27:$AA$176=AA99)*($Z$27:$Z$176=Z99)*($U$27:$U$176=U99)*($AC$27:$AC$176<AC99)),\"DQ\")","v":"DQ"},"DQ","DQ","DQ","DQ"]
[74,null,null,null,{"$f":"'Competitor List'!O79","v":514},null,null,null,null,null,null,null,null,null,null,null,null,null,"DQ","DQ",0,"DQ",{"$f":" IF(AND(ISNUMBER(AA100)),RANK(AA100,$AA$27:$AA$176,1)+SUMPRODUCT(($AA$27:$AA$176=AA100)*($Z$27:$Z$176>Z100))+SUMPRODUCT(($AA$27:$AA$176=AA100)*($Z$27:$Z$176=Z100)*($U$27:$U$176>U100))+SUMPRODUCT(($AA$27:$AA$176=AA100)*($Z$27:$Z$176=Z100)*($U$27:$U$176=U100)*($E$27:$E$176<E100)),\"DQ\")","v":"DQ"},"DQ","DQ","DQ","DQ"]
[75,null,null,null,{"$f":"'Competitor List'!O80","v":515},null,null,null,null,null,null,null,null,null,null,null,null,null,"DQ","DQ",0,"DQ","DQ","DQ","DQ","DQ","DQ"]
[76,null,null,null,{"$f":"'Competitor List'!O81","v":601},null,null,null,null,null,null,null,null,null,null,null,null,null,"DQ","DQ",0,"DQ",{"$f":" IF(AND(ISNUMBER(AA102)),RANK(AA102,$AA$27:$AA$176,1)+SUMPRODUCT(($AA$27:$AA$176=AA102)*($Z$27:$Z$176>Z102))+SUMPRODUCT(($AA$27:$AA$176=AA102)*($Z$27:$Z$176=Z102)*($U$27:$U$176>U102))+SUMPRODUCT(($AA$27:$AA$176=AA102)*($Z$27:$Z$176=Z102)*($U$27:$U$176=U102)*($AC$27:$AC$176<AC102)),\"DQ\")","v":"DQ"},"DQ","DQ","DQ","DQ"]
[77,null,null,null,{"$f":"'Competitor List'!O82","v":602},null,null,null,null,null,null,null,null,null,null,null,null,null,"DQ","DQ",0,"DQ",{"$f":" IF(AND(ISNUMBER(AA103)),RANK(AA103,$AA$27:$AA$176,1)+SUMPRODUCT(($AA$27:$AA$176=AA103)*($Z$27:$Z$176>Z103))+SUMPRODUCT(($AA$27:$AA$176=AA103)*($Z$27:$Z$176=Z103)*($U$27:$U$176>U103))+SUMPRODUCT(($AA$27:$AA$176=AA103)*($Z$27:$Z$176=Z103)*($U$27:$U$176=U103)*($E$27:$E$176<E103)),\"DQ\")","v":"DQ"},"DQ","DQ","DQ","DQ"]
[78,null,null,null,{"$f":"'Competitor List'!O83","v":603},null,null,null,null,null,null,null,null,null,null,null,null,null,"DQ","DQ",0,"DQ","DQ","DQ","DQ","DQ","DQ"]
[79,null,null,null,{"$f":"'Competitor List'!O84","v":604},null,null,null,null,null,null,null,null,null,null,null,null,null,"DQ","DQ",0,"DQ",{"$f":" IF(AND(ISNUMBER(AA105)),RANK(AA105,$AA$27:$AA$176,1)+SUMPRODUCT(($AA$27:$AA$176=AA105)*($Z$27:$Z$176>Z105))+SUMPRODUCT(($AA$27:$AA$176=AA105)*($Z$27:$Z$176=Z105)*($U$27:$U$176>U105))+SUMPRODUCT(($AA$27:$AA$176=AA105)*($Z$27:$Z$176=Z105)*($U$27:$U$176=U105)*($AC$27:$AC$176<AC105)),\"DQ\")","v":"DQ"},"DQ","DQ","DQ","DQ"]
[80,null,null,null,{"$f":"'Competitor List'!O85","v":605},null,null,null,null,null,null,null,null,null,null,null,null,null,"DQ","DQ",0,"DQ",{"$f":" IF(AND(ISNUMBER(AA106)),RANK(AA106,$AA$27:$AA$176,1)+SUMPRODUCT(($AA$27:$AA$176=AA106)*($Z$27:$Z$176>Z106))+SUMPRODUCT(($AA$27:$AA$176=AA106)*($Z$27:$Z$176=Z106)*($U$27:$U$176>U106))+SUMPRODUCT(($AA$27:$AA$176=AA106)*($Z$27:$Z$176=Z106)*($U$27:$U$176=U106)*($E$27:$E$176<E106)),\"DQ\")","v":"DQ"},"DQ","DQ","DQ","DQ"]
[81,null,null,null,{"$f":"'Competitor List'!O86","v":606},null,null,null,null,null,null,null,null,null,null,null,null,null,"DQ","DQ",0,"DQ","DQ","DQ","DQ","DQ","DQ"]
[82,null,null,null,{"$f":"'Competitor List'!O87","v":607},null,null,null,null,null,null,null,null,null,null,null,null,null,"DQ","DQ",0,"DQ",{"$f":" IF(AND(ISNUMBER(AA108)),RANK(AA108,$AA$27:$AA$176,1)+SUMPRODUCT(($AA$27:$AA$176=AA108)*($Z$27:$Z$176>Z108))+SUMPRODUCT(($AA$27:$AA$176=AA108)*($Z$27:$Z$176=Z108)*($U$27:$U$176>U108))+SUMPRODUCT(($AA$27:$AA$176=AA108)*($Z$27:$Z$176=Z108)*($U$27:$U$176=U108)*($AC$27:$AC$176<AC108)),\"DQ\")","v":"DQ"},"DQ","DQ","DQ","DQ"]
[83,null,null,null,{"$f":"'Competitor List'!O88","v":608},null,null,null,null,null,null,null,null,null,null,null,null,null,"DQ","DQ",0,"DQ",{"$f":" IF(AND(ISNUMBER(AA109)),RANK(AA109,$AA$27:$AA$176,1)+SUMPRODUCT(($AA$27:$AA$176=AA109)*($Z$27:$Z$176>Z109))+SUMPRODUCT(($AA$27:$AA$176=AA109)*($Z$27:$Z$176=Z109)*($U$27:$U$176>U109))+SUMPRODUCT(($AA$27:$AA$176=AA109)*($Z$27:$Z$176=Z109)*($U$27:$U$176=U109)*($E$27:$E$176<E109)),\"DQ\")","v":"DQ"},"DQ","DQ","DQ","DQ"]
[84,null,null,null,{"$f":"'Competitor List'!O89","v":609},null,null,null,null,null,null,null,null,null,null,null,null,null,"DQ","DQ",0,"DQ","DQ","DQ","DQ","DQ","DQ"]
[85,null,null,null,{"$f":"'Competitor List'!O90","v":610},null,null,null,null,null,null,null,null,null,null,null,null,null,"DQ","DQ",0,"DQ",{"$f":" IF(AND(ISNUMBER(AA111)),RANK(AA111,$AA$27:$AA$176,1)+SUMPRODUCT(($AA$27:$AA$176=AA111)*($Z$27:$Z$176>Z111))+SUMPRODUCT(($AA$27:$AA$176=AA111)*($Z$27:$Z$176=Z111)*($U$27:$U$176>U111))+SUMPRODUCT(($AA$27:$AA$176=AA111)*($Z$27:$Z$176=Z111)*($U$27:$U$176=U111)*($AC$27:$AC$176<AC111)),\"DQ\")","v":"DQ"},"DQ","DQ","DQ","DQ"]
[86,null,null,null,{"$f":"'Competitor List'!O91","v":611},null,null,null,null,null,null,null,null,null,null,null,null,null,"DQ","DQ",0,"DQ",{"$f":" IF(AND(ISNUMBER(AA112)),RANK(AA112,$AA$27:$AA$176,1)+SUMPRODUCT(($AA$27:$AA$176=AA112)*($Z$27:$Z$176>Z112))+SUMPRODUCT(($AA$27:$AA$176=AA112)*($Z$27:$Z$176=Z112)*($U$27:$U$176>U112))+SUMPRODUCT(($AA$27:$AA$176=AA112)*($Z$27:$Z$176=Z112)*($U$27:$U$176=U112)*($E$27:$E$176<E112)),\"DQ\")","v":"DQ"},"DQ","DQ","DQ","DQ"]
[87,null,null,null,{"$f":"'Competitor List'!O92","v":612},null,null,null,null,null,null,null,null,null,null,null,null,null,"DQ","DQ",0,"DQ","DQ","DQ","DQ","DQ","DQ"]
[88,null,null,null,{"$f":"'Competitor List'!O93","v":613},null,null,null,null,null,null,null,null,null,null,null,null,null,"DQ","DQ",0,"DQ",{"$f":" IF(AND(ISNUMBER(AA114)),RANK(AA114,$AA$27:$AA$176,1)+SUMPRODUCT(($AA$27:$AA$176=AA114)*($Z$27:$Z$176>Z114))+SUMPRODUCT(($AA$27:$AA$176=AA114)*($Z$27:$Z$176=Z114)*($U$27:$U$176>U114))+SUMPRODUCT(($AA$27:$AA$176=AA114)*($Z$27:$Z$176=Z114)*($U$27:$U$176=U114)*($AC$27:$AC$176<AC114)),\"DQ\")","v":"DQ"},"DQ","DQ","DQ","DQ"]
[89,null,null,null,{"$f":"'Competitor List'!O94","v":614},null,null,null,null,null,null,null,null,null,null,null,null,null,"DQ","DQ",0,"DQ",{"$f":" IF(AND(ISNUMBER(AA115)),RANK(AA115,$AA$27:$AA$176,1)+SUMPRODUCT(($AA$27:$AA$176=AA115)*($Z$27:$Z$176>Z115))+SUMPRODUCT(($AA$27:$AA$176=AA115)*($Z$27:$Z$176=Z115)*($U$27:$U$176>U115))+SUMPRODUCT(($AA$27:$AA$176=AA115)*($Z$27:$Z$176=Z115)*($U$27:$U$176=U115)*($E$27:$E$176<E115)),\"DQ\")","v":"DQ"},"DQ","DQ","DQ","DQ"]
[90,null,null,null,{"$f":"'Competitor List'!O95","v":615},null,null,null,null,null,null,null,null,null,null,null,null,null,"DQ","DQ",0,"DQ","DQ","DQ","DQ","DQ","DQ"]
[91,null,null,null,{"$f":"'Competitor List'!O96","v":701},null,null,null,null,null,null,null,null,null,null,null,null,null,"DQ","DQ",0,"DQ",{"$f":" IF(AND(ISNUMBER(AA117)),RANK(AA117,$AA$27:$AA$176,1)+SUMPRODUCT(($AA$27:$AA$176=AA117)*($Z$27:$Z$176>Z117))+SUMPRODUCT(($AA$27:$AA$176=AA117)*($Z$27:$Z$176=Z117)*($U$27:$U$176>U117))+SUMPRODUCT(($AA$27:$AA$176=AA117)*($Z$27:$Z$176=Z117)*($U$27:$U$176=U117)*($AC$27:$AC$176<AC117)),\"DQ\")","v":"DQ"},"DQ","DQ","DQ","DQ"]
[92,null,null,null,{"$f":"'Competitor List'!O97","v":702},null,null,null,null,null,null,null,null,null,null,null,null,null,"DQ","DQ",0,"DQ",{"$f":" IF(AND(ISNUMBER(AA118)),RANK(AA118,$AA$27:$AA$176,1)+SUMPRODUCT(($AA$27:$AA$176=AA118)*($Z$27:$Z$176>Z118))+SUMPRODUCT(($AA$27:$AA$176=AA118)*($Z$27:$Z$176=Z118)*($U$27:$U$176>U118))+SUMPRODUCT(($AA$27:$AA$176=AA118)*($Z$27:$Z$176=Z118)*($U$27:$U$176=U118)*($E$27:$E$176<E118)),\"DQ\")","v":"DQ"},"DQ","DQ","DQ","DQ"]
[93,null,null,null,{"$f":"'Competitor List'!O98","v":703},null,null,null,null,null,null,null,null,null,null,null,null,null,"DQ","DQ",0,"DQ","DQ","DQ","DQ","DQ","DQ"]
[94,null,null,null,{"$f":"'Competitor List'!O99","v":704},null,null,null,null,null,null,null,null,null,null,null,null,null,"DQ","DQ",0,"DQ",{"$f":" IF(AND(ISNUMBER(AA120)),RANK(AA120,$AA$27:$AA$176,1)+SUMPRODUCT(($AA$27:$AA$176=AA120)*($Z$27:$Z$176>Z120))+SUMPRODUCT(($AA$27:$AA$176=AA120)*($Z$27:$Z$176=Z120)*($U$27:$U$176>U120))+SUMPRODUCT(($AA$27:$AA$176=AA120)*($Z$27:$Z$176=Z120)*($U$27:$U$176=U120)*($AC$27:$AC$176<AC120)),\"DQ\")","v":"DQ"},"DQ","DQ","DQ","DQ"]
[95,null,null,null,{"$f":"'Competitor List'!O100","v":705},null,null,null,null,null,null,null,null,null,null,null,null,null,"DQ","DQ",0,"DQ",{"$f":" IF(AND(ISNUMBER(AA121)),RANK(AA121,$AA$27:$AA$176,1)+SUMPRODUCT(($AA$27:$AA$176=AA121)*($Z$27:$Z$176>Z121))+SUMPRODUCT(($AA$27:$AA$176=AA121)*($Z$27:$Z$176=Z121)*($U$27:$U$176>U121))+SUMPRODUCT(($AA$27:$AA$176=AA121)*($Z$27:$Z$176=Z121)*($U$27:$U$176=U121)*($E$27:$E$176<E121)),\"DQ\")","v":"DQ"},"DQ","DQ","DQ","DQ"]
[96,null,null,null,{"$f":"'Competitor List'!O101","v":706},null,null,null,null,null,null,null,null,null,null,null,null,null,"DQ","DQ",0,"DQ","DQ","DQ","DQ","DQ","DQ"]
[97,null,null,null,{"$f":"'Competitor List'!O102","v":707},null,null,null,null,null,null,null,null,null,null,null,null,null,"DQ","DQ",0,"DQ",{"$f":" IF(AND(ISNUMBER(AA123)),RANK(AA123,$AA$27:$AA$176,1)+SUMPRODUCT(($AA$27:$AA$176=AA123)*($Z$27:$Z$176>Z123))+SUMPRODUCT(($AA$27:$AA$176=AA123)*($Z$27:$Z$176=Z123)*($U$27:$U$176>U123))+SUMPRODUCT(($AA$27:$AA$176=AA123)*($Z$27:$Z$176=Z123)*($U$27:$U$176=U123)*($AC$27:$AC$176<AC123)),\"DQ\")","v":"DQ"},"DQ","DQ","DQ","DQ"]
[98,null,null,null,{"$f":"'Competitor List'!O103","v":708},null,null,null,null,null,null,null,null,null,null,null,null,null,"DQ","DQ",0,"DQ",{"$f":" IF(AND(ISNUMBER(AA124)),RANK(AA124,$AA$27:$AA$176,1)+SUMPRODUCT(($AA$27:$AA$176=AA124)*($Z$27:$Z$176>Z124))+SUMPRODUCT(($AA$27:$AA$176=AA124)*($Z$27:$Z$176=Z124)*($U$27:$U$176>U124))+SUMPRODUCT(($AA$27:$AA$176=AA124)*($Z$27:$Z$176=Z124)*($U$27:$U$176=U124)*($E$27:$E$176<E124)),\"DQ\")","v":"DQ"},"DQ","DQ","DQ","DQ"]
[99,null,null,null,{"$f":"'Competitor List'!O104","v":709},null,null,null,null,null,null,null,null,null,null,null,null,null,"DQ","DQ",0,"DQ","DQ","DQ","DQ","DQ","DQ"]
[100,null,null,null,{"$f":"'Competitor List'!O105","v":710},null,null,null,null,null,null,null,null,null,null,null,null,null,"DQ","DQ",0,"DQ",{"$f":" IF(AND(ISNUMBER(AA126)),RANK(AA126,$AA$27:$AA$176,1)+SUMPRODUCT(($AA$27:$AA$176=AA126)*($Z$27:$Z$176>Z126))+SUMPRODUCT(($AA$27:$AA$176=AA126)*($Z$27:$Z$176=Z126)*($U$27:$U$176>U126))+SUMPRODUCT(($AA$27:$AA$176=AA126)*($Z$27:$Z$176=Z126)*($U$27:$U$176=U126)*($AC$27:$AC$176<AC126)),\"DQ\")","v":"DQ"},"DQ","DQ","DQ","DQ"]
[101,null,null,null,{"$f":"'Competitor List'!O106","v":711},null,null,null,null,null,null,null,null,null,null,null,null,null,"DQ","DQ",0,"DQ",{"$f":" IF(AND(ISNUMBER(AA127)),RANK(AA127,$AA$27:$AA$176,1)+SUMPRODUCT(($AA$27:$AA$176=AA127)*($Z$27:$Z$176>Z127))+SUMPRODUCT(($AA$27:$AA$176=AA127)*($Z$27:$Z$176=Z127)*($U$27:$U$176>U127))+SUMPRODUCT(($AA$27:$AA$176=AA127)*($Z$27:$Z$176=Z127)*($U$27:$U$176=U127)*($E$27:$E$176<E127)),\"DQ\")","v":"DQ"},"DQ","DQ","DQ","DQ"]
[102,null,null,null,{"$f":"'Competitor List'!O107","v":712},null,null,null,null,null,null,null,null,null,null,null,null,null,"DQ","DQ",0,"DQ","DQ","DQ","DQ","DQ","DQ"]
[103,null,null,null,{"$f":"'Competitor List'!O108","v":713},null,null,null,null,null,null,null,null,null,null,null,null,null,"DQ","DQ",0,"DQ",{"$f":" IF(AND(ISNUMBER(AA129)),RANK(AA129,$AA$27:$AA$176,1)+SUMPRODUCT(($AA$27:$AA$176=AA129)*($Z$27:$Z$176>Z129))+SUMPRODUCT(($AA$27:$AA$176=AA129)*($Z$27:$Z$176=Z129)*($U$27:$U$176>U129))+SUMPRODUCT(($AA$27:$AA$176=AA129)*($Z$27:$Z$176=Z129)*($U$27:$U$176=U129)*($AC$27:$AC$176<AC129)),\"DQ\")","v":"DQ"},"DQ","DQ","DQ","DQ"]
[104,null,null,null,{"$f":"'Competitor List'!O109","v":714},null,null,null,null,null,null,null,null,null,null,null,null,null,"DQ","DQ",0,"DQ",{"$f":" IF(AND(ISNUMBER(AA130)),RANK(AA130,$AA$27:$AA$176,1)+SUMPRODUCT(($AA$27:$AA$176=AA130)*($Z$27:$Z$176>Z130))+SUMPRODUCT(($AA$27:$AA$176=AA130)*($Z$27:$Z$176=Z130)*($U$27:$U$176>U130))+SUMPRODUCT(($AA$27:$AA$176=AA130)*($Z$27:$Z$176=Z130)*($U$27:$U$176=U130)*($E$27:$E$176<E130)),\"DQ\")","v":"DQ"},"DQ","DQ","DQ","DQ"]
[105,null,null,null,{"$f":"'Competitor List'!O110","v":715},null,null,null,null,null,null,null,null,null,null,null,null,null,"DQ","DQ",0,"DQ","DQ","DQ","DQ","DQ","DQ"]
[106,null,null,null,{"$f":"'Competitor List'!O111","v":801},null,null,null,null,null,null,null,null,null,null,null,null,null,"DQ","DQ",0,"DQ",{"$f":" IF(AND(ISNUMBER(AA132)),RANK(AA132,$AA$27:$AA$176,1)+SUMPRODUCT(($AA$27:$AA$176=AA132)*($Z$27:$Z$176>Z132))+SUMPRODUCT(($AA$27:$AA$176=AA132)*($Z$27:$Z$176=Z132)*($U$27:$U$176>U132))+SUMPRODUCT(($AA$27:$AA$176=AA132)*($Z$27:$Z$176=Z132)*($U$27:$U$176=U132)*($AC$27:$AC$176<AC132)),\"DQ\")","v":"DQ"},"DQ","DQ","DQ","DQ"]
[107,null,null,null,{"$f":"'Competitor List'!O112","v":802},null,null,null,null,null,null,null,null,null,null,null,null,null,"DQ","DQ",0,"DQ",{"$f":" IF(AND(ISNUMBER(AA133)),RANK(AA133,$AA$27:$AA$176,1)+SUMPRODUCT(($AA$27:$AA$176=AA133)*($Z$27:$Z$176>Z133))+SUMPRODUCT(($AA$27:$AA$176=AA133)*($Z$27:$Z$176=Z133)*($U$27:$U$176>U133))+SUMPRODUCT(($AA$27:$AA$176=AA133)*($Z$27:$Z$176=Z133)*($U$27:$U$176=U133)*($E$27:$E$176<E133)),\"DQ\")","v":"DQ"},"DQ","DQ","DQ","DQ"]
[108,null,null,null,{"$f":"'Competitor List'!O113","v":803},null,null,null,null,null,null,null,null,null,null,null,null,null,"DQ","DQ",0,"DQ","DQ","DQ","DQ","DQ","DQ"]
[109,null,null,null,{"$f":"'Competitor List'!O114","v":804},null,null,null,null,null,null,null,null,null,null,null,null,null,"DQ","DQ",0,"DQ",{"$f":" IF(AND(ISNUMBER(AA135)),RANK(AA135,$AA$27:$AA$176,1)+SUMPRODUCT(($AA$27:$AA$176=AA135)*($Z$27:$Z$176>Z135))+SUMPRODUCT(($AA$27:$AA$176=AA135)*($Z$27:$Z$176=Z135)*($U$27:$U$176>U135))+SUMPRODUCT(($AA$27:$AA$176=AA135)*($Z$27:$Z$176=Z135)*($U$27:$U$176=U135)*($AC$27:$AC$176<AC135)),\"DQ\")","v":"DQ"},"DQ","DQ","DQ","DQ"]
[110,null,null,null,{"$f":"'Competitor List'!O115","v":805},null,null,null,null,null,null,null,null,null,null,null,null,null,"DQ","DQ",0,"DQ",{"$f":" IF(AND(ISNUMBER(AA136)),RANK(AA136,$AA$27:$AA$176,1)+SUMPRODUCT(($AA$27:$AA$176=AA136)*($Z$27:$Z$176>Z136))+SUMPRODUCT(($AA$27:$AA$176=AA136)*($Z$27:$Z$176=Z136)*($U$27:$U$176>U136))+SUMPRODUCT(($AA$27:$AA$176=AA136)*($Z$27:$Z$176=Z136)*($U$27:$U$176=U136)*($E$27:$E$176<E136)),\"DQ\")","v":"DQ"},"DQ","DQ","DQ","DQ"]
[111,null,null,null,{"$f":"'Competitor List'!O116","v":806},null,null,null,null,null,null,null,null,null,null,null,null,null,"DQ","DQ",0,"DQ","DQ","DQ","DQ","DQ","DQ"]
[112,null,null,null,{"$f":"'Competitor List'!O117","v":807},null,null,null,null,null,null,null,null,null,null,null,null,null,"DQ","DQ",0,"DQ",{"$f":" IF(AND(ISNUMBER(AA138)),RANK(AA138,$AA$27:$AA$176,1)+SUMPRODUCT(($AA$27:$AA$176=AA138)*($Z$27:$Z$176>Z138))+SUMPRODUCT(($AA$27:$AA$176=AA138)*($Z$27:$Z$176=Z138)*($U$27:$U$176>U138))+SUMPRODUCT(($AA$27:$AA$176=AA138)*($Z$27:$Z$176=Z138)*($U$27:$U$176=U138)*($AC$27:$AC$176<AC138)),\"DQ\")","v":"DQ"},"DQ","DQ","DQ","DQ"]
[113,null,null,null,{"$f":"'Competitor List'!O118","v":808},null,null,null,null,null,null,null,null,null,null,null,null,null,"DQ","DQ",0,"DQ",{"$f":" IF(AND(ISNUMBER(AA139)),RANK(AA139,$AA$27:$AA$176,1)+SUMPRODUCT(($AA$27:$AA$176=AA139)*($Z$27:$Z$176>Z139))+SUMPRODUCT(($AA$27:$AA$176=AA139)*($Z$27:$Z$176=Z139)*($U$27:$U$176>U139))+SUMPRODUCT(($AA$27:$AA$176=AA139)*($Z$27:$Z$176=Z139)*($U$27:$U$176=U139)*($E$27:$E$176<E139)),\"DQ\")","v":"DQ"},"DQ","DQ","DQ","DQ"]
[114,null,null,null,{"$f":"'Competitor List'!O119","v":809},null,null,null,null,null,null,null,null,null,null,null,null,null,"DQ","DQ",0,"DQ","DQ","DQ","DQ","DQ","DQ"]
[115,null,null,null,{"$f":"'Competitor List'!O120","v":810},null,null,null,null,null,null,null,null,null,null,null,null,null,"DQ","DQ",0,"DQ",{"$f":" IF(AND(ISNUMBER(AA141)),RANK(AA141,$AA$27:$AA$176,1)+SUMPRODUCT(($AA$27:$AA$176=AA141)*($Z$27:$Z$176>Z141))+SUMPRODUCT(($AA$27:$AA$176=AA141)*($Z$27:$Z$176=Z141)*($U$27:$U$176>U141))+SUMPRODUCT(($AA$27:$AA$176=AA141)*($Z$27:$Z$176=Z141)*($U$27:$U$176=U141)*($AC$27:$AC$176<AC141)),\"DQ\")","v":"DQ"},"DQ","DQ","DQ","DQ"]
[116,null,null,null,{"$f":"'Competitor List'!O121","v":811},null,null,null,null,null,null,null,null,null,null,null,null,null,"DQ","DQ",0,"DQ",{"$f":" IF(AND(ISNUMBER(AA142)),RANK(AA142,$AA$27:$AA$176,1)+SUMPRODUCT(($AA$27:$AA$176=AA142)*($Z$27:$Z$176>Z142))+SUMPRODUCT(($AA$27:$AA$176=AA142)*($Z$27:$Z$176=Z142)*($U$27:$U$176>U142))+SUMPRODUCT(($AA$27:$AA$176=AA142)*($Z$27:$Z$176=Z142)*($U$27:$U$176=U142)*($E$27:$E$176<E142)),\"DQ\")","v":"DQ"},"DQ","DQ","DQ","DQ"]
[117,null,null,null,{"$f":"'Competitor List'!O122","v":812},null,null,null,null,null,null,null,null,null,null,null,null,null,"DQ","DQ",0,"DQ","DQ","DQ","DQ","DQ","DQ"]
[118,null,null,null,{"$f":"'Competitor List'!O123","v":813},null,null,null,null,null,null,null,null,null,null,null,null,null,"DQ","DQ",0,"DQ",{"$f":" IF(AND(ISNUMBER(AA144)),RANK(AA144,$AA$27:$AA$176,1)+SUMPRODUCT(($AA$27:$AA$176=AA144)*($Z$27:$Z$176>Z144))+SUMPRODUCT(($AA$27:$AA$176=AA144)*($Z$27:$Z$176=Z144)*($U$27:$U$176>U144))+SUMPRODUCT(($AA$27:$AA$176=AA144)*($Z$27:$Z$176=Z144)*($U$27:$U$176=U144)*($AC$27:$AC$176<AC144)),\"DQ\")","v":"DQ"},"DQ","DQ","DQ","DQ"]
[119,null,null,null,{"$f":"'Competitor List'!O124","v":814},null,null,null,null,null,null,null,null,null,null,null,null,null,"DQ","DQ",0,"DQ",{"$f":" IF(AND(ISNUMBER(AA145)),RANK(AA145,$AA$27:$AA$176,1)+SUMPRODUCT(($AA$27:$AA$176=AA145)*($Z$27:$Z$176>Z145))+SUMPRODUCT(($AA$27:$AA$176=AA145)*($Z$27:$Z$176=Z145)*($U$27:$U$176>U145))+SUMPRODUCT(($AA$27:$AA$176=AA145)*($Z$27:$Z$176=Z145)*($U$27:$U$176=U145)*($E$27:$E$176<E145)),\"DQ\")","v":"DQ"},"DQ","DQ","DQ","DQ"]
[120,null,null,null,{"$f":"'Competitor List'!O125","v":815},null,null,null,null,null,null,null,null,null,null,null,null,null,"DQ","DQ",0,"DQ","DQ","DQ","DQ","DQ","DQ"]
[121,null,null,null,{"$f":"'Competitor List'!O126","v":901},null,null,null,null,null,null,null,null,null,null,null,null,null,"DQ","DQ",0,"DQ",{"$f":" IF(AND(ISNUMBER(AA147)),RANK(AA147,$AA$27:$AA$176,1)+SUMPRODUCT(($AA$27:$AA$176=AA147)*($Z$27:$Z$176>Z147))+SUMPRODUCT(($AA$27:$AA$176=AA147)*($Z$27:$Z$176=Z147)*($U$27:$U$176>U147))+SUMPRODUCT(($AA$27:$AA$176=AA147)*($Z$27:$Z$176=Z147)*($U$27:$U$176=U147)*($AC$27:$AC$176<AC147)),\"DQ\")","v":"DQ"},"DQ","DQ","DQ","DQ"]
[122,null,null,null,{"$f":"'Competitor List'!O127","v":902},null,null,null,null,null,null,null,null,null,null,null,null,null,"DQ","DQ",0,"DQ",{"$f":" IF(AND(ISNUMBER(AA148)),RANK(AA148,$AA$27:$AA$176,1)+SUMPRODUCT(($AA$27:$AA$176=AA148)*($Z$27:$Z$176>Z148))+SUMPRODUCT(($AA$27:$AA$176=AA148)*($Z$27:$Z$176=Z148)*($U$27:$U$176>U148))+SUMPRODUCT(($AA$27:$AA$176=AA148)*($Z$27:$Z$176=Z148)*($U$27:$U$176=U148)*($E$27:$E$176<E148)),\"DQ\")","v":"DQ"},"DQ","DQ","DQ","DQ"]
[123,null,null,null,{"$f":"'Competitor List'!O128","v":903},null,null,null,null,null,null,null,null,null,null,null,null,null,"DQ","DQ",0,"DQ","DQ","DQ","DQ","DQ","DQ"]
[124,null,null,null,{"$f":"'Competitor List'!O129","v":904},null,null,null,null,null,null,null,null,null,null,null,null,null,"DQ","DQ",0,"DQ",{"$f":" IF(AND(ISNUMBER(AA150)),RANK(AA150,$AA$27:$AA$176,1)+SUMPRODUCT(($AA$27:$AA$176=AA150)*($Z$27:$Z$176>Z150))+SUMPRODUCT(($AA$27:$AA$176=AA150)*($Z$27:$Z$176=Z150)*($U$27:$U$176>U150))+SUMPRODUCT(($AA$27:$AA$176=AA150)*($Z$27:$Z$176=Z150)*($U$27:$U$176=U150)*($AC$27:$AC$176<AC150)),\"DQ\")","v":"DQ"},"DQ","DQ","DQ","DQ"]
[125,null,null,null,{"$f":"'Competitor List'!O130","v":905},null,null,null,null,null,null,null,null,null,null,null,null,null,"DQ","DQ",0,"DQ",{"$f":" IF(AND(ISNUMBER(AA151)),RANK(AA151,$AA$27:$AA$176,1)+SUMPRODUCT(($AA$27:$AA$176=AA151)*($Z$27:$Z$176>Z151))+SUMPRODUCT(($AA$27:$AA$176=AA151)*($Z$27:$Z$176=Z151)*($U$27:$U$176>U151))+SUMPRODUCT(($AA$27:$AA$176=AA151)*($Z$27:$Z$176=Z151)*($U$27:$U$176=U151)*($E$27:$E$176<E151)),\"DQ\")","v":"DQ"},"DQ","DQ","DQ","DQ"]
[126,null,null,null,{"$f":"'Competitor List'!O131","v":906},null,null,null,null,null,null,null,null,null,null,null,null,null,"DQ","DQ",0,"DQ","DQ","DQ","DQ","DQ","DQ"]
[127,null,null,null,{"$f":"'Competitor List'!O132","v":907},null,null,null,null,null,null,null,null,null,null,null,null,null,"DQ","DQ",0,"DQ",{"$f":" IF(AND(ISNUMBER(AA153)),RANK(AA153,$AA$27:$AA$176,1)+SUMPRODUCT(($AA$27:$AA$176=AA153)*($Z$27:$Z$176>Z153))+SUMPRODUCT(($AA$27:$AA$176=AA153)*($Z$27:$Z$176=Z153)*($U$27:$U$176>U153))+SUMPRODUCT(($AA$27:$AA$176=AA153)*($Z$27:$Z$176=Z153)*($U$27:$U$176=U153)*($AC$27:$AC$176<AC153)),\"DQ\")","v":"DQ"},"DQ","DQ","DQ","DQ"]
[128,null,null,null,{"$f":"'Competitor List'!O133","v":908},null,null,null,null,null,null,null,null,null,null,null,null,null,"DQ","DQ",0,"DQ",{"$f":" IF(AND(ISNUMBER(AA154)),RANK(AA154,$AA$27:$AA$176,1)+SUMPRODUCT(($AA$27:$AA$176=AA154)*($Z$27:$Z$176>Z154))+SUMPRODUCT(($AA$27:$AA$176=AA154)*($Z$27:$Z$176=Z154)*($U$27:$U$176>U154))+SUMPRODUCT(($AA$27:$AA$176=AA154)*($Z$27:$Z$176=Z154)*($U$27:$U$176=U154)*($E$27:$E$176<E154)),\"DQ\")","v":"DQ"},"DQ","DQ","DQ","DQ"]
[129,null,null,null,{"$f":"'Competitor List'!O134","v":909},null,null,null,null,null,null,null,null,null,null,null,null,null,"DQ","DQ",0,"DQ","DQ",{"$f":"IF(AND(ISNUMBER(T155),ISNUMBER(W155)), SUM(T155,W155),\"DQ\")","v":"DQ"},"DQ","DQ","DQ"]
[130,null,null,null,{"$f":"'Competitor List'!O135","v":910},null,null,null,null,null,null,null,null,null,null,null,null,null,{"$f":" IF(AND(SUM(G156,J156,M156,P156)>0,ISNONTEXT(G156),ISNONTEXT(J156),ISNONTEXT(M156),ISNONTEXT(P156)),SUM(G156,J156,M156,P156),\"DQ\")","v":"DQ"},"DQ",{"$f":"H156+K156+N156+Q156","v":0},{"$f":"IF(AND(SUM(I156,L156,O156,R156)>0,ISNONTEXT(I156),ISNONTEXT(L156),ISNONTEXT(O156),ISNONTEXT(R156)),(I156+L156+O156+R156) / ((I156<>0)+(L156<>0)+(O156<>0)+(R156<>0)),\"DQ\")","v":"DQ"},{"$f":" IF(AND(ISNUMBER(AA156)),RANK(AA156,$AA$27:$AA$176,1)+SUMPRODUCT(($AA$27:$AA$176=AA156)*($Z$27:$Z$176>Z156))+SUMPRODUCT(($AA$27:$AA$176=AA156)*($Z$27:$Z$176=Z156)*($U$27:$U$176>U156))+SUMPRODUCT(($AA$27:$AA$176=AA156)*($Z$27:$Z$176=Z156)*($U$27:$U$176=U156)*($AC$27:$AC$176<AC156)),\"DQ\")","v":"DQ"},"DQ",{"$f":" IF(AND(ISNUMBER(X156)),RANK(X156,$X$27:$X$176,1)+SUMPRODUCT(($X$27:$X$176=X156)*($AA$27:$AA$176<AA156))+SUMPRODUCT(($X$27:$X$176=X156)*($AA$27:$AA$176=AA156)*($Z$27:$Z$176>Z156)+SUMPRODUCT(($X$27:$X$176=X156)*($AA$27:$AA$176=AA156)*($Z$27:$Z$176=Z156)*($U$27:$U$176>U156))),\"DQ\")","v":"DQ"},{"$f":" IF(AND(SUM(G156,J156,M156,P156)>0,ISNONTEXT(G156),ISNONTEXT(J156),ISNONTEXT(M156),ISNONTEXT(P156)),SUM(G156,J156,M156,P156),\"DQ\")","v":"DQ"},{"$f":"IF(AND(SUM(I156,L156,O156,R156)>0,ISNONTEXT(I156),ISNONTEXT(L156),ISNONTEXT(O156),ISNONTEXT(R156)),(I156+L156+O156+R156) / ((I156<>0)+(L156<>0)+(O156<>0)+(R156<>0)),\"DQ\")","v":"DQ"}]
[131,null,null,null,{"$f":"'Competitor List'!O136","v":911},null,null,null,null,null,null,null,null,null,null,null,null,null,"DQ","DQ",0,"DQ",{"$f":" IF(AND(ISNUMBER(AA157)),RANK(AA157,$AA$27:$AA$176,1)+SUMPRODUCT(($AA$27:$AA$176=AA157)*($Z$27:$Z$176>Z157))+SUMPRODUCT(($AA$27:$AA$176=AA157)*($Z$27:$Z$176=Z157)*($U$27:$U$176>U157))+SUMPRODUCT(($AA$27:$AA$176=AA157)*($Z$27:$Z$176=Z157)*($U$27:$U$176=U157)*($E$27:$E$176<E157)),\"DQ\")","v":"DQ"},"DQ","DQ","DQ","DQ"]
[132,null,null,null,{"$f":"'Competitor List'!O137","v":912},null,null,null,null,null,null,null,null,null,null,null,null,null,"DQ",{"$f":" IF(AND(ISNUMBER(Z158)),RANK(Z158,$Z$27:$Z$176,0)+SUMPRODUCT(($Z$27:$Z$176=Z158)*($AA$27:$AA$176<AA158))+SUMPRODUCT(($Z$27:$Z$176=Z158)*($AA$27:$AA$176=AA158)*($U$27:$U$176>U158))+SUMPRODUCT(($Z$27:$Z$176=Z158)*($AA$27:$AA$176=AA158)*($U$27:$U$176=U158)*($AC$27:$AC$176<AC158)),\"DQ\")","v":"DQ"},0,"DQ","DQ","DQ","DQ","DQ","DQ"]
[133,null,null,null,{"$f":"'Competitor List'!O138","v":913},null,null,null,null,null,null,null,null,null,null,null,null,null,"DQ","DQ",0,"DQ",{"$f":" IF(AND(ISNUMBER(AA159)),RANK(AA159,$AA$27:$AA$176,1)+SUMPRODUCT(($AA$27:$AA$176=AA159)*($Z$27:$Z$176>Z159))+SUMPRODUCT(($AA$27:$AA$176=AA159)*($Z$27:$Z$176=Z159)*($U$27:$U$176>U159))+SUMPRODUCT(($AA$27:$AA$176=AA159)*($Z$27:$Z$176=Z159)*($U$27:$U$176=U159)*($AC$27:$AC$176<AC159)),\"DQ\")","v":"DQ"},"DQ","DQ","DQ","DQ"]
[134,null,null,null,{"$f":"'Competitor List'!O139","v":914},null,null,null,null,null,null,null,null,null,null,null,null,null,"DQ","DQ",0,"DQ",{"$f":" IF(AND(ISNUMBER(AA160)),RANK(AA160,$AA$27:$AA$176,1)+SUMPRODUCT(($AA$27:$AA$176=AA160)*($Z$27:$Z$176>Z160))+SUMPRODUCT(($AA$27:$AA$176=AA160)*($Z$27:$Z$176=Z160)*($U$27:$U$176>U160))+SUMPRODUCT(($AA$27:$AA$176=AA160)*($Z$27:$Z$176=Z160)*($U$27:$U$176=U160)*($E$27:$E$176<E160)),\"DQ\")","v":"DQ"},"DQ","DQ","DQ","DQ"]
[135,null,null,null,{"$f":"'Competitor List'!O140","v":915},null,null,null,null,null,null,null,null,null,null,null,null,null,"DQ","DQ",0,"DQ","DQ","DQ","DQ","DQ","DQ"]
[136,null,null,null,{"$f":"'Competitor List'!O141","v":1001},null,null,null,null,null,null,null,null,null,null,null,null,null,"DQ","DQ",0,"DQ",{"$f":" IF(AND(ISNUMBER(AA162)),RANK(AA162,$AA$27:$AA$176,1)+SUMPRODUCT(($AA$27:$AA$176=AA162)*($Z$27:$Z$176>Z162))+SUMPRODUCT(($AA$27:$AA$176=AA162)*($Z$27:$Z$176=Z162)*($U$27:$U$176>U162))+SUMPRODUCT(($AA$27:$AA$176=AA162)*($Z$27:$Z$176=Z162)*($U$27:$U$176=U162)*($AC$27:$AC$176<AC162)),\"DQ\")","v":"DQ"},"DQ","DQ","DQ","DQ"]
[137,null,null,null,{"$f":"'Competitor List'!O142","v":1002},null,null,null,null,null,null,null,null,null,null,null,null,null,"DQ","DQ",0,"DQ",{"$f":" IF(AND(ISNUMBER(AA163)),RANK(AA163,$AA$27:$AA$176,1)+SUMPRODUCT(($AA$27:$AA$176=AA163)*($Z$27:$Z$176>Z163))+SUMPRODUCT(($AA$27:$AA$176=AA163)*($Z$27:$Z$176=Z163)*($U$27:$U$176>U163))+SUMPRODUCT(($AA$27:$AA$176=AA163)*($Z$27:$Z$176=Z163)*($U$27:$U$176=U163)*($E$27:$E$176<E163)),\"DQ\")","v":"DQ"},"DQ","DQ","DQ","DQ"]
[138,null,null,null,{"$f":"'Competitor List'!O143","v":1003},null,null,null,null,null,null,null,null,null,null,null,null,null,"DQ","DQ",0,"DQ","DQ","DQ","DQ","DQ","DQ"]
[139,null,null,null,{"$f":"'Competitor List'!O144","v":1004},null,null,null,null,null,null,null,null,null,null,null,null,null,"DQ","DQ",0,"DQ",{"$f":" IF(AND(ISNUMBER(AA165)),RANK(AA165,$AA$27:$AA$176,1)+SUMPRODUCT(($AA$27:$AA$176=AA165)*($Z$27:$Z$176>Z165))+SUMPRODUCT(($AA$27:$AA$176=AA165)*($Z$27:$Z$176=Z165)*($U$27:$U$176>U165))+SUMPRODUCT(($AA$27:$AA$176=AA165)*($Z$27:$Z$176=Z165)*($U$27:$U$176=U165)*($AC$27:$AC$176<AC165)),\"DQ\")","v":"DQ"},"DQ","DQ","DQ","DQ"]
[140,null,null,null,{"$f":"'Competitor List'!O145","v":1005},null,null,null,null,null,null,null,null,null,null,null,null,null,"DQ","DQ",0,"DQ",{"$f":" IF(AND(ISNUMBER(AA166)),RANK(AA166,$AA$27:$AA$176,1)+SUMPRODUCT(($AA$27:$AA$176=AA166)*($Z$27:$Z$176>Z166))+SUMPRODUCT(($AA$27:$AA$176=AA166)*($Z$27:$Z$176=Z166)*($U$27:$U$176>U166))+SUMPRODUCT(($AA$27:$AA$176=AA166)*($Z$27:$Z$176=Z166)*($U$27:$U$176=U166)*($E$27:$E$176<E166)),\"DQ\")","v":"DQ"},"DQ","DQ","DQ","DQ"]
[141,null,null,null,{"$f":"'Competitor List'!O146","v":1006},null,null,null,null,null,null,null,null,null,null,null,null,null,"DQ","DQ",0,"DQ","DQ","DQ","DQ","DQ","DQ"]
[142,null,null,null,{"$f":"'Competitor List'!O147","v":1007},null,null,null,null,null,null,null,null,null,null,null,null,null,"DQ","DQ",0,"DQ",{"$f":" IF(AND(ISNUMBER(AA168)),RANK(AA168,$AA$27:$AA$176,1)+SUMPRODUCT(($AA$27:$AA$176=AA168)*($Z$27:$Z$176>Z168))+SUMPRODUCT(($AA$27:$AA$176=AA168)*($Z$27:$Z$176=Z168)*($U$27:$U$176>U168))+SUMPRODUCT(($AA$27:$AA$176=AA168)*($Z$27:$Z$176=Z168)*($U$27:$U$176=U168)*($AC$27:$AC$176<AC168)),\"DQ\")","v":"DQ"},"DQ","DQ","DQ","DQ"]
[143,null,null,null,{"$f":"'Competitor List'!O148","v":1008},null,null,null,null,null,null,null,null,null,null,null,null,null,"DQ","DQ",0,"DQ",{"$f":" IF(AND(ISNUMBER(AA169)),RANK(AA169,$AA$27:$AA$176,1)+SUMPRODUCT(($AA$27:$AA$176=AA169)*($Z$27:$Z$176>Z169))+SUMPRODUCT(($AA$27:$AA$176=AA169)*($Z$27:$Z$176=Z169)*($U$27:$U$176>U169))+SUMPRODUCT(($AA$27:$AA$176=AA169)*($Z$27:$Z$176=Z169)*($U$27:$U$176=U169)*($E$27:$E$176<E169)),\"DQ\")","v":"DQ"},"DQ","DQ","DQ","DQ"]
[144,null,null,null,{"$f":"'Competitor List'!O149","v":1009},null,null,null,null,null,null,null,null,null,null,null,null,null,"DQ","DQ",0,"DQ","DQ","DQ","DQ","DQ","DQ"]
[145,null,null,null,{"$f":"'Competitor List'!O150","v":1010},null,null,null,null,null,null,null,null,null,null,null,null,null,"DQ","DQ",0,"DQ",{"$f":" IF(AND(ISNUMBER(AA171)),RANK(AA171,$AA$27:$AA$176,1)+SUMPRODUCT(($AA$27:$AA$176=AA171)*($Z$27:$Z$176>Z171))+SUMPRODUCT(($AA$27:$AA$176=AA171)*($Z$27:$Z$176=Z171)*($U$27:$U$176>U171))+SUMPRODUCT(($AA$27:$AA$176=AA171)*($Z$27:$Z$176=Z171)*($U$27:$U$176=U171)*($AC$27:$AC$176<AC171)),\"DQ\")","v":"DQ"},"DQ","DQ","DQ","DQ"]
[146,null,null,null,{"$f":"'Competitor List'!O151","v":1011},null,null,null,null,null,null,null,null,null,null,null,null,null,"DQ","DQ",0,"DQ",{"$f":" IF(AND(ISNUMBER(AA172)),RANK(AA172,$AA$27:$AA$176,1)+SUMPRODUCT(($AA$27:$AA$176=AA172)*($Z$27:$Z$176>Z172))+SUMPRODUCT(($AA$27:$AA$176=AA172)*($Z$27:$Z$176=Z172)*($U$27:$U$176>U172))+SUMPRODUCT(($AA$27:$AA$176=AA172)*($Z$27:$Z$176=Z172)*($U$27:$U$176=U172)*($E$27:$E$176<E172)),\"DQ\")","v":"DQ"},"DQ","DQ","DQ","DQ"]
[147,null,null,null,{"$f":"'Competitor List'!O152","v":1012},null,null,null,null,null,null,null,null,null,null,null,null,null,"DQ","DQ",0,"DQ","DQ","DQ","DQ","DQ","DQ"]
[148,null,null,null,{"$f":"'Competitor List'!O153","v":1013},null,null,null,null,null,null,null,null,null,null,null,null,null,"DQ","DQ",0,"DQ",{"$f":" IF(AND(ISNUMBER(AA174)),RANK(AA174,$AA$27:$AA$176,1)+SUMPRODUCT(($AA$27:$AA$176=AA174)*($Z$27:$Z$176>Z174))+SUMPRODUCT(($AA$27:$AA$176=AA174)*($Z$27:$Z$176=Z174)*($U$27:$U$176>U174))+SUMPRODUCT(($AA$27:$AA$176=AA174)*($Z$27:$Z$176=Z174)*($U$27:$U$176=U174)*($AC$27:$AC$176<AC174)),\"DQ\")","v":"DQ"},"DQ","DQ","DQ","DQ"]
[149,null,null,null,{"$f":"'Competitor List'!O154","v":1014},null,null,null,null,null,null,null,null,null,null,null,null,null,"DQ","DQ",0,"DQ",{"$f":" IF(AND(ISNUMBER(AA175)),RANK(AA175,$AA$27:$AA$176,1)+SUMPRODUCT(($AA$27:$AA$176=AA175)*($Z$27:$Z$176>Z175))+SUMPRODUCT(($AA$27:$AA$176=AA175)*($Z$27:$Z$176=Z175)*($U$27:$U$176>U175))+SUMPRODUCT(($AA$27:$AA$176=AA175)*($Z$27:$Z$176=Z175)*($U$27:$U$176=U175)*($E$27:$E$176<E175)),\"DQ\")","v":"DQ"},"DQ","DQ","DQ","DQ"]
[150,null,null,null,{"$f":"'Competitor List'!O155","v":1015},null,null,null,null,null,null,null,null,null,null,null,null,null,"DQ","DQ",0,"DQ","DQ","DQ","DQ","DQ","DQ"]

{"sheet":"LG Equip","index":4,"n_rows":155,"n_cols":28,"rows_kept":155,"cut":false,"hidden":false,"merged":[]}
[null,null,null,null,null,null,{"$f":"'Competitor List'!B2","v":"Vapor Trail Valley Spickard, Mo"},null,null,null,null,null,null,"Caliber",null,"Action",null,"Barrel",null,"Stock",null,"Scope",null,"Powder",null,"Bullet",null,"Gunsmith"]
[null,null,null,null,null,null,"Light Gun Equipment List"]
[null,null,null,null,null,null,{"$f":"'Competitor List'!B3","v":"2023-03-15"},null,null,null,null,null,null,"6 BRA",null,"Bat",null,"Kreiger",null,"Wheeler",null,"Nightforce",null,"Varget",null,"Vapor Trail",null,"Self"]
[null,null,null,null,null,null,null,null,null,null,null,null,null,"6 DASHER",null,"Borden",null,"Brux",null,"Self",null,"Nightforce 12-42",null,"H4895",null,"Barts",null,"Gritters"]
[null,"Competitor",null,"Caliber","Action","Barrel","Stock","Scope","Powder","Bullet","Gunsmith",null,null,"6 BR",null,"Defiance",null,"Rock Creek",null,"McMillan",null,"Nightforce 15-55",null,"H4350",null,"Roy Hunter",null,"Savage"]
[1,null,"LG",null,null,null,null,null,null,null,null,null,null,"6 BRX",null,"Kelbly",null,"Lederer",null,"ST 1000",null,"March",null,"H4831",null,"Berger",null,"Remington"]
[2,null,"LG",null,null,null,null,null,null,null,null,null,null,"6.5-284",null,"Savage",null,"Bartlein",null,"Shehane",null,"Sightron",null,"H4831SC",null,"Berger 108",null,"Bruno"]
[3,null,"LG",null,null,null,null,null,null,null,null,null,null,"6.5x47",null,"Pierce",null,"Hawk Hill",null,"PRT",null,"Sightron 10-50",null,"H1000",null,"Berger 105 VLD",null,"SSS"]
[4,null,"LG",null,null,null,null,null,null,null,null,null,null,284,null,"Remington",null,"Broughton",null,"SSS",null,"Valdada",null,"RL15",null,"Berger 105",null,"Simison"]
[5,null,"LG",null,null,null,null,null,null,null,null,null,null,"284 Shehane",null,"Nesika",null,"Remington",null,"Meredith",null,"Leupold",null,"RL16",null,"Berger 105 Hy",null,"Minor"]
[6,null,"LG",null,null,null,null,null,null,null,null,null,null,"300 wsm",null,"Hall",null,"Savage",null,"Leonard",null,"Kahles",null,"RL17",null,"Spencer",null,"Dowling"]
[7,null,"LG",null,null,null,null,null,null,null,null,null,null,"300 win mag",null,"Stiller",null,"Douglas",null,"HS Precision",null,"Vortex",null,"RL22",null,"Sierra",null,"Wahlstrom"]
[8,null,"LG",null,null,null,null,null,null,null,null,null,null,243,null,null,null,"Hart",null,"TM",null,"Weaver",null,4166,null,"BIB 104",null,"Cutright"]
[9,null,"LG",null,null,null,null,null,null,null,null,null,null,308,null,"Haverkamp",null,"Muller",null,"Tracker",null,"Schmidt",null,null,null,"EPS"]
[10,null,"LG",null,null,null,null,null,null,null,null,null,null,"6 Creedmore",null,"Ruger",null,"Benchmark",null,"B&D Supply"]
[11,null,"LG",null,null,null,null,null,null,null,null,null,null,"6.5 Creedmore",null,"Stolle",null,null,null,"Scoville"]
[12,null,"LG",null,null,null,null,null,null,null,null,null,null,"6 mm",null,"Panda Stolle",null,null,null,"Lowboy"]
[13,null,"LG",null,null,null,null,null,null,null,null,null,null,"6-47L",null,"40 XBR"]
[14,null,"LG",null,null,null,null,null,null,null,null,null,null,"6 BRDX",null,"Panda "]
[15,null,"LG"]
[16,null,"LG"]
[17,null,"LG"]
[18,null,"LG"]
[19,null,"LG"]
[20,null,"LG"]
[21,null,"LG"]
[22,null,"LG"]
[23,null,"LG"]
[24,null,"LG"]
[25,null,"LG"]
[26,null,"LG"]
[27,null,"LG"]
[28,null,"LG"]
[29,null,"LG"]
[30,null,"LG",null,null,null,null,null,null,null,null,null,null," - Edit above lists for use in the LG and HG equipment lists."]
[31,null,"LG",null,null,null,null,null,null,null,null,null,null,"- place the most used items at the top to make entry quicker"]
[32,null,"LG"]
[33,null,"LG"]
[34,null,"LG"]
[35,null,"LG"]
[36,null,"LG"]
[37,null,"LG"]
[38,null,"LG"]
[39,null,"LG"]
[40,null,"LG"]
[41,null,"LG"]
[42,null,"LG"]
[43,null,"LG"]
[44,null,"LG"]
[45,null,"LG"]
[46,null,"LG"]
[47,null,"LG"]
[48,null,"LG"]
[49,null,"LG"]
[50,null,"LG"]
[51,null,"LG"]
[52,null,"LG"]
[53,null,"LG"]
[54,null,"LG"]
[55,null,"LG"]
[56,null,"LG"]
[57,null,"LG"]
[58,null,"LG"]
[59,null,"LG"]
[60,null,"LG"]
[61,null,"LG"]
[62,null,"LG"]
[63,null,"LG"]
[64,null,"LG"]
[65,null,"LG"]
[66,null,"LG"]
[67,null,"LG"]
[68,null,"LG"]
[69,null,"LG"]
[70,null,"LG"]
[71,null,"LG"]
[72,null,"LG"]
[73,null,"LG"]
[74,null,"LG"]
[75,null,"LG"]
[76,null,"LG"]
[77,null,"LG"]
[78,null,"LG"]
[79,null,"LG"]
[80,null,"LG"]
[81,null,"LG"]
[82,null,"LG"]
[83,null,"LG"]
[84,null,"LG"]
[85,null,"LG"]
[86,null,"LG"]
[87,null,"LG"]
[88,null,"LG"]
[89,null,"LG"]
[90,null,"LG"]
[91,null,"LG"]
[92,null,"LG"]
[93,null,"LG"]
[94,null,"LG"]
[95,null,"LG"]
[96,null,"LG"]
[97,null,"LG"]
[98,null,"LG"]
[99,null,"LG"]
[100,null,"LG"]
[101,null,"LG"]
[102,null,"LG"]
[103,null,"LG"]
[104,null,"LG"]
[105,null,"LG"]
[106,null,"LG"]
[107,null,"LG"]
[108,null,"LG"]
[109,null,"LG"]
[110,null,"LG"]
[111,null,"LG"]
[112,null,"LG"]
[113,null,"LG"]
[114,null,"LG"]
[115,null,"LG"]
[116,null,"LG"]
[117,null,"LG"]
[118,null,"LG"]
[119,null,"LG"]
[120,null,"LG"]
[121,null,"LG"]
[122,null,"LG"]
[123,null,"LG"]
[124,null,"LG"]
[125,null,"LG"]
[126,null,"LG"]
[127,null,"LG"]
[128,null,"LG"]
[129,null,"LG"]
[130,null,"LG"]
[131,null,"LG"]
[132,null,"LG"]
[133,null,"LG"]
[134,null,"LG"]
[135,null,"LG"]
[136,null,"LG"]
[137,null,"LG"]
[138,null,"LG"]
[139,null,"LG"]
[140,null,"LG"]
[141,null,"LG"]
[142,null,"LG"]
[143,null,"LG"]
[144,null,"LG"]
[145,null,"LG"]
[146,null,"LG"]
[147,null,"LG"]
[148,null,"LG"]
[149,null,"LG"]
[150,null,"LG"]

{"sheet":"HG equip","index":5,"n_rows":155,"n_cols":11,"rows_kept":155,"cut":false,"hidden":false,"merged":[]}
[null,null,null,null,null,null,{"$f":"'Competitor List'!B2","v":"Vapor Trail Valley Spickard, Mo"}]
[null,null,null,null,null,null,"Heavy Gun Equipment List"]
[null,null,null,null,null,null,{"$f":"'Competitor List'!B3","v":"2023-03-15"}]
[]
[null,"Competitor",null,"Caliber","Action","Barrel","Stock","Scope","Powder","Bullet","Gunsmith"]
[1,null,"HG"]
[2,null,"HG"]
[3,null,"HG"]
[4,null,"HG"]
[5,null,"HG"]
[6,null,"HG"]
[7,null,"HG"]
[8,null,"HG"]
[9,null,"HG"]
[10,null,"HG"]
[11,null,"HG"]
[12,null,"HG"]
[13,null,"HG"]
[14,null,"HG"]
[15,null,"HG"]
[16,null,"HG"]
[17,null,"HG"]
[18,null,"HG"]
[19,null,"HG"]
[20,null,"HG"]
[21,null,"HG"]
[22,null,"HG"]
[23,null,"HG"]
[24,null,"HG"]
[25,null,"HG"]
[26,null,"HG"]
[27,null,"HG"]
[28,null,"HG"]
[29,null,"HG"]
[30,null,"HG"]
[31,null,"HG"]
[32,null,"HG"]
[33,null,"HG"]
[34,null,"HG"]
[35,null,"HG"]
[36,null,"HG"]
[37,null,"HG"]
[38,null,"HG"]
[39,null,"HG"]
[40,null,"HG"]
[41,null,"HG"]
[42,null,"HG"]
[43,null,"HG"]
[44,null,"HG"]
[45,null,"HG"]
[46,null,"HG"]
[47,null,"HG"]
[48,null,"HG"]
[49,null,"HG"]
[50,null,"HG"]
[51,null,"HG"]
[52,null,"HG"]
[53,null,"HG"]
[54,null,"HG"]
[55,null,"HG"]
[56,null,"HG"]
[57,null,"HG"]
[58,null,"HG"]
[59,null,"HG"]
[60,null,"HG"]
[61,null,"HG"]
[62,null,"HG"]
[63,null,"HG"]
[64,null,"HG"]
[65,null,"HG"]
[66,null,"HG"]
[67,null,"HG"]
[68,null,"HG"]
[69,null,"HG"]
[70,null,"HG"]
[71,null,"HG"]
[72,null,"HG"]
[73,null,"HG"]
[74,null,"HG"]
[75,null,"HG"]
[76,null,"HG"]
[77,null,"HG"]
[78,null,"HG"]
[79,null,"HG"]
[80,null,"HG"]
[81,null,"HG"]
[82,null,"HG"]
[83,null,"HG"]
[84,null,"HG"]
[85,null,"HG"]
[86,null,"HG"]
[87,null,"HG"]
[88,null,"HG"]
[89,null,"HG"]
[90,null,"HG"]
[91,null,"HG"]
[92,null,"HG"]
[93,null,"HG"]
[94,null,"HG"]
[95,null,"HG"]
[96,null,"HG"]
[97,null,"HG"]
[98,null,"HG"]
[99,null,"HG"]
[100,null,"HG"]
[101,null,"HG"]
[102,null,"HG"]
[103,null,"HG"]
[104,null,"HG"]
[105,null,"HG"]
[106,null,"HG"]
[107,null,"HG"]
[108,null,"HG"]
[109,null,"HG"]
[110,null,"HG"]
[111,null,"HG"]
[112,null,"HG"]
[113,null,"HG"]
[114,null,"HG"]
[115,null,"HG"]
[116,null,"HG"]
[117,null,"HG"]
[118,null,"HG"]
[119,null,"HG"]
[120,null,"HG"]
[121,null,"HG"]
[122,null,"HG"]
[123,null,"HG"]
[124,null,"HG"]
[125,null,"HG"]
[126,null,"HG"]
[127,null,"HG"]
[128,null,"HG"]
[129,null,"HG"]
[130,null,"HG"]
[131,null,"HG"]
[132,null,"HG"]
[133,null,"HG"]
[134,null,"HG"]
[135,null,"HG"]
[136,null,"HG"]
[137,null,"HG"]
[138,null,"HG"]
[139,null,"HG"]
[140,null,"HG"]
[141,null,"HG"]
[142,null,"HG"]
[143,null,"HG"]
[144,null,"HG"]
[145,null,"HG"]
[146,null,"HG"]
[147,null,"HG"]
[148,null,"HG"]
[149,null,"HG"]
[150,null,"HG"]

{"sheet":"Competitor List","index":6,"n_rows":155,"n_cols":23,"rows_kept":155,"cut":false,"hidden":false,"merged":[[16,22,20,24],[1,20,3,20],[0,15,3,16],[3,9,3,10],[0,1,0,3],[1,1,1,3],[2,1,2,3]]}
[null,"Freedom Benchrest 600 YARD MATCH #1",null,null,null,null,null,null,null,null,null,null,null,null,null,"Columns used for bench assignment and rotation",null,null,null,null,null,null,"    ***  WARNING ***"]
[null,"Vapor Trail Valley Spickard, Mo",null,null,null,null,null,null,null,null,null,null,null,null,null,null,null,null,null,null,"* Warning *  Start new match button will clear all names and target data - \"save as\" a new file first so that you do not loose your last match data","Shooter names","Do NOT sort after match has started"]
[null,"2023-03-15",null,null,null,null,null,null,null,null,null,null,null,null,null,null,null,null,null,null,null,"for drop down menu"," - names and target data will get mixed up"]
[null,null,null,null,null,"LG","HG","LG","HG","Entered in class Y/N",null,{"$f":"COUNTIF(L6:L155,\"Y\")","v":0},0,{"$f":"COUNTIF(N6:N155,\"Y\")","v":0},null,null,null,null,null,null,null,null,"  - Click on button to random sort relays"]
[null,"Light Gun Name","Heavy Gun Name","LG/HG same shooter Y/N","Random #","R,F,J","R,F,J","FB","FB","LG","HG","LG","HG","2G","Relay-Bench",null,null,null,null,null,null,"Enter names starting here"]
[1,null,null,null,{"$f":"RAND()","v":0.9960091633701601},null,null,null,null,null,null,{"$f":"IF(AND(H6=\"Y\",J6=\"Y\"),\"Y\",\"\")","v":""},{"$f":"IF(AND(I6=\"Y\",K6=\"Y\"),\"Y\",\"\")","v":""},{"$f":"IF(AND(L6=\"Y\",M6=\"Y\"),\"Y\",\"\")","v":""},{"$f":"P6+Q6","v":101},100,{"$f":"T6","v":1},null,null,1,"- First bench number","test 2"]
[2,null,null,null,0.32531367830489688,null,null,null,null,null,null,{"$f":"IF(AND(H7=\"Y\",J7=\"Y\"),\"Y\",\"\")","v":""},{"$f":"IF(AND(I7=\"Y\",K7=\"Y\"),\"Y\",\"\")","v":""},{"$f":"IF(AND(L7=\"Y\",M7=\"Y\"),\"Y\",\"\")","v":""},{"$f":"P7+Q7","v":102},{"$f":"IF(Q6=$T$7,P6+100,P6)","v":100},{"$f":"IF(Q6=$T$7,$T$6,Q6+1)","v":2},null,null,15,"- Last bench number","test 3"]
[3,null,null,null,0.78309521433681528,null,null,null,null,null,null,"","","",103,{"$f":"IF(Q7=$T$7,P7+100,P7)","v":100},{"$f":"IF(Q7=$T$7,$T$6,Q7+1)","v":3},null,null,0,"- Bench rotation (0,1,2,3 etc)","test 4"]
[4,null,null,null,1.0784887486977257E-2,null,null,null,null,null,null,"","","",104,100,4,null,null,{"$f":"T7-T6+1","v":15},"- Number of benches used","test 5"]
[5,null,null,null,0.87291877014890329,null,null,null,null,null,null,"","","",105,100,5,null,null,null,null,"test 6"]
[6,null,null,null,0.72770734776161072,null,null,null,null,null,null,"","","",106,100,6,null,null,null,"Notes here are outside print area","test 7"]
[7,null,null,null,0.68503372582748323,null,null,null,null,null,null,"","","",107,100,7,null,null,null," ** LG, HG and IBS columns **","test 8"]
[8,null,null,null,0.26401688620191011,null,null,null,null,null,null,"","","",108,100,8,null,null,null," - Enter Y if shooting in that class,","test 9"]
[9,null,null,null,0.7166449795963602,null,null,null,null,null,null,"","","",109,100,9,null,null,null,"    leave blank or N if not entered","test 10"]
[10,null,null,null,0.26366660992397539,null,null,null,null,null,null,"","","",110,100,10,null,null,null,null,"test 11"]
[11,null,null,null,0.44328155741094588,null,null,null,null,null,null,"","","",111,100,11,null,null,null,"- Titles in cell B1,B2,B3 only need","test 12"]
[12,null,null,null,0.44162119225639906,null,null,null,null,null,null,"","","",112,100,12,null,null,null,"   to be entered on this page","test 13","- Sort can be done more than once to get an even distribution on relays"]
[13,null,null,null,0.95002886610230397,null,null,null,null,null,null,"","","",113,100,13,null,null,null,null,"test 14"]
[14,null,null,null,2.539668907683168E-2,null,null,null,null,null,null,"","","",114,100,14,null,null,null,"R - Rookie","test 15"]
[15,null,null,null,0.77108495173629743,null,null,null,null,null,null,"","","",115,100,15,null,null,null,"F -Female","test 16"]
[16,null,null,null,{"$f":"RAND()","v":0.33432444740195699},null,null,null,null,null,null,"","","",201,200,1,null,null,null,"J - Junior","test 17"]
[17,null,null,null,0.93370965120291483,null,null,null,null,null,null,"","","",202,200,2,null,null,null,null,"test 18"]
[18,null,null,null,1.3912580448460221E-2,null,null,null,null,null,null,"","","",203,200,3,null,null,null,"enter your notes here","test 19"]
[19,null,null,null,0.2567542799354523,null,null,null,null,null,null,"","","",204,200,4,null,null,null,null,"test 20"]
[20,null,null,null,0.73970837356359753,null,null,null,null,null,null,"","","",205,200,5,null,null,null,null,"test 21"]
[21,null,null,null,0.35914252910579769,null,null,null,null,null,null,"","","",206,200,6,null,null,null,null,"test 22"]
[22,null,null,null,0.72587220830874832,null,null,null,null,null,null,"","","",207,200,7,null,null,null,null,"test 23"]
[23,null,null,null,0.48379456592997816,null,null,null,null,null,null,"","","",208,200,8,null,null,null,null,"test 24"]
[24,null,null,null,0.61415228628885798,null,null,null,null,null,null,"","","",209,200,9,null,null,null,null,"test 25"]
[25,null,null,null,0.13107492321649628,null,null,null,null,null,null,"","","",210,200,10]
[26,null,null,null,0.90506699553884506,null,null,null,null,null,null,"","","",211,200,11]
[27,null,null,null,0.80233949087374623,null,null,null,null,null,null,"","","",212,200,12]
[28,null,null,null,0.71196642535203636,null,null,null,null,null,null,"","","",213,200,13]
[29,null,null,null,0.15885149296111067,null,null,null,null,null,null,"","","",214,200,14]
[30,null,null,null,0.37220992521906116,null,null,null,null,null,null,"","","",215,200,15]
[31,null,null,null,0.64720708905785884,null,null,null,null,null,null,"","","",301,300,1]
[32,null,null,null,0.42957791671782841,null,null,null,null,null,null,"","","",302,300,2]
[33,null,null,null,{"$f":"RAND()","v":0.55261282790410571},null,null,null,null,null,null,"","","",303,300,3]
[34,null,null,null,0.62603066800317841,null,null,null,null,null,null,"","","",304,300,4]
[35,null,null,null,0.47257339495276418,null,null,null,null,null,null,"","","",305,300,5]
[36,null,null,null,0.89521294478974289,null,null,null,null,null,null,"","","",306,300,6]
[37,null,null,null,0.49116387309095122,null,null,null,null,null,null,"","","",307,300,7]
[38,null,null,null,0.86218513699227384,null,null,null,null,null,null,"","","",308,300,8]
[39,null,null,null,0.72765773239450293,null,null,null,null,null,null,"","","",309,300,9]
[40,null,null,null,9.2550537286686718E-2,null,null,null,null,null,null,"","","",310,300,10]
[41,null,null,null,0.97837597369219198,null,null,null,null,null,null,"","","",311,300,11]
[42,null,null,null,0.93715637596846413,null,null,null,null,null,null,"","","",312,300,12]
[43,null,null,null,0.58062552788836408,null,null,null,null,null,null,"","","",313,300,13]
[44,null,null,null,0.87169208751939409,null,null,null,null,null,null,"","","",314,300,14]
[45,null,null,null,0.10170448564450463,null,null,null,null,null,null,"","","",315,300,15]
[46,null,null,null,0.20104739299657837,null,null,null,null,null,null,"","","",401,400,1]
[47,null,null,null,0.82898898196650883,null,null,null,null,null,null,"","","",402,400,2]
[48,null,null,null,8.914798226402787E-2,null,null,null,null,null,null,"","","",403,400,3]
[49,null,null,null,0.56435887628983616,null,null,null,null,null,null,"","","",404,400,4]
[50,null,null,null,0.13960592079088374,null,null,null,null,null,null,"","","",405,400,5]
[51,null,null,null,0.57785288314666894,null,null,null,null,null,null,"","","",406,400,6]
[52,null,null,null,0.40254631371646543,null,null,null,null,null,null,"","","",407,400,7]
[53,null,null,null,0.60697417752650518,null,null,null,null,null,null,"","","",408,400,8]
[54,null,null,null,0.56087944007580293,null,null,null,null,null,null,"","","",409,400,9]
[55,null,null,null,0.51517666028290354,null,null,null,null,null,null,"","","",410,400,10]
[56,null,null,null,0.59125323639020355,null,null,null,null,null,null,"","","",411,400,11]
[57,null,null,null,0.95677662870910096,null,null,null,null,null,null,"","","",412,400,12]
[58,null,null,null,0.63351595232769042,null,null,null,null,null,null,"","","",413,400,13]
[59,null,null,null,0.76857098179484262,null,null,null,null,null,null,"","","",414,400,14]
[60,null,null,null,0.63750664464968565,null,null,null,null,null,null,"","","",415,400,15]
[61,null,null,null,0.33349209926483936,null,null,null,null,null,null,"","","",501,500,1]
[62,null,null,null,0.93770493102114572,null,null,null,null,null,null,"","","",502,500,2]
[63,null,null,null,0.34611739441974476,null,null,null,null,null,null,"","","",503,500,3]
[64,null,null,null,0.56184742940564958,null,null,null,null,null,null,"","","",504,500,4]
[65,null,null,null,{"$f":"RAND()","v":9.2395648519646101E-2},null,null,null,null,null,null,"","","",505,500,5]
[66,null,null,null,0.77801142960832503,null,null,null,null,null,null,{"$f":"IF(AND(H71=\"Y\",J71=\"Y\"),\"Y\",\"\")","v":""},{"$f":"IF(AND(I71=\"Y\",K71=\"Y\"),\"Y\",\"\")","v":""},{"$f":"IF(AND(L71=\"Y\",M71=\"Y\"),\"Y\",\"\")","v":""},{"$f":"P71+Q71","v":506},500,6]
[67,null,null,null,0.77518938925673708,null,null,null,null,null,null,"","","",507,{"$f":"IF(Q71=$T$7,P71+100,P71)","v":500},{"$f":"IF(Q71=$T$7,$T$6,Q71+1)","v":7}]
[68,null,null,null,0.25009302848264148,null,null,null,null,null,null,"","","",508,500,8]
[69,null,null,null,0.62154084774684504,null,null,null,null,null,null,"","","",509,500,9]
[70,null,null,null,0.64844797652696951,null,null,null,null,null,null,"","","",510,500,10]
[71,null,null,null,0.9910905055723972,null,null,null,null,null,null,"","","",511,500,11]
[72,null,null,null,0.73749000573533152,null,null,null,null,null,null,"","","",512,500,12]
[73,null,null,null,0.4258548510013721,null,null,null,null,null,null,"","","",513,500,13]
[74,null,null,null,0.34740963995843765,null,null,null,null,null,null,"","","",514,500,14]
[75,null,null,null,0.66774969356548175,null,null,null,null,null,null,"","","",515,500,15]
[76,null,null,null,0.56105089277382925,null,null,null,null,null,null,"","","",601,600,1]
[77,null,null,null,0.9527559857195711,null,null,null,null,null,null,"","","",602,600,2]
[78,null,null,null,0.23599866790178881,null,null,null,null,null,null,"","","",603,600,3]
[79,null,null,null,0.24623831373238858,null,null,null,null,null,null,"","","",604,600,4]
[80,null,null,null,5.2237553906010037E-2,null,null,null,null,null,null,"","","",605,600,5]
[81,null,null,null,{"$f":"RAND()","v":0.88282013614459121},null,null,null,null,null,null,"","","",606,600,6]
[82,null,null,null,0.64120981509468,null,null,null,null,null,null,"","","",607,600,7]
[83,null,null,null,0.41325347121058398,null,null,null,null,null,null,"","","",608,600,8]
[84,null,null,null,0.94695203977033093,null,null,null,null,null,null,"","","",609,600,9]
[85,null,null,null,1.0565471979384622E-4,null,null,null,null,null,null,"","","",610,600,10]
[86,null,null,null,0.8655407646998875,null,null,null,null,null,null,"","","",611,600,11]
[87,null,null,null,0.47374345283578434,null,null,null,null,null,null,"","","",612,600,12]
[88,null,null,null,0.92337914835245438,null,null,null,null,null,null,"","","",613,600,13]
[89,null,null,null,0.7111377274538675,null,null,null,null,null,null,"","","",614,600,14]
[90,null,null,null,0.92249696996527331,null,null,null,null,null,null,"","","",615,600,15]
[91,null,null,null,0.94668041395868274,null,null,null,null,null,null,"","","",701,700,1]
[92,null,null,null,0.85200828361385539,null,null,null,null,null,null,"","","",702,700,2]
[93,null,null,null,0.53223255399778935,null,null,null,null,null,null,"","","",703,700,3]
[94,null,null,null,3.7078137969032143E-3,null,null,null,null,null,null,"","","",704,700,4]
[95,null,null,null,0.94128227431117761,null,null,null,null,null,null,"","","",705,700,5]
[96,null,null,null,0.12365672876340139,null,null,null,null,null,null,"","","",706,700,6]
[97,null,null,null,{"$f":"RAND()","v":0.48581127903553145},null,null,null,null,null,null,"","","",707,700,7]
[98,null,null,null,0.43686384347694363,null,null,null,null,null,null,"","","",708,700,8]
[99,null,null,null,0.72731360176413362,null,null,null,null,null,null,"","","",709,700,9]
[100,null,null,null,0.73748102314289654,null,null,null,null,null,null,"","","",710,700,10]
[101,null,null,null,0.74268608821401771,null,null,null,null,null,null,"","","",711,700,11]
[102,null,null,null,0.62618260521137448,null,null,null,null,null,null,"","","",712,700,12]
[103,null,null,null,0.4979980002911355,null,null,null,null,null,null,"","","",713,700,13]
[104,null,null,null,0.58955265910916788,null,null,null,null,null,null,"","","",714,700,14]
[105,null,null,null,0.56822390889225871,null,null,null,null,null,null,"","","",715,700,15]
[106,null,null,null,2.0108584101092286E-2,null,null,null,null,null,null,"","","",801,800,1]
[107,null,null,null,0.16519990543003926,null,null,null,null,null,null,"","","",802,800,2]
[108,null,null,null,0.63724420405428572,null,null,null,null,null,null,"","","",803,800,3]
[109,null,null,null,0.23207572266624044,null,null,null,null,null,null,"","","",804,800,4]
[110,null,null,null,0.91456856297951661,null,null,null,null,null,null,"","","",805,800,5]
[111,null,null,null,0.75138103806807011,null,null,null,null,null,null,"","","",806,800,6]
[112,null,null,null,0.48064625531178251,null,null,null,null,null,null,"","","",807,800,7]
[113,null,null,null,9.0690530770635158E-2,null,null,null,null,null,null,"","","",808,800,8]
[114,null,null,null,0.51500505769187221,null,null,null,null,null,null,"","","",809,800,9]
[115,null,null,null,0.83248946363520759,null,null,null,null,null,null,"","","",810,800,10]
[116,null,null,null,0.356544817764475,null,null,null,null,null,null,"","","",811,800,11]
[117,null,null,null,0.69294242547413665,null,null,null,null,null,null,"","","",812,800,12]
[118,null,null,null,0.21934835430093702,null,null,null,null,null,null,"","","",813,800,13]
[119,null,null,null,0.52769654233764762,null,null,null,null,null,null,"","","",814,800,14]
[120,null,null,null,0.58641024854408774,null,null,null,null,null,null,"","","",815,800,15]
[121,null,null,null,9.5025120863887147E-2,null,null,null,null,null,null,"","","",901,900,1]
[122,null,null,null,0.52622119156281522,null,null,null,null,null,null,"","","",902,900,2]
[123,null,null,null,0.65859682682645748,null,null,null,null,null,null,"","","",903,900,3]
[124,null,null,null,0.16603895289297788,null,null,null,null,null,null,"","","",904,900,4]
[125,null,null,null,0.34384843548334243,null,null,null,null,null,null,"","","",905,900,5]
[126,null,null,null,5.395989161982695E-3,null,null,null,null,null,null,"","","",906,900,6]
[127,null,null,null,0.31346665954065056,null,null,null,null,null,null,"","","",907,900,7]
[128,null,null,null,0.93014275147104342,null,null,null,null,null,null,"","","",908,900,8]
[129,null,null,null,{"$f":"RAND()","v":0.36465602452002299},null,null,null,null,null,null,"","","",909,900,9]
[130,null,null,null,0.20367820541529691,null,null,null,null,null,null,{"$f":"IF(AND(H135=\"Y\",J135=\"Y\"),\"Y\",\"\")","v":""},{"$f":"IF(AND(I135=\"Y\",K135=\"Y\"),\"Y\",\"\")","v":""},{"$f":"IF(AND(L135=\"Y\",M135=\"Y\"),\"Y\",\"\")","v":""},{"$f":"P135+Q135","v":910},900,10]
[131,null,null,null,0.53160225078365642,null,null,null,null,null,null,"","","",911,{"$f":"IF(Q135=$T$7,P135+100,P135)","v":900},{"$f":"IF(Q135=$T$7,$T$6,Q135+1)","v":11}]
[132,null,null,null,0.20540762386718936,null,null,null,null,null,null,"","","",912,900,12]
[133,null,null,null,4.2811495090900875E-2,null,null,null,null,null,null,"","","",913,900,13]
[134,null,null,null,0.42056431704976072,null,null,null,null,null,null,"","","",914,900,14]
[135,null,null,null,0.54903470849389646,null,null,null,null,null,null,"","","",915,900,15]
[136,null,null,null,0.33182467593768727,null,null,null,null,null,null,"","","",1001,1000,1]
[137,null,null,null,0.52323028593852383,null,null,null,null,null,null,"","","",1002,1000,2]
[138,null,null,null,3.7188794425148108E-2,null,null,null,null,null,null,"","","",1003,1000,3]
[139,null,null,null,0.4904666208955446,null,null,null,null,null,null,"","","",1004,1000,4]
[140,null,null,null,0.16871854781835782,null,null,null,null,null,null,"","","",1005,1000,5]
[141,null,null,null,0.90256876854052914,null,null,null,null,null,null,"","","",1006,1000,6]
[142,null,null,null,0.25138750602164273,null,null,null,null,null,null,"","","",1007,1000,7]
[143,null,null,null,0.18659624070634795,null,null,null,null,null,null,"","","",1008,1000,8]
[144,null,null,null,0.93779919142705004,null,null,null,null,null,null,"","","",1009,1000,9]
[145,null,null,null,0.30943975266261303,null,null,null,null,null,null,"","","",1010,1000,10]
[146,null,null,null,0.77409465254121435,null,null,null,null,null,null,"","","",1011,1000,11]
[147,null,null,null,2.7825718150391698E-2,null,null,null,null,null,null,"","","",1012,1000,12]
[148,null,null,null,0.15156557378151192,null,null,null,null,null,null,"","","",1013,1000,13]
[149,null,null,null,0.42013006810765752,null,null,null,null,null,null,"","","",1014,1000,14]
[150,null,null,null,0.57449808629637644,null,null,null,null,null,null,"","","",1015,1000,15]

{"sheet":"Bench Assignment","index":7,"n_rows":157,"n_cols":13,"rows_kept":157,"cut":false,"hidden":false,"merged":[[0,3,0,6],[4,7,4,10],[2,0,4,0]]}
["BENCH ASSIGNMENT:",null,{"$f":"'Competitor List'!B3","v":"2023-03-15"}]
[null,null,null,"(8-14, 2 pt match)"]
["Number of FB registered shooters","LG:",{"$f":"'Competitor List'!L4","v":0},"(15-21, 3 pt match)"]
[null,"HG:",{"$f":"'Competitor List'!M4","v":0},"(22-28, 4 pt match)"]
[null,"2G:",{"$f":"'Competitor List'!N4","v":0},"(29-35, 5 pt match)",null,null,null,"Bench rotation"]
[null,null,null,null,null,null,null,"LG","LG","HG","HG",null,"- entire page is protected except"]
["Light gun name","FB","Heavy gun name","FB","LG","HG","ID","1-2","3-4","1-2","3-4",null,"   cells H6-K7 so you can adjust firing order"]
[{"$f":"T('Competitor List'!B6)","v":""},{"$f":"IF('Competitor List'!H6=\"y\",\"Y\",\"N\")","v":"N"},{"$f":"T('Competitor List'!C6)","v":""},{"$f":"IF('Competitor List'!I6=\"y\",\"Y\",\"N\")","v":"N"},{"$f":"IF('Competitor List'!J6=\"Y\",\"Y\",\" \")","v":" "},{"$f":"IF('Competitor List'!K6=\"Y\",\"Y\",\" \")","v":" "},{"$f":"'Competitor List'!O6","v":101},{"$f":"'Competitor List'!Q6","v":1},{"$f":"OFFSET(H8,'Competitor List'!$T$8,0)","v":1},{"$f":"OFFSET(I8,'Competitor List'!$T$8,0)","v":1},{"$f":"OFFSET(J8,'Competitor List'!$T$8,0)","v":1}]
[{"$f":"T('Competitor List'!B7)","v":""},{"$f":"IF('Competitor List'!H7=\"y\",\"Y\",\"N\")","v":"N"},{"$f":"T('Competitor List'!C7)","v":""},{"$f":"IF('Competitor List'!I7=\"y\",\"Y\",\"N\")","v":"N"},{"$f":"IF('Competitor List'!J7=\"Y\",\"Y\",\" \")","v":" "},{"$f":"IF('Competitor List'!K7=\"Y\",\"Y\",\" \")","v":" "},{"$f":"'Competitor List'!O7","v":102},{"$f":"'Competitor List'!Q7","v":2},{"$f":"OFFSET(H9,'Competitor List'!$T$8,0)","v":2},{"$f":"OFFSET(I9,'Competitor List'!$T$8,0)","v":2},{"$f":"OFFSET(J9,'Competitor List'!$T$8,0)","v":2},null,"- If no rotation is wanted enter a ZERO"]
[{"$f":"T('Competitor List'!B8)","v":""},{"$f":"IF('Competitor List'!H8=\"y\",\"Y\",\"N\")","v":"N"},{"$f":"T('Competitor List'!C8)","v":""},{"$f":"IF('Competitor List'!I8=\"y\",\"Y\",\"N\")","v":"N"},{"$f":"IF('Competitor List'!J8=\"Y\",\"Y\",\" \")","v":" "},{"$f":"IF('Competitor List'!K8=\"Y\",\"Y\",\" \")","v":" "},{"$f":"'Competitor List'!O8","v":103},{"$f":"'Competitor List'!Q8","v":3},{"$f":"OFFSET(H10,'Competitor List'!$T$8,0)","v":3},{"$f":"OFFSET(I10,'Competitor List'!$T$8,0)","v":3},{"$f":"OFFSET(J10,'Competitor List'!$T$8,0)","v":3},null,"   in the Competitor list bench rotation box"]
[{"$f":"T('Competitor List'!B9)","v":""},{"$f":"IF('Competitor List'!H9=\"y\",\"Y\",\"N\")","v":"N"},{"$f":"T('Competitor List'!C9)","v":""},{"$f":"IF('Competitor List'!I9=\"y\",\"Y\",\"N\")","v":"N"},{"$f":"IF('Competitor List'!J9=\"Y\",\"Y\",\" \")","v":" "},{"$f":"IF('Competitor List'!K9=\"Y\",\"Y\",\" \")","v":" "},{"$f":"'Competitor List'!O9","v":104},{"$f":"'Competitor List'!Q9","v":4},{"$f":"OFFSET(H11,'Competitor List'!$T$8,0)","v":4},{"$f":"OFFSET(I11,'Competitor List'!$T$8,0)","v":4},{"$f":"OFFSET(J11,'Competitor List'!$T$8,0)","v":4}]
[{"$f":"T('Competitor List'!B10)","v":""},{"$f":"IF('Competitor List'!H10=\"y\",\"Y\",\"N\")","v":"N"},{"$f":"T('Competitor List'!C10)","v":""},{"$f":"IF('Competitor List'!I10=\"y\",\"Y\",\"N\")","v":"N"},{"$f":"IF('Competitor List'!J10=\"Y\",\"Y\",\" \")","v":" "},{"$f":"IF('Competitor List'!K10=\"Y\",\"Y\",\" \")","v":" "},{"$f":"'Competitor List'!O10","v":105},{"$f":"'Competitor List'!Q10","v":5},{"$f":"OFFSET(H12,'Competitor List'!$T$8,0)","v":5},{"$f":"OFFSET(I12,'Competitor List'!$T$8,0)","v":5},{"$f":"OFFSET(J12,'Competitor List'!$T$8,0)","v":5},null,"enter your notes here"]
[{"$f":"T('Competitor List'!B11)","v":""},{"$f":"IF('Competitor List'!H11=\"y\",\"Y\",\"N\")","v":"N"},{"$f":"T('Competitor List'!C11)","v":""},{"$f":"IF('Competitor List'!I11=\"y\",\"Y\",\"N\")","v":"N"},{"$f":"IF('Competitor List'!J11=\"Y\",\"Y\",\" \")","v":" "},{"$f":"IF('Competitor List'!K11=\"Y\",\"Y\",\" \")","v":" "},{"$f":"'Competitor List'!O11","v":106},{"$f":"'Competitor List'!Q11","v":6},{"$f":"OFFSET(H13,'Competitor List'!$T$8,0)","v":6},{"$f":"OFFSET(I13,'Competitor List'!$T$8,0)","v":6},{"$f":"OFFSET(J13,'Competitor List'!$T$8,0)","v":6}]
[{"$f":"T('Competitor List'!B12)","v":""},{"$f":"IF('Competitor List'!H12=\"y\",\"Y\",\"N\")","v":"N"},{"$f":"T('Competitor List'!C12)","v":""},{"$f":"IF('Competitor List'!I12=\"y\",\"Y\",\"N\")","v":"N"},{"$f":"IF('Competitor List'!J12=\"Y\",\"Y\",\" \")","v":" "},{"$f":"IF('Competitor List'!K12=\"Y\",\"Y\",\" \")","v":" "},{"$f":"'Competitor List'!O12","v":107},{"$f":"'Competitor List'!Q12","v":7},{"$f":"OFFSET(H14,'Competitor List'!$T$8,0)","v":7},{"$f":"OFFSET(I14,'Competitor List'!$T$8,0)","v":7},{"$f":"OFFSET(J14,'Competitor List'!$T$8,0)","v":7}]
[{"$f":"T('Competitor List'!B13)","v":""},{"$f":"IF('Competitor List'!H13=\"y\",\"Y\",\"N\")","v":"N"},{"$f":"T('Competitor List'!C13)","v":""},{"$f":"IF('Competitor List'!I13=\"y\",\"Y\",\"N\")","v":"N"},{"$f":"IF('Competitor List'!J13=\"Y\",\"Y\",\" \")","v":" "},{"$f":"IF('Competitor List'!K13=\"Y\",\"Y\",\" \")","v":" "},{"$f":"'Competitor List'!O13","v":108},{"$f":"'Competitor List'!Q13","v":8},{"$f":"OFFSET(H15,'Competitor List'!$T$8,0)","v":8},{"$f":"OFFSET(I15,'Competitor List'!$T$8,0)","v":8},{"$f":"OFFSET(J15,'Competitor List'!$T$8,0)","v":8}]
[{"$f":"T('Competitor List'!B14)","v":""},{"$f":"IF('Competitor List'!H14=\"y\",\"Y\",\"N\")","v":"N"},{"$f":"T('Competitor List'!C14)","v":""},{"$f":"IF('Competitor List'!I14=\"y\",\"Y\",\"N\")","v":"N"},{"$f":"IF('Competitor List'!J14=\"Y\",\"Y\",\" \")","v":" "},{"$f":"IF('Competitor List'!K14=\"Y\",\"Y\",\" \")","v":" "},{"$f":"'Competitor List'!O14","v":109},{"$f":"'Competitor List'!Q14","v":9},{"$f":"OFFSET(H16,'Competitor List'!$T$8,0)","v":9},{"$f":"OFFSET(I16,'Competitor List'!$T$8,0)","v":9},{"$f":"OFFSET(J16,'Competitor List'!$T$8,0)","v":9}]
[{"$f":"T('Competitor List'!B15)","v":""},{"$f":"IF('Competitor List'!H15=\"y\",\"Y\",\"N\")","v":"N"},{"$f":"T('Competitor List'!C15)","v":""},{"$f":"IF('Competitor List'!I15=\"y\",\"Y\",\"N\")","v":"N"},{"$f":"IF('Competitor List'!J15=\"Y\",\"Y\",\" \")","v":" "},{"$f":"IF('Competitor List'!K15=\"Y\",\"Y\",\" \")","v":" "},{"$f":"'Competitor List'!O15","v":110},{"$f":"'Competitor List'!Q15","v":10},{"$f":"OFFSET(H17,'Competitor List'!$T$8,0)","v":10},{"$f":"OFFSET(I17,'Competitor List'!$T$8,0)","v":10},{"$f":"OFFSET(J17,'Competitor List'!$T$8,0)","v":10}]
[{"$f":"T('Competitor List'!B16)","v":""},{"$f":"IF('Competitor List'!H16=\"y\",\"Y\",\"N\")","v":"N"},{"$f":"T('Competitor List'!C16)","v":""},{"$f":"IF('Competitor List'!I16=\"y\",\"Y\",\"N\")","v":"N"},{"$f":"IF('Competitor List'!J16=\"Y\",\"Y\",\" \")","v":" "},{"$f":"IF('Competitor List'!K16=\"Y\",\"Y\",\" \")","v":" "},{"$f":"'Competitor List'!O16","v":111},{"$f":"'Competitor List'!Q16","v":11},{"$f":"OFFSET(H18,'Competitor List'!$T$8,0)","v":11},{"$f":"OFFSET(I18,'Competitor List'!$T$8,0)","v":11},{"$f":"OFFSET(J18,'Competitor List'!$T$8,0)","v":11}]
[{"$f":"T('Competitor List'!B17)","v":""},{"$f":"IF('Competitor List'!H17=\"y\",\"Y\",\"N\")","v":"N"},{"$f":"T('Competitor List'!C17)","v":""},{"$f":"IF('Competitor List'!I17=\"y\",\"Y\",\"N\")","v":"N"},{"$f":"IF('Competitor List'!J17=\"Y\",\"Y\",\" \")","v":" "},{"$f":"IF('Competitor List'!K17=\"Y\",\"Y\",\" \")","v":" "},{"$f":"'Competitor List'!O17","v":112},{"$f":"'Competitor List'!Q17","v":12},{"$f":"OFFSET(H19,'Competitor List'!$T$8,0)","v":12},{"$f":"OFFSET(I19,'Competitor List'!$T$8,0)","v":12},{"$f":"OFFSET(J19,'Competitor List'!$T$8,0)","v":12}]
[{"$f":"T('Competitor List'!B18)","v":""},{"$f":"IF('Competitor List'!H18=\"y\",\"Y\",\"N\")","v":"N"},{"$f":"T('Competitor List'!C18)","v":""},{"$f":"IF('Competitor List'!I18=\"y\",\"Y\",\"N\")","v":"N"},{"$f":"IF('Competitor List'!J18=\"Y\",\"Y\",\" \")","v":" "},{"$f":"IF('Competitor List'!K18=\"Y\",\"Y\",\" \")","v":" "},{"$f":"'Competitor List'!O18","v":113},{"$f":"'Competitor List'!Q18","v":13},{"$f":"OFFSET(H20,'Competitor List'!$T$8,0)","v":13},{"$f":"OFFSET(I20,'Competitor List'!$T$8,0)","v":13},{"$f":"OFFSET(J20,'Competitor List'!$T$8,0)","v":13}]
[{"$f":"T('Competitor List'!B19)","v":""},{"$f":"IF('Competitor List'!H19=\"y\",\"Y\",\"N\")","v":"N"},{"$f":"T('Competitor List'!C19)","v":""},{"$f":"IF('Competitor List'!I19=\"y\",\"Y\",\"N\")","v":"N"},{"$f":"IF('Competitor List'!J19=\"Y\",\"Y\",\" \")","v":" "},{"$f":"IF('Competitor List'!K19=\"Y\",\"Y\",\" \")","v":" "},{"$f":"'Competitor List'!O19","v":114},{"$f":"'Competitor List'!Q19","v":14},{"$f":"OFFSET(H21,'Competitor List'!$T$8,0)","v":14},{"$f":"OFFSET(I21,'Competitor List'!$T$8,0)","v":14},{"$f":"OFFSET(J21,'Competitor List'!$T$8,0)","v":14}]
[{"$f":"T('Competitor List'!B20)","v":""},{"$f":"IF('Competitor List'!H20=\"y\",\"Y\",\"N\")","v":"N"},{"$f":"T('Competitor List'!C20)","v":""},{"$f":"IF('Competitor List'!I20=\"y\",\"Y\",\"N\")","v":"N"},{"$f":"IF('Competitor List'!J20=\"Y\",\"Y\",\" \")","v":" "},{"$f":"IF('Competitor List'!K20=\"Y\",\"Y\",\" \")","v":" "},{"$f":"'Competitor List'!O20","v":115},{"$f":"'Competitor List'!Q20","v":15},{"$f":"OFFSET(H22,'Competitor List'!$T$8,0)","v":15},{"$f":"OFFSET(I22,'Competitor List'!$T$8,0)","v":15},{"$f":"OFFSET(J22,'Competitor List'!$T$8,0)","v":15}]
[{"$f":"T('Competitor List'!B21)","v":""},{"$f":"IF('Competitor List'!H21=\"y\",\"Y\",\"N\")","v":"N"},{"$f":"T('Competitor List'!C21)","v":""},{"$f":"IF('Competitor List'!I21=\"y\",\"Y\",\"N\")","v":"N"},{"$f":"IF('Competitor List'!J21=\"Y\",\"Y\",\" \")","v":" "},{"$f":"IF('Competitor List'!K21=\"Y\",\"Y\",\" \")","v":" "},{"$f":"'Competitor List'!O21","v":201},{"$f":"'Competitor List'!Q21","v":1},{"$f":"OFFSET(H23,'Competitor List'!$T$8,0)","v":1},{"$f":"OFFSET(I23,'Competitor List'!$T$8,0)","v":1},{"$f":"OFFSET(J23,'Competitor List'!$T$8,0)","v":1}]
[{"$f":"T('Competitor List'!B22)","v":""},{"$f":"IF('Competitor List'!H22=\"y\",\"Y\",\"N\")","v":"N"},{"$f":"T('Competitor List'!C22)","v":""},{"$f":"IF('Competitor List'!I22=\"y\",\"Y\",\"N\")","v":"N"},{"$f":"IF('Competitor List'!J22=\"Y\",\"Y\",\" \")","v":" "},{"$f":"IF('Competitor List'!K22=\"Y\",\"Y\",\" \")","v":" "},{"$f":"'Competitor List'!O22","v":202},{"$f":"'Competitor List'!Q22","v":2},{"$f":"OFFSET(H24,'Competitor List'!$T$8,0)","v":2},{"$f":"OFFSET(I24,'Competitor List'!$T$8,0)","v":2},{"$f":"OFFSET(J24,'Competitor List'!$T$8,0)","v":2}]
[{"$f":"T('Competitor List'!B23)","v":""},{"$f":"IF('Competitor List'!H23=\"y\",\"Y\",\"N\")","v":"N"},{"$f":"T('Competitor List'!C23)","v":""},{"$f":"IF('Competitor List'!I23=\"y\",\"Y\",\"N\")","v":"N"},{"$f":"IF('Competitor List'!J23=\"Y\",\"Y\",\" \")","v":" "},{"$f":"IF('Competitor List'!K23=\"Y\",\"Y\",\" \")","v":" "},{"$f":"'Competitor List'!O23","v":203},{"$f":"'Competitor List'!Q23","v":3},{"$f":"OFFSET(H25,'Competitor List'!$T$8,0)","v":3},{"$f":"OFFSET(I25,'Competitor List'!$T$8,0)","v":3},{"$f":"OFFSET(J25,'Competitor List'!$T$8,0)","v":3}]
[{"$f":"T('Competitor List'!B24)","v":""},{"$f":"IF('Competitor List'!H24=\"y\",\"Y\",\"N\")","v":"N"},{"$f":"T('Competitor List'!C24)","v":""},{"$f":"IF('Competitor List'!I24=\"y\",\"Y\",\"N\")","v":"N"},{"$f":"IF('Competitor List'!J24=\"Y\",\"Y\",\" \")","v":" "},{"$f":"IF('Competitor List'!K24=\"Y\",\"Y\",\" \")","v":" "},{"$f":"'Competitor List'!O24","v":204},{"$f":"'Competitor List'!Q24","v":4},{"$f":"OFFSET(H26,'Competitor List'!$T$8,0)","v":4},{"$f":"OFFSET(I26,'Competitor List'!$T$8,0)","v":4},{"$f":"OFFSET(J26,'Competitor List'!$T$8,0)","v":4}]
[{"$f":"T('Competitor List'!B25)","v":""},{"$f":"IF('Competitor List'!H25=\"y\",\"Y\",\"N\")","v":"N"},{"$f":"T('Competitor List'!C25)","v":""},{"$f":"IF('Competitor List'!I25=\"y\",\"Y\",\"N\")","v":"N"},{"$f":"IF('Competitor List'!J25=\"Y\",\"Y\",\" \")","v":" "},{"$f":"IF('Competitor List'!K25=\"Y\",\"Y\",\" \")","v":" "},{"$f":"'Competitor List'!O25","v":205},{"$f":"'Competitor List'!Q25","v":5},{"$f":"OFFSET(H27,'Competitor List'!$T$8,0)","v":5},{"$f":"OFFSET(I27,'Competitor List'!$T$8,0)","v":5},{"$f":"OFFSET(J27,'Competitor List'!$T$8,0)","v":5}]
[{"$f":"T('Competitor List'!B26)","v":""},{"$f":"IF('Competitor List'!H26=\"y\",\"Y\",\"N\")","v":"N"},{"$f":"T('Competitor List'!C26)","v":""},{"$f":"IF('Competitor List'!I26=\"y\",\"Y\",\"N\")","v":"N"},{"$f":"IF('Competitor List'!J26=\"Y\",\"Y\",\" \")","v":" "},{"$f":"IF('Competitor List'!K26=\"Y\",\"Y\",\" \")","v":" "},{"$f":"'Competitor List'!O26","v":206},{"$f":"'Competitor List'!Q26","v":6},{"$f":"OFFSET(H28,'Competitor List'!$T$8,0)","v":6},{"$f":"OFFSET(I28,'Competitor List'!$T$8,0)","v":6},{"$f":"OFFSET(J28,'Competitor List'!$T$8,0)","v":6}]
[{"$f":"T('Competitor List'!B27)","v":""},{"$f":"IF('Competitor List'!H27=\"y\",\"Y\",\"N\")","v":"N"},{"$f":"T('Competitor List'!C27)","v":""},{"$f":"IF('Competitor List'!I27=\"y\",\"Y\",\"N\")","v":"N"},{"$f":"IF('Competitor List'!J27=\"Y\",\"Y\",\" \")","v":" "},{"$f":"IF('Competitor List'!K27=\"Y\",\"Y\",\" \")","v":" "},{"$f":"'Competitor List'!O27","v":207},{"$f":"'Competitor List'!Q27","v":7},{"$f":"OFFSET(H29,'Competitor List'!$T$8,0)","v":7},{"$f":"OFFSET(I29,'Competitor List'!$T$8,0)","v":7},{"$f":"OFFSET(J29,'Competitor List'!$T$8,0)","v":7}]
[{"$f":"T('Competitor List'!B28)","v":""},{"$f":"IF('Competitor List'!H28=\"y\",\"Y\",\"N\")","v":"N"},{"$f":"T('Competitor List'!C28)","v":""},{"$f":"IF('Competitor List'!I28=\"y\",\"Y\",\"N\")","v":"N"},{"$f":"IF('Competitor List'!J28=\"Y\",\"Y\",\" \")","v":" "},{"$f":"IF('Competitor List'!K28=\"Y\",\"Y\",\" \")","v":" "},{"$f":"'Competitor List'!O28","v":208},{"$f":"'Competitor List'!Q28","v":8},{"$f":"OFFSET(H30,'Competitor List'!$T$8,0)","v":8},{"$f":"OFFSET(I30,'Competitor List'!$T$8,0)","v":8},{"$f":"OFFSET(J30,'Competitor List'!$T$8,0)","v":8}]
[{"$f":"T('Competitor List'!B29)","v":""},{"$f":"IF('Competitor List'!H29=\"y\",\"Y\",\"N\")","v":"N"},{"$f":"T('Competitor List'!C29)","v":""},{"$f":"IF('Competitor List'!I29=\"y\",\"Y\",\"N\")","v":"N"},{"$f":"IF('Competitor List'!J29=\"Y\",\"Y\",\" \")","v":" "},{"$f":"IF('Competitor List'!K29=\"Y\",\"Y\",\" \")","v":" "},{"$f":"'Competitor List'!O29","v":209},{"$f":"'Competitor List'!Q29","v":9},{"$f":"OFFSET(H31,'Competitor List'!$T$8,0)","v":9},{"$f":"OFFSET(I31,'Competitor List'!$T$8,0)","v":9},{"$f":"OFFSET(J31,'Competitor List'!$T$8,0)","v":9}]
[{"$f":"T('Competitor List'!B30)","v":""},{"$f":"IF('Competitor List'!H30=\"y\",\"Y\",\"N\")","v":"N"},{"$f":"T('Competitor List'!C30)","v":""},{"$f":"IF('Competitor List'!I30=\"y\",\"Y\",\"N\")","v":"N"},{"$f":"IF('Competitor List'!J30=\"Y\",\"Y\",\" \")","v":" "},{"$f":"IF('Competitor List'!K30=\"Y\",\"Y\",\" \")","v":" "},{"$f":"'Competitor List'!O30","v":210},{"$f":"'Competitor List'!Q30","v":10},{"$f":"OFFSET(H32,'Competitor List'!$T$8,0)","v":10},{"$f":"OFFSET(I32,'Competitor List'!$T$8,0)","v":10},{"$f":"OFFSET(J32,'Competitor List'!$T$8,0)","v":10}]
[{"$f":"T('Competitor List'!B31)","v":""},{"$f":"IF('Competitor List'!H31=\"y\",\"Y\",\"N\")","v":"N"},{"$f":"T('Competitor List'!C31)","v":""},{"$f":"IF('Competitor List'!I31=\"y\",\"Y\",\"N\")","v":"N"},{"$f":"IF('Competitor List'!J31=\"Y\",\"Y\",\" \")","v":" "},{"$f":"IF('Competitor List'!K31=\"Y\",\"Y\",\" \")","v":" "},{"$f":"'Competitor List'!O31","v":211},{"$f":"'Competitor List'!Q31","v":11},{"$f":"OFFSET(H33,'Competitor List'!$T$8,0)","v":11},{"$f":"OFFSET(I33,'Competitor List'!$T$8,0)","v":11},{"$f":"OFFSET(J33,'Competitor List'!$T$8,0)","v":11}]
[{"$f":"T('Competitor List'!B32)","v":""},{"$f":"IF('Competitor List'!H32=\"y\",\"Y\",\"N\")","v":"N"},{"$f":"T('Competitor List'!C32)","v":""},{"$f":"IF('Competitor List'!I32=\"y\",\"Y\",\"N\")","v":"N"},{"$f":"IF('Competitor List'!J32=\"Y\",\"Y\",\" \")","v":" "},{"$f":"IF('Competitor List'!K32=\"Y\",\"Y\",\" \")","v":" "},{"$f":"'Competitor List'!O32","v":212},{"$f":"'Competitor List'!Q32","v":12},{"$f":"OFFSET(H34,'Competitor List'!$T$8,0)","v":12},{"$f":"OFFSET(I34,'Competitor List'!$T$8,0)","v":12},{"$f":"OFFSET(J34,'Competitor List'!$T$8,0)","v":12}]
[{"$f":"T('Competitor List'!B33)","v":""},{"$f":"IF('Competitor List'!H33=\"y\",\"Y\",\"N\")","v":"N"},{"$f":"T('Competitor List'!C33)","v":""},{"$f":"IF('Competitor List'!I33=\"y\",\"Y\",\"N\")","v":"N"},{"$f":"IF('Competitor List'!J33=\"Y\",\"Y\",\" \")","v":" "},{"$f":"IF('Competitor List'!K33=\"Y\",\"Y\",\" \")","v":" "},{"$f":"'Competitor List'!O33","v":213},{"$f":"'Competitor List'!Q33","v":13},{"$f":"OFFSET(H35,'Competitor List'!$T$8,0)","v":13},{"$f":"OFFSET(I35,'Competitor List'!$T$8,0)","v":13},{"$f":"OFFSET(J35,'Competitor List'!$T$8,0)","v":13}]
[{"$f":"T('Competitor List'!B34)","v":""},{"$f":"IF('Competitor List'!H34=\"y\",\"Y\",\"N\")","v":"N"},{"$f":"T('Competitor List'!C34)","v":""},{"$f":"IF('Competitor List'!I34=\"y\",\"Y\",\"N\")","v":"N"},{"$f":"IF('Competitor List'!J34=\"Y\",\"Y\",\" \")","v":" "},{"$f":"IF('Competitor List'!K34=\"Y\",\"Y\",\" \")","v":" "},{"$f":"'Competitor List'!O34","v":214},{"$f":"'Competitor List'!Q34","v":14},{"$f":"OFFSET(H36,'Competitor List'!$T$8,0)","v":14},{"$f":"OFFSET(I36,'Competitor List'!$T$8,0)","v":14},{"$f":"OFFSET(J36,'Competitor List'!$T$8,0)","v":14}]
[{"$f":"T('Competitor List'!B35)","v":""},{"$f":"IF('Competitor List'!H35=\"y\",\"Y\",\"N\")","v":"N"},{"$f":"T('Competitor List'!C35)","v":""},{"$f":"IF('Competitor List'!I35=\"y\",\"Y\",\"N\")","v":"N"},{"$f":"IF('Competitor List'!J35=\"Y\",\"Y\",\" \")","v":" "},{"$f":"IF('Competitor List'!K35=\"Y\",\"Y\",\" \")","v":" "},{"$f":"'Competitor List'!O35","v":215},{"$f":"'Competitor List'!Q35","v":15},{"$f":"OFFSET(H37,'Competitor List'!$T$8,0)","v":15},{"$f":"OFFSET(I37,'Competitor List'!$T$8,0)","v":15},{"$f":"OFFSET(J37,'Competitor List'!$T$8,0)","v":15}]
[{"$f":"T('Competitor List'!B36)","v":""},{"$f":"IF('Competitor List'!H36=\"y\",\"Y\",\"N\")","v":"N"},{"$f":"T('Competitor List'!C36)","v":""},{"$f":"IF('Competitor List'!I36=\"y\",\"Y\",\"N\")","v":"N"},{"$f":"IF('Competitor List'!J36=\"Y\",\"Y\",\" \")","v":" "},{"$f":"IF('Competitor List'!K36=\"Y\",\"Y\",\" \")","v":" "},{"$f":"'Competitor List'!O36","v":301},{"$f":"'Competitor List'!Q36","v":1},{"$f":"OFFSET(H38,'Competitor List'!$T$8,0)","v":1},{"$f":"OFFSET(I38,'Competitor List'!$T$8,0)","v":1},{"$f":"OFFSET(J38,'Competitor List'!$T$8,0)","v":1}]
[{"$f":"T('Competitor List'!B37)","v":""},{"$f":"IF('Competitor List'!H37=\"y\",\"Y\",\"N\")","v":"N"},{"$f":"T('Competitor List'!C37)","v":""},{"$f":"IF('Competitor List'!I37=\"y\",\"Y\",\"N\")","v":"N"},{"$f":"IF('Competitor List'!J37=\"Y\",\"Y\",\" \")","v":" "},{"$f":"IF('Competitor List'!K37=\"Y\",\"Y\",\" \")","v":" "},{"$f":"'Competitor List'!O37","v":302},{"$f":"'Competitor List'!Q37","v":2},{"$f":"OFFSET(H39,'Competitor List'!$T$8,0)","v":2},{"$f":"OFFSET(I39,'Competitor List'!$T$8,0)","v":2},{"$f":"OFFSET(J39,'Competitor List'!$T$8,0)","v":2}]
[{"$f":"T('Competitor List'!B38)","v":""},{"$f":"IF('Competitor List'!H38=\"y\",\"Y\",\"N\")","v":"N"},{"$f":"T('Competitor List'!C38)","v":""},{"$f":"IF('Competitor List'!I38=\"y\",\"Y\",\"N\")","v":"N"},{"$f":"IF('Competitor List'!J38=\"Y\",\"Y\",\" \")","v":" "},{"$f":"IF('Competitor List'!K38=\"Y\",\"Y\",\" \")","v":" "},{"$f":"'Competitor List'!O38","v":303},{"$f":"'Competitor List'!Q38","v":3},{"$f":"OFFSET(H40,'Competitor List'!$T$8,0)","v":3},{"$f":"OFFSET(I40,'Competitor List'!$T$8,0)","v":3},{"$f":"OFFSET(J40,'Competitor List'!$T$8,0)","v":3}]
[{"$f":"T('Competitor List'!B39)","v":""},{"$f":"IF('Competitor List'!H39=\"y\",\"Y\",\"N\")","v":"N"},{"$f":"T('Competitor List'!C39)","v":""},{"$f":"IF('Competitor List'!I39=\"y\",\"Y\",\"N\")","v":"N"},{"$f":"IF('Competitor List'!J39=\"Y\",\"Y\",\" \")","v":" "},{"$f":"IF('Competitor List'!K39=\"Y\",\"Y\",\" \")","v":" "},{"$f":"'Competitor List'!O39","v":304},{"$f":"'Competitor List'!Q39","v":4},{"$f":"OFFSET(H41,'Competitor List'!$T$8,0)","v":4},{"$f":"OFFSET(I41,'Competitor List'!$T$8,0)","v":4},{"$f":"OFFSET(J41,'Competitor List'!$T$8,0)","v":4}]
[{"$f":"T('Competitor List'!B40)","v":""},{"$f":"IF('Competitor List'!H40=\"y\",\"Y\",\"N\")","v":"N"},{"$f":"T('Competitor List'!C40)","v":""},{"$f":"IF('Competitor List'!I40=\"y\",\"Y\",\"N\")","v":"N"},{"$f":"IF('Competitor List'!J40=\"Y\",\"Y\",\" \")","v":" "},{"$f":"IF('Competitor List'!K40=\"Y\",\"Y\",\" \")","v":" "},{"$f":"'Competitor List'!O40","v":305},{"$f":"'Competitor List'!Q40","v":5},{"$f":"OFFSET(H42,'Competitor List'!$T$8,0)","v":5},{"$f":"OFFSET(I42,'Competitor List'!$T$8,0)","v":5},{"$f":"OFFSET(J42,'Competitor List'!$T$8,0)","v":5}]
[{"$f":"T('Competitor List'!B41)","v":""},{"$f":"IF('Competitor List'!H41=\"y\",\"Y\",\"N\")","v":"N"},{"$f":"T('Competitor List'!C41)","v":""},{"$f":"IF('Competitor List'!I41=\"y\",\"Y\",\"N\")","v":"N"},{"$f":"IF('Competitor List'!J41=\"Y\",\"Y\",\" \")","v":" "},{"$f":"IF('Competitor List'!K41=\"Y\",\"Y\",\" \")","v":" "},{"$f":"'Competitor List'!O41","v":306},{"$f":"'Competitor List'!Q41","v":6},{"$f":"OFFSET(H43,'Competitor List'!$T$8,0)","v":6},{"$f":"OFFSET(I43,'Competitor List'!$T$8,0)","v":6},{"$f":"OFFSET(J43,'Competitor List'!$T$8,0)","v":6}]
[{"$f":"T('Competitor List'!B42)","v":""},{"$f":"IF('Competitor List'!H42=\"y\",\"Y\",\"N\")","v":"N"},{"$f":"T('Competitor List'!C42)","v":""},{"$f":"IF('Competitor List'!I42=\"y\",\"Y\",\"N\")","v":"N"},{"$f":"IF('Competitor List'!J42=\"Y\",\"Y\",\" \")","v":" "},{"$f":"IF('Competitor List'!K42=\"Y\",\"Y\",\" \")","v":" "},{"$f":"'Competitor List'!O42","v":307},{"$f":"'Competitor List'!Q42","v":7},{"$f":"OFFSET(H44,'Competitor List'!$T$8,0)","v":7},{"$f":"OFFSET(I44,'Competitor List'!$T$8,0)","v":7},{"$f":"OFFSET(J44,'Competitor List'!$T$8,0)","v":7}]
[{"$f":"T('Competitor List'!B43)","v":""},{"$f":"IF('Competitor List'!H43=\"y\",\"Y\",\"N\")","v":"N"},{"$f":"T('Competitor List'!C43)","v":""},{"$f":"IF('Competitor List'!I43=\"y\",\"Y\",\"N\")","v":"N"},{"$f":"IF('Competitor List'!J43=\"Y\",\"Y\",\" \")","v":" "},{"$f":"IF('Competitor List'!K43=\"Y\",\"Y\",\" \")","v":" "},{"$f":"'Competitor List'!O43","v":308},{"$f":"'Competitor List'!Q43","v":8},{"$f":"OFFSET(H45,'Competitor List'!$T$8,0)","v":8},{"$f":"OFFSET(I45,'Competitor List'!$T$8,0)","v":8},{"$f":"OFFSET(J45,'Competitor List'!$T$8,0)","v":8}]
[{"$f":"T('Competitor List'!B44)","v":""},{"$f":"IF('Competitor List'!H44=\"y\",\"Y\",\"N\")","v":"N"},{"$f":"T('Competitor List'!C44)","v":""},{"$f":"IF('Competitor List'!I44=\"y\",\"Y\",\"N\")","v":"N"},{"$f":"IF('Competitor List'!J44=\"Y\",\"Y\",\" \")","v":" "},{"$f":"IF('Competitor List'!K44=\"Y\",\"Y\",\" \")","v":" "},{"$f":"'Competitor List'!O44","v":309},{"$f":"'Competitor List'!Q44","v":9},{"$f":"OFFSET(H46,'Competitor List'!$T$8,0)","v":9},{"$f":"OFFSET(I46,'Competitor List'!$T$8,0)","v":9},{"$f":"OFFSET(J46,'Competitor List'!$T$8,0)","v":9}]
[{"$f":"T('Competitor List'!B45)","v":""},{"$f":"IF('Competitor List'!H45=\"y\",\"Y\",\"N\")","v":"N"},{"$f":"T('Competitor List'!C45)","v":""},{"$f":"IF('Competitor List'!I45=\"y\",\"Y\",\"N\")","v":"N"},{"$f":"IF('Competitor List'!J45=\"Y\",\"Y\",\" \")","v":" "},{"$f":"IF('Competitor List'!K45=\"Y\",\"Y\",\" \")","v":" "},{"$f":"'Competitor List'!O45","v":310},{"$f":"'Competitor List'!Q45","v":10},{"$f":"OFFSET(H47,'Competitor List'!$T$8,0)","v":10},{"$f":"OFFSET(I47,'Competitor List'!$T$8,0)","v":10},{"$f":"OFFSET(J47,'Competitor List'!$T$8,0)","v":10}]
[{"$f":"T('Competitor List'!B46)","v":""},{"$f":"IF('Competitor List'!H46=\"y\",\"Y\",\"N\")","v":"N"},{"$f":"T('Competitor List'!C46)","v":""},{"$f":"IF('Competitor List'!I46=\"y\",\"Y\",\"N\")","v":"N"},{"$f":"IF('Competitor List'!J46=\"Y\",\"Y\",\" \")","v":" "},{"$f":"IF('Competitor List'!K46=\"Y\",\"Y\",\" \")","v":" "},{"$f":"'Competitor List'!O46","v":311},{"$f":"'Competitor List'!Q46","v":11},{"$f":"OFFSET(H48,'Competitor List'!$T$8,0)","v":11},{"$f":"OFFSET(I48,'Competitor List'!$T$8,0)","v":11},{"$f":"OFFSET(J48,'Competitor List'!$T$8,0)","v":11}]
[{"$f":"T('Competitor List'!B47)","v":""},{"$f":"IF('Competitor List'!H47=\"y\",\"Y\",\"N\")","v":"N"},{"$f":"T('Competitor List'!C47)","v":""},{"$f":"IF('Competitor List'!I47=\"y\",\"Y\",\"N\")","v":"N"},{"$f":"IF('Competitor List'!J47=\"Y\",\"Y\",\" \")","v":" "},{"$f":"IF('Competitor List'!K47=\"Y\",\"Y\",\" \")","v":" "},{"$f":"'Competitor List'!O47","v":312},{"$f":"'Competitor List'!Q47","v":12},{"$f":"OFFSET(H49,'Competitor List'!$T$8,0)","v":12},{"$f":"OFFSET(I49,'Competitor List'!$T$8,0)","v":12},{"$f":"OFFSET(J49,'Competitor List'!$T$8,0)","v":12}]
[{"$f":"T('Competitor List'!B48)","v":""},{"$f":"IF('Competitor List'!H48=\"y\",\"Y\",\"N\")","v":"N"},{"$f":"T('Competitor List'!C48)","v":""},{"$f":"IF('Competitor List'!I48=\"y\",\"Y\",\"N\")","v":"N"},{"$f":"IF('Competitor List'!J48=\"Y\",\"Y\",\" \")","v":" "},{"$f":"IF('Competitor List'!K48=\"Y\",\"Y\",\" \")","v":" "},{"$f":"'Competitor List'!O48","v":313},{"$f":"'Competitor List'!Q48","v":13},{"$f":"OFFSET(H50,'Competitor List'!$T$8,0)","v":13},{"$f":"OFFSET(I50,'Competitor List'!$T$8,0)","v":13},{"$f":"OFFSET(J50,'Competitor List'!$T$8,0)","v":13}]
[{"$f":"T('Competitor List'!B49)","v":""},{"$f":"IF('Competitor List'!H49=\"y\",\"Y\",\"N\")","v":"N"},{"$f":"T('Competitor List'!C49)","v":""},{"$f":"IF('Competitor List'!I49=\"y\",\"Y\",\"N\")","v":"N"},{"$f":"IF('Competitor List'!J49=\"Y\",\"Y\",\" \")","v":" "},{"$f":"IF('Competitor List'!K49=\"Y\",\"Y\",\" \")","v":" "},{"$f":"'Competitor List'!O49","v":314},{"$f":"'Competitor List'!Q49","v":14},{"$f":"OFFSET(H51,'Competitor List'!$T$8,0)","v":14},{"$f":"OFFSET(I51,'Competitor List'!$T$8,0)","v":14},{"$f":"OFFSET(J51,'Competitor List'!$T$8,0)","v":14}]
[{"$f":"T('Competitor List'!B50)","v":""},{"$f":"IF('Competitor List'!H50=\"y\",\"Y\",\"N\")","v":"N"},{"$f":"T('Competitor List'!C50)","v":""},{"$f":"IF('Competitor List'!I50=\"y\",\"Y\",\"N\")","v":"N"},{"$f":"IF('Competitor List'!J50=\"Y\",\"Y\",\" \")","v":" "},{"$f":"IF('Competitor List'!K50=\"Y\",\"Y\",\" \")","v":" "},{"$f":"'Competitor List'!O50","v":315},{"$f":"'Competitor List'!Q50","v":15},{"$f":"OFFSET(H52,'Competitor List'!$T$8,0)","v":15},{"$f":"OFFSET(I52,'Competitor List'!$T$8,0)","v":15},{"$f":"OFFSET(J52,'Competitor List'!$T$8,0)","v":15}]
[{"$f":"T('Competitor List'!B51)","v":""},{"$f":"IF('Competitor List'!H51=\"y\",\"Y\",\"N\")","v":"N"},{"$f":"T('Competitor List'!C51)","v":""},{"$f":"IF('Competitor List'!I51=\"y\",\"Y\",\"N\")","v":"N"},{"$f":"IF('Competitor List'!J51=\"Y\",\"Y\",\" \")","v":" "},{"$f":"IF('Competitor List'!K51=\"Y\",\"Y\",\" \")","v":" "},{"$f":"'Competitor List'!O51","v":401},{"$f":"'Competitor List'!Q51","v":1},{"$f":"OFFSET(H53,'Competitor List'!$T$8,0)","v":1},{"$f":"OFFSET(I53,'Competitor List'!$T$8,0)","v":1},{"$f":"OFFSET(J53,'Competitor List'!$T$8,0)","v":1}]
[{"$f":"T('Competitor List'!B52)","v":""},{"$f":"IF('Competitor List'!H52=\"y\",\"Y\",\"N\")","v":"N"},{"$f":"T('Competitor List'!C52)","v":""},{"$f":"IF('Competitor List'!I52=\"y\",\"Y\",\"N\")","v":"N"},{"$f":"IF('Competitor List'!J52=\"Y\",\"Y\",\" \")","v":" "},{"$f":"IF('Competitor List'!K52=\"Y\",\"Y\",\" \")","v":" "},{"$f":"'Competitor List'!O52","v":402},{"$f":"'Competitor List'!Q52","v":2},{"$f":"OFFSET(H54,'Competitor List'!$T$8,0)","v":2},{"$f":"OFFSET(I54,'Competitor List'!$T$8,0)","v":2},{"$f":"OFFSET(J54,'Competitor List'!$T$8,0)","v":2}]
[{"$f":"T('Competitor List'!B53)","v":""},{"$f":"IF('Competitor List'!H53=\"y\",\"Y\",\"N\")","v":"N"},{"$f":"T('Competitor List'!C53)","v":""},{"$f":"IF('Competitor List'!I53=\"y\",\"Y\",\"N\")","v":"N"},{"$f":"IF('Competitor List'!J53=\"Y\",\"Y\",\" \")","v":" "},{"$f":"IF('Competitor List'!K53=\"Y\",\"Y\",\" \")","v":" "},{"$f":"'Competitor List'!O53","v":403},{"$f":"'Competitor List'!Q53","v":3},{"$f":"OFFSET(H55,'Competitor List'!$T$8,0)","v":3},{"$f":"OFFSET(I55,'Competitor List'!$T$8,0)","v":3},{"$f":"OFFSET(J55,'Competitor List'!$T$8,0)","v":3}]
[{"$f":"T('Competitor List'!B54)","v":""},{"$f":"IF('Competitor List'!H54=\"y\",\"Y\",\"N\")","v":"N"},{"$f":"T('Competitor List'!C54)","v":""},{"$f":"IF('Competitor List'!I54=\"y\",\"Y\",\"N\")","v":"N"},{"$f":"IF('Competitor List'!J54=\"Y\",\"Y\",\" \")","v":" "},{"$f":"IF('Competitor List'!K54=\"Y\",\"Y\",\" \")","v":" "},{"$f":"'Competitor List'!O54","v":404},{"$f":"'Competitor List'!Q54","v":4},{"$f":"OFFSET(H56,'Competitor List'!$T$8,0)","v":4},{"$f":"OFFSET(I56,'Competitor List'!$T$8,0)","v":4},{"$f":"OFFSET(J56,'Competitor List'!$T$8,0)","v":4}]
[{"$f":"T('Competitor List'!B55)","v":""},{"$f":"IF('Competitor List'!H55=\"y\",\"Y\",\"N\")","v":"N"},{"$f":"T('Competitor List'!C55)","v":""},{"$f":"IF('Competitor List'!I55=\"y\",\"Y\",\"N\")","v":"N"},{"$f":"IF('Competitor List'!J55=\"Y\",\"Y\",\" \")","v":" "},{"$f":"IF('Competitor List'!K55=\"Y\",\"Y\",\" \")","v":" "},{"$f":"'Competitor List'!O55","v":405},{"$f":"'Competitor List'!Q55","v":5},{"$f":"OFFSET(H57,'Competitor List'!$T$8,0)","v":5},{"$f":"OFFSET(I57,'Competitor List'!$T$8,0)","v":5},{"$f":"OFFSET(J57,'Competitor List'!$T$8,0)","v":5}]
[{"$f":"T('Competitor List'!B56)","v":""},{"$f":"IF('Competitor List'!H56=\"y\",\"Y\",\"N\")","v":"N"},{"$f":"T('Competitor List'!C56)","v":""},{"$f":"IF('Competitor List'!I56=\"y\",\"Y\",\"N\")","v":"N"},{"$f":"IF('Competitor List'!J56=\"Y\",\"Y\",\" \")","v":" "},{"$f":"IF('Competitor List'!K56=\"Y\",\"Y\",\" \")","v":" "},{"$f":"'Competitor List'!O56","v":406},{"$f":"'Competitor List'!Q56","v":6},{"$f":"OFFSET(H58,'Competitor List'!$T$8,0)","v":6},{"$f":"OFFSET(I58,'Competitor List'!$T$8,0)","v":6},{"$f":"OFFSET(J58,'Competitor List'!$T$8,0)","v":6}]
[{"$f":"T('Competitor List'!B57)","v":""},{"$f":"IF('Competitor List'!H57=\"y\",\"Y\",\"N\")","v":"N"},{"$f":"T('Competitor List'!C57)","v":""},{"$f":"IF('Competitor List'!I57=\"y\",\"Y\",\"N\")","v":"N"},{"$f":"IF('Competitor List'!J57=\"Y\",\"Y\",\" \")","v":" "},{"$f":"IF('Competitor List'!K57=\"Y\",\"Y\",\" \")","v":" "},{"$f":"'Competitor List'!O57","v":407},{"$f":"'Competitor List'!Q57","v":7},{"$f":"OFFSET(H59,'Competitor List'!$T$8,0)","v":7},{"$f":"OFFSET(I59,'Competitor List'!$T$8,0)","v":7},{"$f":"OFFSET(J59,'Competitor List'!$T$8,0)","v":7}]
[{"$f":"T('Competitor List'!B58)","v":""},{"$f":"IF('Competitor List'!H58=\"y\",\"Y\",\"N\")","v":"N"},{"$f":"T('Competitor List'!C58)","v":""},{"$f":"IF('Competitor List'!I58=\"y\",\"Y\",\"N\")","v":"N"},{"$f":"IF('Competitor List'!J58=\"Y\",\"Y\",\" \")","v":" "},{"$f":"IF('Competitor List'!K58=\"Y\",\"Y\",\" \")","v":" "},{"$f":"'Competitor List'!O58","v":408},{"$f":"'Competitor List'!Q58","v":8},{"$f":"OFFSET(H60,'Competitor List'!$T$8,0)","v":8},{"$f":"OFFSET(I60,'Competitor List'!$T$8,0)","v":8},{"$f":"OFFSET(J60,'Competitor List'!$T$8,0)","v":8}]
[{"$f":"T('Competitor List'!B59)","v":""},{"$f":"IF('Competitor List'!H59=\"y\",\"Y\",\"N\")","v":"N"},{"$f":"T('Competitor List'!C59)","v":""},{"$f":"IF('Competitor List'!I59=\"y\",\"Y\",\"N\")","v":"N"},{"$f":"IF('Competitor List'!J59=\"Y\",\"Y\",\" \")","v":" "},{"$f":"IF('Competitor List'!K59=\"Y\",\"Y\",\" \")","v":" "},{"$f":"'Competitor List'!O59","v":409},{"$f":"'Competitor List'!Q59","v":9},{"$f":"OFFSET(H61,'Competitor List'!$T$8,0)","v":9},{"$f":"OFFSET(I61,'Competitor List'!$T$8,0)","v":9},{"$f":"OFFSET(J61,'Competitor List'!$T$8,0)","v":9}]
[{"$f":"T('Competitor List'!B60)","v":""},{"$f":"IF('Competitor List'!H60=\"y\",\"Y\",\"N\")","v":"N"},{"$f":"T('Competitor List'!C60)","v":""},{"$f":"IF('Competitor List'!I60=\"y\",\"Y\",\"N\")","v":"N"},{"$f":"IF('Competitor List'!J60=\"Y\",\"Y\",\" \")","v":" "},{"$f":"IF('Competitor List'!K60=\"Y\",\"Y\",\" \")","v":" "},{"$f":"'Competitor List'!O60","v":410},{"$f":"'Competitor List'!Q60","v":10},{"$f":"OFFSET(H62,'Competitor List'!$T$8,0)","v":10},{"$f":"OFFSET(I62,'Competitor List'!$T$8,0)","v":10},{"$f":"OFFSET(J62,'Competitor List'!$T$8,0)","v":10}]
[{"$f":"T('Competitor List'!B61)","v":""},{"$f":"IF('Competitor List'!H61=\"y\",\"Y\",\"N\")","v":"N"},{"$f":"T('Competitor List'!C61)","v":""},{"$f":"IF('Competitor List'!I61=\"y\",\"Y\",\"N\")","v":"N"},{"$f":"IF('Competitor List'!J61=\"Y\",\"Y\",\" \")","v":" "},{"$f":"IF('Competitor List'!K61=\"Y\",\"Y\",\" \")","v":" "},{"$f":"'Competitor List'!O61","v":411},{"$f":"'Competitor List'!Q61","v":11},{"$f":"OFFSET(H63,'Competitor List'!$T$8,0)","v":11},{"$f":"OFFSET(I63,'Competitor List'!$T$8,0)","v":11},{"$f":"OFFSET(J63,'Competitor List'!$T$8,0)","v":11}]
[{"$f":"T('Competitor List'!B62)","v":""},{"$f":"IF('Competitor List'!H62=\"y\",\"Y\",\"N\")","v":"N"},{"$f":"T('Competitor List'!C62)","v":""},{"$f":"IF('Competitor List'!I62=\"y\",\"Y\",\"N\")","v":"N"},{"$f":"IF('Competitor List'!J62=\"Y\",\"Y\",\" \")","v":" "},{"$f":"IF('Competitor List'!K62=\"Y\",\"Y\",\" \")","v":" "},{"$f":"'Competitor List'!O62","v":412},{"$f":"'Competitor List'!Q62","v":12},{"$f":"OFFSET(H64,'Competitor List'!$T$8,0)","v":12},{"$f":"OFFSET(I64,'Competitor List'!$T$8,0)","v":12},{"$f":"OFFSET(J64,'Competitor List'!$T$8,0)","v":12}]
[{"$f":"T('Competitor List'!B63)","v":""},{"$f":"IF('Competitor List'!H63=\"y\",\"Y\",\"N\")","v":"N"},{"$f":"T('Competitor List'!C63)","v":""},{"$f":"IF('Competitor List'!I63=\"y\",\"Y\",\"N\")","v":"N"},{"$f":"IF('Competitor List'!J63=\"Y\",\"Y\",\" \")","v":" "},{"$f":"IF('Competitor List'!K63=\"Y\",\"Y\",\" \")","v":" "},{"$f":"'Competitor List'!O63","v":413},{"$f":"'Competitor List'!Q63","v":13},{"$f":"OFFSET(H65,'Competitor List'!$T$8,0)","v":13},{"$f":"OFFSET(I65,'Competitor List'!$T$8,0)","v":13},{"$f":"OFFSET(J65,'Competitor List'!$T$8,0)","v":13}]
[{"$f":"T('Competitor List'!B64)","v":""},{"$f":"IF('Competitor List'!H64=\"y\",\"Y\",\"N\")","v":"N"},{"$f":"T('Competitor List'!C64)","v":""},{"$f":"IF('Competitor List'!I64=\"y\",\"Y\",\"N\")","v":"N"},{"$f":"IF('Competitor List'!J64=\"Y\",\"Y\",\" \")","v":" "},{"$f":"IF('Competitor List'!K64=\"Y\",\"Y\",\" \")","v":" "},{"$f":"'Competitor List'!O64","v":414},{"$f":"'Competitor List'!Q64","v":14},{"$f":"OFFSET(H66,'Competitor List'!$T$8,0)","v":14},{"$f":"OFFSET(I66,'Competitor List'!$T$8,0)","v":14},{"$f":"OFFSET(J66,'Competitor List'!$T$8,0)","v":14}]
[{"$f":"T('Competitor List'!B65)","v":""},{"$f":"IF('Competitor List'!H65=\"y\",\"Y\",\"N\")","v":"N"},{"$f":"T('Competitor List'!C65)","v":""},{"$f":"IF('Competitor List'!I65=\"y\",\"Y\",\"N\")","v":"N"},{"$f":"IF('Competitor List'!J65=\"Y\",\"Y\",\" \")","v":" "},{"$f":"IF('Competitor List'!K65=\"Y\",\"Y\",\" \")","v":" "},{"$f":"'Competitor List'!O65","v":415},{"$f":"'Competitor List'!Q65","v":15},{"$f":"OFFSET(H67,'Competitor List'!$T$8,0)","v":15},{"$f":"OFFSET(I67,'Competitor List'!$T$8,0)","v":15},{"$f":"OFFSET(J67,'Competitor List'!$T$8,0)","v":15}]
[{"$f":"T('Competitor List'!B66)","v":""},{"$f":"IF('Competitor List'!H66=\"y\",\"Y\",\"N\")","v":"N"},{"$f":"T('Competitor List'!C66)","v":""},{"$f":"IF('Competitor List'!I66=\"y\",\"Y\",\"N\")","v":"N"},{"$f":"IF('Competitor List'!J66=\"Y\",\"Y\",\" \")","v":" "},{"$f":"IF('Competitor List'!K66=\"Y\",\"Y\",\" \")","v":" "},{"$f":"'Competitor List'!O66","v":501},{"$f":"'Competitor List'!Q66","v":1},{"$f":"OFFSET(H68,'Competitor List'!$T$8,0)","v":1},{"$f":"OFFSET(I68,'Competitor List'!$T$8,0)","v":1},{"$f":"OFFSET(J68,'Competitor List'!$T$8,0)","v":1}]
[{"$f":"T('Competitor List'!B67)","v":""},{"$f":"IF('Competitor List'!H67=\"y\",\"Y\",\"N\")","v":"N"},{"$f":"T('Competitor List'!C67)","v":""},{"$f":"IF('Competitor List'!I67=\"y\",\"Y\",\"N\")","v":"N"},{"$f":"IF('Competitor List'!J67=\"Y\",\"Y\",\" \")","v":" "},{"$f":"IF('Competitor List'!K67=\"Y\",\"Y\",\" \")","v":" "},{"$f":"'Competitor List'!O67","v":502},{"$f":"'Competitor List'!Q67","v":2},{"$f":"OFFSET(H69,'Competitor List'!$T$8,0)","v":2},{"$f":"OFFSET(I69,'Competitor List'!$T$8,0)","v":2},{"$f":"OFFSET(J69,'Competitor List'!$T$8,0)","v":2}]
[{"$f":"T('Competitor List'!B68)","v":""},{"$f":"IF('Competitor List'!H68=\"y\",\"Y\",\"N\")","v":"N"},{"$f":"T('Competitor List'!C68)","v":""},{"$f":"IF('Competitor List'!I68=\"y\",\"Y\",\"N\")","v":"N"},{"$f":"IF('Competitor List'!J68=\"Y\",\"Y\",\" \")","v":" "},{"$f":"IF('Competitor List'!K68=\"Y\",\"Y\",\" \")","v":" "},{"$f":"'Competitor List'!O68","v":503},{"$f":"'Competitor List'!Q68","v":3},{"$f":"OFFSET(H70,'Competitor List'!$T$8,0)","v":3},{"$f":"OFFSET(I70,'Competitor List'!$T$8,0)","v":3},{"$f":"OFFSET(J70,'Competitor List'!$T$8,0)","v":3}]
[{"$f":"T('Competitor List'!B69)","v":""},{"$f":"IF('Competitor List'!H69=\"y\",\"Y\",\"N\")","v":"N"},{"$f":"T('Competitor List'!C69)","v":""},{"$f":"IF('Competitor List'!I69=\"y\",\"Y\",\"N\")","v":"N"},{"$f":"IF('Competitor List'!J69=\"Y\",\"Y\",\" \")","v":" "},{"$f":"IF('Competitor List'!K69=\"Y\",\"Y\",\" \")","v":" "},{"$f":"'Competitor List'!O69","v":504},{"$f":"'Competitor List'!Q69","v":4},{"$f":"OFFSET(H71,'Competitor List'!$T$8,0)","v":4},{"$f":"OFFSET(I71,'Competitor List'!$T$8,0)","v":4},{"$f":"OFFSET(J71,'Competitor List'!$T$8,0)","v":4}]
[{"$f":"T('Competitor List'!B70)","v":""},{"$f":"IF('Competitor List'!H70=\"y\",\"Y\",\"N\")","v":"N"},{"$f":"T('Competitor List'!C70)","v":""},{"$f":"IF('Competitor List'!I70=\"y\",\"Y\",\"N\")","v":"N"},{"$f":"IF('Competitor List'!J70=\"Y\",\"Y\",\" \")","v":" "},{"$f":"IF('Competitor List'!K70=\"Y\",\"Y\",\" \")","v":" "},{"$f":"'Competitor List'!O70","v":505},{"$f":"'Competitor List'!Q70","v":5},{"$f":"OFFSET(H72,'Competitor List'!$T$8,0)","v":5},{"$f":"OFFSET(I72,'Competitor List'!$T$8,0)","v":5},{"$f":"OFFSET(J72,'Competitor List'!$T$8,0)","v":5}]
[{"$f":"T('Competitor List'!B71)","v":""},{"$f":"IF('Competitor List'!H71=\"y\",\"Y\",\"N\")","v":"N"},{"$f":"T('Competitor List'!C71)","v":""},{"$f":"IF('Competitor List'!I71=\"y\",\"Y\",\"N\")","v":"N"},{"$f":"IF('Competitor List'!J71=\"Y\",\"Y\",\" \")","v":" "},{"$f":"IF('Competitor List'!K71=\"Y\",\"Y\",\" \")","v":" "},{"$f":"'Competitor List'!O71","v":506},{"$f":"'Competitor List'!Q71","v":6},{"$f":"OFFSET(H73,'Competitor List'!$T$8,0)","v":6},{"$f":"OFFSET(I73,'Competitor List'!$T$8,0)","v":6},{"$f":"OFFSET(J73,'Competitor List'!$T$8,0)","v":6}]
[{"$f":"T('Competitor List'!B72)","v":""},{"$f":"IF('Competitor List'!H72=\"y\",\"Y\",\"N\")","v":"N"},{"$f":"T('Competitor List'!C72)","v":""},{"$f":"IF('Competitor List'!I72=\"y\",\"Y\",\"N\")","v":"N"},{"$f":"IF('Competitor List'!J72=\"Y\",\"Y\",\" \")","v":" "},{"$f":"IF('Competitor List'!K72=\"Y\",\"Y\",\" \")","v":" "},{"$f":"'Competitor List'!O72","v":507},{"$f":"'Competitor List'!Q72","v":7},{"$f":"OFFSET(H74,'Competitor List'!$T$8,0)","v":7},{"$f":"OFFSET(I74,'Competitor List'!$T$8,0)","v":7},{"$f":"OFFSET(J74,'Competitor List'!$T$8,0)","v":7}]
[{"$f":"T('Competitor List'!B73)","v":""},{"$f":"IF('Competitor List'!H73=\"y\",\"Y\",\"N\")","v":"N"},{"$f":"T('Competitor List'!C73)","v":""},{"$f":"IF('Competitor List'!I73=\"y\",\"Y\",\"N\")","v":"N"},{"$f":"IF('Competitor List'!J73=\"Y\",\"Y\",\" \")","v":" "},{"$f":"IF('Competitor List'!K73=\"Y\",\"Y\",\" \")","v":" "},{"$f":"'Competitor List'!O73","v":508},{"$f":"'Competitor List'!Q73","v":8},{"$f":"OFFSET(H75,'Competitor List'!$T$8,0)","v":8},{"$f":"OFFSET(I75,'Competitor List'!$T$8,0)","v":8},{"$f":"OFFSET(J75,'Competitor List'!$T$8,0)","v":8}]
[{"$f":"T('Competitor List'!B74)","v":""},{"$f":"IF('Competitor List'!H74=\"y\",\"Y\",\"N\")","v":"N"},{"$f":"T('Competitor List'!C74)","v":""},{"$f":"IF('Competitor List'!I74=\"y\",\"Y\",\"N\")","v":"N"},{"$f":"IF('Competitor List'!J74=\"Y\",\"Y\",\" \")","v":" "},{"$f":"IF('Competitor List'!K74=\"Y\",\"Y\",\" \")","v":" "},{"$f":"'Competitor List'!O74","v":509},{"$f":"'Competitor List'!Q74","v":9},{"$f":"OFFSET(H76,'Competitor List'!$T$8,0)","v":9},{"$f":"OFFSET(I76,'Competitor List'!$T$8,0)","v":9},{"$f":"OFFSET(J76,'Competitor List'!$T$8,0)","v":9}]
[{"$f":"T('Competitor List'!B75)","v":""},{"$f":"IF('Competitor List'!H75=\"y\",\"Y\",\"N\")","v":"N"},{"$f":"T('Competitor List'!C75)","v":""},{"$f":"IF('Competitor List'!I75=\"y\",\"Y\",\"N\")","v":"N"},{"$f":"IF('Competitor List'!J75=\"Y\",\"Y\",\" \")","v":" "},{"$f":"IF('Competitor List'!K75=\"Y\",\"Y\",\" \")","v":" "},{"$f":"'Competitor List'!O75","v":510},{"$f":"'Competitor List'!Q75","v":10},{"$f":"OFFSET(H77,'Competitor List'!$T$8,0)","v":10},{"$f":"OFFSET(I77,'Competitor List'!$T$8,0)","v":10},{"$f":"OFFSET(J77,'Competitor List'!$T$8,0)","v":10}]
[{"$f":"T('Competitor List'!B76)","v":""},{"$f":"IF('Competitor List'!H76=\"y\",\"Y\",\"N\")","v":"N"},{"$f":"T('Competitor List'!C76)","v":""},{"$f":"IF('Competitor List'!I76=\"y\",\"Y\",\"N\")","v":"N"},{"$f":"IF('Competitor List'!J76=\"Y\",\"Y\",\" \")","v":" "},{"$f":"IF('Competitor List'!K76=\"Y\",\"Y\",\" \")","v":" "},{"$f":"'Competitor List'!O76","v":511},{"$f":"'Competitor List'!Q76","v":11},{"$f":"OFFSET(H78,'Competitor List'!$T$8,0)","v":11},{"$f":"OFFSET(I78,'Competitor List'!$T$8,0)","v":11},{"$f":"OFFSET(J78,'Competitor List'!$T$8,0)","v":11}]
[{"$f":"T('Competitor List'!B77)","v":""},{"$f":"IF('Competitor List'!H77=\"y\",\"Y\",\"N\")","v":"N"},{"$f":"T('Competitor List'!C77)","v":""},{"$f":"IF('Competitor List'!I77=\"y\",\"Y\",\"N\")","v":"N"},{"$f":"IF('Competitor List'!J77=\"Y\",\"Y\",\" \")","v":" "},{"$f":"IF('Competitor List'!K77=\"Y\",\"Y\",\" \")","v":" "},{"$f":"'Competitor List'!O77","v":512},{"$f":"'Competitor List'!Q77","v":12},{"$f":"OFFSET(H79,'Competitor List'!$T$8,0)","v":12},{"$f":"OFFSET(I79,'Competitor List'!$T$8,0)","v":12},{"$f":"OFFSET(J79,'Competitor List'!$T$8,0)","v":12}]
[{"$f":"T('Competitor List'!B78)","v":""},{"$f":"IF('Competitor List'!H78=\"y\",\"Y\",\"N\")","v":"N"},{"$f":"T('Competitor List'!C78)","v":""},{"$f":"IF('Competitor List'!I78=\"y\",\"Y\",\"N\")","v":"N"},{"$f":"IF('Competitor List'!J78=\"Y\",\"Y\",\" \")","v":" "},{"$f":"IF('Competitor List'!K78=\"Y\",\"Y\",\" \")","v":" "},{"$f":"'Competitor List'!O78","v":513},{"$f":"'Competitor List'!Q78","v":13},{"$f":"OFFSET(H80,'Competitor List'!$T$8,0)","v":13},{"$f":"OFFSET(I80,'Competitor List'!$T$8,0)","v":13},{"$f":"OFFSET(J80,'Competitor List'!$T$8,0)","v":13}]
[{"$f":"T('Competitor List'!B79)","v":""},{"$f":"IF('Competitor List'!H79=\"y\",\"Y\",\"N\")","v":"N"},{"$f":"T('Competitor List'!C79)","v":""},{"$f":"IF('Competitor List'!I79=\"y\",\"Y\",\"N\")","v":"N"},{"$f":"IF('Competitor List'!J79=\"Y\",\"Y\",\" \")","v":" "},{"$f":"IF('Competitor List'!K79=\"Y\",\"Y\",\" \")","v":" "},{"$f":"'Competitor List'!O79","v":514},{"$f":"'Competitor List'!Q79","v":14},{"$f":"OFFSET(H81,'Competitor List'!$T$8,0)","v":14},{"$f":"OFFSET(I81,'Competitor List'!$T$8,0)","v":14},{"$f":"OFFSET(J81,'Competitor List'!$T$8,0)","v":14}]
[{"$f":"T('Competitor List'!B80)","v":""},{"$f":"IF('Competitor List'!H80=\"y\",\"Y\",\"N\")","v":"N"},{"$f":"T('Competitor List'!C80)","v":""},{"$f":"IF('Competitor List'!I80=\"y\",\"Y\",\"N\")","v":"N"},{"$f":"IF('Competitor List'!J80=\"Y\",\"Y\",\" \")","v":" "},{"$f":"IF('Competitor List'!K80=\"Y\",\"Y\",\" \")","v":" "},{"$f":"'Competitor List'!O80","v":515},{"$f":"'Competitor List'!Q80","v":15},{"$f":"OFFSET(H82,'Competitor List'!$T$8,0)","v":15},{"$f":"OFFSET(I82,'Competitor List'!$T$8,0)","v":15},{"$f":"OFFSET(J82,'Competitor List'!$T$8,0)","v":15}]
[{"$f":"T('Competitor List'!B81)","v":""},{"$f":"IF('Competitor List'!H81=\"y\",\"Y\",\"N\")","v":"N"},{"$f":"T('Competitor List'!C81)","v":""},{"$f":"IF('Competitor List'!I81=\"y\",\"Y\",\"N\")","v":"N"},{"$f":"IF('Competitor List'!J81=\"Y\",\"Y\",\" \")","v":" "},{"$f":"IF('Competitor List'!K81=\"Y\",\"Y\",\" \")","v":" "},{"$f":"'Competitor List'!O81","v":601},{"$f":"'Competitor List'!Q81","v":1},{"$f":"OFFSET(H83,'Competitor List'!$T$8,0)","v":1},{"$f":"OFFSET(I83,'Competitor List'!$T$8,0)","v":1},{"$f":"OFFSET(J83,'Competitor List'!$T$8,0)","v":1}]
[{"$f":"T('Competitor List'!B82)","v":""},{"$f":"IF('Competitor List'!H82=\"y\",\"Y\",\"N\")","v":"N"},{"$f":"T('Competitor List'!C82)","v":""},{"$f":"IF('Competitor List'!I82=\"y\",\"Y\",\"N\")","v":"N"},{"$f":"IF('Competitor List'!J82=\"Y\",\"Y\",\" \")","v":" "},{"$f":"IF('Competitor List'!K82=\"Y\",\"Y\",\" \")","v":" "},{"$f":"'Competitor List'!O82","v":602},{"$f":"'Competitor List'!Q82","v":2},{"$f":"OFFSET(H84,'Competitor List'!$T$8,0)","v":2},{"$f":"OFFSET(I84,'Competitor List'!$T$8,0)","v":2},{"$f":"OFFSET(J84,'Competitor List'!$T$8,0)","v":2}]
[{"$f":"T('Competitor List'!B83)","v":""},{"$f":"IF('Competitor List'!H83=\"y\",\"Y\",\"N\")","v":"N"},{"$f":"T('Competitor List'!C83)","v":""},{"$f":"IF('Competitor List'!I83=\"y\",\"Y\",\"N\")","v":"N"},{"$f":"IF('Competitor List'!J83=\"Y\",\"Y\",\" \")","v":" "},{"$f":"IF('Competitor List'!K83=\"Y\",\"Y\",\" \")","v":" "},{"$f":"'Competitor List'!O83","v":603},{"$f":"'Competitor List'!Q83","v":3},{"$f":"OFFSET(H85,'Competitor List'!$T$8,0)","v":3},{"$f":"OFFSET(I85,'Competitor List'!$T$8,0)","v":3},{"$f":"OFFSET(J85,'Competitor List'!$T$8,0)","v":3}]
[{"$f":"T('Competitor List'!B84)","v":""},{"$f":"IF('Competitor List'!H84=\"y\",\"Y\",\"N\")","v":"N"},{"$f":"T('Competitor List'!C84)","v":""},{"$f":"IF('Competitor List'!I84=\"y\",\"Y\",\"N\")","v":"N"},{"$f":"IF('Competitor List'!J84=\"Y\",\"Y\",\" \")","v":" "},{"$f":"IF('Competitor List'!K84=\"Y\",\"Y\",\" \")","v":" "},{"$f":"'Competitor List'!O84","v":604},{"$f":"'Competitor List'!Q84","v":4},{"$f":"OFFSET(H86,'Competitor List'!$T$8,0)","v":4},{"$f":"OFFSET(I86,'Competitor List'!$T$8,0)","v":4},{"$f":"OFFSET(J86,'Competitor List'!$T$8,0)","v":4}]
[{"$f":"T('Competitor List'!B85)","v":""},{"$f":"IF('Competitor List'!H85=\"y\",\"Y\",\"N\")","v":"N"},{"$f":"T('Competitor List'!C85)","v":""},{"$f":"IF('Competitor List'!I85=\"y\",\"Y\",\"N\")","v":"N"},{"$f":"IF('Competitor List'!J85=\"Y\",\"Y\",\" \")","v":" "},{"$f":"IF('Competitor List'!K85=\"Y\",\"Y\",\" \")","v":" "},{"$f":"'Competitor List'!O85","v":605},{"$f":"'Competitor List'!Q85","v":5},{"$f":"OFFSET(H87,'Competitor List'!$T$8,0)","v":5},{"$f":"OFFSET(I87,'Competitor List'!$T$8,0)","v":5},{"$f":"OFFSET(J87,'Competitor List'!$T$8,0)","v":5}]
[{"$f":"T('Competitor List'!B86)","v":""},{"$f":"IF('Competitor List'!H86=\"y\",\"Y\",\"N\")","v":"N"},{"$f":"T('Competitor List'!C86)","v":""},{"$f":"IF('Competitor List'!I86=\"y\",\"Y\",\"N\")","v":"N"},{"$f":"IF('Competitor List'!J86=\"Y\",\"Y\",\" \")","v":" "},{"$f":"IF('Competitor List'!K86=\"Y\",\"Y\",\" \")","v":" "},{"$f":"'Competitor List'!O86","v":606},{"$f":"'Competitor List'!Q86","v":6},{"$f":"OFFSET(H88,'Competitor List'!$T$8,0)","v":6},{"$f":"OFFSET(I88,'Competitor List'!$T$8,0)","v":6},{"$f":"OFFSET(J88,'Competitor List'!$T$8,0)","v":6}]
[{"$f":"T('Competitor List'!B87)","v":""},{"$f":"IF('Competitor List'!H87=\"y\",\"Y\",\"N\")","v":"N"},{"$f":"T('Competitor List'!C87)","v":""},{"$f":"IF('Competitor List'!I87=\"y\",\"Y\",\"N\")","v":"N"},{"$f":"IF('Competitor List'!J87=\"Y\",\"Y\",\" \")","v":" "},{"$f":"IF('Competitor List'!K87=\"Y\",\"Y\",\" \")","v":" "},{"$f":"'Competitor List'!O87","v":607},{"$f":"'Competitor List'!Q87","v":7},{"$f":"OFFSET(H89,'Competitor List'!$T$8,0)","v":7},{"$f":"OFFSET(I89,'Competitor List'!$T$8,0)","v":7},{"$f":"OFFSET(J89,'Competitor List'!$T$8,0)","v":7}]
[{"$f":"T('Competitor List'!B88)","v":""},{"$f":"IF('Competitor List'!H88=\"y\",\"Y\",\"N\")","v":"N"},{"$f":"T('Competitor List'!C88)","v":""},{"$f":"IF('Competitor List'!I88=\"y\",\"Y\",\"N\")","v":"N"},{"$f":"IF('Competitor List'!J88=\"Y\",\"Y\",\" \")","v":" "},{"$f":"IF('Competitor List'!K88=\"Y\",\"Y\",\" \")","v":" "},{"$f":"'Competitor List'!O88","v":608},{"$f":"'Competitor List'!Q88","v":8},{"$f":"OFFSET(H90,'Competitor List'!$T$8,0)","v":8},{"$f":"OFFSET(I90,'Competitor List'!$T$8,0)","v":8},{"$f":"OFFSET(J90,'Competitor List'!$T$8,0)","v":8}]
[{"$f":"T('Competitor List'!B89)","v":""},{"$f":"IF('Competitor List'!H89=\"y\",\"Y\",\"N\")","v":"N"},{"$f":"T('Competitor List'!C89)","v":""},{"$f":"IF('Competitor List'!I89=\"y\",\"Y\",\"N\")","v":"N"},{"$f":"IF('Competitor List'!J89=\"Y\",\"Y\",\" \")","v":" "},{"$f":"IF('Competitor List'!K89=\"Y\",\"Y\",\" \")","v":" "},{"$f":"'Competitor List'!O89","v":609},{"$f":"'Competitor List'!Q89","v":9},{"$f":"OFFSET(H91,'Competitor List'!$T$8,0)","v":9},{"$f":"OFFSET(I91,'Competitor List'!$T$8,0)","v":9},{"$f":"OFFSET(J91,'Competitor List'!$T$8,0)","v":9}]
[{"$f":"T('Competitor List'!B90)","v":""},{"$f":"IF('Competitor List'!H90=\"y\",\"Y\",\"N\")","v":"N"},{"$f":"T('Competitor List'!C90)","v":""},{"$f":"IF('Competitor List'!I90=\"y\",\"Y\",\"N\")","v":"N"},{"$f":"IF('Competitor List'!J90=\"Y\",\"Y\",\" \")","v":" "},{"$f":"IF('Competitor List'!K90=\"Y\",\"Y\",\" \")","v":" "},{"$f":"'Competitor List'!O90","v":610},{"$f":"'Competitor List'!Q90","v":10},{"$f":"OFFSET(H92,'Competitor List'!$T$8,0)","v":10},{"$f":"OFFSET(I92,'Competitor List'!$T$8,0)","v":10},{"$f":"OFFSET(J92,'Competitor List'!$T$8,0)","v":10}]
[{"$f":"T('Competitor List'!B91)","v":""},{"$f":"IF('Competitor List'!H91=\"y\",\"Y\",\"N\")","v":"N"},{"$f":"T('Competitor List'!C91)","v":""},{"$f":"IF('Competitor List'!I91=\"y\",\"Y\",\"N\")","v":"N"},{"$f":"IF('Competitor List'!J91=\"Y\",\"Y\",\" \")","v":" "},{"$f":"IF('Competitor List'!K91=\"Y\",\"Y\",\" \")","v":" "},{"$f":"'Competitor List'!O91","v":611},{"$f":"'Competitor List'!Q91","v":11},{"$f":"OFFSET(H93,'Competitor List'!$T$8,0)","v":11},{"$f":"OFFSET(I93,'Competitor List'!$T$8,0)","v":11},{"$f":"OFFSET(J93,'Competitor List'!$T$8,0)","v":11}]
[{"$f":"T('Competitor List'!B92)","v":""},{"$f":"IF('Competitor List'!H92=\"y\",\"Y\",\"N\")","v":"N"},{"$f":"T('Competitor List'!C92)","v":""},{"$f":"IF('Competitor List'!I92=\"y\",\"Y\",\"N\")","v":"N"},{"$f":"IF('Competitor List'!J92=\"Y\",\"Y\",\" \")","v":" "},{"$f":"IF('Competitor List'!K92=\"Y\",\"Y\",\" \")","v":" "},{"$f":"'Competitor List'!O92","v":612},{"$f":"'Competitor List'!Q92","v":12},{"$f":"OFFSET(H94,'Competitor List'!$T$8,0)","v":12},{"$f":"OFFSET(I94,'Competitor List'!$T$8,0)","v":12},{"$f":"OFFSET(J94,'Competitor List'!$T$8,0)","v":12}]
[{"$f":"T('Competitor List'!B93)","v":""},{"$f":"IF('Competitor List'!H93=\"y\",\"Y\",\"N\")","v":"N"},{"$f":"T('Competitor List'!C93)","v":""},{"$f":"IF('Competitor List'!I93=\"y\",\"Y\",\"N\")","v":"N"},{"$f":"IF('Competitor List'!J93=\"Y\",\"Y\",\" \")","v":" "},{"$f":"IF('Competitor List'!K93=\"Y\",\"Y\",\" \")","v":" "},{"$f":"'Competitor List'!O93","v":613},{"$f":"'Competitor List'!Q93","v":13},{"$f":"OFFSET(H95,'Competitor List'!$T$8,0)","v":13},{"$f":"OFFSET(I95,'Competitor List'!$T$8,0)","v":13},{"$f":"OFFSET(J95,'Competitor List'!$T$8,0)","v":13}]
[{"$f":"T('Competitor List'!B94)","v":""},{"$f":"IF('Competitor List'!H94=\"y\",\"Y\",\"N\")","v":"N"},{"$f":"T('Competitor List'!C94)","v":""},{"$f":"IF('Competitor List'!I94=\"y\",\"Y\",\"N\")","v":"N"},{"$f":"IF('Competitor List'!J94=\"Y\",\"Y\",\" \")","v":" "},{"$f":"IF('Competitor List'!K94=\"Y\",\"Y\",\" \")","v":" "},{"$f":"'Competitor List'!O94","v":614},{"$f":"'Competitor List'!Q94","v":14},{"$f":"OFFSET(H96,'Competitor List'!$T$8,0)","v":14},{"$f":"OFFSET(I96,'Competitor List'!$T$8,0)","v":14},{"$f":"OFFSET(J96,'Competitor List'!$T$8,0)","v":14}]
[{"$f":"T('Competitor List'!B95)","v":""},{"$f":"IF('Competitor List'!H95=\"y\",\"Y\",\"N\")","v":"N"},{"$f":"T('Competitor List'!C95)","v":""},{"$f":"IF('Competitor List'!I95=\"y\",\"Y\",\"N\")","v":"N"},{"$f":"IF('Competitor List'!J95=\"Y\",\"Y\",\" \")","v":" "},{"$f":"IF('Competitor List'!K95=\"Y\",\"Y\",\" \")","v":" "},{"$f":"'Competitor List'!O95","v":615},{"$f":"'Competitor List'!Q95","v":15},{"$f":"OFFSET(H97,'Competitor List'!$T$8,0)","v":15},{"$f":"OFFSET(I97,'Competitor List'!$T$8,0)","v":15},{"$f":"OFFSET(J97,'Competitor List'!$T$8,0)","v":15}]
[{"$f":"T('Competitor List'!B96)","v":""},{"$f":"IF('Competitor List'!H96=\"y\",\"Y\",\"N\")","v":"N"},{"$f":"T('Competitor List'!C96)","v":""},{"$f":"IF('Competitor List'!I96=\"y\",\"Y\",\"N\")","v":"N"},{"$f":"IF('Competitor List'!J96=\"Y\",\"Y\",\" \")","v":" "},{"$f":"IF('Competitor List'!K96=\"Y\",\"Y\",\" \")","v":" "},{"$f":"'Competitor List'!O96","v":701},{"$f":"'Competitor List'!Q96","v":1},{"$f":"OFFSET(H98,'Competitor List'!$T$8,0)","v":1},{"$f":"OFFSET(I98,'Competitor List'!$T$8,0)","v":1},{"$f":"OFFSET(J98,'Competitor List'!$T$8,0)","v":1}]
[{"$f":"T('Competitor List'!B97)","v":""},{"$f":"IF('Competitor List'!H97=\"y\",\"Y\",\"N\")","v":"N"},{"$f":"T('Competitor List'!C97)","v":""},{"$f":"IF('Competitor List'!I97=\"y\",\"Y\",\"N\")","v":"N"},{"$f":"IF('Competitor List'!J97=\"Y\",\"Y\",\" \")","v":" "},{"$f":"IF('Competitor List'!K97=\"Y\",\"Y\",\" \")","v":" "},{"$f":"'Competitor List'!O97","v":702},{"$f":"'Competitor List'!Q97","v":2},{"$f":"OFFSET(H99,'Competitor List'!$T$8,0)","v":2},{"$f":"OFFSET(I99,'Competitor List'!$T$8,0)","v":2},{"$f":"OFFSET(J99,'Competitor List'!$T$8,0)","v":2}]
[{"$f":"T('Competitor List'!B98)","v":""},{"$f":"IF('Competitor List'!H98=\"y\",\"Y\",\"N\")","v":"N"},{"$f":"T('Competitor List'!C98)","v":""},{"$f":"IF('Competitor List'!I98=\"y\",\"Y\",\"N\")","v":"N"},{"$f":"IF('Competitor List'!J98=\"Y\",\"Y\",\" \")","v":" "},{"$f":"IF('Competitor List'!K98=\"Y\",\"Y\",\" \")","v":" "},{"$f":"'Competitor List'!O98","v":703},{"$f":"'Competitor List'!Q98","v":3},{"$f":"OFFSET(H100,'Competitor List'!$T$8,0)","v":3},{"$f":"OFFSET(I100,'Competitor List'!$T$8,0)","v":3},{"$f":"OFFSET(J100,'Competitor List'!$T$8,0)","v":3}]
[{"$f":"T('Competitor List'!B99)","v":""},{"$f":"IF('Competitor List'!H99=\"y\",\"Y\",\"N\")","v":"N"},{"$f":"T('Competitor List'!C99)","v":""},{"$f":"IF('Competitor List'!I99=\"y\",\"Y\",\"N\")","v":"N"},{"$f":"IF('Competitor List'!J99=\"Y\",\"Y\",\" \")","v":" "},{"$f":"IF('Competitor List'!K99=\"Y\",\"Y\",\" \")","v":" "},{"$f":"'Competitor List'!O99","v":704},{"$f":"'Competitor List'!Q99","v":4},{"$f":"OFFSET(H101,'Competitor List'!$T$8,0)","v":4},{"$f":"OFFSET(I101,'Competitor List'!$T$8,0)","v":4},{"$f":"OFFSET(J101,'Competitor List'!$T$8,0)","v":4}]
[{"$f":"T('Competitor List'!B100)","v":""},{"$f":"IF('Competitor List'!H100=\"y\",\"Y\",\"N\")","v":"N"},{"$f":"T('Competitor List'!C100)","v":""},{"$f":"IF('Competitor List'!I100=\"y\",\"Y\",\"N\")","v":"N"},{"$f":"IF('Competitor List'!J100=\"Y\",\"Y\",\" \")","v":" "},{"$f":"IF('Competitor List'!K100=\"Y\",\"Y\",\" \")","v":" "},{"$f":"'Competitor List'!O100","v":705},{"$f":"'Competitor List'!Q100","v":5},{"$f":"OFFSET(H102,'Competitor List'!$T$8,0)","v":5},{"$f":"OFFSET(I102,'Competitor List'!$T$8,0)","v":5},{"$f":"OFFSET(J102,'Competitor List'!$T$8,0)","v":5}]
[{"$f":"T('Competitor List'!B101)","v":""},{"$f":"IF('Competitor List'!H101=\"y\",\"Y\",\"N\")","v":"N"},{"$f":"T('Competitor List'!C101)","v":""},{"$f":"IF('Competitor List'!I101=\"y\",\"Y\",\"N\")","v":"N"},{"$f":"IF('Competitor List'!J101=\"Y\",\"Y\",\" \")","v":" "},{"$f":"IF('Competitor List'!K101=\"Y\",\"Y\",\" \")","v":" "},{"$f":"'Competitor List'!O101","v":706},{"$f":"'Competitor List'!Q101","v":6},{"$f":"OFFSET(H103,'Competitor List'!$T$8,0)","v":6},{"$f":"OFFSET(I103,'Competitor List'!$T$8,0)","v":6},{"$f":"OFFSET(J103,'Competitor List'!$T$8,0)","v":6}]
[{"$f":"T('Competitor List'!B102)","v":""},{"$f":"IF('Competitor List'!H102=\"y\",\"Y\",\"N\")","v":"N"},{"$f":"T('Competitor List'!C102)","v":""},{"$f":"IF('Competitor List'!I102=\"y\",\"Y\",\"N\")","v":"N"},{"$f":"IF('Competitor List'!J102=\"Y\",\"Y\",\" \")","v":" "},{"$f":"IF('Competitor List'!K102=\"Y\",\"Y\",\" \")","v":" "},{"$f":"'Competitor List'!O102","v":707},{"$f":"'Competitor List'!Q102","v":7},{"$f":"OFFSET(H104,'Competitor List'!$T$8,0)","v":7},{"$f":"OFFSET(I104,'Competitor List'!$T$8,0)","v":7},{"$f":"OFFSET(J104,'Competitor List'!$T$8,0)","v":7}]
[{"$f":"T('Competitor List'!B103)","v":""},{"$f":"IF('Competitor List'!H103=\"y\",\"Y\",\"N\")","v":"N"},{"$f":"T('Competitor List'!C103)","v":""},{"$f":"IF('Competitor List'!I103=\"y\",\"Y\",\"N\")","v":"N"},{"$f":"IF('Competitor List'!J103=\"Y\",\"Y\",\" \")","v":" "},{"$f":"IF('Competitor List'!K103=\"Y\",\"Y\",\" \")","v":" "},{"$f":"'Competitor List'!O103","v":708},{"$f":"'Competitor List'!Q103","v":8},{"$f":"OFFSET(H105,'Competitor List'!$T$8,0)","v":8},{"$f":"OFFSET(I105,'Competitor List'!$T$8,0)","v":8},{"$f":"OFFSET(J105,'Competitor List'!$T$8,0)","v":8}]
[{"$f":"T('Competitor List'!B104)","v":""},{"$f":"IF('Competitor List'!H104=\"y\",\"Y\",\"N\")","v":"N"},{"$f":"T('Competitor List'!C104)","v":""},{"$f":"IF('Competitor List'!I104=\"y\",\"Y\",\"N\")","v":"N"},{"$f":"IF('Competitor List'!J104=\"Y\",\"Y\",\" \")","v":" "},{"$f":"IF('Competitor List'!K104=\"Y\",\"Y\",\" \")","v":" "},{"$f":"'Competitor List'!O104","v":709},{"$f":"'Competitor List'!Q104","v":9},{"$f":"OFFSET(H106,'Competitor List'!$T$8,0)","v":9},{"$f":"OFFSET(I106,'Competitor List'!$T$8,0)","v":9},{"$f":"OFFSET(J106,'Competitor List'!$T$8,0)","v":9}]
[{"$f":"T('Competitor List'!B105)","v":""},{"$f":"IF('Competitor List'!H105=\"y\",\"Y\",\"N\")","v":"N"},{"$f":"T('Competitor List'!C105)","v":""},{"$f":"IF('Competitor List'!I105=\"y\",\"Y\",\"N\")","v":"N"},{"$f":"IF('Competitor List'!J105=\"Y\",\"Y\",\" \")","v":" "},{"$f":"IF('Competitor List'!K105=\"Y\",\"Y\",\" \")","v":" "},{"$f":"'Competitor List'!O105","v":710},{"$f":"'Competitor List'!Q105","v":10},{"$f":"OFFSET(H107,'Competitor List'!$T$8,0)","v":10},{"$f":"OFFSET(I107,'Competitor List'!$T$8,0)","v":10},{"$f":"OFFSET(J107,'Competitor List'!$T$8,0)","v":10}]
[{"$f":"T('Competitor List'!B106)","v":""},{"$f":"IF('Competitor List'!H106=\"y\",\"Y\",\"N\")","v":"N"},{"$f":"T('Competitor List'!C106)","v":""},{"$f":"IF('Competitor List'!I106=\"y\",\"Y\",\"N\")","v":"N"},{"$f":"IF('Competitor List'!J106=\"Y\",\"Y\",\" \")","v":" "},{"$f":"IF('Competitor List'!K106=\"Y\",\"Y\",\" \")","v":" "},{"$f":"'Competitor List'!O106","v":711},{"$f":"'Competitor List'!Q106","v":11},{"$f":"OFFSET(H108,'Competitor List'!$T$8,0)","v":11},{"$f":"OFFSET(I108,'Competitor List'!$T$8,0)","v":11},{"$f":"OFFSET(J108,'Competitor List'!$T$8,0)","v":11}]
[{"$f":"T('Competitor List'!B107)","v":""},{"$f":"IF('Competitor List'!H107=\"y\",\"Y\",\"N\")","v":"N"},{"$f":"T('Competitor List'!C107)","v":""},{"$f":"IF('Competitor List'!I107=\"y\",\"Y\",\"N\")","v":"N"},{"$f":"IF('Competitor List'!J107=\"Y\",\"Y\",\" \")","v":" "},{"$f":"IF('Competitor List'!K107=\"Y\",\"Y\",\" \")","v":" "},{"$f":"'Competitor List'!O107","v":712},{"$f":"'Competitor List'!Q107","v":12},{"$f":"OFFSET(H109,'Competitor List'!$T$8,0)","v":12},{"$f":"OFFSET(I109,'Competitor List'!$T$8,0)","v":12},{"$f":"OFFSET(J109,'Competitor List'!$T$8,0)","v":12}]
[{"$f":"T('Competitor List'!B108)","v":""},{"$f":"IF('Competitor List'!H108=\"y\",\"Y\",\"N\")","v":"N"},{"$f":"T('Competitor List'!C108)","v":""},{"$f":"IF('Competitor List'!I108=\"y\",\"Y\",\"N\")","v":"N"},{"$f":"IF('Competitor List'!J108=\"Y\",\"Y\",\" \")","v":" "},{"$f":"IF('Competitor List'!K108=\"Y\",\"Y\",\" \")","v":" "},{"$f":"'Competitor List'!O108","v":713},{"$f":"'Competitor List'!Q108","v":13},{"$f":"OFFSET(H110,'Competitor List'!$T$8,0)","v":13},{"$f":"OFFSET(I110,'Competitor List'!$T$8,0)","v":13},{"$f":"OFFSET(J110,'Competitor List'!$T$8,0)","v":13}]
[{"$f":"T('Competitor List'!B109)","v":""},{"$f":"IF('Competitor List'!H109=\"y\",\"Y\",\"N\")","v":"N"},{"$f":"T('Competitor List'!C109)","v":""},{"$f":"IF('Competitor List'!I109=\"y\",\"Y\",\"N\")","v":"N"},{"$f":"IF('Competitor List'!J109=\"Y\",\"Y\",\" \")","v":" "},{"$f":"IF('Competitor List'!K109=\"Y\",\"Y\",\" \")","v":" "},{"$f":"'Competitor List'!O109","v":714},{"$f":"'Competitor List'!Q109","v":14},{"$f":"OFFSET(H111,'Competitor List'!$T$8,0)","v":14},{"$f":"OFFSET(I111,'Competitor List'!$T$8,0)","v":14},{"$f":"OFFSET(J111,'Competitor List'!$T$8,0)","v":14}]
[{"$f":"T('Competitor List'!B110)","v":""},{"$f":"IF('Competitor List'!H110=\"y\",\"Y\",\"N\")","v":"N"},{"$f":"T('Competitor List'!C110)","v":""},{"$f":"IF('Competitor List'!I110=\"y\",\"Y\",\"N\")","v":"N"},{"$f":"IF('Competitor List'!J110=\"Y\",\"Y\",\" \")","v":" "},{"$f":"IF('Competitor List'!K110=\"Y\",\"Y\",\" \")","v":" "},{"$f":"'Competitor List'!O110","v":715},{"$f":"'Competitor List'!Q110","v":15},{"$f":"OFFSET(H112,'Competitor List'!$T$8,0)","v":15},{"$f":"OFFSET(I112,'Competitor List'!$T$8,0)","v":15},{"$f":"OFFSET(J112,'Competitor List'!$T$8,0)","v":15}]
[{"$f":"T('Competitor List'!B111)","v":""},{"$f":"IF('Competitor List'!H111=\"y\",\"Y\",\"N\")","v":"N"},{"$f":"T('Competitor List'!C111)","v":""},{"$f":"IF('Competitor List'!I111=\"y\",\"Y\",\"N\")","v":"N"},{"$f":"IF('Competitor List'!J111=\"Y\",\"Y\",\" \")","v":" "},{"$f":"IF('Competitor List'!K111=\"Y\",\"Y\",\" \")","v":" "},{"$f":"'Competitor List'!O111","v":801},{"$f":"'Competitor List'!Q111","v":1},{"$f":"OFFSET(H113,'Competitor List'!$T$8,0)","v":1},{"$f":"OFFSET(I113,'Competitor List'!$T$8,0)","v":1},{"$f":"OFFSET(J113,'Competitor List'!$T$8,0)","v":1}]
[{"$f":"T('Competitor List'!B112)","v":""},{"$f":"IF('Competitor List'!H112=\"y\",\"Y\",\"N\")","v":"N"},{"$f":"T('Competitor List'!C112)","v":""},{"$f":"IF('Competitor List'!I112=\"y\",\"Y\",\"N\")","v":"N"},{"$f":"IF('Competitor List'!J112=\"Y\",\"Y\",\" \")","v":" "},{"$f":"IF('Competitor List'!K112=\"Y\",\"Y\",\" \")","v":" "},{"$f":"'Competitor List'!O112","v":802},{"$f":"'Competitor List'!Q112","v":2},{"$f":"OFFSET(H114,'Competitor List'!$T$8,0)","v":2},{"$f":"OFFSET(I114,'Competitor List'!$T$8,0)","v":2},{"$f":"OFFSET(J114,'Competitor List'!$T$8,0)","v":2}]
[{"$f":"T('Competitor List'!B113)","v":""},{"$f":"IF('Competitor List'!H113=\"y\",\"Y\",\"N\")","v":"N"},{"$f":"T('Competitor List'!C113)","v":""},{"$f":"IF('Competitor List'!I113=\"y\",\"Y\",\"N\")","v":"N"},{"$f":"IF('Competitor List'!J113=\"Y\",\"Y\",\" \")","v":" "},{"$f":"IF('Competitor List'!K113=\"Y\",\"Y\",\" \")","v":" "},{"$f":"'Competitor List'!O113","v":803},{"$f":"'Competitor List'!Q113","v":3},{"$f":"OFFSET(H115,'Competitor List'!$T$8,0)","v":3},{"$f":"OFFSET(I115,'Competitor List'!$T$8,0)","v":3},{"$f":"OFFSET(J115,'Competitor List'!$T$8,0)","v":3}]
[{"$f":"T('Competitor List'!B114)","v":""},{"$f":"IF('Competitor List'!H114=\"y\",\"Y\",\"N\")","v":"N"},{"$f":"T('Competitor List'!C114)","v":""},{"$f":"IF('Competitor List'!I114=\"y\",\"Y\",\"N\")","v":"N"},{"$f":"IF('Competitor List'!J114=\"Y\",\"Y\",\" \")","v":" "},{"$f":"IF('Competitor List'!K114=\"Y\",\"Y\",\" \")","v":" "},{"$f":"'Competitor List'!O114","v":804},{"$f":"'Competitor List'!Q114","v":4},{"$f":"OFFSET(H116,'Competitor List'!$T$8,0)","v":4},{"$f":"OFFSET(I116,'Competitor List'!$T$8,0)","v":4},{"$f":"OFFSET(J116,'Competitor List'!$T$8,0)","v":4}]
[{"$f":"T('Competitor List'!B115)","v":""},{"$f":"IF('Competitor List'!H115=\"y\",\"Y\",\"N\")","v":"N"},{"$f":"T('Competitor List'!C115)","v":""},{"$f":"IF('Competitor List'!I115=\"y\",\"Y\",\"N\")","v":"N"},{"$f":"IF('Competitor List'!J115=\"Y\",\"Y\",\" \")","v":" "},{"$f":"IF('Competitor List'!K115=\"Y\",\"Y\",\" \")","v":" "},{"$f":"'Competitor List'!O115","v":805},{"$f":"'Competitor List'!Q115","v":5},{"$f":"OFFSET(H117,'Competitor List'!$T$8,0)","v":5},{"$f":"OFFSET(I117,'Competitor List'!$T$8,0)","v":5},{"$f":"OFFSET(J117,'Competitor List'!$T$8,0)","v":5}]
[{"$f":"T('Competitor List'!B116)","v":""},{"$f":"IF('Competitor List'!H116=\"y\",\"Y\",\"N\")","v":"N"},{"$f":"T('Competitor List'!C116)","v":""},{"$f":"IF('Competitor List'!I116=\"y\",\"Y\",\"N\")","v":"N"},{"$f":"IF('Competitor List'!J116=\"Y\",\"Y\",\" \")","v":" "},{"$f":"IF('Competitor List'!K116=\"Y\",\"Y\",\" \")","v":" "},{"$f":"'Competitor List'!O116","v":806},{"$f":"'Competitor List'!Q116","v":6},{"$f":"OFFSET(H118,'Competitor List'!$T$8,0)","v":6},{"$f":"OFFSET(I118,'Competitor List'!$T$8,0)","v":6},{"$f":"OFFSET(J118,'Competitor List'!$T$8,0)","v":6}]
[{"$f":"T('Competitor List'!B117)","v":""},{"$f":"IF('Competitor List'!H117=\"y\",\"Y\",\"N\")","v":"N"},{"$f":"T('Competitor List'!C117)","v":""},{"$f":"IF('Competitor List'!I117=\"y\",\"Y\",\"N\")","v":"N"},{"$f":"IF('Competitor List'!J117=\"Y\",\"Y\",\" \")","v":" "},{"$f":"IF('Competitor List'!K117=\"Y\",\"Y\",\" \")","v":" "},{"$f":"'Competitor List'!O117","v":807},{"$f":"'Competitor List'!Q117","v":7},{"$f":"OFFSET(H119,'Competitor List'!$T$8,0)","v":7},{"$f":"OFFSET(I119,'Competitor List'!$T$8,0)","v":7},{"$f":"OFFSET(J119,'Competitor List'!$T$8,0)","v":7}]
[{"$f":"T('Competitor List'!B118)","v":""},{"$f":"IF('Competitor List'!H118=\"y\",\"Y\",\"N\")","v":"N"},{"$f":"T('Competitor List'!C118)","v":""},{"$f":"IF('Competitor List'!I118=\"y\",\"Y\",\"N\")","v":"N"},{"$f":"IF('Competitor List'!J118=\"Y\",\"Y\",\" \")","v":" "},{"$f":"IF('Competitor List'!K118=\"Y\",\"Y\",\" \")","v":" "},{"$f":"'Competitor List'!O118","v":808},{"$f":"'Competitor List'!Q118","v":8},{"$f":"OFFSET(H120,'Competitor List'!$T$8,0)","v":8},{"$f":"OFFSET(I120,'Competitor List'!$T$8,0)","v":8},{"$f":"OFFSET(J120,'Competitor List'!$T$8,0)","v":8}]
[{"$f":"T('Competitor List'!B119)","v":""},{"$f":"IF('Competitor List'!H119=\"y\",\"Y\",\"N\")","v":"N"},{"$f":"T('Competitor List'!C119)","v":""},{"$f":"IF('Competitor List'!I119=\"y\",\"Y\",\"N\")","v":"N"},{"$f":"IF('Competitor List'!J119=\"Y\",\"Y\",\" \")","v":" "},{"$f":"IF('Competitor List'!K119=\"Y\",\"Y\",\" \")","v":" "},{"$f":"'Competitor List'!O119","v":809},{"$f":"'Competitor List'!Q119","v":9},{"$f":"OFFSET(H121,'Competitor List'!$T$8,0)","v":9},{"$f":"OFFSET(I121,'Competitor List'!$T$8,0)","v":9},{"$f":"OFFSET(J121,'Competitor List'!$T$8,0)","v":9}]
[{"$f":"T('Competitor List'!B120)","v":""},{"$f":"IF('Competitor List'!H120=\"y\",\"Y\",\"N\")","v":"N"},{"$f":"T('Competitor List'!C120)","v":""},{"$f":"IF('Competitor List'!I120=\"y\",\"Y\",\"N\")","v":"N"},{"$f":"IF('Competitor List'!J120=\"Y\",\"Y\",\" \")","v":" "},{"$f":"IF('Competitor List'!K120=\"Y\",\"Y\",\" \")","v":" "},{"$f":"'Competitor List'!O120","v":810},{"$f":"'Competitor List'!Q120","v":10},{"$f":"OFFSET(H122,'Competitor List'!$T$8,0)","v":10},{"$f":"OFFSET(I122,'Competitor List'!$T$8,0)","v":10},{"$f":"OFFSET(J122,'Competitor List'!$T$8,0)","v":10}]
[{"$f":"T('Competitor List'!B121)","v":""},{"$f":"IF('Competitor List'!H121=\"y\",\"Y\",\"N\")","v":"N"},{"$f":"T('Competitor List'!C121)","v":""},{"$f":"IF('Competitor List'!I121=\"y\",\"Y\",\"N\")","v":"N"},{"$f":"IF('Competitor List'!J121=\"Y\",\"Y\",\" \")","v":" "},{"$f":"IF('Competitor List'!K121=\"Y\",\"Y\",\" \")","v":" "},{"$f":"'Competitor List'!O121","v":811},{"$f":"'Competitor List'!Q121","v":11},{"$f":"OFFSET(H123,'Competitor List'!$T$8,0)","v":11},{"$f":"OFFSET(I123,'Competitor List'!$T$8,0)","v":11},{"$f":"OFFSET(J123,'Competitor List'!$T$8,0)","v":11}]
[{"$f":"T('Competitor List'!B122)","v":""},{"$f":"IF('Competitor List'!H122=\"y\",\"Y\",\"N\")","v":"N"},{"$f":"T('Competitor List'!C122)","v":""},{"$f":"IF('Competitor List'!I122=\"y\",\"Y\",\"N\")","v":"N"},{"$f":"IF('Competitor List'!J122=\"Y\",\"Y\",\" \")","v":" "},{"$f":"IF('Competitor List'!K122=\"Y\",\"Y\",\" \")","v":" "},{"$f":"'Competitor List'!O122","v":812},{"$f":"'Competitor List'!Q122","v":12},{"$f":"OFFSET(H124,'Competitor List'!$T$8,0)","v":12},{"$f":"OFFSET(I124,'Competitor List'!$T$8,0)","v":12},{"$f":"OFFSET(J124,'Competitor List'!$T$8,0)","v":12}]
[{"$f":"T('Competitor List'!B123)","v":""},{"$f":"IF('Competitor List'!H123=\"y\",\"Y\",\"N\")","v":"N"},{"$f":"T('Competitor List'!C123)","v":""},{"$f":"IF('Competitor List'!I123=\"y\",\"Y\",\"N\")","v":"N"},{"$f":"IF('Competitor List'!J123=\"Y\",\"Y\",\" \")","v":" "},{"$f":"IF('Competitor List'!K123=\"Y\",\"Y\",\" \")","v":" "},{"$f":"'Competitor List'!O123","v":813},{"$f":"'Competitor List'!Q123","v":13},{"$f":"OFFSET(H125,'Competitor List'!$T$8,0)","v":13},{"$f":"OFFSET(I125,'Competitor List'!$T$8,0)","v":13},{"$f":"OFFSET(J125,'Competitor List'!$T$8,0)","v":13}]
[{"$f":"T('Competitor List'!B124)","v":""},{"$f":"IF('Competitor List'!H124=\"y\",\"Y\",\"N\")","v":"N"},{"$f":"T('Competitor List'!C124)","v":""},{"$f":"IF('Competitor List'!I124=\"y\",\"Y\",\"N\")","v":"N"},{"$f":"IF('Competitor List'!J124=\"Y\",\"Y\",\" \")","v":" "},{"$f":"IF('Competitor List'!K124=\"Y\",\"Y\",\" \")","v":" "},{"$f":"'Competitor List'!O124","v":814},{"$f":"'Competitor List'!Q124","v":14},{"$f":"OFFSET(H126,'Competitor List'!$T$8,0)","v":14},{"$f":"OFFSET(I126,'Competitor List'!$T$8,0)","v":14},{"$f":"OFFSET(J126,'Competitor List'!$T$8,0)","v":14}]
[{"$f":"T('Competitor List'!B125)","v":""},{"$f":"IF('Competitor List'!H125=\"y\",\"Y\",\"N\")","v":"N"},{"$f":"T('Competitor List'!C125)","v":""},{"$f":"IF('Competitor List'!I125=\"y\",\"Y\",\"N\")","v":"N"},{"$f":"IF('Competitor List'!J125=\"Y\",\"Y\",\" \")","v":" "},{"$f":"IF('Competitor List'!K125=\"Y\",\"Y\",\" \")","v":" "},{"$f":"'Competitor List'!O125","v":815},{"$f":"'Competitor List'!Q125","v":15},{"$f":"OFFSET(H127,'Competitor List'!$T$8,0)","v":15},{"$f":"OFFSET(I127,'Competitor List'!$T$8,0)","v":15},{"$f":"OFFSET(J127,'Competitor List'!$T$8,0)","v":15}]
[{"$f":"T('Competitor List'!B126)","v":""},{"$f":"IF('Competitor List'!H126=\"y\",\"Y\",\"N\")","v":"N"},{"$f":"T('Competitor List'!C126)","v":""},{"$f":"IF('Competitor List'!I126=\"y\",\"Y\",\"N\")","v":"N"},{"$f":"IF('Competitor List'!J126=\"Y\",\"Y\",\" \")","v":" "},{"$f":"IF('Competitor List'!K126=\"Y\",\"Y\",\" \")","v":" "},{"$f":"'Competitor List'!O126","v":901},{"$f":"'Competitor List'!Q126","v":1},{"$f":"OFFSET(H128,'Competitor List'!$T$8,0)","v":1},{"$f":"OFFSET(I128,'Competitor List'!$T$8,0)","v":1},{"$f":"OFFSET(J128,'Competitor List'!$T$8,0)","v":1}]
[{"$f":"T('Competitor List'!B127)","v":""},{"$f":"IF('Competitor List'!H127=\"y\",\"Y\",\"N\")","v":"N"},{"$f":"T('Competitor List'!C127)","v":""},{"$f":"IF('Competitor List'!I127=\"y\",\"Y\",\"N\")","v":"N"},{"$f":"IF('Competitor List'!J127=\"Y\",\"Y\",\" \")","v":" "},{"$f":"IF('Competitor List'!K127=\"Y\",\"Y\",\" \")","v":" "},{"$f":"'Competitor List'!O127","v":902},{"$f":"'Competitor List'!Q127","v":2},{"$f":"OFFSET(H129,'Competitor List'!$T$8,0)","v":2},{"$f":"OFFSET(I129,'Competitor List'!$T$8,0)","v":2},{"$f":"OFFSET(J129,'Competitor List'!$T$8,0)","v":2}]
[{"$f":"T('Competitor List'!B128)","v":""},{"$f":"IF('Competitor List'!H128=\"y\",\"Y\",\"N\")","v":"N"},{"$f":"T('Competitor List'!C128)","v":""},{"$f":"IF('Competitor List'!I128=\"y\",\"Y\",\"N\")","v":"N"},{"$f":"IF('Competitor List'!J128=\"Y\",\"Y\",\" \")","v":" "},{"$f":"IF('Competitor List'!K128=\"Y\",\"Y\",\" \")","v":" "},{"$f":"'Competitor List'!O128","v":903},{"$f":"'Competitor List'!Q128","v":3},{"$f":"OFFSET(H130,'Competitor List'!$T$8,0)","v":3},{"$f":"OFFSET(I130,'Competitor List'!$T$8,0)","v":3},{"$f":"OFFSET(J130,'Competitor List'!$T$8,0)","v":3}]
[{"$f":"T('Competitor List'!B129)","v":""},{"$f":"IF('Competitor List'!H129=\"y\",\"Y\",\"N\")","v":"N"},{"$f":"T('Competitor List'!C129)","v":""},{"$f":"IF('Competitor List'!I129=\"y\",\"Y\",\"N\")","v":"N"},{"$f":"IF('Competitor List'!J129=\"Y\",\"Y\",\" \")","v":" "},{"$f":"IF('Competitor List'!K129=\"Y\",\"Y\",\" \")","v":" "},{"$f":"'Competitor List'!O129","v":904},{"$f":"'Competitor List'!Q129","v":4},{"$f":"OFFSET(H131,'Competitor List'!$T$8,0)","v":4},{"$f":"OFFSET(I131,'Competitor List'!$T$8,0)","v":4},{"$f":"OFFSET(J131,'Competitor List'!$T$8,0)","v":4}]
[{"$f":"T('Competitor List'!B130)","v":""},{"$f":"IF('Competitor List'!H130=\"y\",\"Y\",\"N\")","v":"N"},{"$f":"T('Competitor List'!C130)","v":""},{"$f":"IF('Competitor List'!I130=\"y\",\"Y\",\"N\")","v":"N"},{"$f":"IF('Competitor List'!J130=\"Y\",\"Y\",\" \")","v":" "},{"$f":"IF('Competitor List'!K130=\"Y\",\"Y\",\" \")","v":" "},{"$f":"'Competitor List'!O130","v":905},{"$f":"'Competitor List'!Q130","v":5},{"$f":"OFFSET(H132,'Competitor List'!$T$8,0)","v":5},{"$f":"OFFSET(I132,'Competitor List'!$T$8,0)","v":5},{"$f":"OFFSET(J132,'Competitor List'!$T$8,0)","v":5}]
[{"$f":"T('Competitor List'!B131)","v":""},{"$f":"IF('Competitor List'!H131=\"y\",\"Y\",\"N\")","v":"N"},{"$f":"T('Competitor List'!C131)","v":""},{"$f":"IF('Competitor List'!I131=\"y\",\"Y\",\"N\")","v":"N"},{"$f":"IF('Competitor List'!J131=\"Y\",\"Y\",\" \")","v":" "},{"$f":"IF('Competitor List'!K131=\"Y\",\"Y\",\" \")","v":" "},{"$f":"'Competitor List'!O131","v":906},{"$f":"'Competitor List'!Q131","v":6},{"$f":"OFFSET(H133,'Competitor List'!$T$8,0)","v":6},{"$f":"OFFSET(I133,'Competitor List'!$T$8,0)","v":6},{"$f":"OFFSET(J133,'Competitor List'!$T$8,0)","v":6}]
[{"$f":"T('Competitor List'!B132)","v":""},{"$f":"IF('Competitor List'!H132=\"y\",\"Y\",\"N\")","v":"N"},{"$f":"T('Competitor List'!C132)","v":""},{"$f":"IF('Competitor List'!I132=\"y\",\"Y\",\"N\")","v":"N"},{"$f":"IF('Competitor List'!J132=\"Y\",\"Y\",\" \")","v":" "},{"$f":"IF('Competitor List'!K132=\"Y\",\"Y\",\" \")","v":" "},{"$f":"'Competitor List'!O132","v":907},{"$f":"'Competitor List'!Q132","v":7},{"$f":"OFFSET(H134,'Competitor List'!$T$8,0)","v":7},{"$f":"OFFSET(I134,'Competitor List'!$T$8,0)","v":7},{"$f":"OFFSET(J134,'Competitor List'!$T$8,0)","v":7}]
[{"$f":"T('Competitor List'!B133)","v":""},{"$f":"IF('Competitor List'!H133=\"y\",\"Y\",\"N\")","v":"N"},{"$f":"T('Competitor List'!C133)","v":""},{"$f":"IF('Competitor List'!I133=\"y\",\"Y\",\"N\")","v":"N"},{"$f":"IF('Competitor List'!J133=\"Y\",\"Y\",\" \")","v":" "},{"$f":"IF('Competitor List'!K133=\"Y\",\"Y\",\" \")","v":" "},{"$f":"'Competitor List'!O133","v":908},{"$f":"'Competitor List'!Q133","v":8},{"$f":"OFFSET(H135,'Competitor List'!$T$8,0)","v":8},{"$f":"OFFSET(I135,'Competitor List'!$T$8,0)","v":8},{"$f":"OFFSET(J135,'Competitor List'!$T$8,0)","v":8}]
[{"$f":"T('Competitor List'!B134)","v":""},{"$f":"IF('Competitor List'!H134=\"y\",\"Y\",\"N\")","v":"N"},{"$f":"T('Competitor List'!C134)","v":""},{"$f":"IF('Competitor List'!I134=\"y\",\"Y\",\"N\")","v":"N"},{"$f":"IF('Competitor List'!J134=\"Y\",\"Y\",\" \")","v":" "},{"$f":"IF('Competitor List'!K134=\"Y\",\"Y\",\" \")","v":" "},{"$f":"'Competitor List'!O134","v":909},{"$f":"'Competitor List'!Q134","v":9},{"$f":"OFFSET(H136,'Competitor List'!$T$8,0)","v":9},{"$f":"OFFSET(I136,'Competitor List'!$T$8,0)","v":9},{"$f":"OFFSET(J136,'Competitor List'!$T$8,0)","v":9}]
[{"$f":"T('Competitor List'!B135)","v":""},{"$f":"IF('Competitor List'!H135=\"y\",\"Y\",\"N\")","v":"N"},{"$f":"T('Competitor List'!C135)","v":""},{"$f":"IF('Competitor List'!I135=\"y\",\"Y\",\"N\")","v":"N"},{"$f":"IF('Competitor List'!J135=\"Y\",\"Y\",\" \")","v":" "},{"$f":"IF('Competitor List'!K135=\"Y\",\"Y\",\" \")","v":" "},{"$f":"'Competitor List'!O135","v":910},{"$f":"'Competitor List'!Q135","v":10},{"$f":"OFFSET(H137,'Competitor List'!$T$8,0)","v":10},{"$f":"OFFSET(I137,'Competitor List'!$T$8,0)","v":10},{"$f":"OFFSET(J137,'Competitor List'!$T$8,0)","v":10}]
[{"$f":"T('Competitor List'!B136)","v":""},{"$f":"IF('Competitor List'!H136=\"y\",\"Y\",\"N\")","v":"N"},{"$f":"T('Competitor List'!C136)","v":""},{"$f":"IF('Competitor List'!I136=\"y\",\"Y\",\"N\")","v":"N"},{"$f":"IF('Competitor List'!J136=\"Y\",\"Y\",\" \")","v":" "},{"$f":"IF('Competitor List'!K136=\"Y\",\"Y\",\" \")","v":" "},{"$f":"'Competitor List'!O136","v":911},{"$f":"'Competitor List'!Q136","v":11},{"$f":"OFFSET(H138,'Competitor List'!$T$8,0)","v":11},{"$f":"OFFSET(I138,'Competitor List'!$T$8,0)","v":11},{"$f":"OFFSET(J138,'Competitor List'!$T$8,0)","v":11}]
[{"$f":"T('Competitor List'!B137)","v":""},{"$f":"IF('Competitor List'!H137=\"y\",\"Y\",\"N\")","v":"N"},{"$f":"T('Competitor List'!C137)","v":""},{"$f":"IF('Competitor List'!I137=\"y\",\"Y\",\"N\")","v":"N"},{"$f":"IF('Competitor List'!J137=\"Y\",\"Y\",\" \")","v":" "},{"$f":"IF('Competitor List'!K137=\"Y\",\"Y\",\" \")","v":" "},{"$f":"'Competitor List'!O137","v":912},{"$f":"'Competitor List'!Q137","v":12},{"$f":"OFFSET(H139,'Competitor List'!$T$8,0)","v":12},{"$f":"OFFSET(I139,'Competitor List'!$T$8,0)","v":12},{"$f":"OFFSET(J139,'Competitor List'!$T$8,0)","v":12}]
[{"$f":"T('Competitor List'!B138)","v":""},{"$f":"IF('Competitor List'!H138=\"y\",\"Y\",\"N\")","v":"N"},{"$f":"T('Competitor List'!C138)","v":""},{"$f":"IF('Competitor List'!I138=\"y\",\"Y\",\"N\")","v":"N"},{"$f":"IF('Competitor List'!J138=\"Y\",\"Y\",\" \")","v":" "},{"$f":"IF('Competitor List'!K138=\"Y\",\"Y\",\" \")","v":" "},{"$f":"'Competitor List'!O138","v":913},{"$f":"'Competitor List'!Q138","v":13},{"$f":"OFFSET(H140,'Competitor List'!$T$8,0)","v":13},{"$f":"OFFSET(I140,'Competitor List'!$T$8,0)","v":13},{"$f":"OFFSET(J140,'Competitor List'!$T$8,0)","v":13}]
[{"$f":"T('Competitor List'!B139)","v":""},{"$f":"IF('Competitor List'!H139=\"y\",\"Y\",\"N\")","v":"N"},{"$f":"T('Competitor List'!C139)","v":""},{"$f":"IF('Competitor List'!I139=\"y\",\"Y\",\"N\")","v":"N"},{"$f":"IF('Competitor List'!J139=\"Y\",\"Y\",\" \")","v":" "},{"$f":"IF('Competitor List'!K139=\"Y\",\"Y\",\" \")","v":" "},{"$f":"'Competitor List'!O139","v":914},{"$f":"'Competitor List'!Q139","v":14},{"$f":"OFFSET(H141,'Competitor List'!$T$8,0)","v":14},{"$f":"OFFSET(I141,'Competitor List'!$T$8,0)","v":14},{"$f":"OFFSET(J141,'Competitor List'!$T$8,0)","v":14}]
[{"$f":"T('Competitor List'!B140)","v":""},{"$f":"IF('Competitor List'!H140=\"y\",\"Y\",\"N\")","v":"N"},{"$f":"T('Competitor List'!C140)","v":""},{"$f":"IF('Competitor List'!I140=\"y\",\"Y\",\"N\")","v":"N"},{"$f":"IF('Competitor List'!J140=\"Y\",\"Y\",\" \")","v":" "},{"$f":"IF('Competitor List'!K140=\"Y\",\"Y\",\" \")","v":" "},{"$f":"'Competitor List'!O140","v":915},{"$f":"'Competitor List'!Q140","v":15},{"$f":"OFFSET(H142,'Competitor List'!$T$8,0)","v":15},{"$f":"OFFSET(I142,'Competitor List'!$T$8,0)","v":15},{"$f":"OFFSET(J142,'Competitor List'!$T$8,0)","v":15}]
[{"$f":"T('Competitor List'!B141)","v":""},{"$f":"IF('Competitor List'!H141=\"y\",\"Y\",\"N\")","v":"N"},{"$f":"T('Competitor List'!C141)","v":""},{"$f":"IF('Competitor List'!I141=\"y\",\"Y\",\"N\")","v":"N"},{"$f":"IF('Competitor List'!J141=\"Y\",\"Y\",\" \")","v":" "},{"$f":"IF('Competitor List'!K141=\"Y\",\"Y\",\" \")","v":" "},{"$f":"'Competitor List'!O141","v":1001},{"$f":"'Competitor List'!Q141","v":1},{"$f":"OFFSET(H143,'Competitor List'!$T$8,0)","v":1},{"$f":"OFFSET(I143,'Competitor List'!$T$8,0)","v":1},{"$f":"OFFSET(J143,'Competitor List'!$T$8,0)","v":1}]
[{"$f":"T('Competitor List'!B142)","v":""},{"$f":"IF('Competitor List'!H142=\"y\",\"Y\",\"N\")","v":"N"},{"$f":"T('Competitor List'!C142)","v":""},{"$f":"IF('Competitor List'!I142=\"y\",\"Y\",\"N\")","v":"N"},{"$f":"IF('Competitor List'!J142=\"Y\",\"Y\",\" \")","v":" "},{"$f":"IF('Competitor List'!K142=\"Y\",\"Y\",\" \")","v":" "},{"$f":"'Competitor List'!O142","v":1002},{"$f":"'Competitor List'!Q142","v":2},{"$f":"OFFSET(H144,'Competitor List'!$T$8,0)","v":2},{"$f":"OFFSET(I144,'Competitor List'!$T$8,0)","v":2},{"$f":"OFFSET(J144,'Competitor List'!$T$8,0)","v":2}]
[{"$f":"T('Competitor List'!B143)","v":""},{"$f":"IF('Competitor List'!H143=\"y\",\"Y\",\"N\")","v":"N"},{"$f":"T('Competitor List'!C143)","v":""},{"$f":"IF('Competitor List'!I143=\"y\",\"Y\",\"N\")","v":"N"},{"$f":"IF('Competitor List'!J143=\"Y\",\"Y\",\" \")","v":" "},{"$f":"IF('Competitor List'!K143=\"Y\",\"Y\",\" \")","v":" "},{"$f":"'Competitor List'!O143","v":1003},{"$f":"'Competitor List'!Q143","v":3},{"$f":"OFFSET(H145,'Competitor List'!$T$8,0)","v":3},{"$f":"OFFSET(I145,'Competitor List'!$T$8,0)","v":3},{"$f":"OFFSET(J145,'Competitor List'!$T$8,0)","v":3}]
[{"$f":"T('Competitor List'!B144)","v":""},{"$f":"IF('Competitor List'!H144=\"y\",\"Y\",\"N\")","v":"N"},{"$f":"T('Competitor List'!C144)","v":""},{"$f":"IF('Competitor List'!I144=\"y\",\"Y\",\"N\")","v":"N"},{"$f":"IF('Competitor List'!J144=\"Y\",\"Y\",\" \")","v":" "},{"$f":"IF('Competitor List'!K144=\"Y\",\"Y\",\" \")","v":" "},{"$f":"'Competitor List'!O144","v":1004},{"$f":"'Competitor List'!Q144","v":4},{"$f":"OFFSET(H146,'Competitor List'!$T$8,0)","v":4},{"$f":"OFFSET(I146,'Competitor List'!$T$8,0)","v":4},{"$f":"OFFSET(J146,'Competitor List'!$T$8,0)","v":4}]
[{"$f":"T('Competitor List'!B145)","v":""},{"$f":"IF('Competitor List'!H145=\"y\",\"Y\",\"N\")","v":"N"},{"$f":"T('Competitor List'!C145)","v":""},{"$f":"IF('Competitor List'!I145=\"y\",\"Y\",\"N\")","v":"N"},{"$f":"IF('Competitor List'!J145=\"Y\",\"Y\",\" \")","v":" "},{"$f":"IF('Competitor List'!K145=\"Y\",\"Y\",\" \")","v":" "},{"$f":"'Competitor List'!O145","v":1005},{"$f":"'Competitor List'!Q145","v":5},{"$f":"OFFSET(H147,'Competitor List'!$T$8,0)","v":5},{"$f":"OFFSET(I147,'Competitor List'!$T$8,0)","v":5},{"$f":"OFFSET(J147,'Competitor List'!$T$8,0)","v":5}]
[{"$f":"T('Competitor List'!B146)","v":""},{"$f":"IF('Competitor List'!H146=\"y\",\"Y\",\"N\")","v":"N"},{"$f":"T('Competitor List'!C146)","v":""},{"$f":"IF('Competitor List'!I146=\"y\",\"Y\",\"N\")","v":"N"},{"$f":"IF('Competitor List'!J146=\"Y\",\"Y\",\" \")","v":" "},{"$f":"IF('Competitor List'!K146=\"Y\",\"Y\",\" \")","v":" "},{"$f":"'Competitor List'!O146","v":1006},{"$f":"'Competitor List'!Q146","v":6},{"$f":"OFFSET(H148,'Competitor List'!$T$8,0)","v":6},{"$f":"OFFSET(I148,'Competitor List'!$T$8,0)","v":6},{"$f":"OFFSET(J148,'Competitor List'!$T$8,0)","v":6}]
[{"$f":"T('Competitor List'!B147)","v":""},{"$f":"IF('Competitor List'!H147=\"y\",\"Y\",\"N\")","v":"N"},{"$f":"T('Competitor List'!C147)","v":""},{"$f":"IF('Competitor List'!I147=\"y\",\"Y\",\"N\")","v":"N"},{"$f":"IF('Competitor List'!J147=\"Y\",\"Y\",\" \")","v":" "},{"$f":"IF('Competitor List'!K147=\"Y\",\"Y\",\" \")","v":" "},{"$f":"'Competitor List'!O147","v":1007},{"$f":"'Competitor List'!Q147","v":7},{"$f":"OFFSET(H149,'Competitor List'!$T$8,0)","v":7},{"$f":"OFFSET(I149,'Competitor List'!$T$8,0)","v":7},{"$f":"OFFSET(J149,'Competitor List'!$T$8,0)","v":7}]
[{"$f":"T('Competitor List'!B148)","v":""},{"$f":"IF('Competitor List'!H148=\"y\",\"Y\",\"N\")","v":"N"},{"$f":"T('Competitor List'!C148)","v":""},{"$f":"IF('Competitor List'!I148=\"y\",\"Y\",\"N\")","v":"N"},{"$f":"IF('Competitor List'!J148=\"Y\",\"Y\",\" \")","v":" "},{"$f":"IF('Competitor List'!K148=\"Y\",\"Y\",\" \")","v":" "},{"$f":"'Competitor List'!O148","v":1008},{"$f":"'Competitor List'!Q148","v":8},{"$f":"OFFSET(H150,'Competitor List'!$T$8,0)","v":8},{"$f":"OFFSET(I150,'Competitor List'!$T$8,0)","v":8},{"$f":"OFFSET(J150,'Competitor List'!$T$8,0)","v":8}]
[{"$f":"T('Competitor List'!B149)","v":""},{"$f":"IF('Competitor List'!H149=\"y\",\"Y\",\"N\")","v":"N"},{"$f":"T('Competitor List'!C149)","v":""},{"$f":"IF('Competitor List'!I149=\"y\",\"Y\",\"N\")","v":"N"},{"$f":"IF('Competitor List'!J149=\"Y\",\"Y\",\" \")","v":" "},{"$f":"IF('Competitor List'!K149=\"Y\",\"Y\",\" \")","v":" "},{"$f":"'Competitor List'!O149","v":1009},{"$f":"'Competitor List'!Q149","v":9},{"$f":"OFFSET(H151,'Competitor List'!$T$8,0)","v":9},{"$f":"OFFSET(I151,'Competitor List'!$T$8,0)","v":9},{"$f":"OFFSET(J151,'Competitor List'!$T$8,0)","v":9}]
[{"$f":"T('Competitor List'!B150)","v":""},{"$f":"IF('Competitor List'!H150=\"y\",\"Y\",\"N\")","v":"N"},{"$f":"T('Competitor List'!C150)","v":""},{"$f":"IF('Competitor List'!I150=\"y\",\"Y\",\"N\")","v":"N"},{"$f":"IF('Competitor List'!J150=\"Y\",\"Y\",\" \")","v":" "},{"$f":"IF('Competitor List'!K150=\"Y\",\"Y\",\" \")","v":" "},{"$f":"'Competitor List'!O150","v":1010},{"$f":"'Competitor List'!Q150","v":10},{"$f":"OFFSET(H152,'Competitor List'!$T$8,0)","v":10},{"$f":"OFFSET(I152,'Competitor List'!$T$8,0)","v":10},{"$f":"OFFSET(J152,'Competitor List'!$T$8,0)","v":10}]
[{"$f":"T('Competitor List'!B151)","v":""},{"$f":"IF('Competitor List'!H151=\"y\",\"Y\",\"N\")","v":"N"},{"$f":"T('Competitor List'!C151)","v":""},{"$f":"IF('Competitor List'!I151=\"y\",\"Y\",\"N\")","v":"N"},{"$f":"IF('Competitor List'!J151=\"Y\",\"Y\",\" \")","v":" "},{"$f":"IF('Competitor List'!K151=\"Y\",\"Y\",\" \")","v":" "},{"$f":"'Competitor List'!O151","v":1011},{"$f":"'Competitor List'!Q151","v":11},{"$f":"OFFSET(H153,'Competitor List'!$T$8,0)","v":11},{"$f":"OFFSET(I153,'Competitor List'!$T$8,0)","v":11},{"$f":"OFFSET(J153,'Competitor List'!$T$8,0)","v":11}]
[{"$f":"T('Competitor List'!B152)","v":""},{"$f":"IF('Competitor List'!H152=\"y\",\"Y\",\"N\")","v":"N"},{"$f":"T('Competitor List'!C152)","v":""},{"$f":"IF('Competitor List'!I152=\"y\",\"Y\",\"N\")","v":"N"},{"$f":"IF('Competitor List'!J152=\"Y\",\"Y\",\" \")","v":" "},{"$f":"IF('Competitor List'!K152=\"Y\",\"Y\",\" \")","v":" "},{"$f":"'Competitor List'!O152","v":1012},{"$f":"'Competitor List'!Q152","v":12},{"$f":"OFFSET(H154,'Competitor List'!$T$8,0)","v":12},{"$f":"OFFSET(I154,'Competitor List'!$T$8,0)","v":12},{"$f":"OFFSET(J154,'Competitor List'!$T$8,0)","v":12}]
[{"$f":"T('Competitor List'!B153)","v":""},{"$f":"IF('Competitor List'!H153=\"y\",\"Y\",\"N\")","v":"N"},{"$f":"T('Competitor List'!C153)","v":""},{"$f":"IF('Competitor List'!I153=\"y\",\"Y\",\"N\")","v":"N"},{"$f":"IF('Competitor List'!J153=\"Y\",\"Y\",\" \")","v":" "},{"$f":"IF('Competitor List'!K153=\"Y\",\"Y\",\" \")","v":" "},{"$f":"'Competitor List'!O153","v":1013},{"$f":"'Competitor List'!Q153","v":13},{"$f":"OFFSET(H155,'Competitor List'!$T$8,0)","v":13},{"$f":"OFFSET(I155,'Competitor List'!$T$8,0)","v":13},{"$f":"OFFSET(J155,'Competitor List'!$T$8,0)","v":13}]
[{"$f":"T('Competitor List'!B154)","v":""},{"$f":"IF('Competitor List'!H154=\"y\",\"Y\",\"N\")","v":"N"},{"$f":"T('Competitor List'!C154)","v":""},{"$f":"IF('Competitor List'!I154=\"y\",\"Y\",\"N\")","v":"N"},{"$f":"IF('Competitor List'!J154=\"Y\",\"Y\",\" \")","v":" "},{"$f":"IF('Competitor List'!K154=\"Y\",\"Y\",\" \")","v":" "},{"$f":"'Competitor List'!O154","v":1014},{"$f":"'Competitor List'!Q154","v":14},{"$f":"OFFSET(H156,'Competitor List'!$T$8,0)","v":14},{"$f":"OFFSET(I156,'Competitor List'!$T$8,0)","v":14},{"$f":"OFFSET(J156,'Competitor List'!$T$8,0)","v":14}]
[{"$f":"T('Competitor List'!B155)","v":""},{"$f":"IF('Competitor List'!H155=\"y\",\"Y\",\"N\")","v":"N"},{"$f":"T('Competitor List'!C155)","v":""},{"$f":"IF('Competitor List'!I155=\"y\",\"Y\",\"N\")","v":"N"},{"$f":"IF('Competitor List'!J155=\"Y\",\"Y\",\" \")","v":" "},{"$f":"IF('Competitor List'!K155=\"Y\",\"Y\",\" \")","v":" "},{"$f":"'Competitor List'!O155","v":1015},{"$f":"'Competitor List'!Q155","v":15},{"$f":"OFFSET(H157,'Competitor List'!$T$8,0)","v":15},{"$f":"OFFSET(I157,'Competitor List'!$T$8,0)","v":15},{"$f":"OFFSET(J157,'Competitor List'!$T$8,0)","v":15}]

{"sheet":"Freedom points","index":8,"n_rows":157,"n_cols":11,"rows_kept":157,"cut":false,"hidden":false,"merged":[[9,10,10,10],[0,0,0,10],[1,0,1,10],[2,0,2,10],[4,0,4,10],[6,10,7,10]]}
[{"$f":"'Competitor List'!B1","v":"Freedom Benchrest 600 YARD MATCH #1"}]
[{"$f":"'Competitor List'!B2","v":"Vapor Trail Valley Spickard, Mo"}]
[{"$f":"'Competitor List'!B3","v":"2023-03-15"}]
[]
["Total FB points awarded for this match"]
[]
[null,null,"Light gun name","LG points",null,"Heavy gun name","HG points","2-gun points","Total",null,"*only use total if names in LG/HG match"]
[{"$f":"'Competitor List'!O6","v":101},"LG  ",{"$f":"'Competitor List'!B6","v":0},{"$f":"IF('LIGHT GUN'!AE27>0,'LIGHT GUN'!AE27,0)","v":0},"HG",{"$f":"'Competitor List'!C6","v":0},{"$f":"IF('HEAVY GUN'!AE27>0,'HEAVY GUN'!AE27,0)","v":0},{"$f":"IF('2-GUN'!P24:P24>0,'2-GUN'!P24:P24,0)","v":0},{"$f":"IF('Competitor List'!D6=\"y\",(D8+G8+H8),0)","v":0}]
[{"$f":"'Competitor List'!O7","v":102},"LG  ",{"$f":"'Competitor List'!B7","v":0},{"$f":"IF('LIGHT GUN'!AE28>0,'LIGHT GUN'!AE28,0)","v":0},"HG",{"$f":"'Competitor List'!C7","v":0},{"$f":"IF('HEAVY GUN'!AE28>0,'HEAVY GUN'!AE28,0)","v":0},{"$f":"IF('2-GUN'!P25:P25>0,'2-GUN'!P25:P25,0)","v":0},{"$f":"IF('Competitor List'!D7=\"y\",(D9+G9+H9),0)","v":0}]
[{"$f":"'Competitor List'!O8","v":103},"LG  ",{"$f":"'Competitor List'!B8","v":0},{"$f":"IF('LIGHT GUN'!AE29>0,'LIGHT GUN'!AE29,0)","v":0},"HG",{"$f":"'Competitor List'!C8","v":0},{"$f":"IF('HEAVY GUN'!AE29>0,'HEAVY GUN'!AE29,0)","v":0},{"$f":"IF('2-GUN'!P26:P26>0,'2-GUN'!P26:P26,0)","v":0},{"$f":"IF('Competitor List'!D8=\"y\",(D10+G10+H10),0)","v":0},null,"If names do not match use LG and HG columns"]
[{"$f":"'Competitor List'!O9","v":104},"LG  ",{"$f":"'Competitor List'!B9","v":0},{"$f":"IF('LIGHT GUN'!AE30>0,'LIGHT GUN'!AE30,0)","v":0},"HG",{"$f":"'Competitor List'!C9","v":0},{"$f":"IF('HEAVY GUN'!AE30>0,'HEAVY GUN'!AE30,0)","v":0},{"$f":"IF('2-GUN'!P27:P27>0,'2-GUN'!P27:P27,0)","v":0},{"$f":"IF('Competitor List'!D9=\"y\",(D11+G11+H11),0)","v":0}]
[{"$f":"'Competitor List'!O10","v":105},"LG  ",{"$f":"'Competitor List'!B10","v":0},{"$f":"IF('LIGHT GUN'!AE31>0,'LIGHT GUN'!AE31,0)","v":0},"HG",{"$f":"'Competitor List'!C10","v":0},{"$f":"IF('HEAVY GUN'!AE31>0,'HEAVY GUN'!AE31,0)","v":0},{"$f":"IF('2-GUN'!P28:P28>0,'2-GUN'!P28:P28,0)","v":0},{"$f":"IF('Competitor List'!D10=\"y\",(D12+G12+H12),0)","v":0}]
[{"$f":"'Competitor List'!O11","v":106},"LG  ",{"$f":"'Competitor List'!B11","v":0},{"$f":"IF('LIGHT GUN'!AE32>0,'LIGHT GUN'!AE32,0)","v":0},"HG",{"$f":"'Competitor List'!C11","v":0},{"$f":"IF('HEAVY GUN'!AE32>0,'HEAVY GUN'!AE32,0)","v":0},{"$f":"IF('2-GUN'!P29:P29>0,'2-GUN'!P29:P29,0)","v":0},{"$f":"IF('Competitor List'!D11=\"y\",(D13+G13+H13),0)","v":0}]
[{"$f":"'Competitor List'!O12","v":107},"LG  ",{"$f":"'Competitor List'!B12","v":0},{"$f":"IF('LIGHT GUN'!AE33>0,'LIGHT GUN'!AE33,0)","v":0},"HG",{"$f":"'Competitor List'!C12","v":0},{"$f":"IF('HEAVY GUN'!AE33>0,'HEAVY GUN'!AE33,0)","v":0},{"$f":"IF('2-GUN'!P30:P30>0,'2-GUN'!P30:P30,0)","v":0},{"$f":"IF('Competitor List'!D12=\"y\",(D14+G14+H14),0)","v":0}]
[{"$f":"'Competitor List'!O13","v":108},"LG  ",{"$f":"'Competitor List'!B13","v":0},{"$f":"IF('LIGHT GUN'!AE34>0,'LIGHT GUN'!AE34,0)","v":0},"HG",{"$f":"'Competitor List'!C13","v":0},{"$f":"IF('HEAVY GUN'!AE34>0,'HEAVY GUN'!AE34,0)","v":0},{"$f":"IF('2-GUN'!P31:P31>0,'2-GUN'!P31:P31,0)","v":0},{"$f":"IF('Competitor List'!D13=\"y\",(D15+G15+H15),0)","v":0}]
[{"$f":"'Competitor List'!O14","v":109},"LG  ",{"$f":"'Competitor List'!B14","v":0},{"$f":"IF('LIGHT GUN'!AE35>0,'LIGHT GUN'!AE35,0)","v":0},"HG",{"$f":"'Competitor List'!C14","v":0},{"$f":"IF('HEAVY GUN'!AE35>0,'HEAVY GUN'!AE35,0)","v":0},{"$f":"IF('2-GUN'!P32:P32>0,'2-GUN'!P32:P32,0)","v":0},{"$f":"IF('Competitor List'!D14=\"y\",(D16+G16+H16),0)","v":0}]
[{"$f":"'Competitor List'!O15","v":110},"LG  ",{"$f":"'Competitor List'!B15","v":0},{"$f":"IF('LIGHT GUN'!AE36>0,'LIGHT GUN'!AE36,0)","v":0},"HG",{"$f":"'Competitor List'!C15","v":0},{"$f":"IF('HEAVY GUN'!AE36>0,'HEAVY GUN'!AE36,0)","v":0},{"$f":"IF('2-GUN'!P33:P33>0,'2-GUN'!P33:P33,0)","v":0},{"$f":"IF('Competitor List'!D15=\"y\",(D17+G17+H17),0)","v":0}]
[{"$f":"'Competitor List'!O16","v":111},"LG  ",{"$f":"'Competitor List'!B16","v":0},{"$f":"IF('LIGHT GUN'!AE37>0,'LIGHT GUN'!AE37,0)","v":0},"HG",{"$f":"'Competitor List'!C16","v":0},{"$f":"IF('HEAVY GUN'!AE37>0,'HEAVY GUN'!AE37,0)","v":0},{"$f":"IF('2-GUN'!P34:P34>0,'2-GUN'!P34:P34,0)","v":0},{"$f":"IF('Competitor List'!D16=\"y\",(D18+G18+H18),0)","v":0}]
[{"$f":"'Competitor List'!O17","v":112},"LG  ",{"$f":"'Competitor List'!B17","v":0},{"$f":"IF('LIGHT GUN'!AE38>0,'LIGHT GUN'!AE38,0)","v":0},"HG",{"$f":"'Competitor List'!C17","v":0},{"$f":"IF('HEAVY GUN'!AE38>0,'HEAVY GUN'!AE38,0)","v":0},{"$f":"IF('2-GUN'!P35:P35>0,'2-GUN'!P35:P35,0)","v":0},{"$f":"IF('Competitor List'!D17=\"y\",(D19+G19+H19),0)","v":0}]
[{"$f":"'Competitor List'!O18","v":113},"LG  ",{"$f":"'Competitor List'!B18","v":0},{"$f":"IF('LIGHT GUN'!AE39>0,'LIGHT GUN'!AE39,0)","v":0},"HG",{"$f":"'Competitor List'!C18","v":0},{"$f":"IF('HEAVY GUN'!AE39>0,'HEAVY GUN'!AE39,0)","v":0},{"$f":"IF('2-GUN'!P36:P36>0,'2-GUN'!P36:P36,0)","v":0},{"$f":"IF('Competitor List'!D18=\"y\",(D20+G20+H20),0)","v":0}]
[{"$f":"'Competitor List'!O19","v":114},"LG  ",{"$f":"'Competitor List'!B19","v":0},{"$f":"IF('LIGHT GUN'!AE40>0,'LIGHT GUN'!AE40,0)","v":0},"HG",{"$f":"'Competitor List'!C19","v":0},{"$f":"IF('HEAVY GUN'!AE40>0,'HEAVY GUN'!AE40,0)","v":0},{"$f":"IF('2-GUN'!P37:P37>0,'2-GUN'!P37:P37,0)","v":0},{"$f":"IF('Competitor List'!D19=\"y\",(D21+G21+H21),0)","v":0}]
[{"$f":"'Competitor List'!O20","v":115},"LG  ",{"$f":"'Competitor List'!B20","v":0},{"$f":"IF('LIGHT GUN'!AE41>0,'LIGHT GUN'!AE41,0)","v":0},"HG",{"$f":"'Competitor List'!C20","v":0},{"$f":"IF('HEAVY GUN'!AE41>0,'HEAVY GUN'!AE41,0)","v":0},{"$f":"IF('2-GUN'!P38:P38>0,'2-GUN'!P38:P38,0)","v":0},{"$f":"IF('Competitor List'!D20=\"y\",(D22+G22+H22),0)","v":0}]
[{"$f":"'Competitor List'!O21","v":201},"LG  ",{"$f":"'Competitor List'!B21","v":0},{"$f":"IF('LIGHT GUN'!AE42>0,'LIGHT GUN'!AE42,0)","v":0},"HG",{"$f":"'Competitor List'!C21","v":0},{"$f":"IF('HEAVY GUN'!AE42>0,'HEAVY GUN'!AE42,0)","v":0},{"$f":"IF('2-GUN'!P39:P39>0,'2-GUN'!P39:P39,0)","v":0},{"$f":"IF('Competitor List'!D21=\"y\",(D23+G23+H23),0)","v":0}]
[{"$f":"'Competitor List'!O22","v":202},"LG  ",{"$f":"'Competitor List'!B22","v":0},{"$f":"IF('LIGHT GUN'!AE43>0,'LIGHT GUN'!AE43,0)","v":0},"HG",{"$f":"'Competitor List'!C22","v":0},{"$f":"IF('HEAVY GUN'!AE43>0,'HEAVY GUN'!AE43,0)","v":0},{"$f":"IF('2-GUN'!P40:P40>0,'2-GUN'!P40:P40,0)","v":0},{"$f":"IF('Competitor List'!D22=\"y\",(D24+G24+H24),0)","v":0}]
[{"$f":"'Competitor List'!O23","v":203},"LG  ",{"$f":"'Competitor List'!B23","v":0},{"$f":"IF('LIGHT GUN'!AE44>0,'LIGHT GUN'!AE44,0)","v":0},"HG",{"$f":"'Competitor List'!C23","v":0},{"$f":"IF('HEAVY GUN'!AE44>0,'HEAVY GUN'!AE44,0)","v":0},{"$f":"IF('2-GUN'!P41:P41>0,'2-GUN'!P41:P41,0)","v":0},{"$f":"IF('Competitor List'!D23=\"y\",(D25+G25+H25),0)","v":0}]
[{"$f":"'Competitor List'!O24","v":204},"LG  ",{"$f":"'Competitor List'!B24","v":0},{"$f":"IF('LIGHT GUN'!AE45>0,'LIGHT GUN'!AE45,0)","v":0},"HG",{"$f":"'Competitor List'!C24","v":0},{"$f":"IF('HEAVY GUN'!AE45>0,'HEAVY GUN'!AE45,0)","v":0},{"$f":"IF('2-GUN'!P42:P42>0,'2-GUN'!P42:P42,0)","v":0},{"$f":"IF('Competitor List'!D24=\"y\",(D26+G26+H26),0)","v":0}]
[{"$f":"'Competitor List'!O25","v":205},"LG  ",{"$f":"'Competitor List'!B25","v":0},{"$f":"IF('LIGHT GUN'!AE46>0,'LIGHT GUN'!AE46,0)","v":0},"HG",{"$f":"'Competitor List'!C25","v":0},{"$f":"IF('HEAVY GUN'!AE46>0,'HEAVY GUN'!AE46,0)","v":0},{"$f":"IF('2-GUN'!P43:P43>0,'2-GUN'!P43:P43,0)","v":0},{"$f":"IF('Competitor List'!D25=\"y\",(D27+G27+H27),0)","v":0}]
[{"$f":"'Competitor List'!O26","v":206},"LG  ",{"$f":"'Competitor List'!B26","v":0},{"$f":"IF('LIGHT GUN'!AE47>0,'LIGHT GUN'!AE47,0)","v":0},"HG",{"$f":"'Competitor List'!C26","v":0},{"$f":"IF('HEAVY GUN'!AE47>0,'HEAVY GUN'!AE47,0)","v":0},{"$f":"IF('2-GUN'!P44:P44>0,'2-GUN'!P44:P44,0)","v":0},{"$f":"IF('Competitor List'!D26=\"y\",(D28+G28+H28),0)","v":0}]
[{"$f":"'Competitor List'!O27","v":207},"LG  ",{"$f":"'Competitor List'!B27","v":0},{"$f":"IF('LIGHT GUN'!AE48>0,'LIGHT GUN'!AE48,0)","v":0},"HG",{"$f":"'Competitor List'!C27","v":0},{"$f":"IF('HEAVY GUN'!AE48>0,'HEAVY GUN'!AE48,0)","v":0},{"$f":"IF('2-GUN'!P45:P45>0,'2-GUN'!P45:P45,0)","v":0},{"$f":"IF('Competitor List'!D27=\"y\",(D29+G29+H29),0)","v":0}]
[{"$f":"'Competitor List'!O28","v":208},"LG  ",{"$f":"'Competitor List'!B28","v":0},{"$f":"IF('LIGHT GUN'!AE49>0,'LIGHT GUN'!AE49,0)","v":0},"HG",{"$f":"'Competitor List'!C28","v":0},{"$f":"IF('HEAVY GUN'!AE49>0,'HEAVY GUN'!AE49,0)","v":0},{"$f":"IF('2-GUN'!P46:P46>0,'2-GUN'!P46:P46,0)","v":0},{"$f":"IF('Competitor List'!D28=\"y\",(D30+G30+H30),0)","v":0}]
[{"$f":"'Competitor List'!O29","v":209},"LG  ",{"$f":"'Competitor List'!B29","v":0},{"$f":"IF('LIGHT GUN'!AE50>0,'LIGHT GUN'!AE50,0)","v":0},"HG",{"$f":"'Competitor List'!C29","v":0},{"$f":"IF('HEAVY GUN'!AE50>0,'HEAVY GUN'!AE50,0)","v":0},{"$f":"IF('2-GUN'!P47:P47>0,'2-GUN'!P47:P47,0)","v":0},{"$f":"IF('Competitor List'!D29=\"y\",(D31+G31+H31),0)","v":0}]
[{"$f":"'Competitor List'!O30","v":210},"LG  ",{"$f":"'Competitor List'!B30","v":0},{"$f":"IF('LIGHT GUN'!AE51>0,'LIGHT GUN'!AE51,0)","v":0},"HG",{"$f":"'Competitor List'!C30","v":0},{"$f":"IF('HEAVY GUN'!AE51>0,'HEAVY GUN'!AE51,0)","v":0},{"$f":"IF('2-GUN'!P48:P48>0,'2-GUN'!P48:P48,0)","v":0},{"$f":"IF('Competitor List'!D30=\"y\",(D32+G32+H32),0)","v":0}]
[{"$f":"'Competitor List'!O31","v":211},"LG  ",{"$f":"'Competitor List'!B31","v":0},{"$f":"IF('LIGHT GUN'!AE52>0,'LIGHT GUN'!AE52,0)","v":0},"HG",{"$f":"'Competitor List'!C31","v":0},{"$f":"IF('HEAVY GUN'!AE52>0,'HEAVY GUN'!AE52,0)","v":0},{"$f":"IF('2-GUN'!P49:P49>0,'2-GUN'!P49:P49,0)","v":0},{"$f":"IF('Competitor List'!D31=\"y\",(D33+G33+H33),0)","v":0}]
[{"$f":"'Competitor List'!O32","v":212},"LG  ",{"$f":"'Competitor List'!B32","v":0},{"$f":"IF('LIGHT GUN'!AE53>0,'LIGHT GUN'!AE53,0)","v":0},"HG",{"$f":"'Competitor List'!C32","v":0},{"$f":"IF('HEAVY GUN'!AE53>0,'HEAVY GUN'!AE53,0)","v":0},{"$f":"IF('2-GUN'!P50:P50>0,'2-GUN'!P50:P50,0)","v":0},{"$f":"IF('Competitor List'!D32=\"y\",(D34+G34+H34),0)","v":0}]
[{"$f":"'Competitor List'!O33","v":213},"LG  ",{"$f":"'Competitor List'!B33","v":0},{"$f":"IF('LIGHT GUN'!AE54>0,'LIGHT GUN'!AE54,0)","v":0},"HG",{"$f":"'Competitor List'!C33","v":0},{"$f":"IF('HEAVY GUN'!AE54>0,'HEAVY GUN'!AE54,0)","v":0},{"$f":"IF('2-GUN'!P51:P51>0,'2-GUN'!P51:P51,0)","v":0},{"$f":"IF('Competitor List'!D33=\"y\",(D35+G35+H35),0)","v":0}]
[{"$f":"'Competitor List'!O34","v":214},"LG  ",{"$f":"'Competitor List'!B34","v":0},{"$f":"IF('LIGHT GUN'!AE55>0,'LIGHT GUN'!AE55,0)","v":0},"HG",{"$f":"'Competitor List'!C34","v":0},{"$f":"IF('HEAVY GUN'!AE55>0,'HEAVY GUN'!AE55,0)","v":0},{"$f":"IF('2-GUN'!P52:P52>0,'2-GUN'!P52:P52,0)","v":0},{"$f":"IF('Competitor List'!D34=\"y\",(D36+G36+H36),0)","v":0}]
[{"$f":"'Competitor List'!O35","v":215},"LG  ",{"$f":"'Competitor List'!B35","v":0},{"$f":"IF('LIGHT GUN'!AE56>0,'LIGHT GUN'!AE56,0)","v":0},"HG",{"$f":"'Competitor List'!C35","v":0},{"$f":"IF('HEAVY GUN'!AE56>0,'HEAVY GUN'!AE56,0)","v":0},{"$f":"IF('2-GUN'!P53:P53>0,'2-GUN'!P53:P53,0)","v":0},{"$f":"IF('Competitor List'!D35=\"y\",(D37+G37+H37),0)","v":0}]
[{"$f":"'Competitor List'!O36","v":301},"LG  ",{"$f":"'Competitor List'!B36","v":0},{"$f":"IF('LIGHT GUN'!AE57>0,'LIGHT GUN'!AE57,0)","v":0},"HG",{"$f":"'Competitor List'!C36","v":0},{"$f":"IF('HEAVY GUN'!AE57>0,'HEAVY GUN'!AE57,0)","v":0},{"$f":"IF('2-GUN'!P54:P54>0,'2-GUN'!P54:P54,0)","v":0},{"$f":"IF('Competitor List'!D36=\"y\",(D38+G38+H38),0)","v":0}]
[{"$f":"'Competitor List'!O37","v":302},"LG  ",{"$f":"'Competitor List'!B37","v":0},{"$f":"IF('LIGHT GUN'!AE58>0,'LIGHT GUN'!AE58,0)","v":0},"HG",{"$f":"'Competitor List'!C37","v":0},{"$f":"IF('HEAVY GUN'!AE58>0,'HEAVY GUN'!AE58,0)","v":0},{"$f":"IF('2-GUN'!P55:P55>0,'2-GUN'!P55:P55,0)","v":0},{"$f":"IF('Competitor List'!D37=\"y\",(D39+G39+H39),0)","v":0}]
[{"$f":"'Competitor List'!O38","v":303},"LG  ",{"$f":"'Competitor List'!B38","v":0},{"$f":"IF('LIGHT GUN'!AE59>0,'LIGHT GUN'!AE59,0)","v":0},"HG",{"$f":"'Competitor List'!C38","v":0},{"$f":"IF('HEAVY GUN'!AE59>0,'HEAVY GUN'!AE59,0)","v":0},{"$f":"IF('2-GUN'!P56:P56>0,'2-GUN'!P56:P56,0)","v":0},{"$f":"IF('Competitor List'!D38=\"y\",(D40+G40+H40),0)","v":0}]
[{"$f":"'Competitor List'!O39","v":304},"LG  ",{"$f":"'Competitor List'!B39","v":0},{"$f":"IF('LIGHT GUN'!AE60>0,'LIGHT GUN'!AE60,0)","v":0},"HG",{"$f":"'Competitor List'!C39","v":0},{"$f":"IF('HEAVY GUN'!AE60>0,'HEAVY GUN'!AE60,0)","v":0},{"$f":"IF('2-GUN'!P57:P57>0,'2-GUN'!P57:P57,0)","v":0},{"$f":"IF('Competitor List'!D39=\"y\",(D41+G41+H41),0)","v":0}]
[{"$f":"'Competitor List'!O40","v":305},"LG  ",{"$f":"'Competitor List'!B40","v":0},{"$f":"IF('LIGHT GUN'!AE61>0,'LIGHT GUN'!AE61,0)","v":0},"HG",{"$f":"'Competitor List'!C40","v":0},{"$f":"IF('HEAVY GUN'!AE61>0,'HEAVY GUN'!AE61,0)","v":0},{"$f":"IF('2-GUN'!P58:P58>0,'2-GUN'!P58:P58,0)","v":0},{"$f":"IF('Competitor List'!D40=\"y\",(D42+G42+H42),0)","v":0}]
[{"$f":"'Competitor List'!O41","v":306},"LG  ",{"$f":"'Competitor List'!B41","v":0},{"$f":"IF('LIGHT GUN'!AE62>0,'LIGHT GUN'!AE62,0)","v":0},"HG",{"$f":"'Competitor List'!C41","v":0},{"$f":"IF('HEAVY GUN'!AE62>0,'HEAVY GUN'!AE62,0)","v":0},{"$f":"IF('2-GUN'!P59:P59>0,'2-GUN'!P59:P59,0)","v":0},{"$f":"IF('Competitor List'!D41=\"y\",(D43+G43+H43),0)","v":0}]
[{"$f":"'Competitor List'!O42","v":307},"LG  ",{"$f":"'Competitor List'!B42","v":0},{"$f":"IF('LIGHT GUN'!AE63>0,'LIGHT GUN'!AE63,0)","v":0},"HG",{"$f":"'Competitor List'!C42","v":0},{"$f":"IF('HEAVY GUN'!AE63>0,'HEAVY GUN'!AE63,0)","v":0},{"$f":"IF('2-GUN'!P60:P60>0,'2-GUN'!P60:P60,0)","v":0},{"$f":"IF('Competitor List'!D42=\"y\",(D44+G44+H44),0)","v":0}]
[{"$f":"'Competitor List'!O43","v":308},"LG  ",{"$f":"'Competitor List'!B43","v":0},{"$f":"IF('LIGHT GUN'!AE64>0,'LIGHT GUN'!AE64,0)","v":0},"HG",{"$f":"'Competitor List'!C43","v":0},{"$f":"IF('HEAVY GUN'!AE64>0,'HEAVY GUN'!AE64,0)","v":0},{"$f":"IF('2-GUN'!P61:P61>0,'2-GUN'!P61:P61,0)","v":0},{"$f":"IF('Competitor List'!D43=\"y\",(D45+G45+H45),0)","v":0}]
[{"$f":"'Competitor List'!O44","v":309},"LG  ",{"$f":"'Competitor List'!B44","v":0},{"$f":"IF('LIGHT GUN'!AE65>0,'LIGHT GUN'!AE65,0)","v":0},"HG",{"$f":"'Competitor List'!C44","v":0},{"$f":"IF('HEAVY GUN'!AE65>0,'HEAVY GUN'!AE65,0)","v":0},{"$f":"IF('2-GUN'!P62:P62>0,'2-GUN'!P62:P62,0)","v":0},{"$f":"IF('Competitor List'!D44=\"y\",(D46+G46+H46),0)","v":0}]
[{"$f":"'Competitor List'!O45","v":310},"LG  ",{"$f":"'Competitor List'!B45","v":0},{"$f":"IF('LIGHT GUN'!AE66>0,'LIGHT GUN'!AE66,0)","v":0},"HG",{"$f":"'Competitor List'!C45","v":0},{"$f":"IF('HEAVY GUN'!AE66>0,'HEAVY GUN'!AE66,0)","v":0},{"$f":"IF('2-GUN'!P63:P63>0,'2-GUN'!P63:P63,0)","v":0},{"$f":"IF('Competitor List'!D45=\"y\",(D47+G47+H47),0)","v":0}]
[{"$f":"'Competitor List'!O46","v":311},"LG  ",{"$f":"'Competitor List'!B46","v":0},{"$f":"IF('LIGHT GUN'!AE67>0,'LIGHT GUN'!AE67,0)","v":0},"HG",{"$f":"'Competitor List'!C46","v":0},{"$f":"IF('HEAVY GUN'!AE67>0,'HEAVY GUN'!AE67,0)","v":0},{"$f":"IF('2-GUN'!P64:P64>0,'2-GUN'!P64:P64,0)","v":0},{"$f":"IF('Competitor List'!D46=\"y\",(D48+G48+H48),0)","v":0}]
[{"$f":"'Competitor List'!O47","v":312},"LG  ",{"$f":"'Competitor List'!B47","v":0},{"$f":"IF('LIGHT GUN'!AE68>0,'LIGHT GUN'!AE68,0)","v":0},"HG",{"$f":"'Competitor List'!C47","v":0},{"$f":"IF('HEAVY GUN'!AE68>0,'HEAVY GUN'!AE68,0)","v":0},{"$f":"IF('2-GUN'!P65:P65>0,'2-GUN'!P65:P65,0)","v":0},{"$f":"IF('Competitor List'!D47=\"y\",(D49+G49+H49),0)","v":0}]
[{"$f":"'Competitor List'!O48","v":313},"LG  ",{"$f":"'Competitor List'!B48","v":0},{"$f":"IF('LIGHT GUN'!AE69>0,'LIGHT GUN'!AE69,0)","v":0},"HG",{"$f":"'Competitor List'!C48","v":0},{"$f":"IF('HEAVY GUN'!AE69>0,'HEAVY GUN'!AE69,0)","v":0},{"$f":"IF('2-GUN'!P66:P66>0,'2-GUN'!P66:P66,0)","v":0},{"$f":"IF('Competitor List'!D48=\"y\",(D50+G50+H50),0)","v":0}]
[{"$f":"'Competitor List'!O49","v":314},"LG  ",{"$f":"'Competitor List'!B49","v":0},{"$f":"IF('LIGHT GUN'!AE70>0,'LIGHT GUN'!AE70,0)","v":0},"HG",{"$f":"'Competitor List'!C49","v":0},{"$f":"IF('HEAVY GUN'!AE70>0,'HEAVY GUN'!AE70,0)","v":0},{"$f":"IF('2-GUN'!P67:P67>0,'2-GUN'!P67:P67,0)","v":0},{"$f":"IF('Competitor List'!D49=\"y\",(D51+G51+H51),0)","v":0}]
[{"$f":"'Competitor List'!O50","v":315},"LG  ",{"$f":"'Competitor List'!B50","v":0},{"$f":"IF('LIGHT GUN'!AE71>0,'LIGHT GUN'!AE71,0)","v":0},"HG",{"$f":"'Competitor List'!C50","v":0},{"$f":"IF('HEAVY GUN'!AE71>0,'HEAVY GUN'!AE71,0)","v":0},{"$f":"IF('2-GUN'!P68:P68>0,'2-GUN'!P68:P68,0)","v":0},{"$f":"IF('Competitor List'!D50=\"y\",(D52+G52+H52),0)","v":0}]
[{"$f":"'Competitor List'!O51","v":401},"LG  ",{"$f":"'Competitor List'!B51","v":0},{"$f":"IF('LIGHT GUN'!AE72>0,'LIGHT GUN'!AE72,0)","v":0},"HG",{"$f":"'Competitor List'!C51","v":0},{"$f":"IF('HEAVY GUN'!AE72>0,'HEAVY GUN'!AE72,0)","v":0},{"$f":"IF('2-GUN'!P69:P69>0,'2-GUN'!P69:P69,0)","v":0},{"$f":"IF('Competitor List'!D51=\"y\",(D53+G53+H53),0)","v":0}]
[{"$f":"'Competitor List'!O52","v":402},"LG  ",{"$f":"'Competitor List'!B52","v":0},{"$f":"IF('LIGHT GUN'!AE73>0,'LIGHT GUN'!AE73,0)","v":0},"HG",{"$f":"'Competitor List'!C52","v":0},{"$f":"IF('HEAVY GUN'!AE73>0,'HEAVY GUN'!AE73,0)","v":0},{"$f":"IF('2-GUN'!P70:P70>0,'2-GUN'!P70:P70,0)","v":0},{"$f":"IF('Competitor List'!D52=\"y\",(D54+G54+H54),0)","v":0}]
[{"$f":"'Competitor List'!O53","v":403},"LG  ",{"$f":"'Competitor List'!B53","v":0},{"$f":"IF('LIGHT GUN'!AE74>0,'LIGHT GUN'!AE74,0)","v":0},"HG",{"$f":"'Competitor List'!C53","v":0},{"$f":"IF('HEAVY GUN'!AE74>0,'HEAVY GUN'!AE74,0)","v":0},{"$f":"IF('2-GUN'!P71:P71>0,'2-GUN'!P71:P71,0)","v":0},{"$f":"IF('Competitor List'!D53=\"y\",(D55+G55+H55),0)","v":0}]
[{"$f":"'Competitor List'!O54","v":404},"LG  ",{"$f":"'Competitor List'!B54","v":0},{"$f":"IF('LIGHT GUN'!AE75>0,'LIGHT GUN'!AE75,0)","v":0},"HG",{"$f":"'Competitor List'!C54","v":0},{"$f":"IF('HEAVY GUN'!AE75>0,'HEAVY GUN'!AE75,0)","v":0},{"$f":"IF('2-GUN'!P72:P72>0,'2-GUN'!P72:P72,0)","v":0},{"$f":"IF('Competitor List'!D54=\"y\",(D56+G56+H56),0)","v":0}]
[{"$f":"'Competitor List'!O55","v":405},"LG  ",{"$f":"'Competitor List'!B55","v":0},{"$f":"IF('LIGHT GUN'!AE76>0,'LIGHT GUN'!AE76,0)","v":0},"HG",{"$f":"'Competitor List'!C55","v":0},{"$f":"IF('HEAVY GUN'!AE76>0,'HEAVY GUN'!AE76,0)","v":0},{"$f":"IF('2-GUN'!P73:P73>0,'2-GUN'!P73:P73,0)","v":0},{"$f":"IF('Competitor List'!D55=\"y\",(D57+G57+H57),0)","v":0}]
[{"$f":"'Competitor List'!O56","v":406},"LG  ",{"$f":"'Competitor List'!B56","v":0},{"$f":"IF('LIGHT GUN'!AE77>0,'LIGHT GUN'!AE77,0)","v":0},"HG",{"$f":"'Competitor List'!C56","v":0},{"$f":"IF('HEAVY GUN'!AE77>0,'HEAVY GUN'!AE77,0)","v":0},{"$f":"IF('2-GUN'!P74:P74>0,'2-GUN'!P74:P74,0)","v":0},{"$f":"IF('Competitor List'!D56=\"y\",(D58+G58+H58),0)","v":0}]
[{"$f":"'Competitor List'!O57","v":407},"LG  ",{"$f":"'Competitor List'!B57","v":0},{"$f":"IF('LIGHT GUN'!AE78>0,'LIGHT GUN'!AE78,0)","v":0},"HG",{"$f":"'Competitor List'!C57","v":0},{"$f":"IF('HEAVY GUN'!AE78>0,'HEAVY GUN'!AE78,0)","v":0},{"$f":"IF('2-GUN'!P75:P75>0,'2-GUN'!P75:P75,0)","v":0},{"$f":"IF('Competitor List'!D57=\"y\",(D59+G59+H59),0)","v":0}]
[{"$f":"'Competitor List'!O58","v":408},"LG  ",{"$f":"'Competitor List'!B58","v":0},{"$f":"IF('LIGHT GUN'!AE79>0,'LIGHT GUN'!AE79,0)","v":0},"HG",{"$f":"'Competitor List'!C58","v":0},{"$f":"IF('HEAVY GUN'!AE79>0,'HEAVY GUN'!AE79,0)","v":0},{"$f":"IF('2-GUN'!P76:P76>0,'2-GUN'!P76:P76,0)","v":0},{"$f":"IF('Competitor List'!D58=\"y\",(D60+G60+H60),0)","v":0}]
[{"$f":"'Competitor List'!O59","v":409},"LG  ",{"$f":"'Competitor List'!B59","v":0},{"$f":"IF('LIGHT GUN'!AE80>0,'LIGHT GUN'!AE80,0)","v":0},"HG",{"$f":"'Competitor List'!C59","v":0},{"$f":"IF('HEAVY GUN'!AE80>0,'HEAVY GUN'!AE80,0)","v":0},{"$f":"IF('2-GUN'!P77:P77>0,'2-GUN'!P77:P77,0)","v":0},{"$f":"IF('Competitor List'!D59=\"y\",(D61+G61+H61),0)","v":0}]
[{"$f":"'Competitor List'!O60","v":410},"LG  ",{"$f":"'Competitor List'!B60","v":0},{"$f":"IF('LIGHT GUN'!AE81>0,'LIGHT GUN'!AE81,0)","v":0},"HG",{"$f":"'Competitor List'!C60","v":0},{"$f":"IF('HEAVY GUN'!AE81>0,'HEAVY GUN'!AE81,0)","v":0},{"$f":"IF('2-GUN'!P78:P78>0,'2-GUN'!P78:P78,0)","v":0},{"$f":"IF('Competitor List'!D60=\"y\",(D62+G62+H62),0)","v":0}]
[{"$f":"'Competitor List'!O61","v":411},"LG  ",{"$f":"'Competitor List'!B61","v":0},{"$f":"IF('LIGHT GUN'!AE82>0,'LIGHT GUN'!AE82,0)","v":0},"HG",{"$f":"'Competitor List'!C61","v":0},{"$f":"IF('HEAVY GUN'!AE82>0,'HEAVY GUN'!AE82,0)","v":0},{"$f":"IF('2-GUN'!P79:P79>0,'2-GUN'!P79:P79,0)","v":0},{"$f":"IF('Competitor List'!D61=\"y\",(D63+G63+H63),0)","v":0}]
[{"$f":"'Competitor List'!O62","v":412},"LG  ",{"$f":"'Competitor List'!B62","v":0},{"$f":"IF('LIGHT GUN'!AE83>0,'LIGHT GUN'!AE83,0)","v":0},"HG",{"$f":"'Competitor List'!C62","v":0},{"$f":"IF('HEAVY GUN'!AE83>0,'HEAVY GUN'!AE83,0)","v":0},{"$f":"IF('2-GUN'!P80:P80>0,'2-GUN'!P80:P80,0)","v":0},{"$f":"IF('Competitor List'!D62=\"y\",(D64+G64+H64),0)","v":0}]
[{"$f":"'Competitor List'!O63","v":413},"LG  ",{"$f":"'Competitor List'!B63","v":0},{"$f":"IF('LIGHT GUN'!AE84>0,'LIGHT GUN'!AE84,0)","v":0},"HG",{"$f":"'Competitor List'!C63","v":0},{"$f":"IF('HEAVY GUN'!AE84>0,'HEAVY GUN'!AE84,0)","v":0},{"$f":"IF('2-GUN'!P81:P81>0,'2-GUN'!P81:P81,0)","v":0},{"$f":"IF('Competitor List'!D63=\"y\",(D65+G65+H65),0)","v":0}]
[{"$f":"'Competitor List'!O64","v":414},"LG  ",{"$f":"'Competitor List'!B64","v":0},{"$f":"IF('LIGHT GUN'!AE85>0,'LIGHT GUN'!AE85,0)","v":0},"HG",{"$f":"'Competitor List'!C64","v":0},{"$f":"IF('HEAVY GUN'!AE85>0,'HEAVY GUN'!AE85,0)","v":0},{"$f":"IF('2-GUN'!P82:P82>0,'2-GUN'!P82:P82,0)","v":0},{"$f":"IF('Competitor List'!D64=\"y\",(D66+G66+H66),0)","v":0}]
[{"$f":"'Competitor List'!O65","v":415},"LG  ",{"$f":"'Competitor List'!B65","v":0},{"$f":"IF('LIGHT GUN'!AE86>0,'LIGHT GUN'!AE86,0)","v":0},"HG",{"$f":"'Competitor List'!C65","v":0},{"$f":"IF('HEAVY GUN'!AE86>0,'HEAVY GUN'!AE86,0)","v":0},{"$f":"IF('2-GUN'!P83:P83>0,'2-GUN'!P83:P83,0)","v":0},{"$f":"IF('Competitor List'!D65=\"y\",(D67+G67+H67),0)","v":0}]
[{"$f":"'Competitor List'!O66","v":501},"LG  ",{"$f":"'Competitor List'!B66","v":0},{"$f":"IF('LIGHT GUN'!AE87>0,'LIGHT GUN'!AE87,0)","v":0},"HG",{"$f":"'Competitor List'!C66","v":0},{"$f":"IF('HEAVY GUN'!AE87>0,'HEAVY GUN'!AE87,0)","v":0},{"$f":"IF('2-GUN'!P84:P84>0,'2-GUN'!P84:P84,0)","v":0},{"$f":"IF('Competitor List'!D66=\"y\",(D68+G68+H68),0)","v":0}]
[{"$f":"'Competitor List'!O67","v":502},"LG  ",{"$f":"'Competitor List'!B67","v":0},{"$f":"IF('LIGHT GUN'!AE88>0,'LIGHT GUN'!AE88,0)","v":0},"HG",{"$f":"'Competitor List'!C67","v":0},{"$f":"IF('HEAVY GUN'!AE88>0,'HEAVY GUN'!AE88,0)","v":0},{"$f":"IF('2-GUN'!P85:P85>0,'2-GUN'!P85:P85,0)","v":0},{"$f":"IF('Competitor List'!D67=\"y\",(D69+G69+H69),0)","v":0}]
[{"$f":"'Competitor List'!O68","v":503},"LG  ",{"$f":"'Competitor List'!B68","v":0},{"$f":"IF('LIGHT GUN'!AE89>0,'LIGHT GUN'!AE89,0)","v":0},"HG",{"$f":"'Competitor List'!C68","v":0},{"$f":"IF('HEAVY GUN'!AE89>0,'HEAVY GUN'!AE89,0)","v":0},{"$f":"IF('2-GUN'!P86:P86>0,'2-GUN'!P86:P86,0)","v":0},{"$f":"IF('Competitor List'!D68=\"y\",(D70+G70+H70),0)","v":0}]
[{"$f":"'Competitor List'!O69","v":504},"LG  ",{"$f":"'Competitor List'!B69","v":0},{"$f":"IF('LIGHT GUN'!AE90>0,'LIGHT GUN'!AE90,0)","v":0},"HG",{"$f":"'Competitor List'!C69","v":0},{"$f":"IF('HEAVY GUN'!AE90>0,'HEAVY GUN'!AE90,0)","v":0},{"$f":"IF('2-GUN'!P87:P87>0,'2-GUN'!P87:P87,0)","v":0},{"$f":"IF('Competitor List'!D69=\"y\",(D71+G71+H71),0)","v":0}]
[{"$f":"'Competitor List'!O70","v":505},"LG  ",{"$f":"'Competitor List'!B70","v":0},{"$f":"IF('LIGHT GUN'!AE91>0,'LIGHT GUN'!AE91,0)","v":0},"HG",{"$f":"'Competitor List'!C70","v":0},{"$f":"IF('HEAVY GUN'!AE91>0,'HEAVY GUN'!AE91,0)","v":0},{"$f":"IF('2-GUN'!P88:P88>0,'2-GUN'!P88:P88,0)","v":0},{"$f":"IF('Competitor List'!D70=\"y\",(D72+G72+H72),0)","v":0}]
[{"$f":"'Competitor List'!O71","v":506},"LG  ",{"$f":"'Competitor List'!B71","v":0},{"$f":"IF('LIGHT GUN'!AE92>0,'LIGHT GUN'!AE92,0)","v":0},"HG",{"$f":"'Competitor List'!C71","v":0},{"$f":"IF('HEAVY GUN'!AE92>0,'HEAVY GUN'!AE92,0)","v":0},{"$f":"IF('2-GUN'!P89:P89>0,'2-GUN'!P89:P89,0)","v":0},{"$f":"IF('Competitor List'!D71=\"y\",(D73+G73+H73),0)","v":0}]
[{"$f":"'Competitor List'!O72","v":507},"LG  ",{"$f":"'Competitor List'!B72","v":0},{"$f":"IF('LIGHT GUN'!AE93>0,'LIGHT GUN'!AE93,0)","v":0},"HG",{"$f":"'Competitor List'!C72","v":0},{"$f":"IF('HEAVY GUN'!AE93>0,'HEAVY GUN'!AE93,0)","v":0},{"$f":"IF('2-GUN'!P90:P90>0,'2-GUN'!P90:P90,0)","v":0},{"$f":"IF('Competitor List'!D72=\"y\",(D74+G74+H74),0)","v":0}]
[{"$f":"'Competitor List'!O73","v":508},"LG  ",{"$f":"'Competitor List'!B73","v":0},{"$f":"IF('LIGHT GUN'!AE94>0,'LIGHT GUN'!AE94,0)","v":0},"HG",{"$f":"'Competitor List'!C73","v":0},{"$f":"IF('HEAVY GUN'!AE94>0,'HEAVY GUN'!AE94,0)","v":0},{"$f":"IF('2-GUN'!P91:P91>0,'2-GUN'!P91:P91,0)","v":0},{"$f":"IF('Competitor List'!D73=\"y\",(D75+G75+H75),0)","v":0}]
[{"$f":"'Competitor List'!O74","v":509},"LG  ",{"$f":"'Competitor List'!B74","v":0},{"$f":"IF('LIGHT GUN'!AE95>0,'LIGHT GUN'!AE95,0)","v":0},"HG",{"$f":"'Competitor List'!C74","v":0},{"$f":"IF('HEAVY GUN'!AE95>0,'HEAVY GUN'!AE95,0)","v":0},{"$f":"IF('2-GUN'!P92:P92>0,'2-GUN'!P92:P92,0)","v":0},{"$f":"IF('Competitor List'!D74=\"y\",(D76+G76+H76),0)","v":0}]
[{"$f":"'Competitor List'!O75","v":510},"LG  ",{"$f":"'Competitor List'!B75","v":0},{"$f":"IF('LIGHT GUN'!AE96>0,'LIGHT GUN'!AE96,0)","v":0},"HG",{"$f":"'Competitor List'!C75","v":0},{"$f":"IF('HEAVY GUN'!AE96>0,'HEAVY GUN'!AE96,0)","v":0},{"$f":"IF('2-GUN'!P93:P93>0,'2-GUN'!P93:P93,0)","v":0},{"$f":"IF('Competitor List'!D75=\"y\",(D77+G77+H77),0)","v":0}]
[{"$f":"'Competitor List'!O76","v":511},"LG  ",{"$f":"'Competitor List'!B76","v":0},{"$f":"IF('LIGHT GUN'!AE97>0,'LIGHT GUN'!AE97,0)","v":0},"HG",{"$f":"'Competitor List'!C76","v":0},{"$f":"IF('HEAVY GUN'!AE97>0,'HEAVY GUN'!AE97,0)","v":0},{"$f":"IF('2-GUN'!P94:P94>0,'2-GUN'!P94:P94,0)","v":0},{"$f":"IF('Competitor List'!D76=\"y\",(D78+G78+H78),0)","v":0}]
[{"$f":"'Competitor List'!O77","v":512},"LG  ",{"$f":"'Competitor List'!B77","v":0},{"$f":"IF('LIGHT GUN'!AE98>0,'LIGHT GUN'!AE98,0)","v":0},"HG",{"$f":"'Competitor List'!C77","v":0},{"$f":"IF('HEAVY GUN'!AE98>0,'HEAVY GUN'!AE98,0)","v":0},{"$f":"IF('2-GUN'!P95:P95>0,'2-GUN'!P95:P95,0)","v":0},{"$f":"IF('Competitor List'!D77=\"y\",(D79+G79+H79),0)","v":0}]
[{"$f":"'Competitor List'!O78","v":513},"LG  ",{"$f":"'Competitor List'!B78","v":0},{"$f":"IF('LIGHT GUN'!AE99>0,'LIGHT GUN'!AE99,0)","v":0},"HG",{"$f":"'Competitor List'!C78","v":0},{"$f":"IF('HEAVY GUN'!AE99>0,'HEAVY GUN'!AE99,0)","v":0},{"$f":"IF('2-GUN'!P96:P96>0,'2-GUN'!P96:P96,0)","v":0},{"$f":"IF('Competitor List'!D78=\"y\",(D80+G80+H80),0)","v":0}]
[{"$f":"'Competitor List'!O79","v":514},"LG  ",{"$f":"'Competitor List'!B79","v":0},{"$f":"IF('LIGHT GUN'!AE100>0,'LIGHT GUN'!AE100,0)","v":0},"HG",{"$f":"'Competitor List'!C79","v":0},{"$f":"IF('HEAVY GUN'!AE100>0,'HEAVY GUN'!AE100,0)","v":0},{"$f":"IF('2-GUN'!P97:P97>0,'2-GUN'!P97:P97,0)","v":0},{"$f":"IF('Competitor List'!D79=\"y\",(D81+G81+H81),0)","v":0}]
[{"$f":"'Competitor List'!O80","v":515},"LG  ",{"$f":"'Competitor List'!B80","v":0},{"$f":"IF('LIGHT GUN'!AE101>0,'LIGHT GUN'!AE101,0)","v":0},"HG",{"$f":"'Competitor List'!C80","v":0},{"$f":"IF('HEAVY GUN'!AE101>0,'HEAVY GUN'!AE101,0)","v":0},{"$f":"IF('2-GUN'!P98:P98>0,'2-GUN'!P98:P98,0)","v":0},{"$f":"IF('Competitor List'!D80=\"y\",(D82+G82+H82),0)","v":0}]
[{"$f":"'Competitor List'!O81","v":601},"LG  ",{"$f":"'Competitor List'!B81","v":0},{"$f":"IF('LIGHT GUN'!AE102>0,'LIGHT GUN'!AE102,0)","v":0},"HG",{"$f":"'Competitor List'!C81","v":0},{"$f":"IF('HEAVY GUN'!AE102>0,'HEAVY GUN'!AE102,0)","v":0},{"$f":"IF('2-GUN'!P99:P99>0,'2-GUN'!P99:P99,0)","v":0},{"$f":"IF('Competitor List'!D81=\"y\",(D83+G83+H83),0)","v":0}]
[{"$f":"'Competitor List'!O82","v":602},"LG  ",{"$f":"'Competitor List'!B82","v":0},{"$f":"IF('LIGHT GUN'!AE103>0,'LIGHT GUN'!AE103,0)","v":0},"HG",{"$f":"'Competitor List'!C82","v":0},{"$f":"IF('HEAVY GUN'!AE103>0,'HEAVY GUN'!AE103,0)","v":0},{"$f":"IF('2-GUN'!P100:P100>0,'2-GUN'!P100:P100,0)","v":0},{"$f":"IF('Competitor List'!D82=\"y\",(D84+G84+H84),0)","v":0}]
[{"$f":"'Competitor List'!O83","v":603},"LG  ",{"$f":"'Competitor List'!B83","v":0},{"$f":"IF('LIGHT GUN'!AE104>0,'LIGHT GUN'!AE104,0)","v":0},"HG",{"$f":"'Competitor List'!C83","v":0},{"$f":"IF('HEAVY GUN'!AE104>0,'HEAVY GUN'!AE104,0)","v":0},{"$f":"IF('2-GUN'!P101:P101>0,'2-GUN'!P101:P101,0)","v":0},{"$f":"IF('Competitor List'!D83=\"y\",(D85+G85+H85),0)","v":0}]
[{"$f":"'Competitor List'!O84","v":604},"LG  ",{"$f":"'Competitor List'!B84","v":0},{"$f":"IF('LIGHT GUN'!AE105>0,'LIGHT GUN'!AE105,0)","v":0},"HG",{"$f":"'Competitor List'!C84","v":0},{"$f":"IF('HEAVY GUN'!AE105>0,'HEAVY GUN'!AE105,0)","v":0},{"$f":"IF('2-GUN'!P102:P102>0,'2-GUN'!P102:P102,0)","v":0},{"$f":"IF('Competitor List'!D84=\"y\",(D86+G86+H86),0)","v":0}]
[{"$f":"'Competitor List'!O85","v":605},"LG  ",{"$f":"'Competitor List'!B85","v":0},{"$f":"IF('LIGHT GUN'!AE106>0,'LIGHT GUN'!AE106,0)","v":0},"HG",{"$f":"'Competitor List'!C85","v":0},{"$f":"IF('HEAVY GUN'!AE106>0,'HEAVY GUN'!AE106,0)","v":0},{"$f":"IF('2-GUN'!P103:P103>0,'2-GUN'!P103:P103,0)","v":0},{"$f":"IF('Competitor List'!D85=\"y\",(D87+G87+H87),0)","v":0}]
[{"$f":"'Competitor List'!O86","v":606},"LG  ",{"$f":"'Competitor List'!B86","v":0},{"$f":"IF('LIGHT GUN'!AE107>0,'LIGHT GUN'!AE107,0)","v":0},"HG",{"$f":"'Competitor List'!C86","v":0},{"$f":"IF('HEAVY GUN'!AE107>0,'HEAVY GUN'!AE107,0)","v":0},{"$f":"IF('2-GUN'!P104:P104>0,'2-GUN'!P104:P104,0)","v":0},{"$f":"IF('Competitor List'!D86=\"y\",(D88+G88+H88),0)","v":0}]
[{"$f":"'Competitor List'!O87","v":607},"LG  ",{"$f":"'Competitor List'!B87","v":0},{"$f":"IF('LIGHT GUN'!AE108>0,'LIGHT GUN'!AE108,0)","v":0},"HG",{"$f":"'Competitor List'!C87","v":0},{"$f":"IF('HEAVY GUN'!AE108>0,'HEAVY GUN'!AE108,0)","v":0},{"$f":"IF('2-GUN'!P105:P105>0,'2-GUN'!P105:P105,0)","v":0},{"$f":"IF('Competitor List'!D87=\"y\",(D89+G89+H89),0)","v":0}]
[{"$f":"'Competitor List'!O88","v":608},"LG  ",{"$f":"'Competitor List'!B88","v":0},{"$f":"IF('LIGHT GUN'!AE109>0,'LIGHT GUN'!AE109,0)","v":0},"HG",{"$f":"'Competitor List'!C88","v":0},{"$f":"IF('HEAVY GUN'!AE109>0,'HEAVY GUN'!AE109,0)","v":0},{"$f":"IF('2-GUN'!P106:P106>0,'2-GUN'!P106:P106,0)","v":0},{"$f":"IF('Competitor List'!D88=\"y\",(D90+G90+H90),0)","v":0}]
[{"$f":"'Competitor List'!O89","v":609},"LG  ",{"$f":"'Competitor List'!B89","v":0},{"$f":"IF('LIGHT GUN'!AE110>0,'LIGHT GUN'!AE110,0)","v":0},"HG",{"$f":"'Competitor List'!C89","v":0},{"$f":"IF('HEAVY GUN'!AE110>0,'HEAVY GUN'!AE110,0)","v":0},{"$f":"IF('2-GUN'!P107:P107>0,'2-GUN'!P107:P107,0)","v":0},{"$f":"IF('Competitor List'!D89=\"y\",(D91+G91+H91),0)","v":0}]
[{"$f":"'Competitor List'!O90","v":610},"LG  ",{"$f":"'Competitor List'!B90","v":0},{"$f":"IF('LIGHT GUN'!AE111>0,'LIGHT GUN'!AE111,0)","v":0},"HG",{"$f":"'Competitor List'!C90","v":0},{"$f":"IF('HEAVY GUN'!AE111>0,'HEAVY GUN'!AE111,0)","v":0},{"$f":"IF('2-GUN'!P108:P108>0,'2-GUN'!P108:P108,0)","v":0},{"$f":"IF('Competitor List'!D90=\"y\",(D92+G92+H92),0)","v":0}]
[{"$f":"'Competitor List'!O91","v":611},"LG  ",{"$f":"'Competitor List'!B91","v":0},{"$f":"IF('LIGHT GUN'!AE112>0,'LIGHT GUN'!AE112,0)","v":0},"HG",{"$f":"'Competitor List'!C91","v":0},{"$f":"IF('HEAVY GUN'!AE112>0,'HEAVY GUN'!AE112,0)","v":0},{"$f":"IF('2-GUN'!P109:P109>0,'2-GUN'!P109:P109,0)","v":0},{"$f":"IF('Competitor List'!D91=\"y\",(D93+G93+H93),0)","v":0}]
[{"$f":"'Competitor List'!O92","v":612},"LG  ",{"$f":"'Competitor List'!B92","v":0},{"$f":"IF('LIGHT GUN'!AE113>0,'LIGHT GUN'!AE113,0)","v":0},"HG",{"$f":"'Competitor List'!C92","v":0},{"$f":"IF('HEAVY GUN'!AE113>0,'HEAVY GUN'!AE113,0)","v":0},{"$f":"IF('2-GUN'!P110:P110>0,'2-GUN'!P110:P110,0)","v":0},{"$f":"IF('Competitor List'!D92=\"y\",(D94+G94+H94),0)","v":0}]
[{"$f":"'Competitor List'!O93","v":613},"LG  ",{"$f":"'Competitor List'!B93","v":0},{"$f":"IF('LIGHT GUN'!AE114>0,'LIGHT GUN'!AE114,0)","v":0},"HG",{"$f":"'Competitor List'!C93","v":0},{"$f":"IF('HEAVY GUN'!AE114>0,'HEAVY GUN'!AE114,0)","v":0},{"$f":"IF('2-GUN'!P111:P111>0,'2-GUN'!P111:P111,0)","v":0},{"$f":"IF('Competitor List'!D93=\"y\",(D95+G95+H95),0)","v":0}]
[{"$f":"'Competitor List'!O94","v":614},"LG  ",{"$f":"'Competitor List'!B94","v":0},{"$f":"IF('LIGHT GUN'!AE115>0,'LIGHT GUN'!AE115,0)","v":0},"HG",{"$f":"'Competitor List'!C94","v":0},{"$f":"IF('HEAVY GUN'!AE115>0,'HEAVY GUN'!AE115,0)","v":0},{"$f":"IF('2-GUN'!P112:P112>0,'2-GUN'!P112:P112,0)","v":0},{"$f":"IF('Competitor List'!D94=\"y\",(D96+G96+H96),0)","v":0}]
[{"$f":"'Competitor List'!O95","v":615},"LG  ",{"$f":"'Competitor List'!B95","v":0},{"$f":"IF('LIGHT GUN'!AE116>0,'LIGHT GUN'!AE116,0)","v":0},"HG",{"$f":"'Competitor List'!C95","v":0},{"$f":"IF('HEAVY GUN'!AE116>0,'HEAVY GUN'!AE116,0)","v":0},{"$f":"IF('2-GUN'!P113:P113>0,'2-GUN'!P113:P113,0)","v":0},{"$f":"IF('Competitor List'!D95=\"y\",(D97+G97+H97),0)","v":0}]
[{"$f":"'Competitor List'!O96","v":701},"LG  ",{"$f":"'Competitor List'!B96","v":0},{"$f":"IF('LIGHT GUN'!AE117>0,'LIGHT GUN'!AE117,0)","v":0},"HG",{"$f":"'Competitor List'!C96","v":0},{"$f":"IF('HEAVY GUN'!AE117>0,'HEAVY GUN'!AE117,0)","v":0},{"$f":"IF('2-GUN'!P114:P114>0,'2-GUN'!P114:P114,0)","v":0},{"$f":"IF('Competitor List'!D96=\"y\",(D98+G98+H98),0)","v":0}]
[{"$f":"'Competitor List'!O97","v":702},"LG  ",{"$f":"'Competitor List'!B97","v":0},{"$f":"IF('LIGHT GUN'!AE118>0,'LIGHT GUN'!AE118,0)","v":0},"HG",{"$f":"'Competitor List'!C97","v":0},{"$f":"IF('HEAVY GUN'!AE118>0,'HEAVY GUN'!AE118,0)","v":0},{"$f":"IF('2-GUN'!P115:P115>0,'2-GUN'!P115:P115,0)","v":0},{"$f":"IF('Competitor List'!D97=\"y\",(D99+G99+H99),0)","v":0}]
[{"$f":"'Competitor List'!O98","v":703},"LG  ",{"$f":"'Competitor List'!B98","v":0},{"$f":"IF('LIGHT GUN'!AE119>0,'LIGHT GUN'!AE119,0)","v":0},"HG",{"$f":"'Competitor List'!C98","v":0},{"$f":"IF('HEAVY GUN'!AE119>0,'HEAVY GUN'!AE119,0)","v":0},{"$f":"IF('2-GUN'!P116:P116>0,'2-GUN'!P116:P116,0)","v":0},{"$f":"IF('Competitor List'!D98=\"y\",(D100+G100+H100),0)","v":0}]
[{"$f":"'Competitor List'!O99","v":704},"LG  ",{"$f":"'Competitor List'!B99","v":0},{"$f":"IF('LIGHT GUN'!AE120>0,'LIGHT GUN'!AE120,0)","v":0},"HG",{"$f":"'Competitor List'!C99","v":0},{"$f":"IF('HEAVY GUN'!AE120>0,'HEAVY GUN'!AE120,0)","v":0},{"$f":"IF('2-GUN'!P117:P117>0,'2-GUN'!P117:P117,0)","v":0},{"$f":"IF('Competitor List'!D99=\"y\",(D101+G101+H101),0)","v":0}]
[{"$f":"'Competitor List'!O100","v":705},"LG  ",{"$f":"'Competitor List'!B100","v":0},{"$f":"IF('LIGHT GUN'!AE121>0,'LIGHT GUN'!AE121,0)","v":0},"HG",{"$f":"'Competitor List'!C100","v":0},{"$f":"IF('HEAVY GUN'!AE121>0,'HEAVY GUN'!AE121,0)","v":0},{"$f":"IF('2-GUN'!P118:P118>0,'2-GUN'!P118:P118,0)","v":0},{"$f":"IF('Competitor List'!D100=\"y\",(D102+G102+H102),0)","v":0}]
[{"$f":"'Competitor List'!O101","v":706},"LG  ",{"$f":"'Competitor List'!B101","v":0},{"$f":"IF('LIGHT GUN'!AE122>0,'LIGHT GUN'!AE122,0)","v":0},"HG",{"$f":"'Competitor List'!C101","v":0},{"$f":"IF('HEAVY GUN'!AE122>0,'HEAVY GUN'!AE122,0)","v":0},{"$f":"IF('2-GUN'!P119:P119>0,'2-GUN'!P119:P119,0)","v":0},{"$f":"IF('Competitor List'!D101=\"y\",(D103+G103+H103),0)","v":0}]
[{"$f":"'Competitor List'!O102","v":707},"LG  ",{"$f":"'Competitor List'!B102","v":0},{"$f":"IF('LIGHT GUN'!AE123>0,'LIGHT GUN'!AE123,0)","v":0},"HG",{"$f":"'Competitor List'!C102","v":0},{"$f":"IF('HEAVY GUN'!AE123>0,'HEAVY GUN'!AE123,0)","v":0},{"$f":"IF('2-GUN'!P120:P120>0,'2-GUN'!P120:P120,0)","v":0},{"$f":"IF('Competitor List'!D102=\"y\",(D104+G104+H104),0)","v":0}]
[{"$f":"'Competitor List'!O103","v":708},"LG  ",{"$f":"'Competitor List'!B103","v":0},{"$f":"IF('LIGHT GUN'!AE124>0,'LIGHT GUN'!AE124,0)","v":0},"HG",{"$f":"'Competitor List'!C103","v":0},{"$f":"IF('HEAVY GUN'!AE124>0,'HEAVY GUN'!AE124,0)","v":0},{"$f":"IF('2-GUN'!P121:P121>0,'2-GUN'!P121:P121,0)","v":0},{"$f":"IF('Competitor List'!D103=\"y\",(D105+G105+H105),0)","v":0}]
[{"$f":"'Competitor List'!O104","v":709},"LG  ",{"$f":"'Competitor List'!B104","v":0},{"$f":"IF('LIGHT GUN'!AE125>0,'LIGHT GUN'!AE125,0)","v":0},"HG",{"$f":"'Competitor List'!C104","v":0},{"$f":"IF('HEAVY GUN'!AE125>0,'HEAVY GUN'!AE125,0)","v":0},{"$f":"IF('2-GUN'!P122:P122>0,'2-GUN'!P122:P122,0)","v":0},{"$f":"IF('Competitor List'!D104=\"y\",(D106+G106+H106),0)","v":0}]
[{"$f":"'Competitor List'!O105","v":710},"LG  ",{"$f":"'Competitor List'!B105","v":0},{"$f":"IF('LIGHT GUN'!AE126>0,'LIGHT GUN'!AE126,0)","v":0},"HG",{"$f":"'Competitor List'!C105","v":0},{"$f":"IF('HEAVY GUN'!AE126>0,'HEAVY GUN'!AE126,0)","v":0},{"$f":"IF('2-GUN'!P123:P123>0,'2-GUN'!P123:P123,0)","v":0},{"$f":"IF('Competitor List'!D105=\"y\",(D107+G107+H107),0)","v":0}]
[{"$f":"'Competitor List'!O106","v":711},"LG  ",{"$f":"'Competitor List'!B106","v":0},{"$f":"IF('LIGHT GUN'!AE127>0,'LIGHT GUN'!AE127,0)","v":0},"HG",{"$f":"'Competitor List'!C106","v":0},{"$f":"IF('HEAVY GUN'!AE127>0,'HEAVY GUN'!AE127,0)","v":0},{"$f":"IF('2-GUN'!P124:P124>0,'2-GUN'!P124:P124,0)","v":0},{"$f":"IF('Competitor List'!D106=\"y\",(D108+G108+H108),0)","v":0}]
[{"$f":"'Competitor List'!O107","v":712},"LG  ",{"$f":"'Competitor List'!B107","v":0},{"$f":"IF('LIGHT GUN'!AE128>0,'LIGHT GUN'!AE128,0)","v":0},"HG",{"$f":"'Competitor List'!C107","v":0},{"$f":"IF('HEAVY GUN'!AE128>0,'HEAVY GUN'!AE128,0)","v":0},{"$f":"IF('2-GUN'!P125:P125>0,'2-GUN'!P125:P125,0)","v":0},{"$f":"IF('Competitor List'!D107=\"y\",(D109+G109+H109),0)","v":0}]
[{"$f":"'Competitor List'!O108","v":713},"LG  ",{"$f":"'Competitor List'!B108","v":0},{"$f":"IF('LIGHT GUN'!AE129>0,'LIGHT GUN'!AE129,0)","v":0},"HG",{"$f":"'Competitor List'!C108","v":0},{"$f":"IF('HEAVY GUN'!AE129>0,'HEAVY GUN'!AE129,0)","v":0},{"$f":"IF('2-GUN'!P126:P126>0,'2-GUN'!P126:P126,0)","v":0},{"$f":"IF('Competitor List'!D108=\"y\",(D110+G110+H110),0)","v":0}]
[{"$f":"'Competitor List'!O109","v":714},"LG  ",{"$f":"'Competitor List'!B109","v":0},{"$f":"IF('LIGHT GUN'!AE130>0,'LIGHT GUN'!AE130,0)","v":0},"HG",{"$f":"'Competitor List'!C109","v":0},{"$f":"IF('HEAVY GUN'!AE130>0,'HEAVY GUN'!AE130,0)","v":0},{"$f":"IF('2-GUN'!P127:P127>0,'2-GUN'!P127:P127,0)","v":0},{"$f":"IF('Competitor List'!D109=\"y\",(D111+G111+H111),0)","v":0}]
[{"$f":"'Competitor List'!O110","v":715},"LG  ",{"$f":"'Competitor List'!B110","v":0},{"$f":"IF('LIGHT GUN'!AE131>0,'LIGHT GUN'!AE131,0)","v":0},"HG",{"$f":"'Competitor List'!C110","v":0},{"$f":"IF('HEAVY GUN'!AE131>0,'HEAVY GUN'!AE131,0)","v":0},{"$f":"IF('2-GUN'!P128:P128>0,'2-GUN'!P128:P128,0)","v":0},{"$f":"IF('Competitor List'!D110=\"y\",(D112+G112+H112),0)","v":0}]
[{"$f":"'Competitor List'!O111","v":801},"LG  ",{"$f":"'Competitor List'!B111","v":0},{"$f":"IF('LIGHT GUN'!AE132>0,'LIGHT GUN'!AE132,0)","v":0},"HG",{"$f":"'Competitor List'!C111","v":0},{"$f":"IF('HEAVY GUN'!AE132>0,'HEAVY GUN'!AE132,0)","v":0},{"$f":"IF('2-GUN'!P129:P129>0,'2-GUN'!P129:P129,0)","v":0},{"$f":"IF('Competitor List'!D111=\"y\",(D113+G113+H113),0)","v":0}]
[{"$f":"'Competitor List'!O112","v":802},"LG  ",{"$f":"'Competitor List'!B112","v":0},{"$f":"IF('LIGHT GUN'!AE133>0,'LIGHT GUN'!AE133,0)","v":0},"HG",{"$f":"'Competitor List'!C112","v":0},{"$f":"IF('HEAVY GUN'!AE133>0,'HEAVY GUN'!AE133,0)","v":0},{"$f":"IF('2-GUN'!P130:P130>0,'2-GUN'!P130:P130,0)","v":0},{"$f":"IF('Competitor List'!D112=\"y\",(D114+G114+H114),0)","v":0}]
[{"$f":"'Competitor List'!O113","v":803},"LG  ",{"$f":"'Competitor List'!B113","v":0},{"$f":"IF('LIGHT GUN'!AE134>0,'LIGHT GUN'!AE134,0)","v":0},"HG",{"$f":"'Competitor List'!C113","v":0},{"$f":"IF('HEAVY GUN'!AE134>0,'HEAVY GUN'!AE134,0)","v":0},{"$f":"IF('2-GUN'!P131:P131>0,'2-GUN'!P131:P131,0)","v":0},{"$f":"IF('Competitor List'!D113=\"y\",(D115+G115+H115),0)","v":0}]
[{"$f":"'Competitor List'!O114","v":804},"LG  ",{"$f":"'Competitor List'!B114","v":0},{"$f":"IF('LIGHT GUN'!AE135>0,'LIGHT GUN'!AE135,0)","v":0},"HG",{"$f":"'Competitor List'!C114","v":0},{"$f":"IF('HEAVY GUN'!AE135>0,'HEAVY GUN'!AE135,0)","v":0},{"$f":"IF('2-GUN'!P132:P132>0,'2-GUN'!P132:P132,0)","v":0},{"$f":"IF('Competitor List'!D114=\"y\",(D116+G116+H116),0)","v":0}]
[{"$f":"'Competitor List'!O115","v":805},"LG  ",{"$f":"'Competitor List'!B115","v":0},{"$f":"IF('LIGHT GUN'!AE136>0,'LIGHT GUN'!AE136,0)","v":0},"HG",{"$f":"'Competitor List'!C115","v":0},{"$f":"IF('HEAVY GUN'!AE136>0,'HEAVY GUN'!AE136,0)","v":0},{"$f":"IF('2-GUN'!P133:P133>0,'2-GUN'!P133:P133,0)","v":0},{"$f":"IF('Competitor List'!D115=\"y\",(D117+G117+H117),0)","v":0}]
[{"$f":"'Competitor List'!O116","v":806},"LG  ",{"$f":"'Competitor List'!B116","v":0},{"$f":"IF('LIGHT GUN'!AE137>0,'LIGHT GUN'!AE137,0)","v":0},"HG",{"$f":"'Competitor List'!C116","v":0},{"$f":"IF('HEAVY GUN'!AE137>0,'HEAVY GUN'!AE137,0)","v":0},{"$f":"IF('2-GUN'!P134:P134>0,'2-GUN'!P134:P134,0)","v":0},{"$f":"IF('Competitor List'!D116=\"y\",(D118+G118+H118),0)","v":0}]
[{"$f":"'Competitor List'!O117","v":807},"LG  ",{"$f":"'Competitor List'!B117","v":0},{"$f":"IF('LIGHT GUN'!AE138>0,'LIGHT GUN'!AE138,0)","v":0},"HG",{"$f":"'Competitor List'!C117","v":0},{"$f":"IF('HEAVY GUN'!AE138>0,'HEAVY GUN'!AE138,0)","v":0},{"$f":"IF('2-GUN'!P135:P135>0,'2-GUN'!P135:P135,0)","v":0},{"$f":"IF('Competitor List'!D117=\"y\",(D119+G119+H119),0)","v":0}]
[{"$f":"'Competitor List'!O118","v":808},"LG  ",{"$f":"'Competitor List'!B118","v":0},{"$f":"IF('LIGHT GUN'!AE139>0,'LIGHT GUN'!AE139,0)","v":0},"HG",{"$f":"'Competitor List'!C118","v":0},{"$f":"IF('HEAVY GUN'!AE139>0,'HEAVY GUN'!AE139,0)","v":0},{"$f":"IF('2-GUN'!P136:P136>0,'2-GUN'!P136:P136,0)","v":0},{"$f":"IF('Competitor List'!D118=\"y\",(D120+G120+H120),0)","v":0}]
[{"$f":"'Competitor List'!O119","v":809},"LG  ",{"$f":"'Competitor List'!B119","v":0},{"$f":"IF('LIGHT GUN'!AE140>0,'LIGHT GUN'!AE140,0)","v":0},"HG",{"$f":"'Competitor List'!C119","v":0},{"$f":"IF('HEAVY GUN'!AE140>0,'HEAVY GUN'!AE140,0)","v":0},{"$f":"IF('2-GUN'!P137:P137>0,'2-GUN'!P137:P137,0)","v":0},{"$f":"IF('Competitor List'!D119=\"y\",(D121+G121+H121),0)","v":0}]
[{"$f":"'Competitor List'!O120","v":810},"LG  ",{"$f":"'Competitor List'!B120","v":0},{"$f":"IF('LIGHT GUN'!AE141>0,'LIGHT GUN'!AE141,0)","v":0},"HG",{"$f":"'Competitor List'!C120","v":0},{"$f":"IF('HEAVY GUN'!AE141>0,'HEAVY GUN'!AE141,0)","v":0},{"$f":"IF('2-GUN'!P138:P138>0,'2-GUN'!P138:P138,0)","v":0},{"$f":"IF('Competitor List'!D120=\"y\",(D122+G122+H122),0)","v":0}]
[{"$f":"'Competitor List'!O121","v":811},"LG  ",{"$f":"'Competitor List'!B121","v":0},{"$f":"IF('LIGHT GUN'!AE142>0,'LIGHT GUN'!AE142,0)","v":0},"HG",{"$f":"'Competitor List'!C121","v":0},{"$f":"IF('HEAVY GUN'!AE142>0,'HEAVY GUN'!AE142,0)","v":0},{"$f":"IF('2-GUN'!P139:P139>0,'2-GUN'!P139:P139,0)","v":0},{"$f":"IF('Competitor List'!D121=\"y\",(D123+G123+H123),0)","v":0}]
[{"$f":"'Competitor List'!O122","v":812},"LG  ",{"$f":"'Competitor List'!B122","v":0},{"$f":"IF('LIGHT GUN'!AE143>0,'LIGHT GUN'!AE143,0)","v":0},"HG",{"$f":"'Competitor List'!C122","v":0},{"$f":"IF('HEAVY GUN'!AE143>0,'HEAVY GUN'!AE143,0)","v":0},{"$f":"IF('2-GUN'!P140:P140>0,'2-GUN'!P140:P140,0)","v":0},{"$f":"IF('Competitor List'!D122=\"y\",(D124+G124+H124),0)","v":0}]
[{"$f":"'Competitor List'!O123","v":813},"LG  ",{"$f":"'Competitor List'!B123","v":0},{"$f":"IF('LIGHT GUN'!AE144>0,'LIGHT GUN'!AE144,0)","v":0},"HG",{"$f":"'Competitor List'!C123","v":0},{"$f":"IF('HEAVY GUN'!AE144>0,'HEAVY GUN'!AE144,0)","v":0},{"$f":"IF('2-GUN'!P141:P141>0,'2-GUN'!P141:P141,0)","v":0},{"$f":"IF('Competitor List'!D123=\"y\",(D125+G125+H125),0)","v":0}]
[{"$f":"'Competitor List'!O124","v":814},"LG  ",{"$f":"'Competitor List'!B124","v":0},{"$f":"IF('LIGHT GUN'!AE145>0,'LIGHT GUN'!AE145,0)","v":0},"HG",{"$f":"'Competitor List'!C124","v":0},{"$f":"IF('HEAVY GUN'!AE145>0,'HEAVY GUN'!AE145,0)","v":0},{"$f":"IF('2-GUN'!P142:P142>0,'2-GUN'!P142:P142,0)","v":0},{"$f":"IF('Competitor List'!D124=\"y\",(D126+G126+H126),0)","v":0}]
[{"$f":"'Competitor List'!O125","v":815},"LG  ",{"$f":"'Competitor List'!B125","v":0},{"$f":"IF('LIGHT GUN'!AE146>0,'LIGHT GUN'!AE146,0)","v":0},"HG",{"$f":"'Competitor List'!C125","v":0},{"$f":"IF('HEAVY GUN'!AE146>0,'HEAVY GUN'!AE146,0)","v":0},{"$f":"IF('2-GUN'!P143:P143>0,'2-GUN'!P143:P143,0)","v":0},{"$f":"IF('Competitor List'!D125=\"y\",(D127+G127+H127),0)","v":0}]
[{"$f":"'Competitor List'!O126","v":901},"LG  ",{"$f":"'Competitor List'!B126","v":0},{"$f":"IF('LIGHT GUN'!AE147>0,'LIGHT GUN'!AE147,0)","v":0},"HG",{"$f":"'Competitor List'!C126","v":0},{"$f":"IF('HEAVY GUN'!AE147>0,'HEAVY GUN'!AE147,0)","v":0},{"$f":"IF('2-GUN'!P144:P144>0,'2-GUN'!P144:P144,0)","v":0},{"$f":"IF('Competitor List'!D126=\"y\",(D128+G128+H128),0)","v":0}]
[{"$f":"'Competitor List'!O127","v":902},"LG  ",{"$f":"'Competitor List'!B127","v":0},{"$f":"IF('LIGHT GUN'!AE148>0,'LIGHT GUN'!AE148,0)","v":0},"HG",{"$f":"'Competitor List'!C127","v":0},{"$f":"IF('HEAVY GUN'!AE148>0,'HEAVY GUN'!AE148,0)","v":0},{"$f":"IF('2-GUN'!P145:P145>0,'2-GUN'!P145:P145,0)","v":0},{"$f":"IF('Competitor List'!D127=\"y\",(D129+G129+H129),0)","v":0}]
[{"$f":"'Competitor List'!O128","v":903},"LG  ",{"$f":"'Competitor List'!B128","v":0},{"$f":"IF('LIGHT GUN'!AE149>0,'LIGHT GUN'!AE149,0)","v":0},"HG",{"$f":"'Competitor List'!C128","v":0},{"$f":"IF('HEAVY GUN'!AE149>0,'HEAVY GUN'!AE149,0)","v":0},{"$f":"IF('2-GUN'!P146:P146>0,'2-GUN'!P146:P146,0)","v":0},{"$f":"IF('Competitor List'!D128=\"y\",(D130+G130+H130),0)","v":0}]
[{"$f":"'Competitor List'!O129","v":904},"LG  ",{"$f":"'Competitor List'!B129","v":0},{"$f":"IF('LIGHT GUN'!AE150>0,'LIGHT GUN'!AE150,0)","v":0},"HG",{"$f":"'Competitor List'!C129","v":0},{"$f":"IF('HEAVY GUN'!AE150>0,'HEAVY GUN'!AE150,0)","v":0},{"$f":"IF('2-GUN'!P147:P147>0,'2-GUN'!P147:P147,0)","v":0},{"$f":"IF('Competitor List'!D129=\"y\",(D131+G131+H131),0)","v":0}]
[{"$f":"'Competitor List'!O130","v":905},"LG  ",{"$f":"'Competitor List'!B130","v":0},{"$f":"IF('LIGHT GUN'!AE151>0,'LIGHT GUN'!AE151,0)","v":0},"HG",{"$f":"'Competitor List'!C130","v":0},{"$f":"IF('HEAVY GUN'!AE151>0,'HEAVY GUN'!AE151,0)","v":0},{"$f":"IF('2-GUN'!P148:P148>0,'2-GUN'!P148:P148,0)","v":0},{"$f":"IF('Competitor List'!D130=\"y\",(D132+G132+H132),0)","v":0}]
[{"$f":"'Competitor List'!O131","v":906},"LG  ",{"$f":"'Competitor List'!B131","v":0},{"$f":"IF('LIGHT GUN'!AE152>0,'LIGHT GUN'!AE152,0)","v":0},"HG",{"$f":"'Competitor List'!C131","v":0},{"$f":"IF('HEAVY GUN'!AE152>0,'HEAVY GUN'!AE152,0)","v":0},{"$f":"IF('2-GUN'!P149:P149>0,'2-GUN'!P149:P149,0)","v":0},{"$f":"IF('Competitor List'!D131=\"y\",(D133+G133+H133),0)","v":0}]
[{"$f":"'Competitor List'!O132","v":907},"LG  ",{"$f":"'Competitor List'!B132","v":0},{"$f":"IF('LIGHT GUN'!AE153>0,'LIGHT GUN'!AE153,0)","v":0},"HG",{"$f":"'Competitor List'!C132","v":0},{"$f":"IF('HEAVY GUN'!AE153>0,'HEAVY GUN'!AE153,0)","v":0},{"$f":"IF('2-GUN'!P150:P150>0,'2-GUN'!P150:P150,0)","v":0},{"$f":"IF('Competitor List'!D132=\"y\",(D134+G134+H134),0)","v":0}]
[{"$f":"'Competitor List'!O133","v":908},"LG  ",{"$f":"'Competitor List'!B133","v":0},{"$f":"IF('LIGHT GUN'!AE154>0,'LIGHT GUN'!AE154,0)","v":0},"HG",{"$f":"'Competitor List'!C133","v":0},{"$f":"IF('HEAVY GUN'!AE154>0,'HEAVY GUN'!AE154,0)","v":0},{"$f":"IF('2-GUN'!P151:P151>0,'2-GUN'!P151:P151,0)","v":0},{"$f":"IF('Competitor List'!D133=\"y\",(D135+G135+H135),0)","v":0}]
[{"$f":"'Competitor List'!O134","v":909},"LG  ",{"$f":"'Competitor List'!B134","v":0},{"$f":"IF('LIGHT GUN'!AE155>0,'LIGHT GUN'!AE155,0)","v":0},"HG",{"$f":"'Competitor List'!C134","v":0},{"$f":"IF('HEAVY GUN'!AE155>0,'HEAVY GUN'!AE155,0)","v":0},{"$f":"IF('2-GUN'!P152:P152>0,'2-GUN'!P152:P152,0)","v":0},{"$f":"IF('Competitor List'!D134=\"y\",(D136+G136+H136),0)","v":0}]
[{"$f":"'Competitor List'!O135","v":910},"LG  ",{"$f":"'Competitor List'!B135","v":0},{"$f":"IF('LIGHT GUN'!AE156>0,'LIGHT GUN'!AE156,0)","v":0},"HG",{"$f":"'Competitor List'!C135","v":0},{"$f":"IF('HEAVY GUN'!AE156>0,'HEAVY GUN'!AE156,0)","v":0},{"$f":"IF('2-GUN'!P153:P153>0,'2-GUN'!P153:P153,0)","v":0},{"$f":"IF('Competitor List'!D135=\"y\",(D137+G137+H137),0)","v":0}]
[{"$f":"'Competitor List'!O136","v":911},"LG  ",{"$f":"'Competitor List'!B136","v":0},{"$f":"IF('LIGHT GUN'!AE157>0,'LIGHT GUN'!AE157,0)","v":0},"HG",{"$f":"'Competitor List'!C136","v":0},{"$f":"IF('HEAVY GUN'!AE157>0,'HEAVY GUN'!AE157,0)","v":0},{"$f":"IF('2-GUN'!P154:P154>0,'2-GUN'!P154:P154,0)","v":0},{"$f":"IF('Competitor List'!D136=\"y\",(D138+G138+H138),0)","v":0}]
[{"$f":"'Competitor List'!O137","v":912},"LG  ",{"$f":"'Competitor List'!B137","v":0},{"$f":"IF('LIGHT GUN'!AE158>0,'LIGHT GUN'!AE158,0)","v":0},"HG",{"$f":"'Competitor List'!C137","v":0},{"$f":"IF('HEAVY GUN'!AE158>0,'HEAVY GUN'!AE158,0)","v":0},{"$f":"IF('2-GUN'!P155:P155>0,'2-GUN'!P155:P155,0)","v":0},{"$f":"IF('Competitor List'!D137=\"y\",(D139+G139+H139),0)","v":0}]
[{"$f":"'Competitor List'!O138","v":913},"LG  ",{"$f":"'Competitor List'!B138","v":0},{"$f":"IF('LIGHT GUN'!AE159>0,'LIGHT GUN'!AE159,0)","v":0},"HG",{"$f":"'Competitor List'!C138","v":0},{"$f":"IF('HEAVY GUN'!AE159>0,'HEAVY GUN'!AE159,0)","v":0},{"$f":"IF('2-GUN'!P156:P156>0,'2-GUN'!P156:P156,0)","v":0},{"$f":"IF('Competitor List'!D138=\"y\",(D140+G140+H140),0)","v":0}]
[{"$f":"'Competitor List'!O139","v":914},"LG  ",{"$f":"'Competitor List'!B139","v":0},{"$f":"IF('LIGHT GUN'!AE160>0,'LIGHT GUN'!AE160,0)","v":0},"HG",{"$f":"'Competitor List'!C139","v":0},{"$f":"IF('HEAVY GUN'!AE160>0,'HEAVY GUN'!AE160,0)","v":0},{"$f":"IF('2-GUN'!P157:P157>0,'2-GUN'!P157:P157,0)","v":0},{"$f":"IF('Competitor List'!D139=\"y\",(D141+G141+H141),0)","v":0}]
[{"$f":"'Competitor List'!O140","v":915},"LG  ",{"$f":"'Competitor List'!B140","v":0},{"$f":"IF('LIGHT GUN'!AE161>0,'LIGHT GUN'!AE161,0)","v":0},"HG",{"$f":"'Competitor List'!C140","v":0},{"$f":"IF('HEAVY GUN'!AE161>0,'HEAVY GUN'!AE161,0)","v":0},{"$f":"IF('2-GUN'!P158:P158>0,'2-GUN'!P158:P158,0)","v":0},{"$f":"IF('Competitor List'!D140=\"y\",(D142+G142+H142),0)","v":0}]
[{"$f":"'Competitor List'!O141","v":1001},"LG  ",{"$f":"'Competitor List'!B141","v":0},{"$f":"IF('LIGHT GUN'!AE162>0,'LIGHT GUN'!AE162,0)","v":0},"HG",{"$f":"'Competitor List'!C141","v":0},{"$f":"IF('HEAVY GUN'!AE162>0,'HEAVY GUN'!AE162,0)","v":0},{"$f":"IF('2-GUN'!P159:P159>0,'2-GUN'!P159:P159,0)","v":0},{"$f":"IF('Competitor List'!D141=\"y\",(D143+G143+H143),0)","v":0}]
[{"$f":"'Competitor List'!O142","v":1002},"LG  ",{"$f":"'Competitor List'!B142","v":0},{"$f":"IF('LIGHT GUN'!AE163>0,'LIGHT GUN'!AE163,0)","v":0},"HG",{"$f":"'Competitor List'!C142","v":0},{"$f":"IF('HEAVY GUN'!AE163>0,'HEAVY GUN'!AE163,0)","v":0},{"$f":"IF('2-GUN'!P160:P160>0,'2-GUN'!P160:P160,0)","v":0},{"$f":"IF('Competitor List'!D142=\"y\",(D144+G144+H144),0)","v":0}]
[{"$f":"'Competitor List'!O143","v":1003},"LG  ",{"$f":"'Competitor List'!B143","v":0},{"$f":"IF('LIGHT GUN'!AE164>0,'LIGHT GUN'!AE164,0)","v":0},"HG",{"$f":"'Competitor List'!C143","v":0},{"$f":"IF('HEAVY GUN'!AE164>0,'HEAVY GUN'!AE164,0)","v":0},{"$f":"IF('2-GUN'!P161:P161>0,'2-GUN'!P161:P161,0)","v":0},{"$f":"IF('Competitor List'!D143=\"y\",(D145+G145+H145),0)","v":0}]
[{"$f":"'Competitor List'!O144","v":1004},"LG  ",{"$f":"'Competitor List'!B144","v":0},{"$f":"IF('LIGHT GUN'!AE165>0,'LIGHT GUN'!AE165,0)","v":0},"HG",{"$f":"'Competitor List'!C144","v":0},{"$f":"IF('HEAVY GUN'!AE165>0,'HEAVY GUN'!AE165,0)","v":0},{"$f":"IF('2-GUN'!P162:P162>0,'2-GUN'!P162:P162,0)","v":0},{"$f":"IF('Competitor List'!D144=\"y\",(D146+G146+H146),0)","v":0}]
[{"$f":"'Competitor List'!O145","v":1005},"LG  ",{"$f":"'Competitor List'!B145","v":0},{"$f":"IF('LIGHT GUN'!AE166>0,'LIGHT GUN'!AE166,0)","v":0},"HG",{"$f":"'Competitor List'!C145","v":0},{"$f":"IF('HEAVY GUN'!AE166>0,'HEAVY GUN'!AE166,0)","v":0},{"$f":"IF('2-GUN'!P163:P163>0,'2-GUN'!P163:P163,0)","v":0},{"$f":"IF('Competitor List'!D145=\"y\",(D147+G147+H147),0)","v":0}]
[{"$f":"'Competitor List'!O146","v":1006},"LG  ",{"$f":"'Competitor List'!B146","v":0},{"$f":"IF('LIGHT GUN'!AE167>0,'LIGHT GUN'!AE167,0)","v":0},"HG",{"$f":"'Competitor List'!C146","v":0},{"$f":"IF('HEAVY GUN'!AE167>0,'HEAVY GUN'!AE167,0)","v":0},{"$f":"IF('2-GUN'!P164:P164>0,'2-GUN'!P164:P164,0)","v":0},{"$f":"IF('Competitor List'!D146=\"y\",(D148+G148+H148),0)","v":0}]
[{"$f":"'Competitor List'!O147","v":1007},"LG  ",{"$f":"'Competitor List'!B147","v":0},{"$f":"IF('LIGHT GUN'!AE168>0,'LIGHT GUN'!AE168,0)","v":0},"HG",{"$f":"'Competitor List'!C147","v":0},{"$f":"IF('HEAVY GUN'!AE168>0,'HEAVY GUN'!AE168,0)","v":0},{"$f":"IF('2-GUN'!P165:P165>0,'2-GUN'!P165:P165,0)","v":0},{"$f":"IF('Competitor List'!D147=\"y\",(D149+G149+H149),0)","v":0}]
[{"$f":"'Competitor List'!O148","v":1008},"LG  ",{"$f":"'Competitor List'!B148","v":0},{"$f":"IF('LIGHT GUN'!AE169>0,'LIGHT GUN'!AE169,0)","v":0},"HG",{"$f":"'Competitor List'!C148","v":0},{"$f":"IF('HEAVY GUN'!AE169>0,'HEAVY GUN'!AE169,0)","v":0},{"$f":"IF('2-GUN'!P166:P166>0,'2-GUN'!P166:P166,0)","v":0},{"$f":"IF('Competitor List'!D148=\"y\",(D150+G150+H150),0)","v":0}]
[{"$f":"'Competitor List'!O149","v":1009},"LG  ",{"$f":"'Competitor List'!B149","v":0},{"$f":"IF('LIGHT GUN'!AE170>0,'LIGHT GUN'!AE170,0)","v":0},"HG",{"$f":"'Competitor List'!C149","v":0},{"$f":"IF('HEAVY GUN'!AE170>0,'HEAVY GUN'!AE170,0)","v":0},{"$f":"IF('2-GUN'!P167:P167>0,'2-GUN'!P167:P167,0)","v":0},{"$f":"IF('Competitor List'!D149=\"y\",(D151+G151+H151),0)","v":0}]
[{"$f":"'Competitor List'!O150","v":1010},"LG  ",{"$f":"'Competitor List'!B150","v":0},{"$f":"IF('LIGHT GUN'!AE171>0,'LIGHT GUN'!AE171,0)","v":0},"HG",{"$f":"'Competitor List'!C150","v":0},{"$f":"IF('HEAVY GUN'!AE171>0,'HEAVY GUN'!AE171,0)","v":0},{"$f":"IF('2-GUN'!P168:P168>0,'2-GUN'!P168:P168,0)","v":0},{"$f":"IF('Competitor List'!D150=\"y\",(D152+G152+H152),0)","v":0}]
[{"$f":"'Competitor List'!O151","v":1011},"LG  ",{"$f":"'Competitor List'!B151","v":0},{"$f":"IF('LIGHT GUN'!AE172>0,'LIGHT GUN'!AE172,0)","v":0},"HG",{"$f":"'Competitor List'!C151","v":0},{"$f":"IF('HEAVY GUN'!AE172>0,'HEAVY GUN'!AE172,0)","v":0},{"$f":"IF('2-GUN'!P169:P169>0,'2-GUN'!P169:P169,0)","v":0},{"$f":"IF('Competitor List'!D151=\"y\",(D153+G153+H153),0)","v":0}]
[{"$f":"'Competitor List'!O152","v":1012},"LG  ",{"$f":"'Competitor List'!B152","v":0},{"$f":"IF('LIGHT GUN'!AE173>0,'LIGHT GUN'!AE173,0)","v":0},"HG",{"$f":"'Competitor List'!C152","v":0},{"$f":"IF('HEAVY GUN'!AE173>0,'HEAVY GUN'!AE173,0)","v":0},{"$f":"IF('2-GUN'!P170:P170>0,'2-GUN'!P170:P170,0)","v":0},{"$f":"IF('Competitor List'!D152=\"y\",(D154+G154+H154),0)","v":0}]
[{"$f":"'Competitor List'!O153","v":1013},"LG  ",{"$f":"'Competitor List'!B153","v":0},{"$f":"IF('LIGHT GUN'!AE174>0,'LIGHT GUN'!AE174,0)","v":0},"HG",{"$f":"'Competitor List'!C153","v":0},{"$f":"IF('HEAVY GUN'!AE174>0,'HEAVY GUN'!AE174,0)","v":0},{"$f":"IF('2-GUN'!P171:P171>0,'2-GUN'!P171:P171,0)","v":0},{"$f":"IF('Competitor List'!D153=\"y\",(D155+G155+H155),0)","v":0}]
[{"$f":"'Competitor List'!O154","v":1014},"LG  ",{"$f":"'Competitor List'!B154","v":0},{"$f":"IF('LIGHT GUN'!AE175>0,'LIGHT GUN'!AE175,0)","v":0},"HG",{"$f":"'Competitor List'!C154","v":0},{"$f":"IF('HEAVY GUN'!AE175>0,'HEAVY GUN'!AE175,0)","v":0},{"$f":"IF('2-GUN'!P172:P172>0,'2-GUN'!P172:P172,0)","v":0},{"$f":"IF('Competitor List'!D154=\"y\",(D156+G156+H156),0)","v":0}]
[{"$f":"'Competitor List'!O155","v":1015},"LG  ",{"$f":"'Competitor List'!B155","v":0},{"$f":"IF('LIGHT GUN'!AE176>0,'LIGHT GUN'!AE176,0)","v":0},"HG",{"$f":"'Competitor List'!C155","v":0},{"$f":"IF('HEAVY GUN'!AE176>0,'HEAVY GUN'!AE176,0)","v":0},{"$f":"IF('2-GUN'!P173:P173>0,'2-GUN'!P173:P173,0)","v":0},{"$f":"IF('Competitor List'!D155=\"y\",(D157+G157+H157),0)","v":0}]

{"sheet":"LG LABELS","index":9,"n_rows":640,"n_cols":22,"rows_kept":640,"cut":false,"hidden":false,"merged":[[637,18,637,19],[639,3,639,4],[639,8,639,9],[639,13,639,14],[639,18,639,19],[636,0,637,1],[636,2,637,2],[636,5,637,6],[636,7,637,7],[636,10,637,11],[636,12,637,12],[636,15,637,16],[636,17,637,17],[637,3,637,4],[637,8,637,9],[637,13,637,14],[633,0,633,4],[633,5,633,9],[633,10,633,14],[633,15,633,19],[634,0,634,4],[634,5,634,9],[634,10,634,14],[634,15,634,19],[635,0,635,1],[635,2,635,3],[635,5,635,6],[635,7,635,8],[635,10,635,11],[635,12,635,13],[635,15,635,16],[635,17,635,18],[629,18,629,19],[631,3,631,4],[631,8,631,9],[631,13,631,14],[631,18,631,19],[632,0,632,4],[632,5,632,9],[632,10,632,14],[632,15,632,19],[628,0,629,1],[628,2,629,2],[628,5,629,6],[628,7,629,7],[628,10,629,11],[628,12,629,12],[628,15,629,16],[628,17,629,17],[629,3,629,4],[629,8,629,9],[629,13,629,14],[625,0,625,4],[625,5,625,9],[625,10,625,14],[625,15,625,19],[626,0,626,4],[626,5,626,9],[626,10,626,14],[626,15,626,19],[627,0,627,1],[627,2,627,3],[627,5,627,6],[627,7,627,8],[627,10,627,11],[627,12,627,13],[627,15,627,16],[627,17,627,18],[621,18,621,19],[623,3,623,4],[623,8,623,9],[623,13,623,14],[623,18,623,19],[624,0,624,4],[624,5,624,9],[624,10,624,14],[624,15,624,19],[620,0,621,1],[620,2,621,2],[620,5,621,6],[620,7,621,7],[620,10,621,11],[620,12,621,12],[620,15,621,16],[620,17,621,17],[621,3,621,4],[621,8,621,9],[621,13,621,14],[617,0,617,4],[617,5,617,9],[617,10,617,14],[617,15,617,19],[618,0,618,4],[618,5,618,9],[618,10,618,14],[618,15,618,19],[619,0,619,1],[619,2,619,3],[619,5,619,6],[619,7,619,8],[619,10,619,11],[619,12,619,13],[619,15,619,16],[619,17,619,18],[613,18,613,19],[615,3,615,4],[615,8,615,9],[615,13,615,14],[615,18,615,19],[616,0,616,4],[616,5,616,9],[616,10,616,14],[616,15,616,19],[612,0,613,1],[612,2,613,2],[612,5,613,6],[612,7,613,7],[612,10,613,11],[612,12,613,12],[612,15,613,16],[612,17,613,17],[613,3,613,4],[613,8,613,9],[613,13,613,14],[609,0,609,4],[609,5,609,9],[609,10,609,14],[609,15,609,19],[610,0,610,4],[610,5,610,9],[610,10,610,14],[610,15,610,19],[611,0,611,1],[611,2,611,3],[611,5,611,6],[611,7,611,8],[611,10,611,11],[611,12,611,13],[611,15,611,16],[611,17,611,18],[605,18,605,19],[607,3,607,4],[607,8,607,9],[607,13,607,14],[607,18,607,19],[608,0,608,4],[608,5,608,9],[608,10,608,14],[608,15,608,19],[604,0,605,1],[604,2,605,2],[604,5,605,6],[604,7,605,7],[604,10,605,11],[604,12,605,12],[604,15,605,16],[604,17,605,17],[605,3,605,4],[605,8,605,9],[605,13,605,14],[601,0,601,4],[601,5,601,9],[601,10,601,14],[601,15,601,19],[602,0,602,4],[602,5,602,9],[602,10,602,14],[602,15,602,19],[603,0,603,1],[603,2,603,3],[603,5,603,6],[603,7,603,8],[603,10,603,11],[603,12,603,13],[603,15,603,16],[603,17,603,18],[597,18,597,19],[599,3,599,4],[599,8,599,9],[599,13,599,14],[599,18,599,19],[600,0,600,4],[600,5,600,9],[600,10,600,14],[600,15,600,19],[596,0,597,1],[596,2,597,2],[596,5,597,6],[596,7,597,7],[596,10,597,11],[596,12,597,12],[596,15,597,16],[596,17,597,17],[597,3,597,4],[597,8,597,9],[597,13,597,14],[593,0,593,4],[593,5,593,9],[593,10,593,14],[593,15,593,19],[594,0,594,4],[594,5,594,9],[594,10,594,14],[594,15,594,19],[595,0,595,1],[595,2,595,3],[595,5,595,6],[595,7,595,8],[595,10,595,11],[595,12,595,13],[595,15,595,16],[595,17,595,18],[589,18,589,19],[591,3,591,4],[591,8,591,9],[591,13,591,14],[591,18,591,19],[592,0,592,4],[592,5,592,9],[592,10,592,14],[592,15,592,19],[588,0,589,1],[588,2,589,2],[588,5,589,6],[588,7,589,7],[588,10,589,11],[588,12,589,12],[588,15,589,16],[588,17,589,17],[589,3,589,4],[589,8,589,9],[589,13,589,14],[585,0,585,4],[585,5,585,9],[585,10,585,14],[585,15,585,19],[586,0,586,4],[586,5,586,9],[586,10,586,14],[586,15,586,19],[587,0,587,1],[587,2,587,3],[587,5,587,6],[587,7,587,8],[587,10,587,11],[587,12,587,13],[587,15,587,16],[587,17,587,18],[581,18,581,19],[583,3,583,4],[583,8,583,9],[583,13,583,14],[583,18,583,19],[584,0,584,4],[584,5,584,9],[584,10,584,14],[584,15,584,19],[580,0,581,1],[580,2,581,2],[580,5,581,6],[580,7,581,7],[580,10,581,11],[580,12,581,12],[580,15,581,16],[580,17,581,17],[581,3,581,4],[581,8,581,9],[581,13,581,14],[577,0,577,4],[577,5,577,9],[577,10,577,14],[577,15,577,19],[578,0,578,4],[578,5,578,9],[578,10,578,14],[578,15,578,19],[579,0,579,1],[579,2,579,3],[579,5,579,6],[579,7,579,8],[579,10,579,11],[579,12,579,13],[579,15,579,16],[579,17,579,18],[573,18,573,19],[575,3,575,4],[575,8,575,9],[575,13,575,14],[575,18,575,19],[576,0,576,4],[576,5,576,9],[576,10,576,14],[576,15,576,19],[572,0,573,1],[572,2,573,2],[572,5,573,6],[572,7,573,7],[572,10,573,11],[572,12,573,12],[572,15,573,16],[572,17,573,17],[573,3,573,4],[573,8,573,9],[573,13,573,14],[569,0,569,4],[569,5,569,9],[569,10,569,14],[569,15,569,19],[570,0,570,4],[570,5,570,9],[570,10,570,14],[570,15,570,19],[571,0,571,1],[571,2,571,3],[571,5,571,6],[571,7,571,8],[571,10,571,11],[571,12,571,13],[571,15,571,16],[571,17,571,18],[565,18,565,19],[567,3,567,4],[567,8,567,9],[567,13,567,14],[567,18,567,19],[568,0,568,4],[568,5,568,9],[568,10,568,14],[568,15,568,19],[564,0,565,1],[564,2,565,2],[564,5,565,6],[564,7,565,7],[564,10,565,11],[564,12,565,12],[564,15,565,16],[564,17,565,17],[565,3,565,4],[565,8,565,9],[565,13,565,14],[561,0,561,4],[561,5,561,9],[561,10,561,14],[561,15,561,19],[562,0,562,4],[562,5,562,9],[562,10,562,14],[562,15,562,19],[563,0,563,1],[563,2,563,3],[563,5,563,6],[563,7,563,8],[563,10,563,11],[563,12,563,13],[563,15,563,16],[563,17,563,18],[557,18,557,19],[559,3,559,4],[559,8,559,9],[559,13,559,14],[559,18,559,19],[560,0,560,4],[560,5,560,9],[560,10,560,14],[560,15,560,19],[556,0,557,1],[556,2,557,2],[556,5,557,6],[556,7,557,7],[556,10,557,11],[556,12,557,12],[556,15,557,16],[556,17,557,17],[557,3,557,4],[557,8,557,9],[557,13,557,14],[553,0,553,4],[553,5,553,9],[553,10,553,14],[553,15,553,19],[554,0,554,4],[554,5,554,9],[554,10,554,14],[554,15,554,19],[555,0,555,1],[555,2,555,3],[555,5,555,6],[555,7,555,8],[555,10,555,11],[555,12,555,13],[555,15,555,16],[555,17,555,18],[549,18,549,19],[551,3,551,4],[551,8,551,9],[551,13,551,14],[551,18,551,19],[552,0,552,4],[552,5,552,9],[552,10,552,14],[552,15,552,19],[548,0,549,1],[548,2,549,2],[548,5,549,6],[548,7,549,7],[548,10,549,11],[548,12,549,12],[548,15,549,16],[548,17,549,17],[549,3,549,4],[549,8,549,9],[549,13,549,14],[545,0,545,4],[545,5,545,9],[545,10,545,14],[545,15,545,19],[546,0,546,4],[546,5,546,9],[546,10,546,14],[546,15,546,19],[547,0,547,1],[547,2,547,3],[547,5,547,6],[547,7,547,8],[547,10,547,11],[547,12,547,13],[547,15,547,16],[547,17,547,18],[541,18,541,19],[543,3,543,4],[543,8,543,9],[543,13,543,14],[543,18,543,19],[544,0,544,4],[544,5,544,9],[544,10,544,14],[544,15,544,19],[540,0,541,1],[540,2,541,2],[540,5,541,6],[540,7,541,7],[540,10,541,11],[540,12,541,12],[540,15,541,16],[540,17,541,17],[541,3,541,4],[541,8,541,9],[541,13,541,14],[537,0,537,4],[537,5,537,9],[537,10,537,14],[537,15,537,19],[538,0,538,4],[538,5,538,9],[538,10,538,14],[538,15,538,19],[539,0,539,1],[539,2,539,3],[539,5,539,6],[539,7,539,8],[539,10,539,11],[539,12,539,13],[539,15,539,16],[539,17,539,18],[533,18,533,19],[535,3,535,4],[535,8,535,9],[535,13,535,14],[535,18,535,19],[536,0,536,4],[536,5,536,9],[536,10,536,14],[536,15,536,19],[532,0,533,1],[532,2,533,2],[532,5,533,6],[532,7,533,7],[532,10,533,11],[532,12,533,12],[532,15,533,16],[532,17,533,17],[533,3,533,4],[533,8,533,9],[533,13,533,14],[529,0,529,4],[529,5,529,9],[529,10,529,14],[529,15,529,19],[530,0,530,4],[530,5,530,9],[530,10,530,14],[530,15,530,19],[531,0,531,1],[531,2,531,3],[531,5,531,6],[531,7,531,8],[531,10,531,11],[531,12,531,13],[531,15,531,16],[531,17,531,18],[525,18,525,19],[527,3,527,4],[527,8,527,9],[527,13,527,14],[527,18,527,19],[528,0,528,4],[528,5,528,9],[528,10,528,14],[528,15,528,19],[524,0,525,1],[524,2,525,2],[524,5,525,6],[524,7,525,7],[524,10,525,11],[524,12,525,12],[524,15,525,16],[524,17,525,17],[525,3,525,4],[525,8,525,9],[525,13,525,14],[521,0,521,4],[521,5,521,9],[521,10,521,14],[521,15,521,19],[522,0,522,4],[522,5,522,9],[522,10,522,14],[522,15,522,19],[523,0,523,1],[523,2,523,3],[523,5,523,6],[523,7,523,8],[523,10,523,11],[523,12,523,13],[523,15,523,16],[523,17,523,18],[517,18,517,19],[519,3,519,4],[519,8,519,9],[519,13,519,14],[519,18,519,19],[520,0,520,4],[520,5,520,9],[520,10,520,14],[520,15,520,19],[516,0,517,1],[516,2,517,2],[516,5,517,6],[516,7,517,7],[516,10,517,11],[516,12,517,12],[516,15,517,16],[516,17,517,17],[517,3,517,4],[517,8,517,9],[517,13,517,14],[513,0,513,4],[513,5,513,9],[513,10,513,14],[513,15,513,19],[514,0,514,4],[514,5,514,9],[514,10,514,14],[514,15,514,19],[515,0,515,1],[515,2,515,3],[515,5,515,6],[515,7,515,8],[515,10,515,11],[515,12,515,13],[515,15,515,16],[515,17,515,18],[509,18,509,19],[511,3,511,4],[511,8,511,9],[511,13,511,14],[511,18,511,19],[512,0,512,4],[512,5,512,9],[512,10,512,14],[512,15,512,19],[508,0,509,1],[508,2,509,2],[508,5,509,6],[508,7,509,7],[508,10,509,11],[508,12,509,12],[508,15,509,16],[508,17,509,17],[509,3,509,4],[509,8,509,9],[509,13,509,14],[505,0,505,4],[505,5,505,9],[505,10,505,14],[505,15,505,19],[506,0,506,4],[506,5,506,9],[506,10,506,14],[506,15,506,19],[507,0,507,1],[507,2,507,3],[507,5,507,6],[507,7,507,8],[507,10,507,11],[507,12,507,13],[507,15,507,16],[507,17,507,18],[501,18,501,19],[503,3,503,4],[503,8,503,9],[503,13,503,14],[503,18,503,19],[504,0,504,4],[504,5,504,9],[504,10,504,14],[504,15,504,19],[500,0,501,1],[500,2,501,2],[500,5,501,6],[500,7,501,7],[500,10,501,11],[500,12,501,12],[500,15,501,16],[500,17,501,17],[501,3,501,4],[501,8,501,9],[501,13,501,14],[497,0,497,4],[497,5,497,9],[497,10,497,14],[497,15,497,19],[498,0,498,4],[498,5,498,9],[498,10,498,14],[498,15,498,19],[499,0,499,1],[499,2,499,3],[499,5,499,6],[499,7,499,8],[499,10,499,11],[499,12,499,13],[499,15,499,16],[499,17,499,18],[493,18,493,19],[495,3,495,4],[495,8,495,9],[495,13,495,14],[495,18,495,19],[496,0,496,4],[496,5,496,9],[496,10,496,14],[496,15,496,19],[492,0,493,1],[492,2,493,2],[492,5,493,6],[492,7,493,7],[492,10,493,11],[492,12,493,12],[492,15,493,16],[492,17,493,17],[493,3,493,4],[493,8,493,9],[493,13,493,14],[489,0,489,4],[489,5,489,9],[489,10,489,14],[489,15,489,19],[490,0,490,4],[490,5,490,9],[490,10,490,14],[490,15,490,19],[491,0,491,1],[491,2,491,3],[491,5,491,6],[491,7,491,8],[491,10,491,11],[491,12,491,13],[491,15,491,16],[491,17,491,18],[485,18,485,19],[487,3,487,4],[487,8,487,9],[487,13,487,14],[487,18,487,19],[488,0,488,4],[488,5,488,9],[488,10,488,14],[488,15,488,19],[484,0,485,1],[484,2,485,2],[484,5,485,6],[484,7,485,7],[484,10,485,11],[484,12,485,12],[484,15,485,16],[484,17,485,17],[485,3,485,4],[485,8,485,9],[485,13,485,14],[481,0,481,4],[481,5,481,9],[481,10,481,14],[481,15,481,19],[482,0,482,4],[482,5,482,9],[482,10,482,14],[482,15,482,19],[483,0,483,1],[483,2,483,3],[483,5,483,6],[483,7,483,8],[483,10,483,11],[483,12,483,13],[483,15,483,16],[483,17,483,18],[477,18,477,19],[479,3,479,4],[479,8,479,9],[479,13,479,14],[479,18,479,19],[480,0,480,4],[480,5,480,9],[480,10,480,14],[480,15,480,19],[476,0,477,1],[476,2,477,2],[476,5,477,6],[476,7,477,7],[476,10,477,11],[476,12,477,12],[476,15,477,16],[476,17,477,17],[477,3,477,4],[477,8,477,9],[477,13,477,14],[473,0,473,4],[473,5,473,9],[473,10,473,14],[473,15,473,19],[474,0,474,4],[474,5,474,9],[474,10,474,14],[474,15,474,19],[475,0,475,1],[475,2,475,3],[475,5,475,6],[475,7,475,8],[475,10,475,11],[475,12,475,13],[475,15,475,16],[475,17,475,18],[469,18,469,19],[471,3,471,4],[471,8,471,9],[471,13,471,14],[471,18,471,19],[472,0,472,4],[472,5,472,9],[472,10,472,14],[472,15,472,19],[468,0,469,1],[468,2,469,2],[468,5,469,6],[468,7,469,7],[468,10,469,11],[468,12,469,12],[468,15,469,16],[468,17,469,17],[469,3,469,4],[469,8,469,9],[469,13,469,14],[465,0,465,4],[465,5,465,9],[465,10,465,14],[465,15,465,19],[466,0,466,4],[466,5,466,9],[466,10,466,14],[466,15,466,19],[467,0,467,1],[467,2,467,3],[467,5,467,6],[467,7,467,8],[467,10,467,11],[467,12,467,13],[467,15,467,16],[467,17,467,18],[461,18,461,19],[463,3,463,4],[463,8,463,9],[463,13,463,14],[463,18,463,19],[464,0,464,4],[464,5,464,9],[464,10,464,14],[464,15,464,19],[460,0,461,1],[460,2,461,2],[460,5,461,6],[460,7,461,7],[460,10,461,11],[460,12,461,12],[460,15,461,16],[460,17,461,17],[461,3,461,4],[461,8,461,9],[461,13,461,14],[457,0,457,4],[457,5,457,9],[457,10,457,14],[457,15,457,19],[458,0,458,4],[458,5,458,9],[458,10,458,14],[458,15,458,19],[459,0,459,1],[459,2,459,3],[459,5,459,6],[459,7,459,8],[459,10,459,11],[459,12,459,13],[459,15,459,16],[459,17,459,18],[453,18,453,19],[455,3,455,4],[455,8,455,9],[455,13,455,14],[455,18,455,19],[456,0,456,4],[456,5,456,9],[456,10,456,14],[456,15,456,19],[452,0,453,1],[452,2,453,2],[452,5,453,6],[452,7,453,7],[452,10,453,11],[452,12,453,12],[452,15,453,16],[452,17,453,17],[453,3,453,4],[453,8,453,9],[453,13,453,14],[449,0,449,4],[449,5,449,9],[449,10,449,14],[449,15,449,19],[450,0,450,4],[450,5,450,9],[450,10,450,14],[450,15,450,19],[451,0,451,1],[451,2,451,3],[451,5,451,6],[451,7,451,8],[451,10,451,11],[451,12,451,13],[451,15,451,16],[451,17,451,18],[445,18,445,19],[447,3,447,4],[447,8,447,9],[447,13,447,14],[447,18,447,19],[448,0,448,4],[448,5,448,9],[448,10,448,14],[448,15,448,19],[444,0,445,1],[444,2,445,2],[444,5,445,6],[444,7,445,7],[444,10,445,11],[444,12,445,12],[444,15,445,16],[444,17,445,17],[445,3,445,4],[445,8,445,9],[445,13,445,14],[441,0,441,4],[441,5,441,9],[441,10,441,14],[441,15,441,19],[442,0,442,4],[442,5,442,9],[442,10,442,14],[442,15,442,19],[443,0,443,1],[443,2,443,3],[443,5,443,6],[443,7,443,8],[443,10,443,11],[443,12,443,13],[443,15,443,16],[443,17,443,18],[437,18,437,19],[439,3,439,4],[439,8,439,9],[439,13,439,14],[439,18,439,19],[440,0,440,4],[440,5,440,9],[440,10,440,14],[440,15,440,19],[436,0,437,1],[436,2,437,2],[436,5,437,6],[436,7,437,7],[436,10,437,11],[436,12,437,12],[436,15,437,16],[436,17,437,17],[437,3,437,4],[437,8,437,9],[437,13,437,14],[433,0,433,4],[433,5,433,9],[433,10,433,14],[433,15,433,19],[434,0,434,4],[434,5,434,9],[434,10,434,14],[434,15,434,19],[435,0,435,1],[435,2,435,3],[435,5,435,6],[435,7,435,8],[435,10,435,11],[435,12,435,13],[435,15,435,16],[435,17,435,18],[429,18,429,19],[431,3,431,4],[431,8,431,9],[431,13,431,14],[431,18,431,19],[432,0,432,4],[432,5,432,9],[432,10,432,14],[432,15,432,19],[428,0,429,1],[428,2,429,2],[428,5,429,6],[428,7,429,7],[428,10,429,11],[428,12,429,12],[428,15,429,16],[428,17,429,17],[429,3,429,4],[429,8,429,9],[429,13,429,14],[425,0,425,4],[425,5,425,9],[425,10,425,14],[425,15,425,19],[426,0,426,4],[426,5,426,9],[426,10,426,14],[426,15,426,19],[427,0,427,1],[427,2,427,3],[427,5,427,6],[427,7,427,8],[427,10,427,11],[427,12,427,13],[427,15,427,16],[427,17,427,18],[421,18,421,19],[423,3,423,4],[423,8,423,9],[423,13,423,14],[423,18,423,19],[424,0,424,4],[424,5,424,9],[424,10,424,14],[424,15,424,19],[420,0,421,1],[420,2,421,2],[420,5,421,6],[420,7,421,7],[420,10,421,11],[420,12,421,12],[420,15,421,16],[420,17,421,17],[421,3,421,4],[421,8,421,9],[421,13,421,14],[417,0,417,4],[417,5,417,9],[417,10,417,14],[417,15,417,19],[418,0,418,4],[418,5,418,9],[418,10,418,14],[418,15,418,19],[419,0,419,1],[419,2,419,3],[419,5,419,6],[419,7,419,8]],"merged_total":2880,"flags":["merged_cut"]}
[{"$f":"'Competitor List'!$B$1","v":"Freedom Benchrest 600 YARD MATCH #1"},null,null,null,null,{"$f":"'Competitor List'!$B$1","v":"Freedom Benchrest 600 YARD MATCH #1"},null,null,null,null,{"$f":"'Competitor List'!$B$1","v":"Freedom Benchrest 600 YARD MATCH #1"},null,null,null,null,{"$f":"'Competitor List'!$B$1","v":"Freedom Benchrest 600 YARD MATCH #1"}]
[{"$f":"'Competitor List'!$B$2","v":"Vapor Trail Valley Spickard, Mo"},null,null,null,null,{"$f":"'Competitor List'!$B$2","v":"Vapor Trail Valley Spickard, Mo"},null,null,null,null,{"$f":"'Competitor List'!$B$2","v":"Vapor Trail Valley Spickard, Mo"},null,null,null,null,{"$f":"'Competitor List'!$B$2","v":"Vapor Trail Valley Spickard, Mo"},null,null,null,null,null,"LABELS needed are 2\" x 4\"  10 per sheet"]
[{"$f":"'Competitor List'!$B$3","v":"2023-03-15"},null,null,null,null,{"$f":"'Competitor List'!$B$3","v":"2023-03-15"},null,null,null,null,{"$f":"'Competitor List'!$B$3","v":"2023-03-15"},null,null,null,null,{"$f":"'Competitor List'!$B$3","v":"2023-03-15"}]
["LIGHT GUN",null,"Target #",null,1,"LIGHT GUN",null,"Target #",null,{"$f":"E4+1","v":2},"LIGHT GUN",null,"Target #",null,{"$f":"J4+1","v":3},"LIGHT GUN",null,"Target #",null,{"$f":"O4+1","v":4},null,"SET PRINT AREA"]
["Competitor #",null,{"$f":"'Label data'!A3","v":101},null,null,"Competitor #",null,{"$f":"C5","v":101},null,null,"Competitor #",null,{"$f":"H5","v":101},null,null,"Competitor #",null,{"$f":"M5","v":101}]
[]
[null,null,null,"Frame #",{"$f":"'Label data'!E3","v":1},null,null,null,"Frame #",{"$f":"E7","v":1},null,null,null,"Frame #",{"$f":"'Label data'!F3","v":1},null,null,null,"Frame #",{"$f":"O7","v":1},null,"Margin setup as below:"]
[null,null,null,"Top/Left",null,null,null,null,"Bottom/Right",null,null,null,null,"Top/Left",null,null,null,null,"Bottom/Right"]
[{"$f":"'Competitor List'!$B$1","v":"Freedom Benchrest 600 YARD MATCH #1"},null,null,null,null,{"$f":"'Competitor List'!$B$1","v":"Freedom Benchrest 600 YARD MATCH #1"},null,null,null,null,{"$f":"'Competitor List'!$B$1","v":"Freedom Benchrest 600 YARD MATCH #1"},null,null,null,null,{"$f":"'Competitor List'!$B$1","v":"Freedom Benchrest 600 YARD MATCH #1"}]
[{"$f":"'Competitor List'!$B$2","v":"Vapor Trail Valley Spickard, Mo"},null,null,null,null,{"$f":"'Competitor List'!$B$2","v":"Vapor Trail Valley Spickard, Mo"},null,null,null,null,{"$f":"'Competitor List'!$B$2","v":"Vapor Trail Valley Spickard, Mo"},null,null,null,null,{"$f":"'Competitor List'!$B$2","v":"Vapor Trail Valley Spickard, Mo"}]
[{"$f":"'Competitor List'!$B$3","v":"2023-03-15"},null,null,null,null,{"$f":"'Competitor List'!$B$3","v":"2023-03-15"},null,null,null,null,{"$f":"'Competitor List'!$B$3","v":"2023-03-15"},null,null,null,null,{"$f":"'Competitor List'!$B$3","v":"2023-03-15"}]
["LIGHT GUN",null,"Target #",null,1,"LIGHT GUN",null,"Target #",null,{"$f":"E12+1","v":2},"LIGHT GUN",null,"Target #",null,{"$f":"J12+1","v":3},"LIGHT GUN",null,"Target #",null,{"$f":"O12+1","v":4}]
["Competitor #",null,{"$f":"'Label data'!A4","v":102},null,null,"Competitor #",null,{"$f":"C13","v":102},null,null,"Competitor #",null,{"$f":"H13","v":102},null,null,"Competitor #",null,{"$f":"M13","v":102}]
[null,null,null,null,null,null,null,null,null,null,null,null,null,null,null,null,null,null,"N14"]
[null,null,null,"Frame #",{"$f":"'Label data'!E4","v":2},null,null,null,"Frame #",{"$f":"E15","v":2},null,null,null,"Frame #",{"$f":"'Label data'!F4","v":2},null,null,null,"Frame #",{"$f":"O15","v":2}]
[null,null,null,"Top/Left",null,null,null,null,"Bottom/Right",null,null,null,null,"Top/Left",null,null,null,null,"Bottom/Right"]
[{"$f":"'Competitor List'!$B$1","v":"Freedom Benchrest 600 YARD MATCH #1"},null,null,null,null,{"$f":"'Competitor List'!$B$1","v":"Freedom Benchrest 600 YARD MATCH #1"},null,null,null,null,{"$f":"'Competitor List'!$B$1","v":"Freedom Benchrest 600 YARD MATCH #1"},null,null,null,null,{"$f":"'Competitor List'!$B$1","v":"Freedom Benchrest 600 YARD MATCH #1"}]
[{"$f":"'Competitor List'!$B$2","v":"Vapor Trail Valley Spickard, Mo"},null,null,null,null,{"$f":"'Competitor List'!$B$2","v":"Vapor Trail Valley Spickard, Mo"},null,null,null,null,{"$f":"'Competitor List'!$B$2","v":"Vapor Trail Valley Spickard, Mo"},null,null,null,null,{"$f":"'Competitor List'!$B$2","v":"Vapor Trail Valley Spickard, Mo"}]
[{"$f":"'Competitor List'!$B$3","v":"2023-03-15"},null,null,null,null,{"$f":"'Competitor List'!$B$3","v":"2023-03-15"},null,null,null,null,{"$f":"'Competitor List'!$B$3","v":"2023-03-15"},null,null,null,null,{"$f":"'Competitor List'!$B$3","v":"2023-03-15"}]
["LIGHT GUN",null,"Target #",null,1,"LIGHT GUN",null,"Target #",null,{"$f":"E20+1","v":2},"LIGHT GUN",null,"Target #",null,{"$f":"J20+1","v":3},"LIGHT GUN",null,"Target #",null,{"$f":"O20+1","v":4}]
["Competitor #",null,{"$f":"'Label data'!A5","v":103},null,null,"Competitor #",null,{"$f":"C21","v":103},null,null,"Competitor #",null,{"$f":"H21","v":103},null,null,"Competitor #",null,{"$f":"M21","v":103}]
[]
[null,null,null,"Frame #",{"$f":"'Label data'!E5","v":3},null,null,null,"Frame #",{"$f":"E23","v":3},null,null,null,"Frame #",{"$f":"'Label data'!F5","v":3},null,null,null,"Frame #",{"$f":"O23","v":3}]
[null,null,null,"Top/Left",null,null,null,null,"Bottom/Right",null,null,null,null,"Top/Left",null,null,null,null,"Bottom/Right"]
[{"$f":"'Competitor List'!$B$1","v":"Freedom Benchrest 600 YARD MATCH #1"},null,null,null,null,{"$f":"'Competitor List'!$B$1","v":"Freedom Benchrest 600 YARD MATCH #1"},null,null,null,null,{"$f":"'Competitor List'!$B$1","v":"Freedom Benchrest 600 YARD MATCH #1"},null,null,null,null,{"$f":"'Competitor List'!$B$1","v":"Freedom Benchrest 600 YARD MATCH #1"}]
[{"$f":"'Competitor List'!$B$2","v":"Vapor Trail Valley Spickard, Mo"},null,null,null,null,{"$f":"'Competitor List'!$B$2","v":"Vapor Trail Valley Spickard, Mo"},null,null,null,null,{"$f":"'Competitor List'!$B$2","v":"Vapor Trail Valley Spickard, Mo"},null,null,null,null,{"$f":"'Competitor List'!$B$2","v":"Vapor Trail Valley Spickard, Mo"}]
[{"$f":"'Competitor List'!$B$3","v":"2023-03-15"},null,null,null,null,{"$f":"'Competitor List'!$B$3","v":"2023-03-15"},null,null,null,null,{"$f":"'Competitor List'!$B$3","v":"2023-03-15"},null,null,null,null,{"$f":"'Competitor List'!$B$3","v":"2023-03-15"}]
["LIGHT GUN",null,"Target #",null,1,"LIGHT GUN",null,"Target #",null,{"$f":"E28+1","v":2},"LIGHT GUN",null,"Target #",null,{"$f":"J28+1","v":3},"LIGHT GUN",null,"Target #",null,{"$f":"O28+1","v":4}]
["Competitor #",null,{"$f":"'Label data'!A6","v":104},null,null,"Competitor #",null,{"$f":"C29","v":104},null,null,"Competitor #",null,{"$f":"H29","v":104},null,null,"Competitor #",null,{"$f":"M29","v":104}]
[]
[null,null,null,"Frame #",{"$f":"'Label data'!E6","v":4},null,null,null,"Frame #",{"$f":"E31","v":4},null,null,null,"Frame #",{"$f":"'Label data'!F6","v":4},null,null,null,"Frame #",{"$f":"O31","v":4}]
[null,null,null,"Top/Left",null,null,null,null,"Bottom/Right",null,null,null,null,"Top/Left",null,null,null,null,"Bottom/Right"]
[{"$f":"'Competitor List'!$B$1","v":"Freedom Benchrest 600 YARD MATCH #1"},null,null,null,null,{"$f":"'Competitor List'!$B$1","v":"Freedom Benchrest 600 YARD MATCH #1"},null,null,null,null,{"$f":"'Competitor List'!$B$1","v":"Freedom Benchrest 600 YARD MATCH #1"},null,null,null,null,{"$f":"'Competitor List'!$B$1","v":"Freedom Benchrest 600 YARD MATCH #1"}]
[{"$f":"'Competitor List'!$B$2","v":"Vapor Trail Valley Spickard, Mo"},null,null,null,null,{"$f":"'Competitor List'!$B$2","v":"Vapor Trail Valley Spickard, Mo"},null,null,null,null,{"$f":"'Competitor List'!$B$2","v":"Vapor Trail Valley Spickard, Mo"},null,null,null,null,{"$f":"'Competitor List'!$B$2","v":"Vapor Trail Valley Spickard, Mo"}]
[{"$f":"'Competitor List'!$B$3","v":"2023-03-15"},null,null,null,null,{"$f":"'Competitor List'!$B$3","v":"2023-03-15"},null,null,null,null,{"$f":"'Competitor List'!$B$3","v":"2023-03-15"},null,null,null,null,{"$f":"'Competitor List'!$B$3","v":"2023-03-15"}]
["LIGHT GUN",null,"Target #",null,1,"LIGHT GUN",null,"Target #",null,{"$f":"E36+1","v":2},"LIGHT GUN",null,"Target #",null,{"$f":"J36+1","v":3},"LIGHT GUN",null,"Target #",null,{"$f":"O36+1","v":4}]
["Competitor #",null,{"$f":"'Label data'!A7","v":105},null,null,"Competitor #",null,{"$f":"C37","v":105},null,null,"Competitor #",null,{"$f":"H37","v":105},null,null,"Competitor #",null,{"$f":"M37","v":105}]
[]
[null,null,null,"Frame #",{"$f":"'Label data'!E7","v":5},null,null,null,"Frame #",{"$f":"E39","v":5},null,null,null,"Frame #",{"$f":"'Label data'!F7","v":5},null,null,null,"Frame #",{"$f":"O39","v":5}]
[null,null,null,"Top/Left",null,null,null,null,"Bottom/Right",null,null,null,null,"Top/Left",null,null,null,null,"Bottom/Right"]
[{"$f":"'Competitor List'!$B$1","v":"Freedom Benchrest 600 YARD MATCH #1"},null,null,null,null,{"$f":"'Competitor List'!$B$1","v":"Freedom Benchrest 600 YARD MATCH #1"},null,null,null,null,{"$f":"'Competitor List'!$B$1","v":"Freedom Benchrest 600 YARD MATCH #1"},null,null,null,null,{"$f":"'Competitor List'!$B$1","v":"Freedom Benchrest 600 YARD MATCH #1"}]
[{"$f":"'Competitor List'!$B$2","v":"Vapor Trail Valley Spickard, Mo"},null,null,null,null,{"$f":"'Competitor List'!$B$2","v":"Vapor Trail Valley Spickard, Mo"},null,null,null,null,{"$f":"'Competitor List'!$B$2","v":"Vapor Trail Valley Spickard, Mo"},null,null,null,null,{"$f":"'Competitor List'!$B$2","v":"Vapor Trail Valley Spickard, Mo"}]
[{"$f":"'Competitor List'!$B$3","v":"2023-03-15"},null,null,null,null,{"$f":"'Competitor List'!$B$3","v":"2023-03-15"},null,null,null,null,{"$f":"'Competitor List'!$B$3","v":"2023-03-15"},null,null,null,null,{"$f":"'Competitor List'!$B$3","v":"2023-03-15"}]
["LIGHT GUN",null,"Target #",null,1,"LIGHT GUN",null,"Target #",null,{"$f":"E44+1","v":2},"LIGHT GUN",null,"Target #",null,{"$f":"J44+1","v":3},"LIGHT GUN",null,"Target #",null,{"$f":"O44+1","v":4}]
["Competitor #",null,{"$f":"'Label data'!A8","v":106},null,null,"Competitor #",null,{"$f":"C45","v":106},null,null,"Competitor #",null,{"$f":"H45","v":106},null,null,"Competitor #",null,{"$f":"M45","v":106}]
[]
[null,null,null,"Frame #",{"$f":"'Label data'!E8","v":6},null,null,null,"Frame #",{"$f":"E47","v":6},null,null,null,"Frame #",{"$f":"'Label data'!F8","v":6},null,null,null,"Frame #",{"$f":"O47","v":6}]
[null,null,null,"Top/Left",null,null,null,null,"Bottom/Right",null,null,null,null,"Top/Left",null,null,null,null,"Bottom/Right"]
[{"$f":"'Competitor List'!$B$1","v":"Freedom Benchrest 600 YARD MATCH #1"},null,null,null,null,{"$f":"'Competitor List'!$B$1","v":"Freedom Benchrest 600 YARD MATCH #1"},null,null,null,null,{"$f":"'Competitor List'!$B$1","v":"Freedom Benchrest 600 YARD MATCH #1"},null,null,null,null,{"$f":"'Competitor List'!$B$1","v":"Freedom Benchrest 600 YARD MATCH #1"}]
[{"$f":"'Competitor List'!$B$2","v":"Vapor Trail Valley Spickard, Mo"},null,null,null,null,{"$f":"'Competitor List'!$B$2","v":"Vapor Trail Valley Spickard, Mo"},null,null,null,null,{"$f":"'Competitor List'!$B$2","v":"Vapor Trail Valley Spickard, Mo"},null,null,null,null,{"$f":"'Competitor List'!$B$2","v":"Vapor Trail Valley Spickard, Mo"}]
[{"$f":"'Competitor List'!$B$3","v":"2023-03-15"},null,null,null,null,{"$f":"'Competitor List'!$B$3","v":"2023-03-15"},null,null,null,null,{"$f":"'Competitor List'!$B$3","v":"2023-03-15"},null,null,null,null,{"$f":"'Competitor List'!$B$3","v":"2023-03-15"}]
["LIGHT GUN",null,"Target #",null,1,"LIGHT GUN",null,"Target #",null,{"$f":"E52+1","v":2},"LIGHT GUN",null,"Target #",null,{"$f":"J52+1","v":3},"LIGHT GUN",null,"Target #",null,{"$f":"O52+1","v":4}]
["Competitor #",null,{"$f":"'Label data'!A9","v":107},null,null,"Competitor #",null,{"$f":"C53","v":107},null,null,"Competitor #",null,{"$f":"H53","v":107},null,null,"Competitor #",null,{"$f":"M53","v":107}]
[]
[null,null,null,"Frame #",{"$f":"'Label data'!E9","v":7},null,null,null,"Frame #",{"$f":"E55","v":7},null,null,null,"Frame #",{"$f":"'Label data'!F9","v":7},null,null,null,"Frame #",{"$f":"O55","v":7}]
[null,null,null,"Top/Left",null,null,null,null,"Bottom/Right",null,null,null,null,"Top/Left",null,null,null,null,"Bottom/Right"]
[{"$f":"'Competitor List'!$B$1","v":"Freedom Benchrest 600 YARD MATCH #1"},null,null,null,null,{"$f":"'Competitor List'!$B$1","v":"Freedom Benchrest 600 YARD MATCH #1"},null,null,null,null,{"$f":"'Competitor List'!$B$1","v":"Freedom Benchrest 600 YARD MATCH #1"},null,null,null,null,{"$f":"'Competitor List'!$B$1","v":"Freedom Benchrest 600 YARD MATCH #1"}]
[{"$f":"'Competitor List'!$B$2","v":"Vapor Trail Valley Spickard, Mo"},null,null,null,null,{"$f":"'Competitor List'!$B$2","v":"Vapor Trail Valley Spickard, Mo"},null,null,null,null,{"$f":"'Competitor List'!$B$2","v":"Vapor Trail Valley Spickard, Mo"},null,null,null,null,{"$f":"'Competitor List'!$B$2","v":"Vapor Trail Valley Spickard, Mo"}]
[{"$f":"'Competitor List'!$B$3","v":"2023-03-15"},null,null,null,null,{"$f":"'Competitor List'!$B$3","v":"2023-03-15"},null,null,null,null,{"$f":"'Competitor List'!$B$3","v":"2023-03-15"},null,null,null,null,{"$f":"'Competitor List'!$B$3","v":"2023-03-15"}]
["LIGHT GUN",null,"Target #",null,1,"LIGHT GUN",null,"Target #",null,{"$f":"E60+1","v":2},"LIGHT GUN",null,"Target #",null,{"$f":"J60+1","v":3},"LIGHT GUN",null,"Target #",null,{"$f":"O60+1","v":4}]
["Competitor #",null,{"$f":"'Label data'!A10","v":108},null,null,"Competitor #",null,{"$f":"C61","v":108},null,null,"Competitor #",null,{"$f":"H61","v":108},null,null,"Competitor #",null,{"$f":"M61","v":108}]
[]
[null,null,null,"Frame #",{"$f":"'Label data'!E10","v":8},null,null,null,"Frame #",{"$f":"E63","v":8},null,null,null,"Frame #",{"$f":"'Label data'!F10","v":8},null,null,null,"Frame #",{"$f":"O63","v":8}]
[null,null,null,"Top/Left",null,null,null,null,"Bottom/Right",null,null,null,null,"Top/Left",null,null,null,null,"Bottom/Right"]
[{"$f":"'Competitor List'!$B$1","v":"Freedom Benchrest 600 YARD MATCH #1"},null,null,null,null,{"$f":"'Competitor List'!$B$1","v":"Freedom Benchrest 600 YARD MATCH #1"},null,null,null,null,{"$f":"'Competitor List'!$B$1","v":"Freedom Benchrest 600 YARD MATCH #1"},null,null,null,null,{"$f":"'Competitor List'!$B$1","v":"Freedom Benchrest 600 YARD MATCH #1"}]
[{"$f":"'Competitor List'!$B$2","v":"Vapor Trail Valley Spickard, Mo"},null,null,null,null,{"$f":"'Competitor List'!$B$2","v":"Vapor Trail Valley Spickard, Mo"},null,null,null,null,{"$f":"'Competitor List'!$B$2","v":"Vapor Trail Valley Spickard, Mo"},null,null,null,null,{"$f":"'Competitor List'!$B$2","v":"Vapor Trail Valley Spickard, Mo"}]
[{"$f":"'Competitor List'!$B$3","v":"2023-03-15"},null,null,null,null,{"$f":"'Competitor List'!$B$3","v":"2023-03-15"},null,null,null,null,{"$f":"'Competitor List'!$B$3","v":"2023-03-15"},null,null,null,null,{"$f":"'Competitor List'!$B$3","v":"2023-03-15"}]
["LIGHT GUN",null,"Target #",null,1,"LIGHT GUN",null,"Target #",null,{"$f":"E68+1","v":2},"LIGHT GUN",null,"Target #",null,{"$f":"J68+1","v":3},"LIGHT GUN",null,"Target #",null,{"$f":"O68+1","v":4}]
["Competitor #",null,{"$f":"'Label data'!A11","v":109},null,null,"Competitor #",null,{"$f":"C69","v":109},null,null,"Competitor #",null,{"$f":"H69","v":109},null,null,"Competitor #",null,{"$f":"M69","v":109}]
[]
[null,null,null,"Frame #",{"$f":"'Label data'!E11","v":9},null,null,null,"Frame #",{"$f":"E71","v":9},null,null,null,"Frame #",{"$f":"'Label data'!F11","v":9},null,null,null,"Frame #",{"$f":"O71","v":9}]
[null,null,null,"Top/Left",null,null,null,null,"Bottom/Right",null,null,null,null,"Top/Left",null,null,null,null,"Bottom/Right"]
[{"$f":"'Competitor List'!$B$1","v":"Freedom Benchrest 600 YARD MATCH #1"},null,null,null,null,{"$f":"'Competitor List'!$B$1","v":"Freedom Benchrest 600 YARD MATCH #1"},null,null,null,null,{"$f":"'Competitor List'!$B$1","v":"Freedom Benchrest 600 YARD MATCH #1"},null,null,null,null,{"$f":"'Competitor List'!$B$1","v":"Freedom Benchrest 600 YARD MATCH #1"}]
[{"$f":"'Competitor List'!$B$2","v":"Vapor Trail Valley Spickard, Mo"},null,null,null,null,{"$f":"'Competitor List'!$B$2","v":"Vapor Trail Valley Spickard, Mo"},null,null,null,null,{"$f":"'Competitor List'!$B$2","v":"Vapor Trail Valley Spickard, Mo"},null,null,null,null,{"$f":"'Competitor List'!$B$2","v":"Vapor Trail Valley Spickard, Mo"}]
[{"$f":"'Competitor List'!$B$3","v":"2023-03-15"},null,null,null,null,{"$f":"'Competitor List'!$B$3","v":"2023-03-15"},null,null,null,null,{"$f":"'Competitor List'!$B$3","v":"2023-03-15"},null,null,null,null,{"$f":"'Competitor List'!$B$3","v":"2023-03-15"}]
["LIGHT GUN",null,"Target #",null,1,"LIGHT GUN",null,"Target #",null,{"$f":"E76+1","v":2},"LIGHT GUN",null,"Target #",null,{"$f":"J76+1","v":3},"LIGHT GUN",null,"Target #",null,{"$f":"O76+1","v":4}]
["Competitor #",null,{"$f":"'Label data'!A12","v":110},null,null,"Competitor #",null,{"$f":"C77","v":110},null,null,"Competitor #",null,{"$f":"H77","v":110},null,null,"Competitor #",null,{"$f":"M77","v":110}]
[]
[null,null,null,"Frame #",{"$f":"'Label data'!E12","v":10},null,null,null,"Frame #",{"$f":"E79","v":10},null,null,null,"Frame #",{"$f":"'Label data'!F12","v":10},null,null,null,"Frame #",{"$f":"O79","v":10}]
[null,null,null,"Top/Left",null,null,null,null,"Bottom/Right",null,null,null,null,"Top/Left",null,null,null,null,"Bottom/Right"]
[{"$f":"'Competitor List'!$B$1","v":"Freedom Benchrest 600 YARD MATCH #1"},null,null,null,null,{"$f":"'Competitor List'!$B$1","v":"Freedom Benchrest 600 YARD MATCH #1"},null,null,null,null,{"$f":"'Competitor List'!$B$1","v":"Freedom Benchrest 600 YARD MATCH #1"},null,null,null,null,{"$f":"'Competitor List'!$B$1","v":"Freedom Benchrest 600 YARD MATCH #1"}]
[{"$f":"'Competitor List'!$B$2","v":"Vapor Trail Valley Spickard, Mo"},null,null,null,null,{"$f":"'Competitor List'!$B$2","v":"Vapor Trail Valley Spickard, Mo"},null,null,null,null,{"$f":"'Competitor List'!$B$2","v":"Vapor Trail Valley Spickard, Mo"},null,null,null,null,{"$f":"'Competitor List'!$B$2","v":"Vapor Trail Valley Spickard, Mo"}]
[{"$f":"'Competitor List'!$B$3","v":"2023-03-15"},null,null,null,null,{"$f":"'Competitor List'!$B$3","v":"2023-03-15"},null,null,null,null,{"$f":"'Competitor List'!$B$3","v":"2023-03-15"},null,null,null,null,{"$f":"'Competitor List'!$B$3","v":"2023-03-15"}]
["LIGHT GUN",null,"Target #",null,1,"LIGHT GUN",null,"Target #",null,{"$f":"E84+1","v":2},"LIGHT GUN",null,"Target #",null,{"$f":"J84+1","v":3},"LIGHT GUN",null,"Target #",null,{"$f":"O84+1","v":4}]
["Competitor #",null,{"$f":"'Label data'!A13","v":111},null,null,"Competitor #",null,{"$f":"C85","v":111},null,null,"Competitor #",null,{"$f":"H85","v":111},null,null,"Competitor #",null,{"$f":"M85","v":111}]
[]
[null,null,null,"Frame #",{"$f":"'Label data'!E13","v":11},null,null,null,"Frame #",{"$f":"E87","v":11},null,null,null,"Frame #",{"$f":"'Label data'!F13","v":11},null,null,null,"Frame #",{"$f":"O87","v":11}]
[null,null,null,"Top/Left",null,null,null,null,"Bottom/Right",null,null,null,null,"Top/Left",null,null,null,null,"Bottom/Right"]
[{"$f":"'Competitor List'!$B$1","v":"Freedom Benchrest 600 YARD MATCH #1"},null,null,null,null,{"$f":"'Competitor List'!$B$1","v":"Freedom Benchrest 600 YARD MATCH #1"},null,null,null,null,{"$f":"'Competitor List'!$B$1","v":"Freedom Benchrest 600 YARD MATCH #1"},null,null,null,null,{"$f":"'Competitor List'!$B$1","v":"Freedom Benchrest 600 YARD MATCH #1"}]
[{"$f":"'Competitor List'!$B$2","v":"Vapor Trail Valley Spickard, Mo"},null,null,null,null,{"$f":"'Competitor List'!$B$2","v":"Vapor Trail Valley Spickard, Mo"},null,null,null,null,{"$f":"'Competitor List'!$B$2","v":"Vapor Trail Valley Spickard, Mo"},null,null,null,null,{"$f":"'Competitor List'!$B$2","v":"Vapor Trail Valley Spickard, Mo"}]
[{"$f":"'Competitor List'!$B$3","v":"2023-03-15"},null,null,null,null,{"$f":"'Competitor List'!$B$3","v":"2023-03-15"},null,null,null,null,{"$f":"'Competitor List'!$B$3","v":"2023-03-15"},null,null,null,null,{"$f":"'Competitor List'!$B$3","v":"2023-03-15"}]
["LIGHT GUN",null,"Target #",null,1,"LIGHT GUN",null,"Target #",null,{"$f":"E92+1","v":2},"LIGHT GUN",null,"Target #",null,{"$f":"J92+1","v":3},"LIGHT GUN",null,"Target #",null,{"$f":"O92+1","v":4}]
["Competitor #",null,{"$f":"'Label data'!A14","v":112},null,null,"Competitor #",null,{"$f":"C93","v":112},null,null,"Competitor #",null,{"$f":"H93","v":112},null,null,"Competitor #",null,{"$f":"M93","v":112}]
[]
[null,null,null,"Frame #",{"$f":"'Label data'!E14","v":12},null,null,null,"Frame #",{"$f":"E95","v":12},null,null,null,"Frame #",{"$f":"'Label data'!F14","v":12},null,null,null,"Frame #",{"$f":"O95","v":12}]
[null,null,null,"Top/Left",null,null,null,null,"Bottom/Right",null,null,null,null,"Top/Left",null,null,null,null,"Bottom/Right"]
[{"$f":"'Competitor List'!$B$1","v":"Freedom Benchrest 600 YARD MATCH #1"},null,null,null,null,{"$f":"'Competitor List'!$B$1","v":"Freedom Benchrest 600 YARD MATCH #1"},null,null,null,null,{"$f":"'Competitor List'!$B$1","v":"Freedom Benchrest 600 YARD MATCH #1"},null,null,null,null,{"$f":"'Competitor List'!$B$1","v":"Freedom Benchrest 600 YARD MATCH #1"}]
[{"$f":"'Competitor List'!$B$2","v":"Vapor Trail Valley Spickard, Mo"},null,null,null,null,{"$f":"'Competitor List'!$B$2","v":"Vapor Trail Valley Spickard, Mo"},null,null,null,null,{"$f":"'Competitor List'!$B$2","v":"Vapor Trail Valley Spickard, Mo"},null,null,null,null,{"$f":"'Competitor List'!$B$2","v":"Vapor Trail Valley Spickard, Mo"}]
[{"$f":"'Competitor List'!$B$3","v":"2023-03-15"},null,null,null,null,{"$f":"'Competitor List'!$B$3","v":"2023-03-15"},null,null,null,null,{"$f":"'Competitor List'!$B$3","v":"2023-03-15"},null,null,null,null,{"$f":"'Competitor List'!$B$3","v":"2023-03-15"}]
["LIGHT GUN",null,"Target #",null,1,"LIGHT GUN",null,"Target #",null,{"$f":"E100+1","v":2},"LIGHT GUN",null,"Target #",null,{"$f":"J100+1","v":3},"LIGHT GUN",null,"Target #",null,{"$f":"O100+1","v":4}]
["Competitor #",null,{"$f":"'Label data'!A15","v":113},null,null,"Competitor #",null,{"$f":"C101","v":113},null,null,"Competitor #",null,{"$f":"H101","v":113},null,null,"Competitor #",null,{"$f":"M101","v":113}]
[]
[null,null,null,"Frame #",{"$f":"'Label data'!E15","v":13},null,null,null,"Frame #",{"$f":"E103","v":13},null,null,null,"Frame #",{"$f":"'Label data'!F15","v":13},null,null,null,"Frame #",{"$f":"O103","v":13}]
[null,null,null,"Top/Left",null,null,null,null,"Bottom/Right",null,null,null,null,"Top/Left",null,null,null,null,"Bottom/Right"]
[{"$f":"'Competitor List'!$B$1","v":"Freedom Benchrest 600 YARD MATCH #1"},null,null,null,null,{"$f":"'Competitor List'!$B$1","v":"Freedom Benchrest 600 YARD MATCH #1"},null,null,null,null,{"$f":"'Competitor List'!$B$1","v":"Freedom Benchrest 600 YARD MATCH #1"},null,null,null,null,{"$f":"'Competitor List'!$B$1","v":"Freedom Benchrest 600 YARD MATCH #1"}]
[{"$f":"'Competitor List'!$B$2","v":"Vapor Trail Valley Spickard, Mo"},null,null,null,null,{"$f":"'Competitor List'!$B$2","v":"Vapor Trail Valley Spickard, Mo"},null,null,null,null,{"$f":"'Competitor List'!$B$2","v":"Vapor Trail Valley Spickard, Mo"},null,null,null,null,{"$f":"'Competitor List'!$B$2","v":"Vapor Trail Valley Spickard, Mo"}]
[{"$f":"'Competitor List'!$B$3","v":"2023-03-15"},null,null,null,null,{"$f":"'Competitor List'!$B$3","v":"2023-03-15"},null,null,null,null,{"$f":"'Competitor List'!$B$3","v":"2023-03-15"},null,null,null,null,{"$f":"'Competitor List'!$B$3","v":"2023-03-15"}]
["LIGHT GUN",null,"Target #",null,1,"LIGHT GUN",null,"Target #",null,{"$f":"E108+1","v":2},"LIGHT GUN",null,"Target #",null,{"$f":"J108+1","v":3},"LIGHT GUN",null,"Target #",null,{"$f":"O108+1","v":4}]
["Competitor #",null,{"$f":"'Label data'!A16","v":114},null,null,"Competitor #",null,{"$f":"C109","v":114},null,null,"Competitor #",null,{"$f":"H109","v":114},null,null,"Competitor #",null,{"$f":"M109","v":114}]
[]
[null,null,null,"Frame #",{"$f":"'Label data'!E16","v":14},null,null,null,"Frame #",{"$f":"E111","v":14},null,null,null,"Frame #",{"$f":"'Label data'!F16","v":14},null,null,null,"Frame #",{"$f":"O111","v":14}]
[null,null,null,"Top/Left",null,null,null,null,"Bottom/Right",null,null,null,null,"Top/Left",null,null,null,null,"Bottom/Right"]
[{"$f":"'Competitor List'!$B$1","v":"Freedom Benchrest 600 YARD MATCH #1"},null,null,null,null,{"$f":"'Competitor List'!$B$1","v":"Freedom Benchrest 600 YARD MATCH #1"},null,null,null,null,{"$f":"'Competitor List'!$B$1","v":"Freedom Benchrest 600 YARD MATCH #1"},null,null,null,null,{"$f":"'Competitor List'!$B$1","v":"Freedom Benchrest 600 YARD MATCH #1"}]
[{"$f":"'Competitor List'!$B$2","v":"Vapor Trail Valley Spickard, Mo"},null,null,null,null,{"$f":"'Competitor List'!$B$2","v":"Vapor Trail Valley Spickard, Mo"},null,null,null,null,{"$f":"'Competitor List'!$B$2","v":"Vapor Trail Valley Spickard, Mo"},null,null,null,null,{"$f":"'Competitor List'!$B$2","v":"Vapor Trail Valley Spickard, Mo"}]
[{"$f":"'Competitor List'!$B$3","v":"2023-03-15"},null,null,null,null,{"$f":"'Competitor List'!$B$3","v":"2023-03-15"},null,null,null,null,{"$f":"'Competitor List'!$B$3","v":"2023-03-15"},null,null,null,null,{"$f":"'Competitor List'!$B$3","v":"2023-03-15"}]
["LIGHT GUN",null,"Target #",null,1,"LIGHT GUN",null,"Target #",null,{"$f":"E116+1","v":2},"LIGHT GUN",null,"Target #",null,{"$f":"J116+1","v":3},"LIGHT GUN",null,"Target #",null,{"$f":"O116+1","v":4}]
["Competitor #",null,{"$f":"'Label data'!A17","v":115},null,null,"Competitor #",null,{"$f":"C117","v":115},null,null,"Competitor #",null,{"$f":"H117","v":115},null,null,"Competitor #",null,{"$f":"M117","v":115}]
[]
[null,null,null,"Frame #",{"$f":"'Label data'!E17","v":15},null,null,null,"Frame #",{"$f":"E119","v":15},null,null,null,"Frame #",{"$f":"'Label data'!F17","v":15},null,null,null,"Frame #",{"$f":"O119","v":15}]
[null,null,null,"Top/Left",null,null,null,null,"Bottom/Right",null,null,null,null,"Top/Left",null,null,null,null,"Bottom/Right"]
[{"$f":"'Competitor List'!$B$1","v":"Freedom Benchrest 600 YARD MATCH #1"},null,null,null,null,{"$f":"'Competitor List'!$B$1","v":"Freedom Benchrest 600 YARD MATCH #1"},null,null,null,null,{"$f":"'Competitor List'!$B$1","v":"Freedom Benchrest 600 YARD MATCH #1"},null,null,null,null,{"$f":"'Competitor List'!$B$1","v":"Freedom Benchrest 600 YARD MATCH #1"}]
[{"$f":"'Competitor List'!$B$2","v":"Vapor Trail Valley Spickard, Mo"},null,null,null,null,{"$f":"'Competitor List'!$B$2","v":"Vapor Trail Valley Spickard, Mo"},null,null,null,null,{"$f":"'Competitor List'!$B$2","v":"Vapor Trail Valley Spickard, Mo"},null,null,null,null,{"$f":"'Competitor List'!$B$2","v":"Vapor Trail Valley Spickard, Mo"}]
[{"$f":"'Competitor List'!$B$3","v":"2023-03-15"},null,null,null,null,{"$f":"'Competitor List'!$B$3","v":"2023-03-15"},null,null,null,null,{"$f":"'Competitor List'!$B$3","v":"2023-03-15"},null,null,null,null,{"$f":"'Competitor List'!$B$3","v":"2023-03-15"}]
["LIGHT GUN",null,"Target #",null,1,"LIGHT GUN",null,"Target #",null,{"$f":"E124+1","v":2},"LIGHT GUN",null,"Target #",null,{"$f":"J124+1","v":3},"LIGHT GUN",null,"Target #",null,{"$f":"O124+1","v":4}]
["Competitor #",null,{"$f":"'Label data'!A18","v":201},null,null,"Competitor #",null,{"$f":"C125","v":201},null,null,"Competitor #",null,{"$f":"H125","v":201},null,null,"Competitor #",null,{"$f":"M125","v":201}]
[]
[null,null,null,"Frame #",{"$f":"'Label data'!E18","v":1},null,null,null,"Frame #",{"$f":"E127","v":1},null,null,null,"Frame #",{"$f":"'Label data'!F18","v":1},null,null,null,"Frame #",{"$f":"O127","v":1}]
[null,null,null,"Top/Left",null,null,null,null,"Bottom/Right",null,null,null,null,"Top/Left",null,null,null,null,"Bottom/Right"]
[{"$f":"'Competitor List'!$B$1","v":"Freedom Benchrest 600 YARD MATCH #1"},null,null,null,null,{"$f":"'Competitor List'!$B$1","v":"Freedom Benchrest 600 YARD MATCH #1"},null,null,null,null,{"$f":"'Competitor List'!$B$1","v":"Freedom Benchrest 600 YARD MATCH #1"},null,null,null,null,{"$f":"'Competitor List'!$B$1","v":"Freedom Benchrest 600 YARD MATCH #1"}]
[{"$f":"'Competitor List'!$B$2","v":"Vapor Trail Valley Spickard, Mo"},null,null,null,null,{"$f":"'Competitor List'!$B$2","v":"Vapor Trail Valley Spickard, Mo"},null,null,null,null,{"$f":"'Competitor List'!$B$2","v":"Vapor Trail Valley Spickard, Mo"},null,null,null,null,{"$f":"'Competitor List'!$B$2","v":"Vapor Trail Valley Spickard, Mo"}]
[{"$f":"'Competitor List'!$B$3","v":"2023-03-15"},null,null,null,null,{"$f":"'Competitor List'!$B$3","v":"2023-03-15"},null,null,null,null,{"$f":"'Competitor List'!$B$3","v":"2023-03-15"},null,null,null,null,{"$f":"'Competitor List'!$B$3","v":"2023-03-15"}]
["LIGHT GUN",null,"Target #",null,1,"LIGHT GUN",null,"Target #",null,{"$f":"E132+1","v":2},"LIGHT GUN",null,"Target #",null,{"$f":"J132+1","v":3},"LIGHT GUN",null,"Target #",null,{"$f":"O132+1","v":4}]
["Competitor #",null,{"$f":"'Label data'!A19","v":202},null,null,"Competitor #",null,{"$f":"C133","v":202},null,null,"Competitor #",null,{"$f":"H133","v":202},null,null,"Competitor #",null,{"$f":"M133","v":202}]
[]
[null,null,null,"Frame #",{"$f":"'Label data'!E19","v":2},null,null,null,"Frame #",{"$f":"E135","v":2},null,null,null,"Frame #",{"$f":"'Label data'!F19","v":2},null,null,null,"Frame #",{"$f":"O135","v":2}]
[null,null,null,"Top/Left",null,null,null,null,"Bottom/Right",null,null,null,null,"Top/Left",null,null,null,null,"Bottom/Right"]
[{"$f":"'Competitor List'!$B$1","v":"Freedom Benchrest 600 YARD MATCH #1"},null,null,null,null,{"$f":"'Competitor List'!$B$1","v":"Freedom Benchrest 600 YARD MATCH #1"},null,null,null,null,{"$f":"'Competitor List'!$B$1","v":"Freedom Benchrest 600 YARD MATCH #1"},null,null,null,null,{"$f":"'Competitor List'!$B$1","v":"Freedom Benchrest 600 YARD MATCH #1"}]
[{"$f":"'Competitor List'!$B$2","v":"Vapor Trail Valley Spickard, Mo"},null,null,null,null,{"$f":"'Competitor List'!$B$2","v":"Vapor Trail Valley Spickard, Mo"},null,null,null,null,{"$f":"'Competitor List'!$B$2","v":"Vapor Trail Valley Spickard, Mo"},null,null,null,null,{"$f":"'Competitor List'!$B$2","v":"Vapor Trail Valley Spickard, Mo"}]
[{"$f":"'Competitor List'!$B$3","v":"2023-03-15"},null,null,null,null,{"$f":"'Competitor List'!$B$3","v":"2023-03-15"},null,null,null,null,{"$f":"'Competitor List'!$B$3","v":"2023-03-15"},null,null,null,null,{"$f":"'Competitor List'!$B$3","v":"2023-03-15"}]
["LIGHT GUN",null,"Target #",null,1,"LIGHT GUN",null,"Target #",null,{"$f":"E140+1","v":2},"LIGHT GUN",null,"Target #",null,{"$f":"J140+1","v":3},"LIGHT GUN",null,"Target #",null,{"$f":"O140+1","v":4}]
["Competitor #",null,{"$f":"'Label data'!A20","v":203},null,null,"Competitor #",null,{"$f":"C141","v":203},null,null,"Competitor #",null,{"$f":"H141","v":203},null,null,"Competitor #",null,{"$f":"M141","v":203}]
[]
[null,null,null,"Frame #",{"$f":"'Label data'!E20","v":3},null,null,null,"Frame #",{"$f":"E143","v":3},null,null,null,"Frame #",{"$f":"'Label data'!F20","v":3},null,null,null,"Frame #",{"$f":"O143","v":3}]
[null,null,null,"Top/Left",null,null,null,null,"Bottom/Right",null,null,null,null,"Top/Left",null,null,null,null,"Bottom/Right"]
[{"$f":"'Competitor List'!$B$1","v":"Freedom Benchrest 600 YARD MATCH #1"},null,null,null,null,{"$f":"'Competitor List'!$B$1","v":"Freedom Benchrest 600 YARD MATCH #1"},null,null,null,null,{"$f":"'Competitor List'!$B$1","v":"Freedom Benchrest 600 YARD MATCH #1"},null,null,null,null,{"$f":"'Competitor List'!$B$1","v":"Freedom Benchrest 600 YARD MATCH #1"}]
[{"$f":"'Competitor List'!$B$2","v":"Vapor Trail Valley Spickard, Mo"},null,null,null,null,{"$f":"'Competitor List'!$B$2","v":"Vapor Trail Valley Spickard, Mo"},null,null,null,null,{"$f":"'Competitor List'!$B$2","v":"Vapor Trail Valley Spickard, Mo"},null,null,null,null,{"$f":"'Competitor List'!$B$2","v":"Vapor Trail Valley Spickard, Mo"}]
[{"$f":"'Competitor List'!$B$3","v":"2023-03-15"},null,null,null,null,{"$f":"'Competitor List'!$B$3","v":"2023-03-15"},null,null,null,null,{"$f":"'Competitor List'!$B$3","v":"2023-03-15"},null,null,null,null,{"$f":"'Competitor List'!$B$3","v":"2023-03-15"}]
["LIGHT GUN",null,"Target #",null,1,"LIGHT GUN",null,"Target #",null,{"$f":"E148+1","v":2},"LIGHT GUN",null,"Target #",null,{"$f":"J148+1","v":3},"LIGHT GUN",null,"Target #",null,{"$f":"O148+1","v":4}]
["Competitor #",null,{"$f":"'Label data'!A21","v":204},null,null,"Competitor #",null,{"$f":"C149","v":204},null,null,"Competitor #",null,{"$f":"H149","v":204},null,null,"Competitor #",null,{"$f":"M149","v":204}]
[]
[null,null,null,"Frame #",{"$f":"'Label data'!E21","v":4},null,null,null,"Frame #",{"$f":"E151","v":4},null,null,null,"Frame #",{"$f":"'Label data'!F21","v":4},null,null,null,"Frame #",{"$f":"O151","v":4}]
[null,null,null,"Top/Left",null,null,null,null,"Bottom/Right",null,null,null,null,"Top/Left",null,null,null,null,"Bottom/Right"]
[{"$f":"'Competitor List'!$B$1","v":"Freedom Benchrest 600 YARD MATCH #1"},null,null,null,null,{"$f":"'Competitor List'!$B$1","v":"Freedom Benchrest 600 YARD MATCH #1"},null,null,null,null,{"$f":"'Competitor List'!$B$1","v":"Freedom Benchrest 600 YARD MATCH #1"},null,null,null,null,{"$f":"'Competitor List'!$B$1","v":"Freedom Benchrest 600 YARD MATCH #1"}]
[{"$f":"'Competitor List'!$B$2","v":"Vapor Trail Valley Spickard, Mo"},null,null,null,null,{"$f":"'Competitor List'!$B$2","v":"Vapor Trail Valley Spickard, Mo"},null,null,null,null,{"$f":"'Competitor List'!$B$2","v":"Vapor Trail Valley Spickard, Mo"},null,null,null,null,{"$f":"'Competitor List'!$B$2","v":"Vapor Trail Valley Spickard, Mo"}]
[{"$f":"'Competitor List'!$B$3","v":"2023-03-15"},null,null,null,null,{"$f":"'Competitor List'!$B$3","v":"2023-03-15"},null,null,null,null,{"$f":"'Competitor List'!$B$3","v":"2023-03-15"},null,null,null,null,{"$f":"'Competitor List'!$B$3","v":"2023-03-15"}]
["LIGHT GUN",null,"Target #",null,1,"LIGHT GUN",null,"Target #",null,{"$f":"E156+1","v":2},"LIGHT GUN",null,"Target #",null,{"$f":"J156+1","v":3},"LIGHT GUN",null,"Target #",null,{"$f":"O156+1","v":4}]
["Competitor #",null,{"$f":"'Label data'!A22","v":205},null,null,"Competitor #",null,{"$f":"C157","v":205},null,null,"Competitor #",null,{"$f":"H157","v":205},null,null,"Competitor #",null,{"$f":"M157","v":205}]
[]
[null,null,null,"Frame #",{"$f":"'Label data'!E22","v":5},null,null,null,"Frame #",{"$f":"E159","v":5},null,null,null,"Frame #",{"$f":"'Label data'!F22","v":5},null,null,null,"Frame #",{"$f":"O159","v":5}]
[null,null,null,"Top/Left",null,null,null,null,"Bottom/Right",null,null,null,null,"Top/Left",null,null,null,null,"Bottom/Right"]
[{"$f":"'Competitor List'!$B$1","v":"Freedom Benchrest 600 YARD MATCH #1"},null,null,null,null,{"$f":"'Competitor List'!$B$1","v":"Freedom Benchrest 600 YARD MATCH #1"},null,null,null,null,{"$f":"'Competitor List'!$B$1","v":"Freedom Benchrest 600 YARD MATCH #1"},null,null,null,null,{"$f":"'Competitor List'!$B$1","v":"Freedom Benchrest 600 YARD MATCH #1"}]
[{"$f":"'Competitor List'!$B$2","v":"Vapor Trail Valley Spickard, Mo"},null,null,null,null,{"$f":"'Competitor List'!$B$2","v":"Vapor Trail Valley Spickard, Mo"},null,null,null,null,{"$f":"'Competitor List'!$B$2","v":"Vapor Trail Valley Spickard, Mo"},null,null,null,null,{"$f":"'Competitor List'!$B$2","v":"Vapor Trail Valley Spickard, Mo"}]
[{"$f":"'Competitor List'!$B$3","v":"2023-03-15"},null,null,null,null,{"$f":"'Competitor List'!$B$3","v":"2023-03-15"},null,null,null,null,{"$f":"'Competitor List'!$B$3","v":"2023-03-15"},null,null,null,null,{"$f":"'Competitor List'!$B$3","v":"2023-03-15"}]
["LIGHT GUN",null,"Target #",null,1,"LIGHT GUN",null,"Target #",null,{"$f":"E164+1","v":2},"LIGHT GUN",null,"Target #",null,{"$f":"J164+1","v":3},"LIGHT GUN",null,"Target #",null,{"$f":"O164+1","v":4}]
["Competitor #",null,{"$f":"'Label data'!A23","v":206},null,null,"Competitor #",null,{"$f":"C165","v":206},null,null,"Competitor #",null,{"$f":"H165","v":206},null,null,"Competitor #",null,{"$f":"M165","v":206}]
[]
[null,null,null,"Frame #",{"$f":"'Label data'!E23","v":6},null,null,null,"Frame #",{"$f":"E167","v":6},null,null,null,"Frame #",{"$f":"'Label data'!F23","v":6},null,null,null,"Frame #",{"$f":"O167","v":6}]
[null,null,null,"Top/Left",null,null,null,null,"Bottom/Right",null,null,null,null,"Top/Left",null,null,null,null,"Bottom/Right"]
[{"$f":"'Competitor List'!$B$1","v":"Freedom Benchrest 600 YARD MATCH #1"},null,null,null,null,{"$f":"'Competitor List'!$B$1","v":"Freedom Benchrest 600 YARD MATCH #1"},null,null,null,null,{"$f":"'Competitor List'!$B$1","v":"Freedom Benchrest 600 YARD MATCH #1"},null,null,null,null,{"$f":"'Competitor List'!$B$1","v":"Freedom Benchrest 600 YARD MATCH #1"}]
[{"$f":"'Competitor List'!$B$2","v":"Vapor Trail Valley Spickard, Mo"},null,null,null,null,{"$f":"'Competitor List'!$B$2","v":"Vapor Trail Valley Spickard, Mo"},null,null,null,null,{"$f":"'Competitor List'!$B$2","v":"Vapor Trail Valley Spickard, Mo"},null,null,null,null,{"$f":"'Competitor List'!$B$2","v":"Vapor Trail Valley Spickard, Mo"}]
[{"$f":"'Competitor List'!$B$3","v":"2023-03-15"},null,null,null,null,{"$f":"'Competitor List'!$B$3","v":"2023-03-15"},null,null,null,null,{"$f":"'Competitor List'!$B$3","v":"2023-03-15"},null,null,null,null,{"$f":"'Competitor List'!$B$3","v":"2023-03-15"}]
["LIGHT GUN",null,"Target #",null,1,"LIGHT GUN",null,"Target #",null,{"$f":"E172+1","v":2},"LIGHT GUN",null,"Target #",null,{"$f":"J172+1","v":3},"LIGHT GUN",null,"Target #",null,{"$f":"O172+1","v":4}]
["Competitor #",null,{"$f":"'Label data'!A24","v":207},null,null,"Competitor #",null,{"$f":"C173","v":207},null,null,"Competitor #",null,{"$f":"H173","v":207},null,null,"Competitor #",null,{"$f":"M173","v":207}]
[]
[null,null,null,"Frame #",{"$f":"'Label data'!E24","v":7},null,null,null,"Frame #",{"$f":"E175","v":7},null,null,null,"Frame #",{"$f":"'Label data'!F24","v":7},null,null,null,"Frame #",{"$f":"O175","v":7}]
[null,null,null,"Top/Left",null,null,null,null,"Bottom/Right",null,null,null,null,"Top/Left",null,null,null,null,"Bottom/Right"]
[{"$f":"'Competitor List'!$B$1","v":"Freedom Benchrest 600 YARD MATCH #1"},null,null,null,null,{"$f":"'Competitor List'!$B$1","v":"Freedom Benchrest 600 YARD MATCH #1"},null,null,null,null,{"$f":"'Competitor List'!$B$1","v":"Freedom Benchrest 600 YARD MATCH #1"},null,null,null,null,{"$f":"'Competitor List'!$B$1","v":"Freedom Benchrest 600 YARD MATCH #1"}]
[{"$f":"'Competitor List'!$B$2","v":"Vapor Trail Valley Spickard, Mo"},null,null,null,null,{"$f":"'Competitor List'!$B$2","v":"Vapor Trail Valley Spickard, Mo"},null,null,null,null,{"$f":"'Competitor List'!$B$2","v":"Vapor Trail Valley Spickard, Mo"},null,null,null,null,{"$f":"'Competitor List'!$B$2","v":"Vapor Trail Valley Spickard, Mo"}]
[{"$f":"'Competitor List'!$B$3","v":"2023-03-15"},null,null,null,null,{"$f":"'Competitor List'!$B$3","v":"2023-03-15"},null,null,null,null,{"$f":"'Competitor List'!$B$3","v":"2023-03-15"},null,null,null,null,{"$f":"'Competitor List'!$B$3","v":"2023-03-15"}]
["LIGHT GUN",null,"Target #",null,1,"LIGHT GUN",null,"Target #",null,{"$f":"E180+1","v":2},"LIGHT GUN",null,"Target #",null,{"$f":"J180+1","v":3},"LIGHT GUN",null,"Target #",null,{"$f":"O180+1","v":4}]
["Competitor #",null,{"$f":"'Label data'!A25","v":208},null,null,"Competitor #",null,{"$f":"C181","v":208},null,null,"Competitor #",null,{"$f":"H181","v":208},null,null,"Competitor #",null,{"$f":"M181","v":208}]
[]
[null,null,null,"Frame #",{"$f":"'Label data'!E25","v":8},null,null,null,"Frame #",{"$f":"E183","v":8},null,null,null,"Frame #",{"$f":"'Label data'!F25","v":8},null,null,null,"Frame #",{"$f":"O183","v":8}]
[null,null,null,"Top/Left",null,null,null,null,"Bottom/Right",null,null,null,null,"Top/Left",null,null,null,null,"Bottom/Right"]
[{"$f":"'Competitor List'!$B$1","v":"Freedom Benchrest 600 YARD MATCH #1"},null,null,null,null,{"$f":"'Competitor List'!$B$1","v":"Freedom Benchrest 600 YARD MATCH #1"},null,null,null,null,{"$f":"'Competitor List'!$B$1","v":"Freedom Benchrest 600 YARD MATCH #1"},null,null,null,null,{"$f":"'Competitor List'!$B$1","v":"Freedom Benchrest 600 YARD MATCH #1"}]
[{"$f":"'Competitor List'!$B$2","v":"Vapor Trail Valley Spickard, Mo"},null,null,null,null,{"$f":"'Competitor List'!$B$2","v":"Vapor Trail Valley Spickard, Mo"},null,null,null,null,{"$f":"'Competitor List'!$B$2","v":"Vapor Trail Valley Spickard, Mo"},null,null,null,null,{"$f":"'Competitor List'!$B$2","v":"Vapor Trail Valley Spickard, Mo"}]
[{"$f":"'Competitor List'!$B$3","v":"2023-03-15"},null,null,null,null,{"$f":"'Competitor List'!$B$3","v":"2023-03-15"},null,null,null,null,{"$f":"'Competitor List'!$B$3","v":"2023-03-15"},null,null,null,null,{"$f":"'Competitor List'!$B$3","v":"2023-03-15"}]
["LIGHT GUN",null,"Target #",null,1,"LIGHT GUN",null,"Target #",null,{"$f":"E188+1","v":2},"LIGHT GUN",null,"Target #",null,{"$f":"J188+1","v":3},"LIGHT GUN",null,"Target #",null,{"$f":"O188+1","v":4}]
["Competitor #",null,{"$f":"'Label data'!A26","v":209},null,null,"Competitor #",null,{"$f":"C189","v":209},null,null,"Competitor #",null,{"$f":"H189","v":209},null,null,"Competitor #",null,{"$f":"M189","v":209}]
[]
[null,null,null,"Frame #",{"$f":"'Label data'!E26","v":9},null,null,null,"Frame #",{"$f":"E191","v":9},null,null,null,"Frame #",{"$f":"'Label data'!F26","v":9},null,null,null,"Frame #",{"$f":"O191","v":9}]
[null,null,null,"Top/Left",null,null,null,null,"Bottom/Right",null,null,null,null,"Top/Left",null,null,null,null,"Bottom/Right"]
[{"$f":"'Competitor List'!$B$1","v":"Freedom Benchrest 600 YARD MATCH #1"},null,null,null,null,{"$f":"'Competitor List'!$B$1","v":"Freedom Benchrest 600 YARD MATCH #1"},null,null,null,null,{"$f":"'Competitor List'!$B$1","v":"Freedom Benchrest 600 YARD MATCH #1"},null,null,null,null,{"$f":"'Competitor List'!$B$1","v":"Freedom Benchrest 600 YARD MATCH #1"}]
[{"$f":"'Competitor List'!$B$2","v":"Vapor Trail Valley Spickard, Mo"},null,null,null,null,{"$f":"'Competitor List'!$B$2","v":"Vapor Trail Valley Spickard, Mo"},null,null,null,null,{"$f":"'Competitor List'!$B$2","v":"Vapor Trail Valley Spickard, Mo"},null,null,null,null,{"$f":"'Competitor List'!$B$2","v":"Vapor Trail Valley Spickard, Mo"}]
[{"$f":"'Competitor List'!$B$3","v":"2023-03-15"},null,null,null,null,{"$f":"'Competitor List'!$B$3","v":"2023-03-15"},null,null,null,null,{"$f":"'Competitor List'!$B$3","v":"2023-03-15"},null,null,null,null,{"$f":"'Competitor List'!$B$3","v":"2023-03-15"}]
["LIGHT GUN",null,"Target #",null,1,"LIGHT GUN",null,"Target #",null,{"$f":"E196+1","v":2},"LIGHT GUN",null,"Target #",null,{"$f":"J196+1","v":3},"LIGHT GUN",null,"Target #",null,{"$f":"O196+1","v":4}]
["Competitor #",null,{"$f":"'Label data'!A27","v":210},null,null,"Competitor #",null,{"$f":"C197","v":210},null,null,"Competitor #",null,{"$f":"H197","v":210},null,null,"Competitor #",null,{"$f":"M197","v":210}]
[]
[null,null,null,"Frame #",{"$f":"'Label data'!E27","v":10},null,null,null,"Frame #",{"$f":"E199","v":10},null,null,null,"Frame #",{"$f":"'Label data'!F27","v":10},null,null,null,"Frame #",{"$f":"O199","v":10}]
[null,null,null,"Top/Left",null,null,null,null,"Bottom/Right",null,null,null,null,"Top/Left",null,null,null,null,"Bottom/Right"]
[{"$f":"'Competitor List'!$B$1","v":"Freedom Benchrest 600 YARD MATCH #1"},null,null,null,null,{"$f":"'Competitor List'!$B$1","v":"Freedom Benchrest 600 YARD MATCH #1"},null,null,null,null,{"$f":"'Competitor List'!$B$1","v":"Freedom Benchrest 600 YARD MATCH #1"},null,null,null,null,{"$f":"'Competitor List'!$B$1","v":"Freedom Benchrest 600 YARD MATCH #1"}]
[{"$f":"'Competitor List'!$B$2","v":"Vapor Trail Valley Spickard, Mo"},null,null,null,null,{"$f":"'Competitor List'!$B$2","v":"Vapor Trail Valley Spickard, Mo"},null,null,null,null,{"$f":"'Competitor List'!$B$2","v":"Vapor Trail Valley Spickard, Mo"},null,null,null,null,{"$f":"'Competitor List'!$B$2","v":"Vapor Trail Valley Spickard, Mo"}]
[{"$f":"'Competitor List'!$B$3","v":"2023-03-15"},null,null,null,null,{"$f":"'Competitor List'!$B$3","v":"2023-03-15"},null,null,null,null,{"$f":"'Competitor List'!$B$3","v":"2023-03-15"},null,null,null,null,{"$f":"'Competitor List'!$B$3","v":"2023-03-15"}]
["LIGHT GUN",null,"Target #",null,1,"LIGHT GUN",null,"Target #",null,{"$f":"E204+1","v":2},"LIGHT GUN",null,"Target #",null,{"$f":"J204+1","v":3},"LIGHT GUN",null,"Target #",null,{"$f":"O204+1","v":4}]
["Competitor #",null,{"$f":"'Label data'!A28","v":211},null,null,"Competitor #",null,{"$f":"C205","v":211},null,null,"Competitor #",null,{"$f":"H205","v":211},null,null,"Competitor #",null,{"$f":"M205","v":211}]
[]
[null,null,null,"Frame #",{"$f":"'Label data'!E28","v":11},null,null,null,"Frame #",{"$f":"E207","v":11},null,null,null,"Frame #",{"$f":"'Label data'!F28","v":11},null,null,null,"Frame #",{"$f":"O207","v":11}]
[null,null,null,"Top/Left",null,null,null,null,"Bottom/Right",null,null,null,null,"Top/Left",null,null,null,null,"Bottom/Right"]
[{"$f":"'Competitor List'!$B$1","v":"Freedom Benchrest 600 YARD MATCH #1"},null,null,null,null,{"$f":"'Competitor List'!$B$1","v":"Freedom Benchrest 600 YARD MATCH #1"},null,null,null,null,{"$f":"'Competitor List'!$B$1","v":"Freedom Benchrest 600 YARD MATCH #1"},null,null,null,null,{"$f":"'Competitor List'!$B$1","v":"Freedom Benchrest 600 YARD MATCH #1"}]
[{"$f":"'Competitor List'!$B$2","v":"Vapor Trail Valley Spickard, Mo"},null,null,null,null,{"$f":"'Competitor List'!$B$2","v":"Vapor Trail Valley Spickard, Mo"},null,null,null,null,{"$f":"'Competitor List'!$B$2","v":"Vapor Trail Valley Spickard, Mo"},null,null,null,null,{"$f":"'Competitor List'!$B$2","v":"Vapor Trail Valley Spickard, Mo"}]
[{"$f":"'Competitor List'!$B$3","v":"2023-03-15"},null,null,null,null,{"$f":"'Competitor List'!$B$3","v":"2023-03-15"},null,null,null,null,{"$f":"'Competitor List'!$B$3","v":"2023-03-15"},null,null,null,null,{"$f":"'Competitor List'!$B$3","v":"2023-03-15"}]
["LIGHT GUN",null,"Target #",null,1,"LIGHT GUN",null,"Target #",null,{"$f":"E212+1","v":2},"LIGHT GUN",null,"Target #",null,{"$f":"J212+1","v":3},"LIGHT GUN",null,"Target #",null,{"$f":"O212+1","v":4}]
["Competitor #",null,{"$f":"'Label data'!A29","v":212},null,null,"Competitor #",null,{"$f":"C213","v":212},null,null,"Competitor #",null,{"$f":"H213","v":212},null,null,"Competitor #",null,{"$f":"M213","v":212}]
[]
[null,null,null,"Frame #",{"$f":"'Label data'!E29","v":12},null,null,null,"Frame #",{"$f":"E215","v":12},null,null,null,"Frame #",{"$f":"'Label data'!F29","v":12},null,null,null,"Frame #",{"$f":"O215","v":12}]
[null,null,null,"Top/Left",null,null,null,null,"Bottom/Right",null,null,null,null,"Top/Left",null,null,null,null,"Bottom/Right"]
[{"$f":"'Competitor List'!$B$1","v":"Freedom Benchrest 600 YARD MATCH #1"},null,null,null,null,{"$f":"'Competitor List'!$B$1","v":"Freedom Benchrest 600 YARD MATCH #1"},null,null,null,null,{"$f":"'Competitor List'!$B$1","v":"Freedom Benchrest 600 YARD MATCH #1"},null,null,null,null,{"$f":"'Competitor List'!$B$1","v":"Freedom Benchrest 600 YARD MATCH #1"}]
[{"$f":"'Competitor List'!$B$2","v":"Vapor Trail Valley Spickard, Mo"},null,null,null,null,{"$f":"'Competitor List'!$B$2","v":"Vapor Trail Valley Spickard, Mo"},null,null,null,null,{"$f":"'Competitor List'!$B$2","v":"Vapor Trail Valley Spickard, Mo"},null,null,null,null,{"$f":"'Competitor List'!$B$2","v":"Vapor Trail Valley Spickard, Mo"}]
[{"$f":"'Competitor List'!$B$3","v":"2023-03-15"},null,null,null,null,{"$f":"'Competitor List'!$B$3","v":"2023-03-15"},null,null,null,null,{"$f":"'Competitor List'!$B$3","v":"2023-03-15"},null,null,null,null,{"$f":"'Competitor List'!$B$3","v":"2023-03-15"}]
["LIGHT GUN",null,"Target #",null,1,"LIGHT GUN",null,"Target #",null,{"$f":"E220+1","v":2},"LIGHT GUN",null,"Target #",null,{"$f":"J220+1","v":3},"LIGHT GUN",null,"Target #",null,{"$f":"O220+1","v":4}]
["Competitor #",null,{"$f":"'Label data'!A30","v":213},null,null,"Competitor #",null,{"$f":"C221","v":213},null,null,"Competitor #",null,{"$f":"H221","v":213},null,null,"Competitor #",null,{"$f":"M221","v":213}]
[]
[null,null,null,"Frame #",{"$f":"'Label data'!E30","v":13},null,null,null,"Frame #",{"$f":"E223","v":13},null,null,null,"Frame #",{"$f":"'Label data'!F30","v":13},null,null,null,"Frame #",{"$f":"O223","v":13}]
[null,null,null,"Top/Left",null,null,null,null,"Bottom/Right",null,null,null,null,"Top/Left",null,null,null,null,"Bottom/Right"]
[{"$f":"'Competitor List'!$B$1","v":"Freedom Benchrest 600 YARD MATCH #1"},null,null,null,null,{"$f":"'Competitor List'!$B$1","v":"Freedom Benchrest 600 YARD MATCH #1"},null,null,null,null,{"$f":"'Competitor List'!$B$1","v":"Freedom Benchrest 600 YARD MATCH #1"},null,null,null,null,{"$f":"'Competitor List'!$B$1","v":"Freedom Benchrest 600 YARD MATCH #1"}]
[{"$f":"'Competitor List'!$B$2","v":"Vapor Trail Valley Spickard, Mo"},null,null,null,null,{"$f":"'Competitor List'!$B$2","v":"Vapor Trail Valley Spickard, Mo"},null,null,null,null,{"$f":"'Competitor List'!$B$2","v":"Vapor Trail Valley Spickard, Mo"},null,null,null,null,{"$f":"'Competitor List'!$B$2","v":"Vapor Trail Valley Spickard, Mo"}]
[{"$f":"'Competitor List'!$B$3","v":"2023-03-15"},null,null,null,null,{"$f":"'Competitor List'!$B$3","v":"2023-03-15"},null,null,null,null,{"$f":"'Competitor List'!$B$3","v":"2023-03-15"},null,null,null,null,{"$f":"'Competitor List'!$B$3","v":"2023-03-15"}]
["LIGHT GUN",null,"Target #",null,1,"LIGHT GUN",null,"Target #",null,{"$f":"E228+1","v":2},"LIGHT GUN",null,"Target #",null,{"$f":"J228+1","v":3},"LIGHT GUN",null,"Target #",null,{"$f":"O228+1","v":4}]
["Competitor #",null,{"$f":"'Label data'!A31","v":214},null,null,"Competitor #",null,{"$f":"C229","v":214},null,null,"Competitor #",null,{"$f":"H229","v":214},null,null,"Competitor #",null,{"$f":"M229","v":214}]
[]
[null,null,null,"Frame #",{"$f":"'Label data'!E31","v":14},null,null,null,"Frame #",{"$f":"E231","v":14},null,null,null,"Frame #",{"$f":"'Label data'!F31","v":14},null,null,null,"Frame #",{"$f":"O231","v":14}]
[null,null,null,"Top/Left",null,null,null,null,"Bottom/Right",null,null,null,null,"Top/Left",null,null,null,null,"Bottom/Right"]
[{"$f":"'Competitor List'!$B$1","v":"Freedom Benchrest 600 YARD MATCH #1"},null,null,null,null,{"$f":"'Competitor List'!$B$1","v":"Freedom Benchrest 600 YARD MATCH #1"},null,null,null,null,{"$f":"'Competitor List'!$B$1","v":"Freedom Benchrest 600 YARD MATCH #1"},null,null,null,null,{"$f":"'Competitor List'!$B$1","v":"Freedom Benchrest 600 YARD MATCH #1"}]
[{"$f":"'Competitor List'!$B$2","v":"Vapor Trail Valley Spickard, Mo"},null,null,null,null,{"$f":"'Competitor List'!$B$2","v":"Vapor Trail Valley Spickard, Mo"},null,null,null,null,{"$f":"'Competitor List'!$B$2","v":"Vapor Trail Valley Spickard, Mo"},null,null,null,null,{"$f":"'Competitor List'!$B$2","v":"Vapor Trail Valley Spickard, Mo"}]
[{"$f":"'Competitor List'!$B$3","v":"2023-03-15"},null,null,null,null,{"$f":"'Competitor List'!$B$3","v":"2023-03-15"},null,null,null,null,{"$f":"'Competitor List'!$B$3","v":"2023-03-15"},null,null,null,null,{"$f":"'Competitor List'!$B$3","v":"2023-03-15"}]
["LIGHT GUN",null,"Target #",null,1,"LIGHT GUN",null,"Target #",null,{"$f":"E236+1","v":2},"LIGHT GUN",null,"Target #",null,{"$f":"J236+1","v":3},"LIGHT GUN",null,"Target #",null,{"$f":"O236+1","v":4}]
["Competitor #",null,{"$f":"'Label data'!A32","v":215},null,null,"Competitor #",null,{"$f":"C237","v":215},null,null,"Competitor #",null,{"$f":"H237","v":215},null,null,"Competitor #",null,{"$f":"M237","v":215}]
[]
[null,null,null,"Frame #",{"$f":"'Label data'!E32","v":15},null,null,null,"Frame #",{"$f":"E239","v":15},null,null,null,"Frame #",{"$f":"'Label data'!F32","v":15},null,null,null,"Frame #",{"$f":"O239","v":15}]
[null,null,null,"Top/Left",null,null,null,null,"Bottom/Right",null,null,null,null,"Top/Left",null,null,null,null,"Bottom/Right"]
[{"$f":"'Competitor List'!$B$1","v":"Freedom Benchrest 600 YARD MATCH #1"},null,null,null,null,{"$f":"'Competitor List'!$B$1","v":"Freedom Benchrest 600 YARD MATCH #1"},null,null,null,null,{"$f":"'Competitor List'!$B$1","v":"Freedom Benchrest 600 YARD MATCH #1"},null,null,null,null,{"$f":"'Competitor List'!$B$1","v":"Freedom Benchrest 600 YARD MATCH #1"}]
[{"$f":"'Competitor List'!$B$2","v":"Vapor Trail Valley Spickard, Mo"},null,null,null,null,{"$f":"'Competitor List'!$B$2","v":"Vapor Trail Valley Spickard, Mo"},null,null,null,null,{"$f":"'Competitor List'!$B$2","v":"Vapor Trail Valley Spickard, Mo"},null,null,null,null,{"$f":"'Competitor List'!$B$2","v":"Vapor Trail Valley Spickard, Mo"}]
[{"$f":"'Competitor List'!$B$3","v":"2023-03-15"},null,null,null,null,{"$f":"'Competitor List'!$B$3","v":"2023-03-15"},null,null,null,null,{"$f":"'Competitor List'!$B$3","v":"2023-03-15"},null,null,null,null,{"$f":"'Competitor List'!$B$3","v":"2023-03-15"}]
["LIGHT GUN",null,"Target #",null,1,"LIGHT GUN",null,"Target #",null,{"$f":"E244+1","v":2},"LIGHT GUN",null,"Target #",null,{"$f":"J244+1","v":3},"LIGHT GUN",null,"Target #",null,{"$f":"O244+1","v":4}]
["Competitor #",null,{"$f":"'Label data'!A33","v":301},null,null,"Competitor #",null,{"$f":"C245","v":301},null,null,"Competitor #",null,{"$f":"H245","v":301},null,null,"Competitor #",null,{"$f":"M245","v":301}]
[]
[null,null,null,"Frame #",{"$f":"'Label data'!E33","v":1},null,null,null,"Frame #",{"$f":"E247","v":1},null,null,null,"Frame #",{"$f":"'Label data'!F33","v":1},null,null,null,"Frame #",{"$f":"O247","v":1}]
[null,null,null,"Top/Left",null,null,null,null,"Bottom/Right",null,null,null,null,"Top/Left",null,null,null,null,"Bottom/Right"]
[{"$f":"'Competitor List'!$B$1","v":"Freedom Benchrest 600 YARD MATCH #1"},null,null,null,null,{"$f":"'Competitor List'!$B$1","v":"Freedom Benchrest 600 YARD MATCH #1"},null,null,null,null,{"$f":"'Competitor List'!$B$1","v":"Freedom Benchrest 600 YARD MATCH #1"},null,null,null,null,{"$f":"'Competitor List'!$B$1","v":"Freedom Benchrest 600 YARD MATCH #1"}]
[{"$f":"'Competitor List'!$B$2","v":"Vapor Trail Valley Spickard, Mo"},null,null,null,null,{"$f":"'Competitor List'!$B$2","v":"Vapor Trail Valley Spickard, Mo"},null,null,null,null,{"$f":"'Competitor List'!$B$2","v":"Vapor Trail Valley Spickard, Mo"},null,null,null,null,{"$f":"'Competitor List'!$B$2","v":"Vapor Trail Valley Spickard, Mo"}]
[{"$f":"'Competitor List'!$B$3","v":"2023-03-15"},null,null,null,null,{"$f":"'Competitor List'!$B$3","v":"2023-03-15"},null,null,null,null,{"$f":"'Competitor List'!$B$3","v":"2023-03-15"},null,null,null,null,{"$f":"'Competitor List'!$B$3","v":"2023-03-15"}]
["LIGHT GUN",null,"Target #",null,1,"LIGHT GUN",null,"Target #",null,{"$f":"E252+1","v":2},"LIGHT GUN",null,"Target #",null,{"$f":"J252+1","v":3},"LIGHT GUN",null,"Target #",null,{"$f":"O252+1","v":4}]
["Competitor #",null,{"$f":"'Label data'!A34","v":302},null,null,"Competitor #",null,{"$f":"C253","v":302},null,null,"Competitor #",null,{"$f":"H253","v":302},null,null,"Competitor #",null,{"$f":"M253","v":302}]
[]
[null,null,null,"Frame #",{"$f":"'Label data'!E34","v":2},null,null,null,"Frame #",{"$f":"E255","v":2},null,null,null,"Frame #",{"$f":"'Label data'!F34","v":2},null,null,null,"Frame #",{"$f":"O255","v":2}]
[null,null,null,"Top/Left",null,null,null,null,"Bottom/Right",null,null,null,null,"Top/Left",null,null,null,null,"Bottom/Right"]
[{"$f":"'Competitor List'!$B$1","v":"Freedom Benchrest 600 YARD MATCH #1"},null,null,null,null,{"$f":"'Competitor List'!$B$1","v":"Freedom Benchrest 600 YARD MATCH #1"},null,null,null,null,{"$f":"'Competitor List'!$B$1","v":"Freedom Benchrest 600 YARD MATCH #1"},null,null,null,null,{"$f":"'Competitor List'!$B$1","v":"Freedom Benchrest 600 YARD MATCH #1"}]
[{"$f":"'Competitor List'!$B$2","v":"Vapor Trail Valley Spickard, Mo"},null,null,null,null,{"$f":"'Competitor List'!$B$2","v":"Vapor Trail Valley Spickard, Mo"},null,null,null,null,{"$f":"'Competitor List'!$B$2","v":"Vapor Trail Valley Spickard, Mo"},null,null,null,null,{"$f":"'Competitor List'!$B$2","v":"Vapor Trail Valley Spickard, Mo"}]
[{"$f":"'Competitor List'!$B$3","v":"2023-03-15"},null,null,null,null,{"$f":"'Competitor List'!$B$3","v":"2023-03-15"},null,null,null,null,{"$f":"'Competitor List'!$B$3","v":"2023-03-15"},null,null,null,null,{"$f":"'Competitor List'!$B$3","v":"2023-03-15"}]
["LIGHT GUN",null,"Target #",null,1,"LIGHT GUN",null,"Target #",null,{"$f":"E260+1","v":2},"LIGHT GUN",null,"Target #",null,{"$f":"J260+1","v":3},"LIGHT GUN",null,"Target #",null,{"$f":"O260+1","v":4}]
["Competitor #",null,{"$f":"'Label data'!A35","v":303},null,null,"Competitor #",null,{"$f":"C261","v":303},null,null,"Competitor #",null,{"$f":"H261","v":303},null,null,"Competitor #",null,{"$f":"M261","v":303}]
[]
[null,null,null,"Frame #",{"$f":"'Label data'!E35","v":3},null,null,null,"Frame #",{"$f":"E263","v":3},null,null,null,"Frame #",{"$f":"'Label data'!F35","v":3},null,null,null,"Frame #",{"$f":"O263","v":3}]
[null,null,null,"Top/Left",null,null,null,null,"Bottom/Right",null,null,null,null,"Top/Left",null,null,null,null,"Bottom/Right"]
[{"$f":"'Competitor List'!$B$1","v":"Freedom Benchrest 600 YARD MATCH #1"},null,null,null,null,{"$f":"'Competitor List'!$B$1","v":"Freedom Benchrest 600 YARD MATCH #1"},null,null,null,null,{"$f":"'Competitor List'!$B$1","v":"Freedom Benchrest 600 YARD MATCH #1"},null,null,null,null,{"$f":"'Competitor List'!$B$1","v":"Freedom Benchrest 600 YARD MATCH #1"}]
[{"$f":"'Competitor List'!$B$2","v":"Vapor Trail Valley Spickard, Mo"},null,null,null,null,{"$f":"'Competitor List'!$B$2","v":"Vapor Trail Valley Spickard, Mo"},null,null,null,null,{"$f":"'Competitor List'!$B$2","v":"Vapor Trail Valley Spickard, Mo"},null,null,null,null,{"$f":"'Competitor List'!$B$2","v":"Vapor Trail Valley Spickard, Mo"}]
[{"$f":"'Competitor List'!$B$3","v":"2023-03-15"},null,null,null,null,{"$f":"'Competitor List'!$B$3","v":"2023-03-15"},null,null,null,null,{"$f":"'Competitor List'!$B$3","v":"2023-03-15"},null,null,null,null,{"$f":"'Competitor List'!$B$3","v":"2023-03-15"}]
["LIGHT GUN",null,"Target #",null,1,"LIGHT GUN",null,"Target #",null,{"$f":"E268+1","v":2},"LIGHT GUN",null,"Target #",null,{"$f":"J268+1","v":3},"LIGHT GUN",null,"Target #",null,{"$f":"O268+1","v":4}]
["Competitor #",null,{"$f":"'Label data'!A36","v":304},null,null,"Competitor #",null,{"$f":"C269","v":304},null,null,"Competitor #",null,{"$f":"H269","v":304},null,null,"Competitor #",null,{"$f":"M269","v":304}]
[]
[null,null,null,"Frame #",{"$f":"'Label data'!E36","v":4},null,null,null,"Frame #",{"$f":"E271","v":4},null,null,null,"Frame #",{"$f":"'Label data'!F36","v":4},null,null,null,"Frame #",{"$f":"O271","v":4}]
[null,null,null,"Top/Left",null,null,null,null,"Bottom/Right",null,null,null,null,"Top/Left",null,null,null,null,"Bottom/Right"]
[{"$f":"'Competitor List'!$B$1","v":"Freedom Benchrest 600 YARD MATCH #1"},null,null,null,null,{"$f":"'Competitor List'!$B$1","v":"Freedom Benchrest 600 YARD MATCH #1"},null,null,null,null,{"$f":"'Competitor List'!$B$1","v":"Freedom Benchrest 600 YARD MATCH #1"},null,null,null,null,{"$f":"'Competitor List'!$B$1","v":"Freedom Benchrest 600 YARD MATCH #1"}]
[{"$f":"'Competitor List'!$B$2","v":"Vapor Trail Valley Spickard, Mo"},null,null,null,null,{"$f":"'Competitor List'!$B$2","v":"Vapor Trail Valley Spickard, Mo"},null,null,null,null,{"$f":"'Competitor List'!$B$2","v":"Vapor Trail Valley Spickard, Mo"},null,null,null,null,{"$f":"'Competitor List'!$B$2","v":"Vapor Trail Valley Spickard, Mo"}]
[{"$f":"'Competitor List'!$B$3","v":"2023-03-15"},null,null,null,null,{"$f":"'Competitor List'!$B$3","v":"2023-03-15"},null,null,null,null,{"$f":"'Competitor List'!$B$3","v":"2023-03-15"},null,null,null,null,{"$f":"'Competitor List'!$B$3","v":"2023-03-15"}]
["LIGHT GUN",null,"Target #",null,1,"LIGHT GUN",null,"Target #",null,{"$f":"E276+1","v":2},"LIGHT GUN",null,"Target #",null,{"$f":"J276+1","v":3},"LIGHT GUN",null,"Target #",null,{"$f":"O276+1","v":4}]
["Competitor #",null,{"$f":"'Label data'!A37","v":305},null,null,"Competitor #",null,{"$f":"C277","v":305},null,null,"Competitor #",null,{"$f":"H277","v":305},null,null,"Competitor #",null,{"$f":"M277","v":305}]
[]
[null,null,null,"Frame #",{"$f":"'Label data'!E37","v":5},null,null,null,"Frame #",{"$f":"E279","v":5},null,null,null,"Frame #",{"$f":"'Label data'!F37","v":5},null,null,null,"Frame #",{"$f":"O279","v":5}]
[null,null,null,"Top/Left",null,null,null,null,"Bottom/Right",null,null,null,null,"Top/Left",null,null,null,null,"Bottom/Right"]
[{"$f":"'Competitor List'!$B$1","v":"Freedom Benchrest 600 YARD MATCH #1"},null,null,null,null,{"$f":"'Competitor List'!$B$1","v":"Freedom Benchrest 600 YARD MATCH #1"},null,null,null,null,{"$f":"'Competitor List'!$B$1","v":"Freedom Benchrest 600 YARD MATCH #1"},null,null,null,null,{"$f":"'Competitor List'!$B$1","v":"Freedom Benchrest 600 YARD MATCH #1"}]
[{"$f":"'Competitor List'!$B$2","v":"Vapor Trail Valley Spickard, Mo"},null,null,null,null,{"$f":"'Competitor List'!$B$2","v":"Vapor Trail Valley Spickard, Mo"},null,null,null,null,{"$f":"'Competitor List'!$B$2","v":"Vapor Trail Valley Spickard, Mo"},null,null,null,null,{"$f":"'Competitor List'!$B$2","v":"Vapor Trail Valley Spickard, Mo"}]
[{"$f":"'Competitor List'!$B$3","v":"2023-03-15"},null,null,null,null,{"$f":"'Competitor List'!$B$3","v":"2023-03-15"},null,null,null,null,{"$f":"'Competitor List'!$B$3","v":"2023-03-15"},null,null,null,null,{"$f":"'Competitor List'!$B$3","v":"2023-03-15"}]
["LIGHT GUN",null,"Target #",null,1,"LIGHT GUN",null,"Target #",null,{"$f":"E284+1","v":2},"LIGHT GUN",null,"Target #",null,{"$f":"J284+1","v":3},"LIGHT GUN",null,"Target #",null,{"$f":"O284+1","v":4}]
["Competitor #",null,{"$f":"'Label data'!A38","v":306},null,null,"Competitor #",null,{"$f":"C285","v":306},null,null,"Competitor #",null,{"$f":"H285","v":306},null,null,"Competitor #",null,{"$f":"M285","v":306}]
[]
[null,null,null,"Frame #",{"$f":"'Label data'!E38","v":6},null,null,null,"Frame #",{"$f":"E287","v":6},null,null,null,"Frame #",{"$f":"'Label data'!F38","v":6},null,null,null,"Frame #",{"$f":"O287","v":6}]
[null,null,null,"Top/Left",null,null,null,null,"Bottom/Right",null,null,null,null,"Top/Left",null,null,null,null,"Bottom/Right"]
[{"$f":"'Competitor List'!$B$1","v":"Freedom Benchrest 600 YARD MATCH #1"},null,null,null,null,{"$f":"'Competitor List'!$B$1","v":"Freedom Benchrest 600 YARD MATCH #1"},null,null,null,null,{"$f":"'Competitor List'!$B$1","v":"Freedom Benchrest 600 YARD MATCH #1"},null,null,null,null,{"$f":"'Competitor List'!$B$1","v":"Freedom Benchrest 600 YARD MATCH #1"}]
[{"$f":"'Competitor List'!$B$2","v":"Vapor Trail Valley Spickard, Mo"},null,null,null,null,{"$f":"'Competitor List'!$B$2","v":"Vapor Trail Valley Spickard, Mo"},null,null,null,null,{"$f":"'Competitor List'!$B$2","v":"Vapor Trail Valley Spickard, Mo"},null,null,null,null,{"$f":"'Competitor List'!$B$2","v":"Vapor Trail Valley Spickard, Mo"}]
[{"$f":"'Competitor List'!$B$3","v":"2023-03-15"},null,null,null,null,{"$f":"'Competitor List'!$B$3","v":"2023-03-15"},null,null,null,null,{"$f":"'Competitor List'!$B$3","v":"2023-03-15"},null,null,null,null,{"$f":"'Competitor List'!$B$3","v":"2023-03-15"}]
["LIGHT GUN",null,"Target #",null,1,"LIGHT GUN",null,"Target #",null,{"$f":"E292+1","v":2},"LIGHT GUN",null,"Target #",null,{"$f":"J292+1","v":3},"LIGHT GUN",null,"Target #",null,{"$f":"O292+1","v":4}]
["Competitor #",null,{"$f":"'Label data'!A39","v":307},null,null,"Competitor #",null,{"$f":"C293","v":307},null,null,"Competitor #",null,{"$f":"H293","v":307},null,null,"Competitor #",null,{"$f":"M293","v":307}]
[]
[null,null,null,"Frame #",{"$f":"'Label data'!E39","v":7},null,null,null,"Frame #",{"$f":"E295","v":7},null,null,null,"Frame #",{"$f":"'Label data'!F39","v":7},null,null,null,"Frame #",{"$f":"O295","v":7}]
[null,null,null,"Top/Left",null,null,null,null,"Bottom/Right",null,null,null,null,"Top/Left",null,null,null,null,"Bottom/Right"]
[{"$f":"'Competitor List'!$B$1","v":"Freedom Benchrest 600 YARD MATCH #1"},null,null,null,null,{"$f":"'Competitor List'!$B$1","v":"Freedom Benchrest 600 YARD MATCH #1"},null,null,null,null,{"$f":"'Competitor List'!$B$1","v":"Freedom Benchrest 600 YARD MATCH #1"},null,null,null,null,{"$f":"'Competitor List'!$B$1","v":"Freedom Benchrest 600 YARD MATCH #1"}]
[{"$f":"'Competitor List'!$B$2","v":"Vapor Trail Valley Spickard, Mo"},null,null,null,null,{"$f":"'Competitor List'!$B$2","v":"Vapor Trail Valley Spickard, Mo"},null,null,null,null,{"$f":"'Competitor List'!$B$2","v":"Vapor Trail Valley Spickard, Mo"},null,null,null,null,{"$f":"'Competitor List'!$B$2","v":"Vapor Trail Valley Spickard, Mo"}]
[{"$f":"'Competitor List'!$B$3","v":"2023-03-15"},null,null,null,null,{"$f":"'Competitor List'!$B$3","v":"2023-03-15"},null,null,null,null,{"$f":"'Competitor List'!$B$3","v":"2023-03-15"},null,null,null,null,{"$f":"'Competitor List'!$B$3","v":"2023-03-15"}]
["LIGHT GUN",null,"Target #",null,1,"LIGHT GUN",null,"Target #",null,{"$f":"E300+1","v":2},"LIGHT GUN",null,"Target #",null,{"$f":"J300+1","v":3},"LIGHT GUN",null,"Target #",null,{"$f":"O300+1","v":4}]
["Competitor #",null,{"$f":"'Label data'!A40","v":308},null,null,"Competitor #",null,{"$f":"C301","v":308},null,null,"Competitor #",null,{"$f":"H301","v":308},null,null,"Competitor #",null,{"$f":"M301","v":308}]
[]
[null,null,null,"Frame #",{"$f":"'Label data'!E40","v":8},null,null,null,"Frame #",{"$f":"E303","v":8},null,null,null,"Frame #",{"$f":"'Label data'!F40","v":8},null,null,null,"Frame #",{"$f":"O303","v":8}]
[null,null,null,"Top/Left",null,null,null,null,"Bottom/Right",null,null,null,null,"Top/Left",null,null,null,null,"Bottom/Right"]
[{"$f":"'Competitor List'!$B$1","v":"Freedom Benchrest 600 YARD MATCH #1"},null,null,null,null,{"$f":"'Competitor List'!$B$1","v":"Freedom Benchrest 600 YARD MATCH #1"},null,null,null,null,{"$f":"'Competitor List'!$B$1","v":"Freedom Benchrest 600 YARD MATCH #1"},null,null,null,null,{"$f":"'Competitor List'!$B$1","v":"Freedom Benchrest 600 YARD MATCH #1"}]
[{"$f":"'Competitor List'!$B$2","v":"Vapor Trail Valley Spickard, Mo"},null,null,null,null,{"$f":"'Competitor List'!$B$2","v":"Vapor Trail Valley Spickard, Mo"},null,null,null,null,{"$f":"'Competitor List'!$B$2","v":"Vapor Trail Valley Spickard, Mo"},null,null,null,null,{"$f":"'Competitor List'!$B$2","v":"Vapor Trail Valley Spickard, Mo"}]
[{"$f":"'Competitor List'!$B$3","v":"2023-03-15"},null,null,null,null,{"$f":"'Competitor List'!$B$3","v":"2023-03-15"},null,null,null,null,{"$f":"'Competitor List'!$B$3","v":"2023-03-15"},null,null,null,null,{"$f":"'Competitor List'!$B$3","v":"2023-03-15"}]
["LIGHT GUN",null,"Target #",null,1,"LIGHT GUN",null,"Target #",null,{"$f":"E308+1","v":2},"LIGHT GUN",null,"Target #",null,{"$f":"J308+1","v":3},"LIGHT GUN",null,"Target #",null,{"$f":"O308+1","v":4}]
["Competitor #",null,{"$f":"'Label data'!A41","v":309},null,null,"Competitor #",null,{"$f":"C309","v":309},null,null,"Competitor #",null,{"$f":"H309","v":309},null,null,"Competitor #",null,{"$f":"M309","v":309}]
[]
[null,null,null,"Frame #",{"$f":"'Label data'!E41","v":9},null,null,null,"Frame #",{"$f":"E311","v":9},null,null,null,"Frame #",{"$f":"'Label data'!F41","v":9},null,null,null,"Frame #",{"$f":"O311","v":9}]
[null,null,null,"Top/Left",null,null,null,null,"Bottom/Right",null,null,null,null,"Top/Left",null,null,null,null,"Bottom/Right"]
[{"$f":"'Competitor List'!$B$1","v":"Freedom Benchrest 600 YARD MATCH #1"},null,null,null,null,{"$f":"'Competitor List'!$B$1","v":"Freedom Benchrest 600 YARD MATCH #1"},null,null,null,null,{"$f":"'Competitor List'!$B$1","v":"Freedom Benchrest 600 YARD MATCH #1"},null,null,null,null,{"$f":"'Competitor List'!$B$1","v":"Freedom Benchrest 600 YARD MATCH #1"}]
[{"$f":"'Competitor List'!$B$2","v":"Vapor Trail Valley Spickard, Mo"},null,null,null,null,{"$f":"'Competitor List'!$B$2","v":"Vapor Trail Valley Spickard, Mo"},null,null,null,null,{"$f":"'Competitor List'!$B$2","v":"Vapor Trail Valley Spickard, Mo"},null,null,null,null,{"$f":"'Competitor List'!$B$2","v":"Vapor Trail Valley Spickard, Mo"}]
[{"$f":"'Competitor List'!$B$3","v":"2023-03-15"},null,null,null,null,{"$f":"'Competitor List'!$B$3","v":"2023-03-15"},null,null,null,null,{"$f":"'Competitor List'!$B$3","v":"2023-03-15"},null,null,null,null,{"$f":"'Competitor List'!$B$3","v":"2023-03-15"}]
["LIGHT GUN",null,"Target #",null,1,"LIGHT GUN",null,"Target #",null,{"$f":"E316+1","v":2},"LIGHT GUN",null,"Target #",null,{"$f":"J316+1","v":3},"LIGHT GUN",null,"Target #",null,{"$f":"O316+1","v":4}]
["Competitor #",null,{"$f":"'Label data'!A42","v":310},null,null,"Competitor #",null,{"$f":"C317","v":310},null,null,"Competitor #",null,{"$f":"H317","v":310},null,null,"Competitor #",null,{"$f":"M317","v":310}]
[]
[null,null,null,"Frame #",{"$f":"'Label data'!E42","v":10},null,null,null,"Frame #",{"$f":"E319","v":10},null,null,null,"Frame #",{"$f":"'Label data'!F42","v":10},null,null,null,"Frame #",{"$f":"O319","v":10}]
[null,null,null,"Top/Left",null,null,null,null,"Bottom/Right",null,null,null,null,"Top/Left",null,null,null,null,"Bottom/Right"]
[{"$f":"'Competitor List'!$B$1","v":"Freedom Benchrest 600 YARD MATCH #1"},null,null,null,null,{"$f":"'Competitor List'!$B$1","v":"Freedom Benchrest 600 YARD MATCH #1"},null,null,null,null,{"$f":"'Competitor List'!$B$1","v":"Freedom Benchrest 600 YARD MATCH #1"},null,null,null,null,{"$f":"'Competitor List'!$B$1","v":"Freedom Benchrest 600 YARD MATCH #1"}]
[{"$f":"'Competitor List'!$B$2","v":"Vapor Trail Valley Spickard, Mo"},null,null,null,null,{"$f":"'Competitor List'!$B$2","v":"Vapor Trail Valley Spickard, Mo"},null,null,null,null,{"$f":"'Competitor List'!$B$2","v":"Vapor Trail Valley Spickard, Mo"},null,null,null,null,{"$f":"'Competitor List'!$B$2","v":"Vapor Trail Valley Spickard, Mo"}]
[{"$f":"'Competitor List'!$B$3","v":"2023-03-15"},null,null,null,null,{"$f":"'Competitor List'!$B$3","v":"2023-03-15"},null,null,null,null,{"$f":"'Competitor List'!$B$3","v":"2023-03-15"},null,null,null,null,{"$f":"'Competitor List'!$B$3","v":"2023-03-15"}]
["LIGHT GUN",null,"Target #",null,1,"LIGHT GUN",null,"Target #",null,{"$f":"E324+1","v":2},"LIGHT GUN",null,"Target #",null,{"$f":"J324+1","v":3},"LIGHT GUN",null,"Target #",null,{"$f":"O324+1","v":4}]
["Competitor #",null,{"$f":"'Label data'!A43","v":311},null,null,"Competitor #",null,{"$f":"C325","v":311},null,null,"Competitor #",null,{"$f":"H325","v":311},null,null,"Competitor #",null,{"$f":"M325","v":311}]
[]
[null,null,null,"Frame #",{"$f":"'Label data'!E43","v":11},null,null,null,"Frame #",{"$f":"E327","v":11},null,null,null,"Frame #",{"$f":"'Label data'!F43","v":11},null,null,null,"Frame #",{"$f":"O327","v":11}]
[null,null,null,"Top/Left",null,null,null,null,"Bottom/Right",null,null,null,null,"Top/Left",null,null,null,null,"Bottom/Right"]
[{"$f":"'Competitor List'!$B$1","v":"Freedom Benchrest 600 YARD MATCH #1"},null,null,null,null,{"$f":"'Competitor List'!$B$1","v":"Freedom Benchrest 600 YARD MATCH #1"},null,null,null,null,{"$f":"'Competitor List'!$B$1","v":"Freedom Benchrest 600 YARD MATCH #1"},null,null,null,null,{"$f":"'Competitor List'!$B$1","v":"Freedom Benchrest 600 YARD MATCH #1"}]
[{"$f":"'Competitor List'!$B$2","v":"Vapor Trail Valley Spickard, Mo"},null,null,null,null,{"$f":"'Competitor List'!$B$2","v":"Vapor Trail Valley Spickard, Mo"},null,null,null,null,{"$f":"'Competitor List'!$B$2","v":"Vapor Trail Valley Spickard, Mo"},null,null,null,null,{"$f":"'Competitor List'!$B$2","v":"Vapor Trail Valley Spickard, Mo"}]
[{"$f":"'Competitor List'!$B$3","v":"2023-03-15"},null,null,null,null,{"$f":"'Competitor List'!$B$3","v":"2023-03-15"},null,null,null,null,{"$f":"'Competitor List'!$B$3","v":"2023-03-15"},null,null,null,null,{"$f":"'Competitor List'!$B$3","v":"2023-03-15"}]
["LIGHT GUN",null,"Target #",null,1,"LIGHT GUN",null,"Target #",null,{"$f":"E332+1","v":2},"LIGHT GUN",null,"Target #",null,{"$f":"J332+1","v":3},"LIGHT GUN",null,"Target #",null,{"$f":"O332+1","v":4}]
["Competitor #",null,{"$f":"'Label data'!A44","v":312},null,null,"Competitor #",null,{"$f":"C333","v":312},null,null,"Competitor #",null,{"$f":"H333","v":312},null,null,"Competitor #",null,{"$f":"M333","v":312}]
[]
[null,null,null,"Frame #",{"$f":"'Label data'!E44","v":12},null,null,null,"Frame #",{"$f":"E335","v":12},null,null,null,"Frame #",{"$f":"'Label data'!F44","v":12},null,null,null,"Frame #",{"$f":"O335","v":12}]
[null,null,null,"Top/Left",null,null,null,null,"Bottom/Right",null,null,null,null,"Top/Left",null,null,null,null,"Bottom/Right"]
[{"$f":"'Competitor List'!$B$1","v":"Freedom Benchrest 600 YARD MATCH #1"},null,null,null,null,{"$f":"'Competitor List'!$B$1","v":"Freedom Benchrest 600 YARD MATCH #1"},null,null,null,null,{"$f":"'Competitor List'!$B$1","v":"Freedom Benchrest 600 YARD MATCH #1"},null,null,null,null,{"$f":"'Competitor List'!$B$1","v":"Freedom Benchrest 600 YARD MATCH #1"}]
[{"$f":"'Competitor List'!$B$2","v":"Vapor Trail Valley Spickard, Mo"},null,null,null,null,{"$f":"'Competitor List'!$B$2","v":"Vapor Trail Valley Spickard, Mo"},null,null,null,null,{"$f":"'Competitor List'!$B$2","v":"Vapor Trail Valley Spickard, Mo"},null,null,null,null,{"$f":"'Competitor List'!$B$2","v":"Vapor Trail Valley Spickard, Mo"}]
[{"$f":"'Competitor List'!$B$3","v":"2023-03-15"},null,null,null,null,{"$f":"'Competitor List'!$B$3","v":"2023-03-15"},null,null,null,null,{"$f":"'Competitor List'!$B$3","v":"2023-03-15"},null,null,null,null,{"$f":"'Competitor List'!$B$3","v":"2023-03-15"}]
["LIGHT GUN",null,"Target #",null,1,"LIGHT GUN",null,"Target #",null,{"$f":"E340+1","v":2},"LIGHT GUN",null,"Target #",null,{"$f":"J340+1","v":3},"LIGHT GUN",null,"Target #",null,{"$f":"O340+1","v":4}]
["Competitor #",null,{"$f":"'Label data'!A45","v":313},null,null,"Competitor #",null,{"$f":"C341","v":313},null,null,"Competitor #",null,{"$f":"H341","v":313},null,null,"Competitor #",null,{"$f":"M341","v":313}]
[]
[null,null,null,"Frame #",{"$f":"'Label data'!E45","v":13},null,null,null,"Frame #",{"$f":"E343","v":13},null,null,null,"Frame #",{"$f":"'Label data'!F45","v":13},null,null,null,"Frame #",{"$f":"O343","v":13}]
[null,null,null,"Top/Left",null,null,null,null,"Bottom/Right",null,null,null,null,"Top/Left",null,null,null,null,"Bottom/Right"]
[{"$f":"'Competitor List'!$B$1","v":"Freedom Benchrest 600 YARD MATCH #1"},null,null,null,null,{"$f":"'Competitor List'!$B$1","v":"Freedom Benchrest 600 YARD MATCH #1"},null,null,null,null,{"$f":"'Competitor List'!$B$1","v":"Freedom Benchrest 600 YARD MATCH #1"},null,null,null,null,{"$f":"'Competitor List'!$B$1","v":"Freedom Benchrest 600 YARD MATCH #1"}]
[{"$f":"'Competitor List'!$B$2","v":"Vapor Trail Valley Spickard, Mo"},null,null,null,null,{"$f":"'Competitor List'!$B$2","v":"Vapor Trail Valley Spickard, Mo"},null,null,null,null,{"$f":"'Competitor List'!$B$2","v":"Vapor Trail Valley Spickard, Mo"},null,null,null,null,{"$f":"'Competitor List'!$B$2","v":"Vapor Trail Valley Spickard, Mo"}]
[{"$f":"'Competitor List'!$B$3","v":"2023-03-15"},null,null,null,null,{"$f":"'Competitor List'!$B$3","v":"2023-03-15"},null,null,null,null,{"$f":"'Competitor List'!$B$3","v":"2023-03-15"},null,null,null,null,{"$f":"'Competitor List'!$B$3","v":"2023-03-15"}]
["LIGHT GUN",null,"Target #",null,1,"LIGHT GUN",null,"Target #",null,{"$f":"E348+1","v":2},"LIGHT GUN",null,"Target #",null,{"$f":"J348+1","v":3},"LIGHT GUN",null,"Target #",null,{"$f":"O348+1","v":4}]
["Competitor #",null,{"$f":"'Label data'!A46","v":314},null,null,"Competitor #",null,{"$f":"C349","v":314},null,null,"Competitor #",null,{"$f":"H349","v":314},null,null,"Competitor #",null,{"$f":"M349","v":314}]
[]
[null,null,null,"Frame #",{"$f":"'Label data'!E46","v":14},null,null,null,"Frame #",{"$f":"E351","v":14},null,null,null,"Frame #",{"$f":"'Label data'!F46","v":14},null,null,null,"Frame #",{"$f":"O351","v":14}]
[null,null,null,"Top/Left",null,null,null,null,"Bottom/Right",null,null,null,null,"Top/Left",null,null,null,null,"Bottom/Right"]
[{"$f":"'Competitor List'!$B$1","v":"Freedom Benchrest 600 YARD MATCH #1"},null,null,null,null,{"$f":"'Competitor List'!$B$1","v":"Freedom Benchrest 600 YARD MATCH #1"},null,null,null,null,{"$f":"'Competitor List'!$B$1","v":"Freedom Benchrest 600 YARD MATCH #1"},null,null,null,null,{"$f":"'Competitor List'!$B$1","v":"Freedom Benchrest 600 YARD MATCH #1"}]
[{"$f":"'Competitor List'!$B$2","v":"Vapor Trail Valley Spickard, Mo"},null,null,null,null,{"$f":"'Competitor List'!$B$2","v":"Vapor Trail Valley Spickard, Mo"},null,null,null,null,{"$f":"'Competitor List'!$B$2","v":"Vapor Trail Valley Spickard, Mo"},null,null,null,null,{"$f":"'Competitor List'!$B$2","v":"Vapor Trail Valley Spickard, Mo"}]
[{"$f":"'Competitor List'!$B$3","v":"2023-03-15"},null,null,null,null,{"$f":"'Competitor List'!$B$3","v":"2023-03-15"},null,null,null,null,{"$f":"'Competitor List'!$B$3","v":"2023-03-15"},null,null,null,null,{"$f":"'Competitor List'!$B$3","v":"2023-03-15"}]
["LIGHT GUN",null,"Target #",null,1,"LIGHT GUN",null,"Target #",null,{"$f":"E356+1","v":2},"LIGHT GUN",null,"Target #",null,{"$f":"J356+1","v":3},"LIGHT GUN",null,"Target #",null,{"$f":"O356+1","v":4}]
["Competitor #",null,{"$f":"'Label data'!A47","v":315},null,null,"Competitor #",null,{"$f":"C357","v":315},null,null,"Competitor #",null,{"$f":"H357","v":315},null,null,"Competitor #",null,{"$f":"M357","v":315}]
[]
[null,null,null,"Frame #",{"$f":"'Label data'!E47","v":15},null,null,null,"Frame #",{"$f":"E359","v":15},null,null,null,"Frame #",{"$f":"'Label data'!F47","v":15},null,null,null,"Frame #",{"$f":"O359","v":15}]
[null,null,null,"Top/Left",null,null,null,null,"Bottom/Right",null,null,null,null,"Top/Left",null,null,null,null,"Bottom/Right"]
[{"$f":"'Competitor List'!$B$1","v":"Freedom Benchrest 600 YARD MATCH #1"},null,null,null,null,{"$f":"'Competitor List'!$B$1","v":"Freedom Benchrest 600 YARD MATCH #1"},null,null,null,null,{"$f":"'Competitor List'!$B$1","v":"Freedom Benchrest 600 YARD MATCH #1"},null,null,null,null,{"$f":"'Competitor List'!$B$1","v":"Freedom Benchrest 600 YARD MATCH #1"}]
[{"$f":"'Competitor List'!$B$2","v":"Vapor Trail Valley Spickard, Mo"},null,null,null,null,{"$f":"'Competitor List'!$B$2","v":"Vapor Trail Valley Spickard, Mo"},null,null,null,null,{"$f":"'Competitor List'!$B$2","v":"Vapor Trail Valley Spickard, Mo"},null,null,null,null,{"$f":"'Competitor List'!$B$2","v":"Vapor Trail Valley Spickard, Mo"}]
[{"$f":"'Competitor List'!$B$3","v":"2023-03-15"},null,null,null,null,{"$f":"'Competitor List'!$B$3","v":"2023-03-15"},null,null,null,null,{"$f":"'Competitor List'!$B$3","v":"2023-03-15"},null,null,null,null,{"$f":"'Competitor List'!$B$3","v":"2023-03-15"}]
["LIGHT GUN",null,"Target #",null,1,"LIGHT GUN",null,"Target #",null,{"$f":"E364+1","v":2},"LIGHT GUN",null,"Target #",null,{"$f":"J364+1","v":3},"LIGHT GUN",null,"Target #",null,{"$f":"O364+1","v":4}]
["Competitor #",null,{"$f":"'Label data'!A48","v":401},null,null,"Competitor #",null,{"$f":"C365","v":401},null,null,"Competitor #",null,{"$f":"H365","v":401},null,null,"Competitor #",null,{"$f":"M365","v":401}]
[]
[null,null,null,"Frame #",{"$f":"'Label data'!E48","v":1},null,null,null,"Frame #",{"$f":"E367","v":1},null,null,null,"Frame #",{"$f":"'Label data'!F48","v":1},null,null,null,"Frame #",{"$f":"O367","v":1}]
[null,null,null,"Top/Left",null,null,null,null,"Bottom/Right",null,null,null,null,"Top/Left",null,null,null,null,"Bottom/Right"]
[{"$f":"'Competitor List'!$B$1","v":"Freedom Benchrest 600 YARD MATCH #1"},null,null,null,null,{"$f":"'Competitor List'!$B$1","v":"Freedom Benchrest 600 YARD MATCH #1"},null,null,null,null,{"$f":"'Competitor List'!$B$1","v":"Freedom Benchrest 600 YARD MATCH #1"},null,null,null,null,{"$f":"'Competitor List'!$B$1","v":"Freedom Benchrest 600 YARD MATCH #1"}]
[{"$f":"'Competitor List'!$B$2","v":"Vapor Trail Valley Spickard, Mo"},null,null,null,null,{"$f":"'Competitor List'!$B$2","v":"Vapor Trail Valley Spickard, Mo"},null,null,null,null,{"$f":"'Competitor List'!$B$2","v":"Vapor Trail Valley Spickard, Mo"},null,null,null,null,{"$f":"'Competitor List'!$B$2","v":"Vapor Trail Valley Spickard, Mo"}]
[{"$f":"'Competitor List'!$B$3","v":"2023-03-15"},null,null,null,null,{"$f":"'Competitor List'!$B$3","v":"2023-03-15"},null,null,null,null,{"$f":"'Competitor List'!$B$3","v":"2023-03-15"},null,null,null,null,{"$f":"'Competitor List'!$B$3","v":"2023-03-15"}]
["LIGHT GUN",null,"Target #",null,1,"LIGHT GUN",null,"Target #",null,{"$f":"E372+1","v":2},"LIGHT GUN",null,"Target #",null,{"$f":"J372+1","v":3},"LIGHT GUN",null,"Target #",null,{"$f":"O372+1","v":4}]
["Competitor #",null,{"$f":"'Label data'!A49","v":402},null,null,"Competitor #",null,{"$f":"C373","v":402},null,null,"Competitor #",null,{"$f":"H373","v":402},null,null,"Competitor #",null,{"$f":"M373","v":402}]
[]
[null,null,null,"Frame #",{"$f":"'Label data'!E49","v":2},null,null,null,"Frame #",{"$f":"E375","v":2},null,null,null,"Frame #",{"$f":"'Label data'!F49","v":2},null,null,null,"Frame #",{"$f":"O375","v":2}]
[null,null,null,"Top/Left",null,null,null,null,"Bottom/Right",null,null,null,null,"Top/Left",null,null,null,null,"Bottom/Right"]
[{"$f":"'Competitor List'!$B$1","v":"Freedom Benchrest 600 YARD MATCH #1"},null,null,null,null,{"$f":"'Competitor List'!$B$1","v":"Freedom Benchrest 600 YARD MATCH #1"},null,null,null,null,{"$f":"'Competitor List'!$B$1","v":"Freedom Benchrest 600 YARD MATCH #1"},null,null,null,null,{"$f":"'Competitor List'!$B$1","v":"Freedom Benchrest 600 YARD MATCH #1"}]
[{"$f":"'Competitor List'!$B$2","v":"Vapor Trail Valley Spickard, Mo"},null,null,null,null,{"$f":"'Competitor List'!$B$2","v":"Vapor Trail Valley Spickard, Mo"},null,null,null,null,{"$f":"'Competitor List'!$B$2","v":"Vapor Trail Valley Spickard, Mo"},null,null,null,null,{"$f":"'Competitor List'!$B$2","v":"Vapor Trail Valley Spickard, Mo"}]
[{"$f":"'Competitor List'!$B$3","v":"2023-03-15"},null,null,null,null,{"$f":"'Competitor List'!$B$3","v":"2023-03-15"},null,null,null,null,{"$f":"'Competitor List'!$B$3","v":"2023-03-15"},null,null,null,null,{"$f":"'Competitor List'!$B$3","v":"2023-03-15"}]
["LIGHT GUN",null,"Target #",null,1,"LIGHT GUN",null,"Target #",null,{"$f":"E380+1","v":2},"LIGHT GUN",null,"Target #",null,{"$f":"J380+1","v":3},"LIGHT GUN",null,"Target #",null,{"$f":"O380+1","v":4}]
["Competitor #",null,{"$f":"'Label data'!A50","v":403},null,null,"Competitor #",null,{"$f":"C381","v":403},null,null,"Competitor #",null,{"$f":"H381","v":403},null,null,"Competitor #",null,{"$f":"M381","v":403}]
[]
[null,null,null,"Frame #",{"$f":"'Label data'!E50","v":3},null,null,null,"Frame #",{"$f":"E383","v":3},null,null,null,"Frame #",{"$f":"'Label data'!F50","v":3},null,null,null,"Frame #",{"$f":"O383","v":3}]
[null,null,null,"Top/Left",null,null,null,null,"Bottom/Right",null,null,null,null,"Top/Left",null,null,null,null,"Bottom/Right"]
[{"$f":"'Competitor List'!$B$1","v":"Freedom Benchrest 600 YARD MATCH #1"},null,null,null,null,{"$f":"'Competitor List'!$B$1","v":"Freedom Benchrest 600 YARD MATCH #1"},null,null,null,null,{"$f":"'Competitor List'!$B$1","v":"Freedom Benchrest 600 YARD MATCH #1"},null,null,null,null,{"$f":"'Competitor List'!$B$1","v":"Freedom Benchrest 600 YARD MATCH #1"}]
[{"$f":"'Competitor List'!$B$2","v":"Vapor Trail Valley Spickard, Mo"},null,null,null,null,{"$f":"'Competitor List'!$B$2","v":"Vapor Trail Valley Spickard, Mo"},null,null,null,null,{"$f":"'Competitor List'!$B$2","v":"Vapor Trail Valley Spickard, Mo"},null,null,null,null,{"$f":"'Competitor List'!$B$2","v":"Vapor Trail Valley Spickard, Mo"}]
[{"$f":"'Competitor List'!$B$3","v":"2023-03-15"},null,null,null,null,{"$f":"'Competitor List'!$B$3","v":"2023-03-15"},null,null,null,null,{"$f":"'Competitor List'!$B$3","v":"2023-03-15"},null,null,null,null,{"$f":"'Competitor List'!$B$3","v":"2023-03-15"}]
["LIGHT GUN",null,"Target #",null,1,"LIGHT GUN",null,"Target #",null,{"$f":"E388+1","v":2},"LIGHT GUN",null,"Target #",null,{"$f":"J388+1","v":3},"LIGHT GUN",null,"Target #",null,{"$f":"O388+1","v":4}]
["Competitor #",null,{"$f":"'Label data'!A51","v":404},null,null,"Competitor #",null,{"$f":"C389","v":404},null,null,"Competitor #",null,{"$f":"H389","v":404},null,null,"Competitor #",null,{"$f":"M389","v":404}]
[]
[null,null,null,"Frame #",{"$f":"'Label data'!E51","v":4},null,null,null,"Frame #",{"$f":"E391","v":4},null,null,null,"Frame #",{"$f":"'Label data'!F51","v":4},null,null,null,"Frame #",{"$f":"O391","v":4}]
[null,null,null,"Top/Left",null,null,null,null,"Bottom/Right",null,null,null,null,"Top/Left",null,null,null,null,"Bottom/Right"]
[{"$f":"'Competitor List'!$B$1","v":"Freedom Benchrest 600 YARD MATCH #1"},null,null,null,null,{"$f":"'Competitor List'!$B$1","v":"Freedom Benchrest 600 YARD MATCH #1"},null,null,null,null,{"$f":"'Competitor List'!$B$1","v":"Freedom Benchrest 600 YARD MATCH #1"},null,null,null,null,{"$f":"'Competitor List'!$B$1","v":"Freedom Benchrest 600 YARD MATCH #1"}]
[{"$f":"'Competitor List'!$B$2","v":"Vapor Trail Valley Spickard, Mo"},null,null,null,null,{"$f":"'Competitor List'!$B$2","v":"Vapor Trail Valley Spickard, Mo"},null,null,null,null,{"$f":"'Competitor List'!$B$2","v":"Vapor Trail Valley Spickard, Mo"},null,null,null,null,{"$f":"'Competitor List'!$B$2","v":"Vapor Trail Valley Spickard, Mo"}]
[{"$f":"'Competitor List'!$B$3","v":"2023-03-15"},null,null,null,null,{"$f":"'Competitor List'!$B$3","v":"2023-03-15"},null,null,null,null,{"$f":"'Competitor List'!$B$3","v":"2023-03-15"},null,null,null,null,{"$f":"'Competitor List'!$B$3","v":"2023-03-15"}]
["LIGHT GUN",null,"Target #",null,1,"LIGHT GUN",null,"Target #",null,{"$f":"E396+1","v":2},"LIGHT GUN",null,"Target #",null,{"$f":"J396+1","v":3},"LIGHT GUN",null,"Target #",null,{"$f":"O396+1","v":4}]
["Competitor #",null,{"$f":"'Label data'!A52","v":405},null,null,"Competitor #",null,{"$f":"C397","v":405},null,null,"Competitor #",null,{"$f":"H397","v":405},null,null,"Competitor #",null,{"$f":"M397","v":405}]
[]
[null,null,null,"Frame #",{"$f":"'Label data'!E52","v":5},null,null,null,"Frame #",{"$f":"E399","v":5},null,null,null,"Frame #",{"$f":"'Label data'!F52","v":5},null,null,null,"Frame #",{"$f":"O399","v":5}]
[null,null,null,"Top/Left",null,null,null,null,"Bottom/Right",null,null,null,null,"Top/Left",null,null,null,null,"Bottom/Right"]
[{"$f":"'Competitor List'!$B$1","v":"Freedom Benchrest 600 YARD MATCH #1"},null,null,null,null,{"$f":"'Competitor List'!$B$1","v":"Freedom Benchrest 600 YARD MATCH #1"},null,null,null,null,{"$f":"'Competitor List'!$B$1","v":"Freedom Benchrest 600 YARD MATCH #1"},null,null,null,null,{"$f":"'Competitor List'!$B$1","v":"Freedom Benchrest 600 YARD MATCH #1"}]
[{"$f":"'Competitor List'!$B$2","v":"Vapor Trail Valley Spickard, Mo"},null,null,null,null,{"$f":"'Competitor List'!$B$2","v":"Vapor Trail Valley Spickard, Mo"},null,null,null,null,{"$f":"'Competitor List'!$B$2","v":"Vapor Trail Valley Spickard, Mo"},null,null,null,null,{"$f":"'Competitor List'!$B$2","v":"Vapor Trail Valley Spickard, Mo"}]
[{"$f":"'Competitor List'!$B$3","v":"2023-03-15"},null,null,null,null,{"$f":"'Competitor List'!$B$3","v":"2023-03-15"},null,null,null,null,{"$f":"'Competitor List'!$B$3","v":"2023-03-15"},null,null,null,null,{"$f":"'Competitor List'!$B$3","v":"2023-03-15"}]
["LIGHT GUN",null,"Target #",null,1,"LIGHT GUN",null,"Target #",null,{"$f":"E404+1","v":2},"LIGHT GUN",null,"Target #",null,{"$f":"J404+1","v":3},"LIGHT GUN",null,"Target #",null,{"$f":"O404+1","v":4}]
["Competitor #",null,{"$f":"'Label data'!A53","v":406},null,null,"Competitor #",null,{"$f":"C405","v":406},null,null,"Competitor #",null,{"$f":"H405","v":406},null,null,"Competitor #",null,{"$f":"M405","v":406}]
[]
[null,null,null,"Frame #",{"$f":"'Label data'!E53","v":6},null,null,null,"Frame #",{"$f":"E407","v":6},null,null,null,"Frame #",{"$f":"'Label data'!F53","v":6},null,null,null,"Frame #",{"$f":"O407","v":6}]
[null,null,null,"Top/Left",null,null,null,null,"Bottom/Right",null,null,null,null,"Top/Left",null,null,null,null,"Bottom/Right"]
[{"$f":"'Competitor List'!$B$1","v":"Freedom Benchrest 600 YARD MATCH #1"},null,null,null,null,{"$f":"'Competitor List'!$B$1","v":"Freedom Benchrest 600 YARD MATCH #1"},null,null,null,null,{"$f":"'Competitor List'!$B$1","v":"Freedom Benchrest 600 YARD MATCH #1"},null,null,null,null,{"$f":"'Competitor List'!$B$1","v":"Freedom Benchrest 600 YARD MATCH #1"}]
[{"$f":"'Competitor List'!$B$2","v":"Vapor Trail Valley Spickard, Mo"},null,null,null,null,{"$f":"'Competitor List'!$B$2","v":"Vapor Trail Valley Spickard, Mo"},null,null,null,null,{"$f":"'Competitor List'!$B$2","v":"Vapor Trail Valley Spickard, Mo"},null,null,null,null,{"$f":"'Competitor List'!$B$2","v":"Vapor Trail Valley Spickard, Mo"}]
[{"$f":"'Competitor List'!$B$3","v":"2023-03-15"},null,null,null,null,{"$f":"'Competitor List'!$B$3","v":"2023-03-15"},null,null,null,null,{"$f":"'Competitor List'!$B$3","v":"2023-03-15"},null,null,null,null,{"$f":"'Competitor List'!$B$3","v":"2023-03-15"}]
["LIGHT GUN",null,"Target #",null,1,"LIGHT GUN",null,"Target #",null,{"$f":"E412+1","v":2},"LIGHT GUN",null,"Target #",null,{"$f":"J412+1","v":3},"LIGHT GUN",null,"Target #",null,{"$f":"O412+1","v":4}]
["Competitor #",null,{"$f":"'Label data'!A54","v":407},null,null,"Competitor #",null,{"$f":"C413","v":407},null,null,"Competitor #",null,{"$f":"H413","v":407},null,null,"Competitor #",null,{"$f":"M413","v":407}]
[]
[null,null,null,"Frame #",{"$f":"'Label data'!E54","v":7},null,null,null,"Frame #",{"$f":"E415","v":7},null,null,null,"Frame #",{"$f":"'Label data'!F54","v":7},null,null,null,"Frame #",{"$f":"O415","v":7}]
[null,null,null,"Top/Left",null,null,null,null,"Bottom/Right",null,null,null,null,"Top/Left",null,null,null,null,"Bottom/Right"]
[{"$f":"'Competitor List'!$B$1","v":"Freedom Benchrest 600 YARD MATCH #1"},null,null,null,null,{"$f":"'Competitor List'!$B$1","v":"Freedom Benchrest 600 YARD MATCH #1"},null,null,null,null,{"$f":"'Competitor List'!$B$1","v":"Freedom Benchrest 600 YARD MATCH #1"},null,null,null,null,{"$f":"'Competitor List'!$B$1","v":"Freedom Benchrest 600 YARD MATCH #1"}]
[{"$f":"'Competitor List'!$B$2","v":"Vapor Trail Valley Spickard, Mo"},null,null,null,null,{"$f":"'Competitor List'!$B$2","v":"Vapor Trail Valley Spickard, Mo"},null,null,null,null,{"$f":"'Competitor List'!$B$2","v":"Vapor Trail Valley Spickard, Mo"},null,null,null,null,{"$f":"'Competitor List'!$B$2","v":"Vapor Trail Valley Spickard, Mo"}]
[{"$f":"'Competitor List'!$B$3","v":"2023-03-15"},null,null,null,null,{"$f":"'Competitor List'!$B$3","v":"2023-03-15"},null,null,null,null,{"$f":"'Competitor List'!$B$3","v":"2023-03-15"},null,null,null,null,{"$f":"'Competitor List'!$B$3","v":"2023-03-15"}]
["LIGHT GUN",null,"Target #",null,1,"LIGHT GUN",null,"Target #",null,{"$f":"E420+1","v":2},"LIGHT GUN",null,"Target #",null,{"$f":"J420+1","v":3},"LIGHT GUN",null,"Target #",null,{"$f":"O420+1","v":4}]
["Competitor #",null,{"$f":"'Label data'!A55","v":408},null,null,"Competitor #",null,{"$f":"C421","v":408},null,null,"Competitor #",null,{"$f":"H421","v":408},null,null,"Competitor #",null,{"$f":"M421","v":408}]
[]
[null,null,null,"Frame #",{"$f":"'Label data'!E55","v":8},null,null,null,"Frame #",{"$f":"E423","v":8},null,null,null,"Frame #",{"$f":"'Label data'!F55","v":8},null,null,null,"Frame #",{"$f":"O423","v":8}]
[null,null,null,"Top/Left",null,null,null,null,"Bottom/Right",null,null,null,null,"Top/Left",null,null,null,null,"Bottom/Right"]
[{"$f":"'Competitor List'!$B$1","v":"Freedom Benchrest 600 YARD MATCH #1"},null,null,null,null,{"$f":"'Competitor List'!$B$1","v":"Freedom Benchrest 600 YARD MATCH #1"},null,null,null,null,{"$f":"'Competitor List'!$B$1","v":"Freedom Benchrest 600 YARD MATCH #1"},null,null,null,null,{"$f":"'Competitor List'!$B$1","v":"Freedom Benchrest 600 YARD MATCH #1"}]
[{"$f":"'Competitor List'!$B$2","v":"Vapor Trail Valley Spickard, Mo"},null,null,null,null,{"$f":"'Competitor List'!$B$2","v":"Vapor Trail Valley Spickard, Mo"},null,null,null,null,{"$f":"'Competitor List'!$B$2","v":"Vapor Trail Valley Spickard, Mo"},null,null,null,null,{"$f":"'Competitor List'!$B$2","v":"Vapor Trail Valley Spickard, Mo"}]
[{"$f":"'Competitor List'!$B$3","v":"2023-03-15"},null,null,null,null,{"$f":"'Competitor List'!$B$3","v":"2023-03-15"},null,null,null,null,{"$f":"'Competitor List'!$B$3","v":"2023-03-15"},null,null,null,null,{"$f":"'Competitor List'!$B$3","v":"2023-03-15"}]
["LIGHT GUN",null,"Target #",null,1,"LIGHT GUN",null,"Target #",null,{"$f":"E428+1","v":2},"LIGHT GUN",null,"Target #",null,{"$f":"J428+1","v":3},"LIGHT GUN",null,"Target #",null,{"$f":"O428+1","v":4}]
["Competitor #",null,{"$f":"'Label data'!A56","v":409},null,null,"Competitor #",null,{"$f":"C429","v":409},null,null,"Competitor #",null,{"$f":"H429","v":409},null,null,"Competitor #",null,{"$f":"M429","v":409}]
[]
[null,null,null,"Frame #",{"$f":"'Label data'!E56","v":9},null,null,null,"Frame #",{"$f":"E431","v":9},null,null,null,"Frame #",{"$f":"'Label data'!F56","v":9},null,null,null,"Frame #",{"$f":"O431","v":9}]
[null,null,null,"Top/Left",null,null,null,null,"Bottom/Right",null,null,null,null,"Top/Left",null,null,null,null,"Bottom/Right"]
[{"$f":"'Competitor List'!$B$1","v":"Freedom Benchrest 600 YARD MATCH #1"},null,null,null,null,{"$f":"'Competitor List'!$B$1","v":"Freedom Benchrest 600 YARD MATCH #1"},null,null,null,null,{"$f":"'Competitor List'!$B$1","v":"Freedom Benchrest 600 YARD MATCH #1"},null,null,null,null,{"$f":"'Competitor List'!$B$1","v":"Freedom Benchrest 600 YARD MATCH #1"}]
[{"$f":"'Competitor List'!$B$2","v":"Vapor Trail Valley Spickard, Mo"},null,null,null,null,{"$f":"'Competitor List'!$B$2","v":"Vapor Trail Valley Spickard, Mo"},null,null,null,null,{"$f":"'Competitor List'!$B$2","v":"Vapor Trail Valley Spickard, Mo"},null,null,null,null,{"$f":"'Competitor List'!$B$2","v":"Vapor Trail Valley Spickard, Mo"}]
[{"$f":"'Competitor List'!$B$3","v":"2023-03-15"},null,null,null,null,{"$f":"'Competitor List'!$B$3","v":"2023-03-15"},null,null,null,null,{"$f":"'Competitor List'!$B$3","v":"2023-03-15"},null,null,null,null,{"$f":"'Competitor List'!$B$3","v":"2023-03-15"}]
["LIGHT GUN",null,"Target #",null,1,"LIGHT GUN",null,"Target #",null,{"$f":"E436+1","v":2},"LIGHT GUN",null,"Target #",null,{"$f":"J436+1","v":3},"LIGHT GUN",null,"Target #",null,{"$f":"O436+1","v":4}]
["Competitor #",null,{"$f":"'Label data'!A57","v":410},null,null,"Competitor #",null,{"$f":"C437","v":410},null,null,"Competitor #",null,{"$f":"H437","v":410},null,null,"Competitor #",null,{"$f":"M437","v":410}]
[]
[null,null,null,"Frame #",{"$f":"'Label data'!E57","v":10},null,null,null,"Frame #",{"$f":"E439","v":10},null,null,null,"Frame #",{"$f":"'Label data'!F57","v":10},null,null,null,"Frame #",{"$f":"O439","v":10}]
[null,null,null,"Top/Left",null,null,null,null,"Bottom/Right",null,null,null,null,"Top/Left",null,null,null,null,"Bottom/Right"]
[{"$f":"'Competitor List'!$B$1","v":"Freedom Benchrest 600 YARD MATCH #1"},null,null,null,null,{"$f":"'Competitor List'!$B$1","v":"Freedom Benchrest 600 YARD MATCH #1"},null,null,null,null,{"$f":"'Competitor List'!$B$1","v":"Freedom Benchrest 600 YARD MATCH #1"},null,null,null,null,{"$f":"'Competitor List'!$B$1","v":"Freedom Benchrest 600 YARD MATCH #1"}]
[{"$f":"'Competitor List'!$B$2","v":"Vapor Trail Valley Spickard, Mo"},null,null,null,null,{"$f":"'Competitor List'!$B$2","v":"Vapor Trail Valley Spickard, Mo"},null,null,null,null,{"$f":"'Competitor List'!$B$2","v":"Vapor Trail Valley Spickard, Mo"},null,null,null,null,{"$f":"'Competitor List'!$B$2","v":"Vapor Trail Valley Spickard, Mo"}]
[{"$f":"'Competitor List'!$B$3","v":"2023-03-15"},null,null,null,null,{"$f":"'Competitor List'!$B$3","v":"2023-03-15"},null,null,null,null,{"$f":"'Competitor List'!$B$3","v":"2023-03-15"},null,null,null,null,{"$f":"'Competitor List'!$B$3","v":"2023-03-15"}]
["LIGHT GUN",null,"Target #",null,1,"LIGHT GUN",null,"Target #",null,{"$f":"E444+1","v":2},"LIGHT GUN",null,"Target #",null,{"$f":"J444+1","v":3},"LIGHT GUN",null,"Target #",null,{"$f":"O444+1","v":4}]
["Competitor #",null,{"$f":"'Label data'!A58","v":411},null,null,"Competitor #",null,{"$f":"C445","v":411},null,null,"Competitor #",null,{"$f":"H445","v":411},null,null,"Competitor #",null,{"$f":"M445","v":411}]
[]
[null,null,null,"Frame #",{"$f":"'Label data'!E58","v":11},null,null,null,"Frame #",{"$f":"E447","v":11},null,null,null,"Frame #",{"$f":"'Label data'!F58","v":11},null,null,null,"Frame #",{"$f":"O447","v":11}]
[null,null,null,"Top/Left",null,null,null,null,"Bottom/Right",null,null,null,null,"Top/Left",null,null,null,null,"Bottom/Right"]
[{"$f":"'Competitor List'!$B$1","v":"Freedom Benchrest 600 YARD MATCH #1"},null,null,null,null,{"$f":"'Competitor List'!$B$1","v":"Freedom Benchrest 600 YARD MATCH #1"},null,null,null,null,{"$f":"'Competitor List'!$B$1","v":"Freedom Benchrest 600 YARD MATCH #1"},null,null,null,null,{"$f":"'Competitor List'!$B$1","v":"Freedom Benchrest 600 YARD MATCH #1"}]
[{"$f":"'Competitor List'!$B$2","v":"Vapor Trail Valley Spickard, Mo"},null,null,null,null,{"$f":"'Competitor List'!$B$2","v":"Vapor Trail Valley Spickard, Mo"},null,null,null,null,{"$f":"'Competitor List'!$B$2","v":"Vapor Trail Valley Spickard, Mo"},null,null,null,null,{"$f":"'Competitor List'!$B$2","v":"Vapor Trail Valley Spickard, Mo"}]
[{"$f":"'Competitor List'!$B$3","v":"2023-03-15"},null,null,null,null,{"$f":"'Competitor List'!$B$3","v":"2023-03-15"},null,null,null,null,{"$f":"'Competitor List'!$B$3","v":"2023-03-15"},null,null,null,null,{"$f":"'Competitor List'!$B$3","v":"2023-03-15"}]
["LIGHT GUN",null,"Target #",null,1,"LIGHT GUN",null,"Target #",null,{"$f":"E452+1","v":2},"LIGHT GUN",null,"Target #",null,{"$f":"J452+1","v":3},"LIGHT GUN",null,"Target #",null,{"$f":"O452+1","v":4}]
["Competitor #",null,{"$f":"'Label data'!A59","v":412},null,null,"Competitor #",null,{"$f":"C453","v":412},null,null,"Competitor #",null,{"$f":"H453","v":412},null,null,"Competitor #",null,{"$f":"M453","v":412}]
[]
[null,null,null,"Frame #",{"$f":"'Label data'!E59","v":12},null,null,null,"Frame #",{"$f":"E455","v":12},null,null,null,"Frame #",{"$f":"'Label data'!F59","v":12},null,null,null,"Frame #",{"$f":"O455","v":12}]
[null,null,null,"Top/Left",null,null,null,null,"Bottom/Right",null,null,null,null,"Top/Left",null,null,null,null,"Bottom/Right"]
[{"$f":"'Competitor List'!$B$1","v":"Freedom Benchrest 600 YARD MATCH #1"},null,null,null,null,{"$f":"'Competitor List'!$B$1","v":"Freedom Benchrest 600 YARD MATCH #1"},null,null,null,null,{"$f":"'Competitor List'!$B$1","v":"Freedom Benchrest 600 YARD MATCH #1"},null,null,null,null,{"$f":"'Competitor List'!$B$1","v":"Freedom Benchrest 600 YARD MATCH #1"}]
[{"$f":"'Competitor List'!$B$2","v":"Vapor Trail Valley Spickard, Mo"},null,null,null,null,{"$f":"'Competitor List'!$B$2","v":"Vapor Trail Valley Spickard, Mo"},null,null,null,null,{"$f":"'Competitor List'!$B$2","v":"Vapor Trail Valley Spickard, Mo"},null,null,null,null,{"$f":"'Competitor List'!$B$2","v":"Vapor Trail Valley Spickard, Mo"}]
[{"$f":"'Competitor List'!$B$3","v":"2023-03-15"},null,null,null,null,{"$f":"'Competitor List'!$B$3","v":"2023-03-15"},null,null,null,null,{"$f":"'Competitor List'!$B$3","v":"2023-03-15"},null,null,null,null,{"$f":"'Competitor List'!$B$3","v":"2023-03-15"}]
["LIGHT GUN",null,"Target #",null,1,"LIGHT GUN",null,"Target #",null,{"$f":"E460+1","v":2},"LIGHT GUN",null,"Target #",null,{"$f":"J460+1","v":3},"LIGHT GUN",null,"Target #",null,{"$f":"O460+1","v":4}]
["Competitor #",null,{"$f":"'Label data'!A60","v":413},null,null,"Competitor #",null,{"$f":"C461","v":413},null,null,"Competitor #",null,{"$f":"H461","v":413},null,null,"Competitor #",null,{"$f":"M461","v":413}]
[]
[null,null,null,"Frame #",{"$f":"'Label data'!E60","v":13},null,null,null,"Frame #",{"$f":"E463","v":13},null,null,null,"Frame #",{"$f":"'Label data'!F60","v":13},null,null,null,"Frame #",{"$f":"O463","v":13}]
[null,null,null,"Top/Left",null,null,null,null,"Bottom/Right",null,null,null,null,"Top/Left",null,null,null,null,"Bottom/Right"]
[{"$f":"'Competitor List'!$B$1","v":"Freedom Benchrest 600 YARD MATCH #1"},null,null,null,null,{"$f":"'Competitor List'!$B$1","v":"Freedom Benchrest 600 YARD MATCH #1"},null,null,null,null,{"$f":"'Competitor List'!$B$1","v":"Freedom Benchrest 600 YARD MATCH #1"},null,null,null,null,{"$f":"'Competitor List'!$B$1","v":"Freedom Benchrest 600 YARD MATCH #1"}]
[{"$f":"'Competitor List'!$B$2","v":"Vapor Trail Valley Spickard, Mo"},null,null,null,null,{"$f":"'Competitor List'!$B$2","v":"Vapor Trail Valley Spickard, Mo"},null,null,null,null,{"$f":"'Competitor List'!$B$2","v":"Vapor Trail Valley Spickard, Mo"},null,null,null,null,{"$f":"'Competitor List'!$B$2","v":"Vapor Trail Valley Spickard, Mo"}]
[{"$f":"'Competitor List'!$B$3","v":"2023-03-15"},null,null,null,null,{"$f":"'Competitor List'!$B$3","v":"2023-03-15"},null,null,null,null,{"$f":"'Competitor List'!$B$3","v":"2023-03-15"},null,null,null,null,{"$f":"'Competitor List'!$B$3","v":"2023-03-15"}]
["LIGHT GUN",null,"Target #",null,1,"LIGHT GUN",null,"Target #",null,{"$f":"E468+1","v":2},"LIGHT GUN",null,"Target #",null,{"$f":"J468+1","v":3},"LIGHT GUN",null,"Target #",null,{"$f":"O468+1","v":4}]
["Competitor #",null,{"$f":"'Label data'!A61","v":414},null,null,"Competitor #",null,{"$f":"C469","v":414},null,null,"Competitor #",null,{"$f":"H469","v":414},null,null,"Competitor #",null,{"$f":"M469","v":414}]
[]
[null,null,null,"Frame #",{"$f":"'Label data'!E61","v":14},null,null,null,"Frame #",{"$f":"E471","v":14},null,null,null,"Frame #",{"$f":"'Label data'!F61","v":14},null,null,null,"Frame #",{"$f":"O471","v":14}]
[null,null,null,"Top/Left",null,null,null,null,"Bottom/Right",null,null,null,null,"Top/Left",null,null,null,null,"Bottom/Right"]
[{"$f":"'Competitor List'!$B$1","v":"Freedom Benchrest 600 YARD MATCH #1"},null,null,null,null,{"$f":"'Competitor List'!$B$1","v":"Freedom Benchrest 600 YARD MATCH #1"},null,null,null,null,{"$f":"'Competitor List'!$B$1","v":"Freedom Benchrest 600 YARD MATCH #1"},null,null,null,null,{"$f":"'Competitor List'!$B$1","v":"Freedom Benchrest 600 YARD MATCH #1"}]
[{"$f":"'Competitor List'!$B$2","v":"Vapor Trail Valley Spickard, Mo"},null,null,null,null,{"$f":"'Competitor List'!$B$2","v":"Vapor Trail Valley Spickard, Mo"},null,null,null,null,{"$f":"'Competitor List'!$B$2","v":"Vapor Trail Valley Spickard, Mo"},null,null,null,null,{"$f":"'Competitor List'!$B$2","v":"Vapor Trail Valley Spickard, Mo"}]
[{"$f":"'Competitor List'!$B$3","v":"2023-03-15"},null,null,null,null,{"$f":"'Competitor List'!$B$3","v":"2023-03-15"},null,null,null,null,{"$f":"'Competitor List'!$B$3","v":"2023-03-15"},null,null,null,null,{"$f":"'Competitor List'!$B$3","v":"2023-03-15"}]
["LIGHT GUN",null,"Target #",null,1,"LIGHT GUN",null,"Target #",null,{"$f":"E476+1","v":2},"LIGHT GUN",null,"Target #",null,{"$f":"J476+1","v":3},"LIGHT GUN",null,"Target #",null,{"$f":"O476+1","v":4}]
["Competitor #",null,{"$f":"'Label data'!A62","v":415},null,null,"Competitor #",null,{"$f":"C477","v":415},null,null,"Competitor #",null,{"$f":"H477","v":415},null,null,"Competitor #",null,{"$f":"M477","v":415}]
[]
[null,null,null,"Frame #",{"$f":"'Label data'!E62","v":15},null,null,null,"Frame #",{"$f":"E479","v":15},null,null,null,"Frame #",{"$f":"'Label data'!F62","v":15},null,null,null,"Frame #",{"$f":"O479","v":15}]
[null,null,null,"Top/Left",null,null,null,null,"Bottom/Right",null,null,null,null,"Top/Left",null,null,null,null,"Bottom/Right"]
[{"$f":"'Competitor List'!$B$1","v":"Freedom Benchrest 600 YARD MATCH #1"},null,null,null,null,{"$f":"'Competitor List'!$B$1","v":"Freedom Benchrest 600 YARD MATCH #1"},null,null,null,null,{"$f":"'Competitor List'!$B$1","v":"Freedom Benchrest 600 YARD MATCH #1"},null,null,null,null,{"$f":"'Competitor List'!$B$1","v":"Freedom Benchrest 600 YARD MATCH #1"}]
[{"$f":"'Competitor List'!$B$2","v":"Vapor Trail Valley Spickard, Mo"},null,null,null,null,{"$f":"'Competitor List'!$B$2","v":"Vapor Trail Valley Spickard, Mo"},null,null,null,null,{"$f":"'Competitor List'!$B$2","v":"Vapor Trail Valley Spickard, Mo"},null,null,null,null,{"$f":"'Competitor List'!$B$2","v":"Vapor Trail Valley Spickard, Mo"}]
[{"$f":"'Competitor List'!$B$3","v":"2023-03-15"},null,null,null,null,{"$f":"'Competitor List'!$B$3","v":"2023-03-15"},null,null,null,null,{"$f":"'Competitor List'!$B$3","v":"2023-03-15"},null,null,null,null,{"$f":"'Competitor List'!$B$3","v":"2023-03-15"}]
["LIGHT GUN",null,"Target #",null,1,"LIGHT GUN",null,"Target #",null,{"$f":"E484+1","v":2},"LIGHT GUN",null,"Target #",null,{"$f":"J484+1","v":3},"LIGHT GUN",null,"Target #",null,{"$f":"O484+1","v":4}]
["Competitor #",null,{"$f":"'Label data'!A63","v":501},null,null,"Competitor #",null,{"$f":"C485","v":501},null,null,"Competitor #",null,{"$f":"H485","v":501},null,null,"Competitor #",null,{"$f":"M485","v":501}]
[]
[null,null,null,"Frame #",{"$f":"'Label data'!E63","v":1},null,null,null,"Frame #",{"$f":"E487","v":1},null,null,null,"Frame #",{"$f":"'Label data'!F63","v":1},null,null,null,"Frame #",{"$f":"O487","v":1}]
[null,null,null,"Top/Left",null,null,null,null,"Bottom/Right",null,null,null,null,"Top/Left",null,null,null,null,"Bottom/Right"]
[{"$f":"'Competitor List'!$B$1","v":"Freedom Benchrest 600 YARD MATCH #1"},null,null,null,null,{"$f":"'Competitor List'!$B$1","v":"Freedom Benchrest 600 YARD MATCH #1"},null,null,null,null,{"$f":"'Competitor List'!$B$1","v":"Freedom Benchrest 600 YARD MATCH #1"},null,null,null,null,{"$f":"'Competitor List'!$B$1","v":"Freedom Benchrest 600 YARD MATCH #1"}]
[{"$f":"'Competitor List'!$B$2","v":"Vapor Trail Valley Spickard, Mo"},null,null,null,null,{"$f":"'Competitor List'!$B$2","v":"Vapor Trail Valley Spickard, Mo"},null,null,null,null,{"$f":"'Competitor List'!$B$2","v":"Vapor Trail Valley Spickard, Mo"},null,null,null,null,{"$f":"'Competitor List'!$B$2","v":"Vapor Trail Valley Spickard, Mo"}]
[{"$f":"'Competitor List'!$B$3","v":"2023-03-15"},null,null,null,null,{"$f":"'Competitor List'!$B$3","v":"2023-03-15"},null,null,null,null,{"$f":"'Competitor List'!$B$3","v":"2023-03-15"},null,null,null,null,{"$f":"'Competitor List'!$B$3","v":"2023-03-15"}]
["LIGHT GUN",null,"Target #",null,1,"LIGHT GUN",null,"Target #",null,{"$f":"E492+1","v":2},"LIGHT GUN",null,"Target #",null,{"$f":"J492+1","v":3},"LIGHT GUN",null,"Target #",null,{"$f":"O492+1","v":4}]
["Competitor #",null,{"$f":"'Label data'!A64","v":502},null,null,"Competitor #",null,{"$f":"C493","v":502},null,null,"Competitor #",null,{"$f":"H493","v":502},null,null,"Competitor #",null,{"$f":"M493","v":502}]
[]
[null,null,null,"Frame #",{"$f":"'Label data'!E64","v":2},null,null,null,"Frame #",{"$f":"E495","v":2},null,null,null,"Frame #",{"$f":"'Label data'!F64","v":2},null,null,null,"Frame #",{"$f":"O495","v":2}]
[null,null,null,"Top/Left",null,null,null,null,"Bottom/Right",null,null,null,null,"Top/Left",null,null,null,null,"Bottom/Right"]
[{"$f":"'Competitor List'!$B$1","v":"Freedom Benchrest 600 YARD MATCH #1"},null,null,null,null,{"$f":"'Competitor List'!$B$1","v":"Freedom Benchrest 600 YARD MATCH #1"},null,null,null,null,{"$f":"'Competitor List'!$B$1","v":"Freedom Benchrest 600 YARD MATCH #1"},null,null,null,null,{"$f":"'Competitor List'!$B$1","v":"Freedom Benchrest 600 YARD MATCH #1"}]
[{"$f":"'Competitor List'!$B$2","v":"Vapor Trail Valley Spickard, Mo"},null,null,null,null,{"$f":"'Competitor List'!$B$2","v":"Vapor Trail Valley Spickard, Mo"},null,null,null,null,{"$f":"'Competitor List'!$B$2","v":"Vapor Trail Valley Spickard, Mo"},null,null,null,null,{"$f":"'Competitor List'!$B$2","v":"Vapor Trail Valley Spickard, Mo"}]
[{"$f":"'Competitor List'!$B$3","v":"2023-03-15"},null,null,null,null,{"$f":"'Competitor List'!$B$3","v":"2023-03-15"},null,null,null,null,{"$f":"'Competitor List'!$B$3","v":"2023-03-15"},null,null,null,null,{"$f":"'Competitor List'!$B$3","v":"2023-03-15"}]
["LIGHT GUN",null,"Target #",null,1,"LIGHT GUN",null,"Target #",null,{"$f":"E500+1","v":2},"LIGHT GUN",null,"Target #",null,{"$f":"J500+1","v":3},"LIGHT GUN",null,"Target #",null,{"$f":"O500+1","v":4}]
["Competitor #",null,{"$f":"'Label data'!A65","v":503},null,null,"Competitor #",null,{"$f":"C501","v":503},null,null,"Competitor #",null,{"$f":"H501","v":503},null,null,"Competitor #",null,{"$f":"M501","v":503}]
[]
[null,null,null,"Frame #",{"$f":"'Label data'!E65","v":3},null,null,null,"Frame #",{"$f":"E503","v":3},null,null,null,"Frame #",{"$f":"'Label data'!F65","v":3},null,null,null,"Frame #",{"$f":"O503","v":3}]
[null,null,null,"Top/Left",null,null,null,null,"Bottom/Right",null,null,null,null,"Top/Left",null,null,null,null,"Bottom/Right"]
[{"$f":"'Competitor List'!$B$1","v":"Freedom Benchrest 600 YARD MATCH #1"},null,null,null,null,{"$f":"'Competitor List'!$B$1","v":"Freedom Benchrest 600 YARD MATCH #1"},null,null,null,null,{"$f":"'Competitor List'!$B$1","v":"Freedom Benchrest 600 YARD MATCH #1"},null,null,null,null,{"$f":"'Competitor List'!$B$1","v":"Freedom Benchrest 600 YARD MATCH #1"}]
[{"$f":"'Competitor List'!$B$2","v":"Vapor Trail Valley Spickard, Mo"},null,null,null,null,{"$f":"'Competitor List'!$B$2","v":"Vapor Trail Valley Spickard, Mo"},null,null,null,null,{"$f":"'Competitor List'!$B$2","v":"Vapor Trail Valley Spickard, Mo"},null,null,null,null,{"$f":"'Competitor List'!$B$2","v":"Vapor Trail Valley Spickard, Mo"}]
[{"$f":"'Competitor List'!$B$3","v":"2023-03-15"},null,null,null,null,{"$f":"'Competitor List'!$B$3","v":"2023-03-15"},null,null,null,null,{"$f":"'Competitor List'!$B$3","v":"2023-03-15"},null,null,null,null,{"$f":"'Competitor List'!$B$3","v":"2023-03-15"}]
["LIGHT GUN",null,"Target #",null,1,"LIGHT GUN",null,"Target #",null,{"$f":"E508+1","v":2},"LIGHT GUN",null,"Target #",null,{"$f":"J508+1","v":3},"LIGHT GUN",null,"Target #",null,{"$f":"O508+1","v":4}]
["Competitor #",null,{"$f":"'Label data'!A66","v":504},null,null,"Competitor #",null,{"$f":"C509","v":504},null,null,"Competitor #",null,{"$f":"H509","v":504},null,null,"Competitor #",null,{"$f":"M509","v":504}]
[]
[null,null,null,"Frame #",{"$f":"'Label data'!E66","v":4},null,null,null,"Frame #",{"$f":"E511","v":4},null,null,null,"Frame #",{"$f":"'Label data'!F66","v":4},null,null,null,"Frame #",{"$f":"O511","v":4}]
[null,null,null,"Top/Left",null,null,null,null,"Bottom/Right",null,null,null,null,"Top/Left",null,null,null,null,"Bottom/Right"]
[{"$f":"'Competitor List'!$B$1","v":"Freedom Benchrest 600 YARD MATCH #1"},null,null,null,null,{"$f":"'Competitor List'!$B$1","v":"Freedom Benchrest 600 YARD MATCH #1"},null,null,null,null,{"$f":"'Competitor List'!$B$1","v":"Freedom Benchrest 600 YARD MATCH #1"},null,null,null,null,{"$f":"'Competitor List'!$B$1","v":"Freedom Benchrest 600 YARD MATCH #1"}]
[{"$f":"'Competitor List'!$B$2","v":"Vapor Trail Valley Spickard, Mo"},null,null,null,null,{"$f":"'Competitor List'!$B$2","v":"Vapor Trail Valley Spickard, Mo"},null,null,null,null,{"$f":"'Competitor List'!$B$2","v":"Vapor Trail Valley Spickard, Mo"},null,null,null,null,{"$f":"'Competitor List'!$B$2","v":"Vapor Trail Valley Spickard, Mo"}]
[{"$f":"'Competitor List'!$B$3","v":"2023-03-15"},null,null,null,null,{"$f":"'Competitor List'!$B$3","v":"2023-03-15"},null,null,null,null,{"$f":"'Competitor List'!$B$3","v":"2023-03-15"},null,null,null,null,{"$f":"'Competitor List'!$B$3","v":"2023-03-15"}]
["LIGHT GUN",null,"Target #",null,1,"LIGHT GUN",null,"Target #",null,{"$f":"E516+1","v":2},"LIGHT GUN",null,"Target #",null,{"$f":"J516+1","v":3},"LIGHT GUN",null,"Target #",null,{"$f":"O516+1","v":4}]
["Competitor #",null,{"$f":"'Label data'!A67","v":505},null,null,"Competitor #",null,{"$f":"C517","v":505},null,null,"Competitor #",null,{"$f":"H517","v":505},null,null,"Competitor #",null,{"$f":"M517","v":505}]
[]
[null,null,null,"Frame #",{"$f":"'Label data'!E67","v":5},null,null,null,"Frame #",{"$f":"E519","v":5},null,null,null,"Frame #",{"$f":"'Label data'!F67","v":5},null,null,null,"Frame #",{"$f":"O519","v":5}]
[null,null,null,"Top/Left",null,null,null,null,"Bottom/Right",null,null,null,null,"Top/Left",null,null,null,null,"Bottom/Right"]
[{"$f":"'Competitor List'!$B$1","v":"Freedom Benchrest 600 YARD MATCH #1"},null,null,null,null,{"$f":"'Competitor List'!$B$1","v":"Freedom Benchrest 600 YARD MATCH #1"},null,null,null,null,{"$f":"'Competitor List'!$B$1","v":"Freedom Benchrest 600 YARD MATCH #1"},null,null,null,null,{"$f":"'Competitor List'!$B$1","v":"Freedom Benchrest 600 YARD MATCH #1"}]
[{"$f":"'Competitor List'!$B$2","v":"Vapor Trail Valley Spickard, Mo"},null,null,null,null,{"$f":"'Competitor List'!$B$2","v":"Vapor Trail Valley Spickard, Mo"},null,null,null,null,{"$f":"'Competitor List'!$B$2","v":"Vapor Trail Valley Spickard, Mo"},null,null,null,null,{"$f":"'Competitor List'!$B$2","v":"Vapor Trail Valley Spickard, Mo"}]
[{"$f":"'Competitor List'!$B$3","v":"2023-03-15"},null,null,null,null,{"$f":"'Competitor List'!$B$3","v":"2023-03-15"},null,null,null,null,{"$f":"'Competitor List'!$B$3","v":"2023-03-15"},null,null,null,null,{"$f":"'Competitor List'!$B$3","v":"2023-03-15"}]
["LIGHT GUN",null,"Target #",null,1,"LIGHT GUN",null,"Target #",null,{"$f":"E524+1","v":2},"LIGHT GUN",null,"Target #",null,{"$f":"J524+1","v":3},"LIGHT GUN",null,"Target #",null,{"$f":"O524+1","v":4}]
["Competitor #",null,{"$f":"'Label data'!A68","v":506},null,null,"Competitor #",null,{"$f":"C525","v":506},null,null,"Competitor #",null,{"$f":"H525","v":506},null,null,"Competitor #",null,{"$f":"M525","v":506}]
[]
[null,null,null,"Frame #",{"$f":"'Label data'!E68","v":6},null,null,null,"Frame #",{"$f":"E527","v":6},null,null,null,"Frame #",{"$f":"'Label data'!F68","v":6},null,null,null,"Frame #",{"$f":"O527","v":6}]
[null,null,null,"Top/Left",null,null,null,null,"Bottom/Right",null,null,null,null,"Top/Left",null,null,null,null,"Bottom/Right"]
[{"$f":"'Competitor List'!$B$1","v":"Freedom Benchrest 600 YARD MATCH #1"},null,null,null,null,{"$f":"'Competitor List'!$B$1","v":"Freedom Benchrest 600 YARD MATCH #1"},null,null,null,null,{"$f":"'Competitor List'!$B$1","v":"Freedom Benchrest 600 YARD MATCH #1"},null,null,null,null,{"$f":"'Competitor List'!$B$1","v":"Freedom Benchrest 600 YARD MATCH #1"}]
[{"$f":"'Competitor List'!$B$2","v":"Vapor Trail Valley Spickard, Mo"},null,null,null,null,{"$f":"'Competitor List'!$B$2","v":"Vapor Trail Valley Spickard, Mo"},null,null,null,null,{"$f":"'Competitor List'!$B$2","v":"Vapor Trail Valley Spickard, Mo"},null,null,null,null,{"$f":"'Competitor List'!$B$2","v":"Vapor Trail Valley Spickard, Mo"}]
[{"$f":"'Competitor List'!$B$3","v":"2023-03-15"},null,null,null,null,{"$f":"'Competitor List'!$B$3","v":"2023-03-15"},null,null,null,null,{"$f":"'Competitor List'!$B$3","v":"2023-03-15"},null,null,null,null,{"$f":"'Competitor List'!$B$3","v":"2023-03-15"}]
["LIGHT GUN",null,"Target #",null,1,"LIGHT GUN",null,"Target #",null,{"$f":"E532+1","v":2},"LIGHT GUN",null,"Target #",null,{"$f":"J532+1","v":3},"LIGHT GUN",null,"Target #",null,{"$f":"O532+1","v":4}]
["Competitor #",null,{"$f":"'Label data'!A69","v":507},null,null,"Competitor #",null,{"$f":"C533","v":507},null,null,"Competitor #",null,{"$f":"H533","v":507},null,null,"Competitor #",null,{"$f":"M533","v":507}]
[]
[null,null,null,"Frame #",{"$f":"'Label data'!E69","v":7},null,null,null,"Frame #",{"$f":"E535","v":7},null,null,null,"Frame #",{"$f":"'Label data'!F69","v":7},null,null,null,"Frame #",{"$f":"O535","v":7}]
[null,null,null,"Top/Left",null,null,null,null,"Bottom/Right",null,null,null,null,"Top/Left",null,null,null,null,"Bottom/Right"]
[{"$f":"'Competitor List'!$B$1","v":"Freedom Benchrest 600 YARD MATCH #1"},null,null,null,null,{"$f":"'Competitor List'!$B$1","v":"Freedom Benchrest 600 YARD MATCH #1"},null,null,null,null,{"$f":"'Competitor List'!$B$1","v":"Freedom Benchrest 600 YARD MATCH #1"},null,null,null,null,{"$f":"'Competitor List'!$B$1","v":"Freedom Benchrest 600 YARD MATCH #1"}]
[{"$f":"'Competitor List'!$B$2","v":"Vapor Trail Valley Spickard, Mo"},null,null,null,null,{"$f":"'Competitor List'!$B$2","v":"Vapor Trail Valley Spickard, Mo"},null,null,null,null,{"$f":"'Competitor List'!$B$2","v":"Vapor Trail Valley Spickard, Mo"},null,null,null,null,{"$f":"'Competitor List'!$B$2","v":"Vapor Trail Valley Spickard, Mo"}]
[{"$f":"'Competitor List'!$B$3","v":"2023-03-15"},null,null,null,null,{"$f":"'Competitor List'!$B$3","v":"2023-03-15"},null,null,null,null,{"$f":"'Competitor List'!$B$3","v":"2023-03-15"},null,null,null,null,{"$f":"'Competitor List'!$B$3","v":"2023-03-15"}]
["LIGHT GUN",null,"Target #",null,1,"LIGHT GUN",null,"Target #",null,{"$f":"E540+1","v":2},"LIGHT GUN",null,"Target #",null,{"$f":"J540+1","v":3},"LIGHT GUN",null,"Target #",null,{"$f":"O540+1","v":4}]
["Competitor #",null,{"$f":"'Label data'!A70","v":508},null,null,"Competitor #",null,{"$f":"C541","v":508},null,null,"Competitor #",null,{"$f":"H541","v":508},null,null,"Competitor #",null,{"$f":"M541","v":508}]
[]
[null,null,null,"Frame #",{"$f":"'Label data'!E70","v":8},null,null,null,"Frame #",{"$f":"E543","v":8},null,null,null,"Frame #",{"$f":"'Label data'!F70","v":8},null,null,null,"Frame #",{"$f":"O543","v":8}]
[null,null,null,"Top/Left",null,null,null,null,"Bottom/Right",null,null,null,null,"Top/Left",null,null,null,null,"Bottom/Right"]
[{"$f":"'Competitor List'!$B$1","v":"Freedom Benchrest 600 YARD MATCH #1"},null,null,null,null,{"$f":"'Competitor List'!$B$1","v":"Freedom Benchrest 600 YARD MATCH #1"},null,null,null,null,{"$f":"'Competitor List'!$B$1","v":"Freedom Benchrest 600 YARD MATCH #1"},null,null,null,null,{"$f":"'Competitor List'!$B$1","v":"Freedom Benchrest 600 YARD MATCH #1"}]
[{"$f":"'Competitor List'!$B$2","v":"Vapor Trail Valley Spickard, Mo"},null,null,null,null,{"$f":"'Competitor List'!$B$2","v":"Vapor Trail Valley Spickard, Mo"},null,null,null,null,{"$f":"'Competitor List'!$B$2","v":"Vapor Trail Valley Spickard, Mo"},null,null,null,null,{"$f":"'Competitor List'!$B$2","v":"Vapor Trail Valley Spickard, Mo"}]
[{"$f":"'Competitor List'!$B$3","v":"2023-03-15"},null,null,null,null,{"$f":"'Competitor List'!$B$3","v":"2023-03-15"},null,null,null,null,{"$f":"'Competitor List'!$B$3","v":"2023-03-15"},null,null,null,null,{"$f":"'Competitor List'!$B$3","v":"2023-03-15"}]
["LIGHT GUN",null,"Target #",null,1,"LIGHT GUN",null,"Target #",null,{"$f":"E548+1","v":2},"LIGHT GUN",null,"Target #",null,{"$f":"J548+1","v":3},"LIGHT GUN",null,"Target #",null,{"$f":"O548+1","v":4}]
["Competitor #",null,{"$f":"'Label data'!A71","v":509},null,null,"Competitor #",null,{"$f":"C549","v":509},null,null,"Competitor #",null,{"$f":"H549","v":509},null,null,"Competitor #",null,{"$f":"M549","v":509}]
[]
[null,null,null,"Frame #",{"$f":"'Label data'!E71","v":9},null,null,null,"Frame #",{"$f":"E551","v":9},null,null,null,"Frame #",{"$f":"'Label data'!F71","v":9},null,null,null,"Frame #",{"$f":"O551","v":9}]
[null,null,null,"Top/Left",null,null,null,null,"Bottom/Right",null,null,null,null,"Top/Left",null,null,null,null,"Bottom/Right"]
[{"$f":"'Competitor List'!$B$1","v":"Freedom Benchrest 600 YARD MATCH #1"},null,null,null,null,{"$f":"'Competitor List'!$B$1","v":"Freedom Benchrest 600 YARD MATCH #1"},null,null,null,null,{"$f":"'Competitor List'!$B$1","v":"Freedom Benchrest 600 YARD MATCH #1"},null,null,null,null,{"$f":"'Competitor List'!$B$1","v":"Freedom Benchrest 600 YARD MATCH #1"}]
[{"$f":"'Competitor List'!$B$2","v":"Vapor Trail Valley Spickard, Mo"},null,null,null,null,{"$f":"'Competitor List'!$B$2","v":"Vapor Trail Valley Spickard, Mo"},null,null,null,null,{"$f":"'Competitor List'!$B$2","v":"Vapor Trail Valley Spickard, Mo"},null,null,null,null,{"$f":"'Competitor List'!$B$2","v":"Vapor Trail Valley Spickard, Mo"}]
[{"$f":"'Competitor List'!$B$3","v":"2023-03-15"},null,null,null,null,{"$f":"'Competitor List'!$B$3","v":"2023-03-15"},null,null,null,null,{"$f":"'Competitor List'!$B$3","v":"2023-03-15"},null,null,null,null,{"$f":"'Competitor List'!$B$3","v":"2023-03-15"}]
["LIGHT GUN",null,"Target #",null,1,"LIGHT GUN",null,"Target #",null,{"$f":"E556+1","v":2},"LIGHT GUN",null,"Target #",null,{"$f":"J556+1","v":3},"LIGHT GUN",null,"Target #",null,{"$f":"O556+1","v":4}]
["Competitor #",null,{"$f":"'Label data'!A72","v":510},null,null,"Competitor #",null,{"$f":"C557","v":510},null,null,"Competitor #",null,{"$f":"H557","v":510},null,null,"Competitor #",null,{"$f":"M557","v":510}]
[]
[null,null,null,"Frame #",{"$f":"'Label data'!E72","v":10},null,null,null,"Frame #",{"$f":"E559","v":10},null,null,null,"Frame #",{"$f":"'Label data'!F72","v":10},null,null,null,"Frame #",{"$f":"O559","v":10}]
[null,null,null,"Top/Left",null,null,null,null,"Bottom/Right",null,null,null,null,"Top/Left",null,null,null,null,"Bottom/Right"]
[{"$f":"'Competitor List'!$B$1","v":"Freedom Benchrest 600 YARD MATCH #1"},null,null,null,null,{"$f":"'Competitor List'!$B$1","v":"Freedom Benchrest 600 YARD MATCH #1"},null,null,null,null,{"$f":"'Competitor List'!$B$1","v":"Freedom Benchrest 600 YARD MATCH #1"},null,null,null,null,{"$f":"'Competitor List'!$B$1","v":"Freedom Benchrest 600 YARD MATCH #1"}]
[{"$f":"'Competitor List'!$B$2","v":"Vapor Trail Valley Spickard, Mo"},null,null,null,null,{"$f":"'Competitor List'!$B$2","v":"Vapor Trail Valley Spickard, Mo"},null,null,null,null,{"$f":"'Competitor List'!$B$2","v":"Vapor Trail Valley Spickard, Mo"},null,null,null,null,{"$f":"'Competitor List'!$B$2","v":"Vapor Trail Valley Spickard, Mo"}]
[{"$f":"'Competitor List'!$B$3","v":"2023-03-15"},null,null,null,null,{"$f":"'Competitor List'!$B$3","v":"2023-03-15"},null,null,null,null,{"$f":"'Competitor List'!$B$3","v":"2023-03-15"},null,null,null,null,{"$f":"'Competitor List'!$B$3","v":"2023-03-15"}]
["LIGHT GUN",null,"Target #",null,1,"LIGHT GUN",null,"Target #",null,{"$f":"E564+1","v":2},"LIGHT GUN",null,"Target #",null,{"$f":"J564+1","v":3},"LIGHT GUN",null,"Target #",null,{"$f":"O564+1","v":4}]
["Competitor #",null,{"$f":"'Label data'!A73","v":511},null,null,"Competitor #",null,{"$f":"C565","v":511},null,null,"Competitor #",null,{"$f":"H565","v":511},null,null,"Competitor #",null,{"$f":"M565","v":511}]
[]
[null,null,null,"Frame #",{"$f":"'Label data'!E73","v":11},null,null,null,"Frame #",{"$f":"E567","v":11},null,null,null,"Frame #",{"$f":"'Label data'!F73","v":11},null,null,null,"Frame #",{"$f":"O567","v":11}]
[null,null,null,"Top/Left",null,null,null,null,"Bottom/Right",null,null,null,null,"Top/Left",null,null,null,null,"Bottom/Right"]
[{"$f":"'Competitor List'!$B$1","v":"Freedom Benchrest 600 YARD MATCH #1"},null,null,null,null,{"$f":"'Competitor List'!$B$1","v":"Freedom Benchrest 600 YARD MATCH #1"},null,null,null,null,{"$f":"'Competitor List'!$B$1","v":"Freedom Benchrest 600 YARD MATCH #1"},null,null,null,null,{"$f":"'Competitor List'!$B$1","v":"Freedom Benchrest 600 YARD MATCH #1"}]
[{"$f":"'Competitor List'!$B$2","v":"Vapor Trail Valley Spickard, Mo"},null,null,null,null,{"$f":"'Competitor List'!$B$2","v":"Vapor Trail Valley Spickard, Mo"},null,null,null,null,{"$f":"'Competitor List'!$B$2","v":"Vapor Trail Valley Spickard, Mo"},null,null,null,null,{"$f":"'Competitor List'!$B$2","v":"Vapor Trail Valley Spickard, Mo"}]
[{"$f":"'Competitor List'!$B$3","v":"2023-03-15"},null,null,null,null,{"$f":"'Competitor List'!$B$3","v":"2023-03-15"},null,null,null,null,{"$f":"'Competitor List'!$B$3","v":"2023-03-15"},null,null,null,null,{"$f":"'Competitor List'!$B$3","v":"2023-03-15"}]
["LIGHT GUN",null,"Target #",null,1,"LIGHT GUN",null,"Target #",null,{"$f":"E572+1","v":2},"LIGHT GUN",null,"Target #",null,{"$f":"J572+1","v":3},"LIGHT GUN",null,"Target #",null,{"$f":"O572+1","v":4}]
["Competitor #",null,{"$f":"'Label data'!A74","v":512},null,null,"Competitor #",null,{"$f":"C573","v":512},null,null,"Competitor #",null,{"$f":"H573","v":512},null,null,"Competitor #",null,{"$f":"M573","v":512}]
[]
[null,null,null,"Frame #",{"$f":"'Label data'!E74","v":12},null,null,null,"Frame #",{"$f":"E575","v":12},null,null,null,"Frame #",{"$f":"'Label data'!F74","v":12},null,null,null,"Frame #",{"$f":"O575","v":12}]
[null,null,null,"Top/Left",null,null,null,null,"Bottom/Right",null,null,null,null,"Top/Left",null,null,null,null,"Bottom/Right"]
[{"$f":"'Competitor List'!$B$1","v":"Freedom Benchrest 600 YARD MATCH #1"},null,null,null,null,{"$f":"'Competitor List'!$B$1","v":"Freedom Benchrest 600 YARD MATCH #1"},null,null,null,null,{"$f":"'Competitor List'!$B$1","v":"Freedom Benchrest 600 YARD MATCH #1"},null,null,null,null,{"$f":"'Competitor List'!$B$1","v":"Freedom Benchrest 600 YARD MATCH #1"}]
[{"$f":"'Competitor List'!$B$2","v":"Vapor Trail Valley Spickard, Mo"},null,null,null,null,{"$f":"'Competitor List'!$B$2","v":"Vapor Trail Valley Spickard, Mo"},null,null,null,null,{"$f":"'Competitor List'!$B$2","v":"Vapor Trail Valley Spickard, Mo"},null,null,null,null,{"$f":"'Competitor List'!$B$2","v":"Vapor Trail Valley Spickard, Mo"}]
[{"$f":"'Competitor List'!$B$3","v":"2023-03-15"},null,null,null,null,{"$f":"'Competitor List'!$B$3","v":"2023-03-15"},null,null,null,null,{"$f":"'Competitor List'!$B$3","v":"2023-03-15"},null,null,null,null,{"$f":"'Competitor List'!$B$3","v":"2023-03-15"}]
["LIGHT GUN",null,"Target #",null,1,"LIGHT GUN",null,"Target #",null,{"$f":"E580+1","v":2},"LIGHT GUN",null,"Target #",null,{"$f":"J580+1","v":3},"LIGHT GUN",null,"Target #",null,{"$f":"O580+1","v":4}]
["Competitor #",null,{"$f":"'Label data'!A75","v":513},null,null,"Competitor #",null,{"$f":"C581","v":513},null,null,"Competitor #",null,{"$f":"H581","v":513},null,null,"Competitor #",null,{"$f":"M581","v":513}]
[]
[null,null,null,"Frame #",{"$f":"'Label data'!E75","v":13},null,null,null,"Frame #",{"$f":"E583","v":13},null,null,null,"Frame #",{"$f":"'Label data'!F75","v":13},null,null,null,"Frame #",{"$f":"O583","v":13}]
[null,null,null,"Top/Left",null,null,null,null,"Bottom/Right",null,null,null,null,"Top/Left",null,null,null,null,"Bottom/Right"]
[{"$f":"'Competitor List'!$B$1","v":"Freedom Benchrest 600 YARD MATCH #1"},null,null,null,null,{"$f":"'Competitor List'!$B$1","v":"Freedom Benchrest 600 YARD MATCH #1"},null,null,null,null,{"$f":"'Competitor List'!$B$1","v":"Freedom Benchrest 600 YARD MATCH #1"},null,null,null,null,{"$f":"'Competitor List'!$B$1","v":"Freedom Benchrest 600 YARD MATCH #1"}]
[{"$f":"'Competitor List'!$B$2","v":"Vapor Trail Valley Spickard, Mo"},null,null,null,null,{"$f":"'Competitor List'!$B$2","v":"Vapor Trail Valley Spickard, Mo"},null,null,null,null,{"$f":"'Competitor List'!$B$2","v":"Vapor Trail Valley Spickard, Mo"},null,null,null,null,{"$f":"'Competitor List'!$B$2","v":"Vapor Trail Valley Spickard, Mo"}]
[{"$f":"'Competitor List'!$B$3","v":"2023-03-15"},null,null,null,null,{"$f":"'Competitor List'!$B$3","v":"2023-03-15"},null,null,null,null,{"$f":"'Competitor List'!$B$3","v":"2023-03-15"},null,null,null,null,{"$f":"'Competitor List'!$B$3","v":"2023-03-15"}]
["LIGHT GUN",null,"Target #",null,1,"LIGHT GUN",null,"Target #",null,{"$f":"E588+1","v":2},"LIGHT GUN",null,"Target #",null,{"$f":"J588+1","v":3},"LIGHT GUN",null,"Target #",null,{"$f":"O588+1","v":4}]
["Competitor #",null,{"$f":"'Label data'!A76","v":514},null,null,"Competitor #",null,{"$f":"C589","v":514},null,null,"Competitor #",null,{"$f":"H589","v":514},null,null,"Competitor #",null,{"$f":"M589","v":514}]
[]
[null,null,null,"Frame #",{"$f":"'Label data'!E76","v":14},null,null,null,"Frame #",{"$f":"E591","v":14},null,null,null,"Frame #",{"$f":"'Label data'!F76","v":14},null,null,null,"Frame #",{"$f":"O591","v":14}]
[null,null,null,"Top/Left",null,null,null,null,"Bottom/Right",null,null,null,null,"Top/Left",null,null,null,null,"Bottom/Right"]
[{"$f":"'Competitor List'!$B$1","v":"Freedom Benchrest 600 YARD MATCH #1"},null,null,null,null,{"$f":"'Competitor List'!$B$1","v":"Freedom Benchrest 600 YARD MATCH #1"},null,null,null,null,{"$f":"'Competitor List'!$B$1","v":"Freedom Benchrest 600 YARD MATCH #1"},null,null,null,null,{"$f":"'Competitor List'!$B$1","v":"Freedom Benchrest 600 YARD MATCH #1"}]
[{"$f":"'Competitor List'!$B$2","v":"Vapor Trail Valley Spickard, Mo"},null,null,null,null,{"$f":"'Competitor List'!$B$2","v":"Vapor Trail Valley Spickard, Mo"},null,null,null,null,{"$f":"'Competitor List'!$B$2","v":"Vapor Trail Valley Spickard, Mo"},null,null,null,null,{"$f":"'Competitor List'!$B$2","v":"Vapor Trail Valley Spickard, Mo"}]
[{"$f":"'Competitor List'!$B$3","v":"2023-03-15"},null,null,null,null,{"$f":"'Competitor List'!$B$3","v":"2023-03-15"},null,null,null,null,{"$f":"'Competitor List'!$B$3","v":"2023-03-15"},null,null,null,null,{"$f":"'Competitor List'!$B$3","v":"2023-03-15"}]
["LIGHT GUN",null,"Target #",null,1,"LIGHT GUN",null,"Target #",null,{"$f":"E596+1","v":2},"LIGHT GUN",null,"Target #",null,{"$f":"J596+1","v":3},"LIGHT GUN",null,"Target #",null,{"$f":"O596+1","v":4}]
["Competitor #",null,{"$f":"'Label data'!A77","v":515},null,null,"Competitor #",null,{"$f":"C597","v":515},null,null,"Competitor #",null,{"$f":"H597","v":515},null,null,"Competitor #",null,{"$f":"M597","v":515}]
[]
[null,null,null,"Frame #",{"$f":"'Label data'!E77","v":15},null,null,null,"Frame #",{"$f":"E599","v":15},null,null,null,"Frame #",{"$f":"'Label data'!F77","v":15},null,null,null,"Frame #",{"$f":"O599","v":15}]
[null,null,null,"Top/Left",null,null,null,null,"Bottom/Right",null,null,null,null,"Top/Left",null,null,null,null,"Bottom/Right"]
[{"$f":"'Competitor List'!$B$1","v":"Freedom Benchrest 600 YARD MATCH #1"},null,null,null,null,{"$f":"'Competitor List'!$B$1","v":"Freedom Benchrest 600 YARD MATCH #1"},null,null,null,null,{"$f":"'Competitor List'!$B$1","v":"Freedom Benchrest 600 YARD MATCH #1"},null,null,null,null,{"$f":"'Competitor List'!$B$1","v":"Freedom Benchrest 600 YARD MATCH #1"}]
[{"$f":"'Competitor List'!$B$2","v":"Vapor Trail Valley Spickard, Mo"},null,null,null,null,{"$f":"'Competitor List'!$B$2","v":"Vapor Trail Valley Spickard, Mo"},null,null,null,null,{"$f":"'Competitor List'!$B$2","v":"Vapor Trail Valley Spickard, Mo"},null,null,null,null,{"$f":"'Competitor List'!$B$2","v":"Vapor Trail Valley Spickard, Mo"}]
[{"$f":"'Competitor List'!$B$3","v":"2023-03-15"},null,null,null,null,{"$f":"'Competitor List'!$B$3","v":"2023-03-15"},null,null,null,null,{"$f":"'Competitor List'!$B$3","v":"2023-03-15"},null,null,null,null,{"$f":"'Competitor List'!$B$3","v":"2023-03-15"}]
["LIGHT GUN",null,"Target #",null,1,"LIGHT GUN",null,"Target #",null,{"$f":"E604+1","v":2},"LIGHT GUN",null,"Target #",null,{"$f":"J604+1","v":3},"LIGHT GUN",null,"Target #",null,{"$f":"O604+1","v":4}]
["Competitor #",null,{"$f":"'Label data'!A78","v":601},null,null,"Competitor #",null,{"$f":"C605","v":601},null,null,"Competitor #",null,{"$f":"H605","v":601},null,null,"Competitor #",null,{"$f":"M605","v":601}]
[]
[null,null,null,"Frame #",{"$f":"'Label data'!E78","v":1},null,null,null,"Frame #",{"$f":"E607","v":1},null,null,null,"Frame #",{"$f":"'Label data'!F78","v":1},null,null,null,"Frame #",{"$f":"O607","v":1}]
[null,null,null,"Top/Left",null,null,null,null,"Bottom/Right",null,null,null,null,"Top/Left",null,null,null,null,"Bottom/Right"]
[{"$f":"'Competitor List'!$B$1","v":"Freedom Benchrest 600 YARD MATCH #1"},null,null,null,null,{"$f":"'Competitor List'!$B$1","v":"Freedom Benchrest 600 YARD MATCH #1"},null,null,null,null,{"$f":"'Competitor List'!$B$1","v":"Freedom Benchrest 600 YARD MATCH #1"},null,null,null,null,{"$f":"'Competitor List'!$B$1","v":"Freedom Benchrest 600 YARD MATCH #1"}]
[{"$f":"'Competitor List'!$B$2","v":"Vapor Trail Valley Spickard, Mo"},null,null,null,null,{"$f":"'Competitor List'!$B$2","v":"Vapor Trail Valley Spickard, Mo"},null,null,null,null,{"$f":"'Competitor List'!$B$2","v":"Vapor Trail Valley Spickard, Mo"},null,null,null,null,{"$f":"'Competitor List'!$B$2","v":"Vapor Trail Valley Spickard, Mo"}]
[{"$f":"'Competitor List'!$B$3","v":"2023-03-15"},null,null,null,null,{"$f":"'Competitor List'!$B$3","v":"2023-03-15"},null,null,null,null,{"$f":"'Competitor List'!$B$3","v":"2023-03-15"},null,null,null,null,{"$f":"'Competitor List'!$B$3","v":"2023-03-15"}]
["LIGHT GUN",null,"Target #",null,1,"LIGHT GUN",null,"Target #",null,{"$f":"E612+1","v":2},"LIGHT GUN",null,"Target #",null,{"$f":"J612+1","v":3},"LIGHT GUN",null,"Target #",null,{"$f":"O612+1","v":4}]
["Competitor #",null,{"$f":"'Label data'!A79","v":602},null,null,"Competitor #",null,{"$f":"C613","v":602},null,null,"Competitor #",null,{"$f":"H613","v":602},null,null,"Competitor #",null,{"$f":"M613","v":602}]
[]
[null,null,null,"Frame #",{"$f":"'Label data'!E79","v":2},null,null,null,"Frame #",{"$f":"E615","v":2},null,null,null,"Frame #",{"$f":"'Label data'!F79","v":2},null,null,null,"Frame #",{"$f":"O615","v":2}]
[null,null,null,"Top/Left",null,null,null,null,"Bottom/Right",null,null,null,null,"Top/Left",null,null,null,null,"Bottom/Right"]
[{"$f":"'Competitor List'!$B$1","v":"Freedom Benchrest 600 YARD MATCH #1"},null,null,null,null,{"$f":"'Competitor List'!$B$1","v":"Freedom Benchrest 600 YARD MATCH #1"},null,null,null,null,{"$f":"'Competitor List'!$B$1","v":"Freedom Benchrest 600 YARD MATCH #1"},null,null,null,null,{"$f":"'Competitor List'!$B$1","v":"Freedom Benchrest 600 YARD MATCH #1"}]
[{"$f":"'Competitor List'!$B$2","v":"Vapor Trail Valley Spickard, Mo"},null,null,null,null,{"$f":"'Competitor List'!$B$2","v":"Vapor Trail Valley Spickard, Mo"},null,null,null,null,{"$f":"'Competitor List'!$B$2","v":"Vapor Trail Valley Spickard, Mo"},null,null,null,null,{"$f":"'Competitor List'!$B$2","v":"Vapor Trail Valley Spickard, Mo"}]
[{"$f":"'Competitor List'!$B$3","v":"2023-03-15"},null,null,null,null,{"$f":"'Competitor List'!$B$3","v":"2023-03-15"},null,null,null,null,{"$f":"'Competitor List'!$B$3","v":"2023-03-15"},null,null,null,null,{"$f":"'Competitor List'!$B$3","v":"2023-03-15"}]
["LIGHT GUN",null,"Target #",null,1,"LIGHT GUN",null,"Target #",null,{"$f":"E620+1","v":2},"LIGHT GUN",null,"Target #",null,{"$f":"J620+1","v":3},"LIGHT GUN",null,"Target #",null,{"$f":"O620+1","v":4}]
["Competitor #",null,{"$f":"'Label data'!A80","v":603},null,null,"Competitor #",null,{"$f":"C621","v":603},null,null,"Competitor #",null,{"$f":"H621","v":603},null,null,"Competitor #",null,{"$f":"M621","v":603}]
[]
[null,null,null,"Frame #",{"$f":"'Label data'!E80","v":3},null,null,null,"Frame #",{"$f":"E623","v":3},null,null,null,"Frame #",{"$f":"'Label data'!F80","v":3},null,null,null,"Frame #",{"$f":"O623","v":3}]
[null,null,null,"Top/Left",null,null,null,null,"Bottom/Right",null,null,null,null,"Top/Left",null,null,null,null,"Bottom/Right"]
[{"$f":"'Competitor List'!$B$1","v":"Freedom Benchrest 600 YARD MATCH #1"},null,null,null,null,{"$f":"'Competitor List'!$B$1","v":"Freedom Benchrest 600 YARD MATCH #1"},null,null,null,null,{"$f":"'Competitor List'!$B$1","v":"Freedom Benchrest 600 YARD MATCH #1"},null,null,null,null,{"$f":"'Competitor List'!$B$1","v":"Freedom Benchrest 600 YARD MATCH #1"}]
[{"$f":"'Competitor List'!$B$2","v":"Vapor Trail Valley Spickard, Mo"},null,null,null,null,{"$f":"'Competitor List'!$B$2","v":"Vapor Trail Valley Spickard, Mo"},null,null,null,null,{"$f":"'Competitor List'!$B$2","v":"Vapor Trail Valley Spickard, Mo"},null,null,null,null,{"$f":"'Competitor List'!$B$2","v":"Vapor Trail Valley Spickard, Mo"}]
[{"$f":"'Competitor List'!$B$3","v":"2023-03-15"},null,null,null,null,{"$f":"'Competitor List'!$B$3","v":"2023-03-15"},null,null,null,null,{"$f":"'Competitor List'!$B$3","v":"2023-03-15"},null,null,null,null,{"$f":"'Competitor List'!$B$3","v":"2023-03-15"}]
["LIGHT GUN",null,"Target #",null,1,"LIGHT GUN",null,"Target #",null,{"$f":"E628+1","v":2},"LIGHT GUN",null,"Target #",null,{"$f":"J628+1","v":3},"LIGHT GUN",null,"Target #",null,{"$f":"O628+1","v":4}]
["Competitor #",null,{"$f":"'Label data'!A81","v":604},null,null,"Competitor #",null,{"$f":"C629","v":604},null,null,"Competitor #",null,{"$f":"H629","v":604},null,null,"Competitor #",null,{"$f":"M629","v":604}]
[]
[null,null,null,"Frame #",{"$f":"'Label data'!E81","v":4},null,null,null,"Frame #",{"$f":"E631","v":4},null,null,null,"Frame #",{"$f":"'Label data'!F81","v":4},null,null,null,"Frame #",{"$f":"O631","v":4}]
[null,null,null,"Top/Left",null,null,null,null,"Bottom/Right",null,null,null,null,"Top/Left",null,null,null,null,"Bottom/Right"]
[{"$f":"'Competitor List'!$B$1","v":"Freedom Benchrest 600 YARD MATCH #1"},null,null,null,null,{"$f":"'Competitor List'!$B$1","v":"Freedom Benchrest 600 YARD MATCH #1"},null,null,null,null,{"$f":"'Competitor List'!$B$1","v":"Freedom Benchrest 600 YARD MATCH #1"},null,null,null,null,{"$f":"'Competitor List'!$B$1","v":"Freedom Benchrest 600 YARD MATCH #1"}]
[{"$f":"'Competitor List'!$B$2","v":"Vapor Trail Valley Spickard, Mo"},null,null,null,null,{"$f":"'Competitor List'!$B$2","v":"Vapor Trail Valley Spickard, Mo"},null,null,null,null,{"$f":"'Competitor List'!$B$2","v":"Vapor Trail Valley Spickard, Mo"},null,null,null,null,{"$f":"'Competitor List'!$B$2","v":"Vapor Trail Valley Spickard, Mo"}]
[{"$f":"'Competitor List'!$B$3","v":"2023-03-15"},null,null,null,null,{"$f":"'Competitor List'!$B$3","v":"2023-03-15"},null,null,null,null,{"$f":"'Competitor List'!$B$3","v":"2023-03-15"},null,null,null,null,{"$f":"'Competitor List'!$B$3","v":"2023-03-15"}]
["LIGHT GUN",null,"Target #",null,1,"LIGHT GUN",null,"Target #",null,{"$f":"E636+1","v":2},"LIGHT GUN",null,"Target #",null,{"$f":"J636+1","v":3},"LIGHT GUN",null,"Target #",null,{"$f":"O636+1","v":4}]
["Competitor #",null,{"$f":"'Label data'!A82","v":605},null,null,"Competitor #",null,{"$f":"C637","v":605},null,null,"Competitor #",null,{"$f":"H637","v":605},null,null,"Competitor #",null,{"$f":"M637","v":605}]
[]
[null,null,null,"Frame #",{"$f":"'Label data'!E82","v":5},null,null,null,"Frame #",{"$f":"E639","v":5},null,null,null,"Frame #",{"$f":"'Label data'!F82","v":5},null,null,null,"Frame #",{"$f":"O639","v":5}]
[null,null,null,"Top/Left",null,null,null,null,"Bottom/Right",null,null,null,null,"Top/Left",null,null,null,null,"Bottom/Right"]

{"sheet":"HG Labels","index":10,"n_rows":640,"n_cols":22,"rows_kept":640,"cut":false,"hidden":false,"merged":[[637,3,637,4],[637,8,637,9],[637,13,637,14],[637,18,637,19],[639,3,639,4],[639,8,639,9],[639,13,639,14],[639,18,639,19],[635,15,635,16],[635,17,635,18],[636,0,637,1],[636,2,637,2],[636,5,637,6],[636,7,637,7],[636,10,637,11],[636,12,637,12],[636,15,637,16],[636,17,637,17],[634,0,634,4],[634,5,634,9],[634,10,634,14],[634,15,634,19],[635,0,635,1],[635,2,635,3],[635,5,635,6],[635,7,635,8],[635,10,635,11],[635,12,635,13],[632,0,632,4],[632,5,632,9],[632,10,632,14],[632,15,632,19],[633,0,633,4],[633,5,633,9],[633,10,633,14],[633,15,633,19],[629,3,629,4],[629,8,629,9],[629,13,629,14],[629,18,629,19],[631,3,631,4],[631,8,631,9],[631,13,631,14],[631,18,631,19],[627,15,627,16],[627,17,627,18],[628,0,629,1],[628,2,629,2],[628,5,629,6],[628,7,629,7],[628,10,629,11],[628,12,629,12],[628,15,629,16],[628,17,629,17],[626,0,626,4],[626,5,626,9],[626,10,626,14],[626,15,626,19],[627,0,627,1],[627,2,627,3],[627,5,627,6],[627,7,627,8],[627,10,627,11],[627,12,627,13],[624,0,624,4],[624,5,624,9],[624,10,624,14],[624,15,624,19],[625,0,625,4],[625,5,625,9],[625,10,625,14],[625,15,625,19],[621,3,621,4],[621,8,621,9],[621,13,621,14],[621,18,621,19],[623,3,623,4],[623,8,623,9],[623,13,623,14],[623,18,623,19],[619,15,619,16],[619,17,619,18],[620,0,621,1],[620,2,621,2],[620,5,621,6],[620,7,621,7],[620,10,621,11],[620,12,621,12],[620,15,621,16],[620,17,621,17],[618,0,618,4],[618,5,618,9],[618,10,618,14],[618,15,618,19],[619,0,619,1],[619,2,619,3],[619,5,619,6],[619,7,619,8],[619,10,619,11],[619,12,619,13],[616,0,616,4],[616,5,616,9],[616,10,616,14],[616,15,616,19],[617,0,617,4],[617,5,617,9],[617,10,617,14],[617,15,617,19],[613,3,613,4],[613,8,613,9],[613,13,613,14],[613,18,613,19],[615,3,615,4],[615,8,615,9],[615,13,615,14],[615,18,615,19],[611,15,611,16],[611,17,611,18],[612,0,613,1],[612,2,613,2],[612,5,613,6],[612,7,613,7],[612,10,613,11],[612,12,613,12],[612,15,613,16],[612,17,613,17],[610,0,610,4],[610,5,610,9],[610,10,610,14],[610,15,610,19],[611,0,611,1],[611,2,611,3],[611,5,611,6],[611,7,611,8],[611,10,611,11],[611,12,611,13],[608,0,608,4],[608,5,608,9],[608,10,608,14],[608,15,608,19],[609,0,609,4],[609,5,609,9],[609,10,609,14],[609,15,609,19],[605,3,605,4],[605,8,605,9],[605,13,605,14],[605,18,605,19],[607,3,607,4],[607,8,607,9],[607,13,607,14],[607,18,607,19],[603,15,603,16],[603,17,603,18],[604,0,605,1],[604,2,605,2],[604,5,605,6],[604,7,605,7],[604,10,605,11],[604,12,605,12],[604,15,605,16],[604,17,605,17],[602,0,602,4],[602,5,602,9],[602,10,602,14],[602,15,602,19],[603,0,603,1],[603,2,603,3],[603,5,603,6],[603,7,603,8],[603,10,603,11],[603,12,603,13],[600,0,600,4],[600,5,600,9],[600,10,600,14],[600,15,600,19],[601,0,601,4],[601,5,601,9],[601,10,601,14],[601,15,601,19],[597,3,597,4],[597,8,597,9],[597,13,597,14],[597,18,597,19],[599,3,599,4],[599,8,599,9],[599,13,599,14],[599,18,599,19],[595,15,595,16],[595,17,595,18],[596,0,597,1],[596,2,597,2],[596,5,597,6],[596,7,597,7],[596,10,597,11],[596,12,597,12],[596,15,597,16],[596,17,597,17],[594,0,594,4],[594,5,594,9],[594,10,594,14],[594,15,594,19],[595,0,595,1],[595,2,595,3],[595,5,595,6],[595,7,595,8],[595,10,595,11],[595,12,595,13],[592,0,592,4],[592,5,592,9],[592,10,592,14],[592,15,592,19],[593,0,593,4],[593,5,593,9],[593,10,593,14],[593,15,593,19],[589,3,589,4],[589,8,589,9],[589,13,589,14],[589,18,589,19],[591,3,591,4],[591,8,591,9],[591,13,591,14],[591,18,591,19],[587,15,587,16],[587,17,587,18],[588,0,589,1],[588,2,589,2],[588,5,589,6],[588,7,589,7],[588,10,589,11],[588,12,589,12],[588,15,589,16],[588,17,589,17],[586,0,586,4],[586,5,586,9],[586,10,586,14],[586,15,586,19],[587,0,587,1],[587,2,587,3],[587,5,587,6],[587,7,587,8],[587,10,587,11],[587,12,587,13],[584,0,584,4],[584,5,584,9],[584,10,584,14],[584,15,584,19],[585,0,585,4],[585,5,585,9],[585,10,585,14],[585,15,585,19],[581,3,581,4],[581,8,581,9],[581,13,581,14],[581,18,581,19],[583,3,583,4],[583,8,583,9],[583,13,583,14],[583,18,583,19],[579,15,579,16],[579,17,579,18],[580,0,581,1],[580,2,581,2],[580,5,581,6],[580,7,581,7],[580,10,581,11],[580,12,581,12],[580,15,581,16],[580,17,581,17],[578,0,578,4],[578,5,578,9],[578,10,578,14],[578,15,578,19],[579,0,579,1],[579,2,579,3],[579,5,579,6],[579,7,579,8],[579,10,579,11],[579,12,579,13],[576,0,576,4],[576,5,576,9],[576,10,576,14],[576,15,576,19],[577,0,577,4],[577,5,577,9],[577,10,577,14],[577,15,577,19],[573,3,573,4],[573,8,573,9],[573,13,573,14],[573,18,573,19],[575,3,575,4],[575,8,575,9],[575,13,575,14],[575,18,575,19],[571,15,571,16],[571,17,571,18],[572,0,573,1],[572,2,573,2],[572,5,573,6],[572,7,573,7],[572,10,573,11],[572,12,573,12],[572,15,573,16],[572,17,573,17],[570,0,570,4],[570,5,570,9],[570,10,570,14],[570,15,570,19],[571,0,571,1],[571,2,571,3],[571,5,571,6],[571,7,571,8],[571,10,571,11],[571,12,571,13],[568,0,568,4],[568,5,568,9],[568,10,568,14],[568,15,568,19],[569,0,569,4],[569,5,569,9],[569,10,569,14],[569,15,569,19],[565,3,565,4],[565,8,565,9],[565,13,565,14],[565,18,565,19],[567,3,567,4],[567,8,567,9],[567,13,567,14],[567,18,567,19],[563,15,563,16],[563,17,563,18],[564,0,565,1],[564,2,565,2],[564,5,565,6],[564,7,565,7],[564,10,565,11],[564,12,565,12],[564,15,565,16],[564,17,565,17],[562,0,562,4],[562,5,562,9],[562,10,562,14],[562,15,562,19],[563,0,563,1],[563,2,563,3],[563,5,563,6],[563,7,563,8],[563,10,563,11],[563,12,563,13],[560,0,560,4],[560,5,560,9],[560,10,560,14],[560,15,560,19],[561,0,561,4],[561,5,561,9],[561,10,561,14],[561,15,561,19],[557,3,557,4],[557,8,557,9],[557,13,557,14],[557,18,557,19],[559,3,559,4],[559,8,559,9],[559,13,559,14],[559,18,559,19],[555,15,555,16],[555,17,555,18],[556,0,557,1],[556,2,557,2],[556,5,557,6],[556,7,557,7],[556,10,557,11],[556,12,557,12],[556,15,557,16],[556,17,557,17],[554,0,554,4],[554,5,554,9],[554,10,554,14],[554,15,554,19],[555,0,555,1],[555,2,555,3],[555,5,555,6],[555,7,555,8],[555,10,555,11],[555,12,555,13],[552,0,552,4],[552,5,552,9],[552,10,552,14],[552,15,552,19],[553,0,553,4],[553,5,553,9],[553,10,553,14],[553,15,553,19],[549,3,549,4],[549,8,549,9],[549,13,549,14],[549,18,549,19],[551,3,551,4],[551,8,551,9],[551,13,551,14],[551,18,551,19],[547,15,547,16],[547,17,547,18],[548,0,549,1],[548,2,549,2],[548,5,549,6],[548,7,549,7],[548,10,549,11],[548,12,549,12],[548,15,549,16],[548,17,549,17],[546,0,546,4],[546,5,546,9],[546,10,546,14],[546,15,546,19],[547,0,547,1],[547,2,547,3],[547,5,547,6],[547,7,547,8],[547,10,547,11],[547,12,547,13],[544,0,544,4],[544,5,544,9],[544,10,544,14],[544,15,544,19],[545,0,545,4],[545,5,545,9],[545,10,545,14],[545,15,545,19],[541,3,541,4],[541,8,541,9],[541,13,541,14],[541,18,541,19],[543,3,543,4],[543,8,543,9],[543,13,543,14],[543,18,543,19],[539,15,539,16],[539,17,539,18],[540,0,541,1],[540,2,541,2],[540,5,541,6],[540,7,541,7],[540,10,541,11],[540,12,541,12],[540,15,541,16],[540,17,541,17],[538,0,538,4],[538,5,538,9],[538,10,538,14],[538,15,538,19],[539,0,539,1],[539,2,539,3],[539,5,539,6],[539,7,539,8],[539,10,539,11],[539,12,539,13],[536,0,536,4],[536,5,536,9],[536,10,536,14],[536,15,536,19],[537,0,537,4],[537,5,537,9],[537,10,537,14],[537,15,537,19],[533,3,533,4],[533,8,533,9],[533,13,533,14],[533,18,533,19],[535,3,535,4],[535,8,535,9],[535,13,535,14],[535,18,535,19],[531,15,531,16],[531,17,531,18],[532,0,533,1],[532,2,533,2],[532,5,533,6],[532,7,533,7],[532,10,533,11],[532,12,533,12],[532,15,533,16],[532,17,533,17],[530,0,530,4],[530,5,530,9],[530,10,530,14],[530,15,530,19],[531,0,531,1],[531,2,531,3],[531,5,531,6],[531,7,531,8],[531,10,531,11],[531,12,531,13],[528,0,528,4],[528,5,528,9],[528,10,528,14],[528,15,528,19],[529,0,529,4],[529,5,529,9],[529,10,529,14],[529,15,529,19],[525,3,525,4],[525,8,525,9],[525,13,525,14],[525,18,525,19],[527,3,527,4],[527,8,527,9],[527,13,527,14],[527,18,527,19],[523,15,523,16],[523,17,523,18],[524,0,525,1],[524,2,525,2],[524,5,525,6],[524,7,525,7],[524,10,525,11],[524,12,525,12],[524,15,525,16],[524,17,525,17],[522,0,522,4],[522,5,522,9],[522,10,522,14],[522,15,522,19],[523,0,523,1],[523,2,523,3],[523,5,523,6],[523,7,523,8],[523,10,523,11],[523,12,523,13],[520,0,520,4],[520,5,520,9],[520,10,520,14],[520,15,520,19],[521,0,521,4],[521,5,521,9],[521,10,521,14],[521,15,521,19],[517,3,517,4],[517,8,517,9],[517,13,517,14],[517,18,517,19],[519,3,519,4],[519,8,519,9],[519,13,519,14],[519,18,519,19],[515,15,515,16],[515,17,515,18],[516,0,517,1],[516,2,517,2],[516,5,517,6],[516,7,517,7],[516,10,517,11],[516,12,517,12],[516,15,517,16],[516,17,517,17],[514,0,514,4],[514,5,514,9],[514,10,514,14],[514,15,514,19],[515,0,515,1],[515,2,515,3],[515,5,515,6],[515,7,515,8],[515,10,515,11],[515,12,515,13],[512,0,512,4],[512,5,512,9],[512,10,512,14],[512,15,512,19],[513,0,513,4],[513,5,513,9],[513,10,513,14],[513,15,513,19],[509,3,509,4],[509,8,509,9],[509,13,509,14],[509,18,509,19],[511,3,511,4],[511,8,511,9],[511,13,511,14],[511,18,511,19],[507,15,507,16],[507,17,507,18],[508,0,509,1],[508,2,509,2],[508,5,509,6],[508,7,509,7],[508,10,509,11],[508,12,509,12],[508,15,509,16],[508,17,509,17],[506,0,506,4],[506,5,506,9],[506,10,506,14],[506,15,506,19],[507,0,507,1],[507,2,507,3],[507,5,507,6],[507,7,507,8],[507,10,507,11],[507,12,507,13],[504,0,504,4],[504,5,504,9],[504,10,504,14],[504,15,504,19],[505,0,505,4],[505,5,505,9],[505,10,505,14],[505,15,505,19],[501,3,501,4],[501,8,501,9],[501,13,501,14],[501,18,501,19],[503,3,503,4],[503,8,503,9],[503,13,503,14],[503,18,503,19],[499,15,499,16],[499,17,499,18],[500,0,501,1],[500,2,501,2],[500,5,501,6],[500,7,501,7],[500,10,501,11],[500,12,501,12],[500,15,501,16],[500,17,501,17],[498,0,498,4],[498,5,498,9],[498,10,498,14],[498,15,498,19],[499,0,499,1],[499,2,499,3],[499,5,499,6],[499,7,499,8],[499,10,499,11],[499,12,499,13],[496,0,496,4],[496,5,496,9],[496,10,496,14],[496,15,496,19],[497,0,497,4],[497,5,497,9],[497,10,497,14],[497,15,497,19],[493,3,493,4],[493,8,493,9],[493,13,493,14],[493,18,493,19],[495,3,495,4],[495,8,495,9],[495,13,495,14],[495,18,495,19],[491,15,491,16],[491,17,491,18],[492,0,493,1],[492,2,493,2],[492,5,493,6],[492,7,493,7],[492,10,493,11],[492,12,493,12],[492,15,493,16],[492,17,493,17],[490,0,490,4],[490,5,490,9],[490,10,490,14],[490,15,490,19],[491,0,491,1],[491,2,491,3],[491,5,491,6],[491,7,491,8],[491,10,491,11],[491,12,491,13],[488,0,488,4],[488,5,488,9],[488,10,488,14],[488,15,488,19],[489,0,489,4],[489,5,489,9],[489,10,489,14],[489,15,489,19],[485,3,485,4],[485,8,485,9],[485,13,485,14],[485,18,485,19],[487,3,487,4],[487,8,487,9],[487,13,487,14],[487,18,487,19],[483,15,483,16],[483,17,483,18],[484,0,485,1],[484,2,485,2],[484,5,485,6],[484,7,485,7],[484,10,485,11],[484,12,485,12],[484,15,485,16],[484,17,485,17],[482,0,482,4],[482,5,482,9],[482,10,482,14],[482,15,482,19],[483,0,483,1],[483,2,483,3],[483,5,483,6],[483,7,483,8],[483,10,483,11],[483,12,483,13],[480,0,480,4],[480,5,480,9],[480,10,480,14],[480,15,480,19],[481,0,481,4],[481,5,481,9],[481,10,481,14],[481,15,481,19],[477,3,477,4],[477,8,477,9],[477,13,477,14],[477,18,477,19],[479,3,479,4],[479,8,479,9],[479,13,479,14],[479,18,479,19],[475,15,475,16],[475,17,475,18],[476,0,477,1],[476,2,477,2],[476,5,477,6],[476,7,477,7],[476,10,477,11],[476,12,477,12],[476,15,477,16],[476,17,477,17],[474,0,474,4],[474,5,474,9],[474,10,474,14],[474,15,474,19],[475,0,475,1],[475,2,475,3],[475,5,475,6],[475,7,475,8],[475,10,475,11],[475,12,475,13],[472,0,472,4],[472,5,472,9],[472,10,472,14],[472,15,472,19],[473,0,473,4],[473,5,473,9],[473,10,473,14],[473,15,473,19],[469,3,469,4],[469,8,469,9],[469,13,469,14],[469,18,469,19],[471,3,471,4],[471,8,471,9],[471,13,471,14],[471,18,471,19],[467,15,467,16],[467,17,467,18],[468,0,469,1],[468,2,469,2],[468,5,469,6],[468,7,469,7],[468,10,469,11],[468,12,469,12],[468,15,469,16],[468,17,469,17],[466,0,466,4],[466,5,466,9],[466,10,466,14],[466,15,466,19],[467,0,467,1],[467,2,467,3],[467,5,467,6],[467,7,467,8],[467,10,467,11],[467,12,467,13],[464,0,464,4],[464,5,464,9],[464,10,464,14],[464,15,464,19],[465,0,465,4],[465,5,465,9],[465,10,465,14],[465,15,465,19],[461,3,461,4],[461,8,461,9],[461,13,461,14],[461,18,461,19],[463,3,463,4],[463,8,463,9],[463,13,463,14],[463,18,463,19],[459,15,459,16],[459,17,459,18],[460,0,461,1],[460,2,461,2],[460,5,461,6],[460,7,461,7],[460,10,461,11],[460,12,461,12],[460,15,461,16],[460,17,461,17],[458,0,458,4],[458,5,458,9],[458,10,458,14],[458,15,458,19],[459,0,459,1],[459,2,459,3],[459,5,459,6],[459,7,459,8],[459,10,459,11],[459,12,459,13],[456,0,456,4],[456,5,456,9],[456,10,456,14],[456,15,456,19],[457,0,457,4],[457,5,457,9],[457,10,457,14],[457,15,457,19],[453,3,453,4],[453,8,453,9],[453,13,453,14],[453,18,453,19],[455,3,455,4],[455,8,455,9],[455,13,455,14],[455,18,455,19],[451,15,451,16],[451,17,451,18],[452,0,453,1],[452,2,453,2],[452,5,453,6],[452,7,453,7],[452,10,453,11],[452,12,453,12],[452,15,453,16],[452,17,453,17],[450,0,450,4],[450,5,450,9],[450,10,450,14],[450,15,450,19],[451,0,451,1],[451,2,451,3],[451,5,451,6],[451,7,451,8],[451,10,451,11],[451,12,451,13],[448,0,448,4],[448,5,448,9],[448,10,448,14],[448,15,448,19],[449,0,449,4],[449,5,449,9],[449,10,449,14],[449,15,449,19],[445,3,445,4],[445,8,445,9],[445,13,445,14],[445,18,445,19],[447,3,447,4],[447,8,447,9],[447,13,447,14],[447,18,447,19],[443,15,443,16],[443,17,443,18],[444,0,445,1],[444,2,445,2],[444,5,445,6],[444,7,445,7],[444,10,445,11],[444,12,445,12],[444,15,445,16],[444,17,445,17],[442,0,442,4],[442,5,442,9],[442,10,442,14],[442,15,442,19],[443,0,443,1],[443,2,443,3],[443,5,443,6],[443,7,443,8],[443,10,443,11],[443,12,443,13],[440,0,440,4],[440,5,440,9],[440,10,440,14],[440,15,440,19],[441,0,441,4],[441,5,441,9],[441,10,441,14],[441,15,441,19],[437,3,437,4],[437,8,437,9],[437,13,437,14],[437,18,437,19],[439,3,439,4],[439,8,439,9],[439,13,439,14],[439,18,439,19],[435,15,435,16],[435,17,435,18],[436,0,437,1],[436,2,437,2],[436,5,437,6],[436,7,437,7],[436,10,437,11],[436,12,437,12],[436,15,437,16],[436,17,437,17],[434,0,434,4],[434,5,434,9],[434,10,434,14],[434,15,434,19],[435,0,435,1],[435,2,435,3],[435,5,435,6],[435,7,435,8],[435,10,435,11],[435,12,435,13],[432,0,432,4],[432,5,432,9],[432,10,432,14],[432,15,432,19],[433,0,433,4],[433,5,433,9],[433,10,433,14],[433,15,433,19],[429,3,429,4],[429,8,429,9],[429,13,429,14],[429,18,429,19],[431,3,431,4],[431,8,431,9],[431,13,431,14],[431,18,431,19],[427,15,427,16],[427,17,427,18],[428,0,429,1],[428,2,429,2],[428,5,429,6],[428,7,429,7],[428,10,429,11],[428,12,429,12],[428,15,429,16],[428,17,429,17],[426,0,426,4],[426,5,426,9],[426,10,426,14],[426,15,426,19],[427,0,427,1],[427,2,427,3],[427,5,427,6],[427,7,427,8],[427,10,427,11],[427,12,427,13],[424,0,424,4],[424,5,424,9],[424,10,424,14],[424,15,424,19],[425,0,425,4],[425,5,425,9],[425,10,425,14],[425,15,425,19],[421,3,421,4],[421,8,421,9],[421,13,421,14],[421,18,421,19],[423,3,423,4],[423,8,423,9],[423,13,423,14],[423,18,423,19],[419,15,419,16],[419,17,419,18],[420,0,421,1],[420,2,421,2],[420,5,421,6],[420,7,421,7],[420,10,421,11],[420,12,421,12],[420,15,421,16],[420,17,421,17],[418,0,418,4],[418,5,418,9],[418,10,418,14],[418,15,418,19],[419,0,419,1],[419,2,419,3],[419,5,419,6],[419,7,419,8],[419,10,419,11],[419,12,419,13]],"merged_total":2880,"flags":["merged_cut"]}
[{"$f":"'Competitor List'!$B$1","v":"Freedom Benchrest 600 YARD MATCH #1"},null,null,null,null,{"$f":"'Competitor List'!$B$1","v":"Freedom Benchrest 600 YARD MATCH #1"},null,null,null,null,{"$f":"'Competitor List'!$B$1","v":"Freedom Benchrest 600 YARD MATCH #1"},null,null,null,null,{"$f":"'Competitor List'!$B$1","v":"Freedom Benchrest 600 YARD MATCH #1"}]
[{"$f":"'Competitor List'!$B$2","v":"Vapor Trail Valley Spickard, Mo"},null,null,null,null,{"$f":"'Competitor List'!$B$2","v":"Vapor Trail Valley Spickard, Mo"},null,null,null,null,{"$f":"'Competitor List'!$B$2","v":"Vapor Trail Valley Spickard, Mo"},null,null,null,null,{"$f":"'Competitor List'!$B$2","v":"Vapor Trail Valley Spickard, Mo"},null,null,null,null,null,"LABELS needed are 2\" x 4\"  10 per sheet"]
[{"$f":"'Competitor List'!$B$3","v":"2023-03-15"},null,null,null,null,{"$f":"'Competitor List'!$B$3","v":"2023-03-15"},null,null,null,null,{"$f":"'Competitor List'!$B$3","v":"2023-03-15"},null,null,null,null,{"$f":"'Competitor List'!$B$3","v":"2023-03-15"}]
["HEAVY GUN",null,"Target #",null,1,"HEAVY GUN",null,"Target #",null,{"$f":"E4+1","v":2},"HEAVY GUN",null,"Target #",null,{"$f":"J4+1","v":3},"HEAVY GUN",null,"Target #",null,{"$f":"O4+1","v":4},null,"SET PRINT AREA"]
["Competitor #",null,{"$f":"'Label data'!A3","v":101},null,null,"Competitor #",null,{"$f":"C5","v":101},null,null,"Competitor #",null,{"$f":"H5","v":101},null,null,"Competitor #",null,{"$f":"M5","v":101},null,null,null,"( or only print pages 1-X)"]
[]
[null,null,null,"Frame #",{"$f":"'Label data'!G3","v":1},null,null,null,"Frame #",{"$f":"E7","v":1},null,null,null,"Frame #",{"$f":"'Label data'!H3","v":1},null,null,null,"Frame #",{"$f":"O7","v":1},null,"Margin setup as below:"]
[null,null,null,"Top/Left",null,null,null,null,"Bottom/Right",null,null,null,null,"Top/Left",null,null,null,null,"Bottom/Right"]
[{"$f":"'Competitor List'!$B$1","v":"Freedom Benchrest 600 YARD MATCH #1"},null,null,null,null,{"$f":"'Competitor List'!$B$1","v":"Freedom Benchrest 600 YARD MATCH #1"},null,null,null,null,{"$f":"'Competitor List'!$B$1","v":"Freedom Benchrest 600 YARD MATCH #1"},null,null,null,null,{"$f":"'Competitor List'!$B$1","v":"Freedom Benchrest 600 YARD MATCH #1"}]
[{"$f":"'Competitor List'!$B$2","v":"Vapor Trail Valley Spickard, Mo"},null,null,null,null,{"$f":"'Competitor List'!$B$2","v":"Vapor Trail Valley Spickard, Mo"},null,null,null,null,{"$f":"'Competitor List'!$B$2","v":"Vapor Trail Valley Spickard, Mo"},null,null,null,null,{"$f":"'Competitor List'!$B$2","v":"Vapor Trail Valley Spickard, Mo"}]
[{"$f":"'Competitor List'!$B$3","v":"2023-03-15"},null,null,null,null,{"$f":"'Competitor List'!$B$3","v":"2023-03-15"},null,null,null,null,{"$f":"'Competitor List'!$B$3","v":"2023-03-15"},null,null,null,null,{"$f":"'Competitor List'!$B$3","v":"2023-03-15"}]
["HEAVY GUN",null,"Target #",null,1,"HEAVY GUN",null,"Target #",null,{"$f":"E12+1","v":2},"HEAVY GUN",null,"Target #",null,{"$f":"J12+1","v":3},"HEAVY GUN",null,"Target #",null,{"$f":"O12+1","v":4}]
["Competitor #",null,{"$f":"'Label data'!A4","v":102},null,null,"Competitor #",null,{"$f":"C13","v":102},null,null,"Competitor #",null,{"$f":"H13","v":102},null,null,"Competitor #",null,{"$f":"M13","v":102}]
[null,null,null,null,null,null,null,null,null,null,null,null,null,null,null,null,null,null,"N14"]
[null,null,null,"Frame #",{"$f":"'Label data'!G4","v":2},null,null,null,"Frame #",{"$f":"E15","v":2},null,null,null,"Frame #",{"$f":"'Label data'!H4","v":2},null,null,null,"Frame #",{"$f":"O15","v":2}]
[null,null,null,"Top/Left",null,null,null,null,"Bottom/Right",null,null,null,null,"Top/Left",null,null,null,null,"Bottom/Right"]
[{"$f":"'Competitor List'!$B$1","v":"Freedom Benchrest 600 YARD MATCH #1"},null,null,null,null,{"$f":"'Competitor List'!$B$1","v":"Freedom Benchrest 600 YARD MATCH #1"},null,null,null,null,{"$f":"'Competitor List'!$B$1","v":"Freedom Benchrest 600 YARD MATCH #1"},null,null,null,null,{"$f":"'Competitor List'!$B$1","v":"Freedom Benchrest 600 YARD MATCH #1"}]
[{"$f":"'Competitor List'!$B$2","v":"Vapor Trail Valley Spickard, Mo"},null,null,null,null,{"$f":"'Competitor List'!$B$2","v":"Vapor Trail Valley Spickard, Mo"},null,null,null,null,{"$f":"'Competitor List'!$B$2","v":"Vapor Trail Valley Spickard, Mo"},null,null,null,null,{"$f":"'Competitor List'!$B$2","v":"Vapor Trail Valley Spickard, Mo"}]
[{"$f":"'Competitor List'!$B$3","v":"2023-03-15"},null,null,null,null,{"$f":"'Competitor List'!$B$3","v":"2023-03-15"},null,null,null,null,{"$f":"'Competitor List'!$B$3","v":"2023-03-15"},null,null,null,null,{"$f":"'Competitor List'!$B$3","v":"2023-03-15"}]
["HEAVY GUN",null,"Target #",null,1,"HEAVY GUN",null,"Target #",null,{"$f":"E20+1","v":2},"HEAVY GUN",null,"Target #",null,{"$f":"J20+1","v":3},"HEAVY GUN",null,"Target #",null,{"$f":"O20+1","v":4}]
["Competitor #",null,{"$f":"'Label data'!A5","v":103},null,null,"Competitor #",null,{"$f":"C21","v":103},null,null,"Competitor #",null,{"$f":"H21","v":103},null,null,"Competitor #",null,{"$f":"M21","v":103}]
[]
[null,null,null,"Frame #",{"$f":"'Label data'!G5","v":3},null,null,null,"Frame #",{"$f":"E23","v":3},null,null,null,"Frame #",{"$f":"'Label data'!H5","v":3},null,null,null,"Frame #",{"$f":"O23","v":3}]
[null,null,null,"Top/Left",null,null,null,null,"Bottom/Right",null,null,null,null,"Top/Left",null,null,null,null,"Bottom/Right"]
[{"$f":"'Competitor List'!$B$1","v":"Freedom Benchrest 600 YARD MATCH #1"},null,null,null,null,{"$f":"'Competitor List'!$B$1","v":"Freedom Benchrest 600 YARD MATCH #1"},null,null,null,null,{"$f":"'Competitor List'!$B$1","v":"Freedom Benchrest 600 YARD MATCH #1"},null,null,null,null,{"$f":"'Competitor List'!$B$1","v":"Freedom Benchrest 600 YARD MATCH #1"}]
[{"$f":"'Competitor List'!$B$2","v":"Vapor Trail Valley Spickard, Mo"},null,null,null,null,{"$f":"'Competitor List'!$B$2","v":"Vapor Trail Valley Spickard, Mo"},null,null,null,null,{"$f":"'Competitor List'!$B$2","v":"Vapor Trail Valley Spickard, Mo"},null,null,null,null,{"$f":"'Competitor List'!$B$2","v":"Vapor Trail Valley Spickard, Mo"}]
[{"$f":"'Competitor List'!$B$3","v":"2023-03-15"},null,null,null,null,{"$f":"'Competitor List'!$B$3","v":"2023-03-15"},null,null,null,null,{"$f":"'Competitor List'!$B$3","v":"2023-03-15"},null,null,null,null,{"$f":"'Competitor List'!$B$3","v":"2023-03-15"}]
["HEAVY GUN",null,"Target #",null,1,"HEAVY GUN",null,"Target #",null,{"$f":"E28+1","v":2},"HEAVY GUN",null,"Target #",null,{"$f":"J28+1","v":3},"HEAVY GUN",null,"Target #",null,{"$f":"O28+1","v":4}]
["Competitor #",null,{"$f":"'Label data'!A6","v":104},null,null,"Competitor #",null,{"$f":"C29","v":104},null,null,"Competitor #",null,{"$f":"H29","v":104},null,null,"Competitor #",null,{"$f":"M29","v":104}]
[]
[null,null,null,"Frame #",{"$f":"'Label data'!G6","v":4},null,null,null,"Frame #",{"$f":"E31","v":4},null,null,null,"Frame #",{"$f":"'Label data'!H6","v":4},null,null,null,"Frame #",{"$f":"O31","v":4}]
[null,null,null,"Top/Left",null,null,null,null,"Bottom/Right",null,null,null,null,"Top/Left",null,null,null,null,"Bottom/Right"]
[{"$f":"'Competitor List'!$B$1","v":"Freedom Benchrest 600 YARD MATCH #1"},null,null,null,null,{"$f":"'Competitor List'!$B$1","v":"Freedom Benchrest 600 YARD MATCH #1"},null,null,null,null,{"$f":"'Competitor List'!$B$1","v":"Freedom Benchrest 600 YARD MATCH #1"},null,null,null,null,{"$f":"'Competitor List'!$B$1","v":"Freedom Benchrest 600 YARD MATCH #1"}]
[{"$f":"'Competitor List'!$B$2","v":"Vapor Trail Valley Spickard, Mo"},null,null,null,null,{"$f":"'Competitor List'!$B$2","v":"Vapor Trail Valley Spickard, Mo"},null,null,null,null,{"$f":"'Competitor List'!$B$2","v":"Vapor Trail Valley Spickard, Mo"},null,null,null,null,{"$f":"'Competitor List'!$B$2","v":"Vapor Trail Valley Spickard, Mo"}]
[{"$f":"'Competitor List'!$B$3","v":"2023-03-15"},null,null,null,null,{"$f":"'Competitor List'!$B$3","v":"2023-03-15"},null,null,null,null,{"$f":"'Competitor List'!$B$3","v":"2023-03-15"},null,null,null,null,{"$f":"'Competitor List'!$B$3","v":"2023-03-15"}]
["HEAVY GUN",null,"Target #",null,1,"HEAVY GUN",null,"Target #",null,{"$f":"E36+1","v":2},"HEAVY GUN",null,"Target #",null,{"$f":"J36+1","v":3},"HEAVY GUN",null,"Target #",null,{"$f":"O36+1","v":4}]
["Competitor #",null,{"$f":"'Label data'!A7","v":105},null,null,"Competitor #",null,{"$f":"C37","v":105},null,null,"Competitor #",null,{"$f":"H37","v":105},null,null,"Competitor #",null,{"$f":"M37","v":105}]
[]
[null,null,null,"Frame #",{"$f":"'Label data'!G7","v":5},null,null,null,"Frame #",{"$f":"E39","v":5},null,null,null,"Frame #",{"$f":"'Label data'!H7","v":5},null,null,null,"Frame #",{"$f":"O39","v":5}]
[null,null,null,"Top/Left",null,null,null,null,"Bottom/Right",null,null,null,null,"Top/Left",null,null,null,null,"Bottom/Right"]
[{"$f":"'Competitor List'!$B$1","v":"Freedom Benchrest 600 YARD MATCH #1"},null,null,null,null,{"$f":"'Competitor List'!$B$1","v":"Freedom Benchrest 600 YARD MATCH #1"},null,null,null,null,{"$f":"'Competitor List'!$B$1","v":"Freedom Benchrest 600 YARD MATCH #1"},null,null,null,null,{"$f":"'Competitor List'!$B$1","v":"Freedom Benchrest 600 YARD MATCH #1"}]
[{"$f":"'Competitor List'!$B$2","v":"Vapor Trail Valley Spickard, Mo"},null,null,null,null,{"$f":"'Competitor List'!$B$2","v":"Vapor Trail Valley Spickard, Mo"},null,null,null,null,{"$f":"'Competitor List'!$B$2","v":"Vapor Trail Valley Spickard, Mo"},null,null,null,null,{"$f":"'Competitor List'!$B$2","v":"Vapor Trail Valley Spickard, Mo"}]
[{"$f":"'Competitor List'!$B$3","v":"2023-03-15"},null,null,null,null,{"$f":"'Competitor List'!$B$3","v":"2023-03-15"},null,null,null,null,{"$f":"'Competitor List'!$B$3","v":"2023-03-15"},null,null,null,null,{"$f":"'Competitor List'!$B$3","v":"2023-03-15"}]
["HEAVY GUN",null,"Target #",null,1,"HEAVY GUN",null,"Target #",null,{"$f":"E44+1","v":2},"HEAVY GUN",null,"Target #",null,{"$f":"J44+1","v":3},"HEAVY GUN",null,"Target #",null,{"$f":"O44+1","v":4}]
["Competitor #",null,{"$f":"'Label data'!A8","v":106},null,null,"Competitor #",null,{"$f":"C45","v":106},null,null,"Competitor #",null,{"$f":"H45","v":106},null,null,"Competitor #",null,{"$f":"M45","v":106}]
[]
[null,null,null,"Frame #",{"$f":"'Label data'!G8","v":6},null,null,null,"Frame #",{"$f":"E47","v":6},null,null,null,"Frame #",{"$f":"'Label data'!H8","v":6},null,null,null,"Frame #",{"$f":"O47","v":6}]
[null,null,null,"Top/Left",null,null,null,null,"Bottom/Right",null,null,null,null,"Top/Left",null,null,null,null,"Bottom/Right"]
[{"$f":"'Competitor List'!$B$1","v":"Freedom Benchrest 600 YARD MATCH #1"},null,null,null,null,{"$f":"'Competitor List'!$B$1","v":"Freedom Benchrest 600 YARD MATCH #1"},null,null,null,null,{"$f":"'Competitor List'!$B$1","v":"Freedom Benchrest 600 YARD MATCH #1"},null,null,null,null,{"$f":"'Competitor List'!$B$1","v":"Freedom Benchrest 600 YARD MATCH #1"}]
[{"$f":"'Competitor List'!$B$2","v":"Vapor Trail Valley Spickard, Mo"},null,null,null,null,{"$f":"'Competitor List'!$B$2","v":"Vapor Trail Valley Spickard, Mo"},null,null,null,null,{"$f":"'Competitor List'!$B$2","v":"Vapor Trail Valley Spickard, Mo"},null,null,null,null,{"$f":"'Competitor List'!$B$2","v":"Vapor Trail Valley Spickard, Mo"}]
[{"$f":"'Competitor List'!$B$3","v":"2023-03-15"},null,null,null,null,{"$f":"'Competitor List'!$B$3","v":"2023-03-15"},null,null,null,null,{"$f":"'Competitor List'!$B$3","v":"2023-03-15"},null,null,null,null,{"$f":"'Competitor List'!$B$3","v":"2023-03-15"}]
["HEAVY GUN",null,"Target #",null,1,"HEAVY GUN",null,"Target #",null,{"$f":"E52+1","v":2},"HEAVY GUN",null,"Target #",null,{"$f":"J52+1","v":3},"HEAVY GUN",null,"Target #",null,{"$f":"O52+1","v":4}]
["Competitor #",null,{"$f":"'Label data'!A9","v":107},null,null,"Competitor #",null,{"$f":"C53","v":107},null,null,"Competitor #",null,{"$f":"H53","v":107},null,null,"Competitor #",null,{"$f":"M53","v":107}]
[]
[null,null,null,"Frame #",{"$f":"'Label data'!G9","v":7},null,null,null,"Frame #",{"$f":"E55","v":7},null,null,null,"Frame #",{"$f":"'Label data'!H9","v":7},null,null,null,"Frame #",{"$f":"O55","v":7}]
[null,null,null,"Top/Left",null,null,null,null,"Bottom/Right",null,null,null,null,"Top/Left",null,null,null,null,"Bottom/Right"]
[{"$f":"'Competitor List'!$B$1","v":"Freedom Benchrest 600 YARD MATCH #1"},null,null,null,null,{"$f":"'Competitor List'!$B$1","v":"Freedom Benchrest 600 YARD MATCH #1"},null,null,null,null,{"$f":"'Competitor List'!$B$1","v":"Freedom Benchrest 600 YARD MATCH #1"},null,null,null,null,{"$f":"'Competitor List'!$B$1","v":"Freedom Benchrest 600 YARD MATCH #1"}]
[{"$f":"'Competitor List'!$B$2","v":"Vapor Trail Valley Spickard, Mo"},null,null,null,null,{"$f":"'Competitor List'!$B$2","v":"Vapor Trail Valley Spickard, Mo"},null,null,null,null,{"$f":"'Competitor List'!$B$2","v":"Vapor Trail Valley Spickard, Mo"},null,null,null,null,{"$f":"'Competitor List'!$B$2","v":"Vapor Trail Valley Spickard, Mo"}]
[{"$f":"'Competitor List'!$B$3","v":"2023-03-15"},null,null,null,null,{"$f":"'Competitor List'!$B$3","v":"2023-03-15"},null,null,null,null,{"$f":"'Competitor List'!$B$3","v":"2023-03-15"},null,null,null,null,{"$f":"'Competitor List'!$B$3","v":"2023-03-15"}]
["HEAVY GUN",null,"Target #",null,1,"HEAVY GUN",null,"Target #",null,{"$f":"E60+1","v":2},"HEAVY GUN",null,"Target #",null,{"$f":"J60+1","v":3},"HEAVY GUN",null,"Target #",null,{"$f":"O60+1","v":4}]
["Competitor #",null,{"$f":"'Label data'!A10","v":108},null,null,"Competitor #",null,{"$f":"C61","v":108},null,null,"Competitor #",null,{"$f":"H61","v":108},null,null,"Competitor #",null,{"$f":"M61","v":108}]
[]
[null,null,null,"Frame #",{"$f":"'Label data'!G10","v":8},null,null,null,"Frame #",{"$f":"E63","v":8},null,null,null,"Frame #",{"$f":"'Label data'!H10","v":8},null,null,null,"Frame #",{"$f":"O63","v":8}]
[null,null,null,"Top/Left",null,null,null,null,"Bottom/Right",null,null,null,null,"Top/Left",null,null,null,null,"Bottom/Right"]
[{"$f":"'Competitor List'!$B$1","v":"Freedom Benchrest 600 YARD MATCH #1"},null,null,null,null,{"$f":"'Competitor List'!$B$1","v":"Freedom Benchrest 600 YARD MATCH #1"},null,null,null,null,{"$f":"'Competitor List'!$B$1","v":"Freedom Benchrest 600 YARD MATCH #1"},null,null,null,null,{"$f":"'Competitor List'!$B$1","v":"Freedom Benchrest 600 YARD MATCH #1"}]
[{"$f":"'Competitor List'!$B$2","v":"Vapor Trail Valley Spickard, Mo"},null,null,null,null,{"$f":"'Competitor List'!$B$2","v":"Vapor Trail Valley Spickard, Mo"},null,null,null,null,{"$f":"'Competitor List'!$B$2","v":"Vapor Trail Valley Spickard, Mo"},null,null,null,null,{"$f":"'Competitor List'!$B$2","v":"Vapor Trail Valley Spickard, Mo"}]
[{"$f":"'Competitor List'!$B$3","v":"2023-03-15"},null,null,null,null,{"$f":"'Competitor List'!$B$3","v":"2023-03-15"},null,null,null,null,{"$f":"'Competitor List'!$B$3","v":"2023-03-15"},null,null,null,null,{"$f":"'Competitor List'!$B$3","v":"2023-03-15"}]
["HEAVY GUN",null,"Target #",null,1,"HEAVY GUN",null,"Target #",null,{"$f":"E68+1","v":2},"HEAVY GUN",null,"Target #",null,{"$f":"J68+1","v":3},"HEAVY GUN",null,"Target #",null,{"$f":"O68+1","v":4}]
["Competitor #",null,{"$f":"'Label data'!A11","v":109},null,null,"Competitor #",null,{"$f":"C69","v":109},null,null,"Competitor #",null,{"$f":"H69","v":109},null,null,"Competitor #",null,{"$f":"M69","v":109}]
[]
[null,null,null,"Frame #",{"$f":"'Label data'!G11","v":9},null,null,null,"Frame #",{"$f":"E71","v":9},null,null,null,"Frame #",{"$f":"'Label data'!H11","v":9},null,null,null,"Frame #",{"$f":"O71","v":9}]
[null,null,null,"Top/Left",null,null,null,null,"Bottom/Right",null,null,null,null,"Top/Left",null,null,null,null,"Bottom/Right"]
[{"$f":"'Competitor List'!$B$1","v":"Freedom Benchrest 600 YARD MATCH #1"},null,null,null,null,{"$f":"'Competitor List'!$B$1","v":"Freedom Benchrest 600 YARD MATCH #1"},null,null,null,null,{"$f":"'Competitor List'!$B$1","v":"Freedom Benchrest 600 YARD MATCH #1"},null,null,null,null,{"$f":"'Competitor List'!$B$1","v":"Freedom Benchrest 600 YARD MATCH #1"}]
[{"$f":"'Competitor List'!$B$2","v":"Vapor Trail Valley Spickard, Mo"},null,null,null,null,{"$f":"'Competitor List'!$B$2","v":"Vapor Trail Valley Spickard, Mo"},null,null,null,null,{"$f":"'Competitor List'!$B$2","v":"Vapor Trail Valley Spickard, Mo"},null,null,null,null,{"$f":"'Competitor List'!$B$2","v":"Vapor Trail Valley Spickard, Mo"}]
[{"$f":"'Competitor List'!$B$3","v":"2023-03-15"},null,null,null,null,{"$f":"'Competitor List'!$B$3","v":"2023-03-15"},null,null,null,null,{"$f":"'Competitor List'!$B$3","v":"2023-03-15"},null,null,null,null,{"$f":"'Competitor List'!$B$3","v":"2023-03-15"}]
["HEAVY GUN",null,"Target #",null,1,"HEAVY GUN",null,"Target #",null,{"$f":"E76+1","v":2},"HEAVY GUN",null,"Target #",null,{"$f":"J76+1","v":3},"HEAVY GUN",null,"Target #",null,{"$f":"O76+1","v":4}]
["Competitor #",null,{"$f":"'Label data'!A12","v":110},null,null,"Competitor #",null,{"$f":"C77","v":110},null,null,"Competitor #",null,{"$f":"H77","v":110},null,null,"Competitor #",null,{"$f":"M77","v":110}]
[]
[null,null,null,"Frame #",{"$f":"'Label data'!G12","v":10},null,null,null,"Frame #",{"$f":"E79","v":10},null,null,null,"Frame #",{"$f":"'Label data'!H12","v":10},null,null,null,"Frame #",{"$f":"O79","v":10}]
[null,null,null,"Top/Left",null,null,null,null,"Bottom/Right",null,null,null,null,"Top/Left",null,null,null,null,"Bottom/Right"]
[{"$f":"'Competitor List'!$B$1","v":"Freedom Benchrest 600 YARD MATCH #1"},null,null,null,null,{"$f":"'Competitor List'!$B$1","v":"Freedom Benchrest 600 YARD MATCH #1"},null,null,null,null,{"$f":"'Competitor List'!$B$1","v":"Freedom Benchrest 600 YARD MATCH #1"},null,null,null,null,{"$f":"'Competitor List'!$B$1","v":"Freedom Benchrest 600 YARD MATCH #1"}]
[{"$f":"'Competitor List'!$B$2","v":"Vapor Trail Valley Spickard, Mo"},null,null,null,null,{"$f":"'Competitor List'!$B$2","v":"Vapor Trail Valley Spickard, Mo"},null,null,null,null,{"$f":"'Competitor List'!$B$2","v":"Vapor Trail Valley Spickard, Mo"},null,null,null,null,{"$f":"'Competitor List'!$B$2","v":"Vapor Trail Valley Spickard, Mo"}]
[{"$f":"'Competitor List'!$B$3","v":"2023-03-15"},null,null,null,null,{"$f":"'Competitor List'!$B$3","v":"2023-03-15"},null,null,null,null,{"$f":"'Competitor List'!$B$3","v":"2023-03-15"},null,null,null,null,{"$f":"'Competitor List'!$B$3","v":"2023-03-15"}]
["HEAVY GUN",null,"Target #",null,1,"HEAVY GUN",null,"Target #",null,{"$f":"E84+1","v":2},"HEAVY GUN",null,"Target #",null,{"$f":"J84+1","v":3},"HEAVY GUN",null,"Target #",null,{"$f":"O84+1","v":4}]
["Competitor #",null,{"$f":"'Label data'!A13","v":111},null,null,"Competitor #",null,{"$f":"C85","v":111},null,null,"Competitor #",null,{"$f":"H85","v":111},null,null,"Competitor #",null,{"$f":"M85","v":111}]
[]
[null,null,null,"Frame #",{"$f":"'Label data'!G13","v":11},null,null,null,"Frame #",{"$f":"E87","v":11},null,null,null,"Frame #",{"$f":"'Label data'!H13","v":11},null,null,null,"Frame #",{"$f":"O87","v":11}]
[null,null,null,"Top/Left",null,null,null,null,"Bottom/Right",null,null,null,null,"Top/Left",null,null,null,null,"Bottom/Right"]
[{"$f":"'Competitor List'!$B$1","v":"Freedom Benchrest 600 YARD MATCH #1"},null,null,null,null,{"$f":"'Competitor List'!$B$1","v":"Freedom Benchrest 600 YARD MATCH #1"},null,null,null,null,{"$f":"'Competitor List'!$B$1","v":"Freedom Benchrest 600 YARD MATCH #1"},null,null,null,null,{"$f":"'Competitor List'!$B$1","v":"Freedom Benchrest 600 YARD MATCH #1"}]
[{"$f":"'Competitor List'!$B$2","v":"Vapor Trail Valley Spickard, Mo"},null,null,null,null,{"$f":"'Competitor List'!$B$2","v":"Vapor Trail Valley Spickard, Mo"},null,null,null,null,{"$f":"'Competitor List'!$B$2","v":"Vapor Trail Valley Spickard, Mo"},null,null,null,null,{"$f":"'Competitor List'!$B$2","v":"Vapor Trail Valley Spickard, Mo"}]
[{"$f":"'Competitor List'!$B$3","v":"2023-03-15"},null,null,null,null,{"$f":"'Competitor List'!$B$3","v":"2023-03-15"},null,null,null,null,{"$f":"'Competitor List'!$B$3","v":"2023-03-15"},null,null,null,null,{"$f":"'Competitor List'!$B$3","v":"2023-03-15"}]
["HEAVY GUN",null,"Target #",null,1,"HEAVY GUN",null,"Target #",null,{"$f":"E92+1","v":2},"HEAVY GUN",null,"Target #",null,{"$f":"J92+1","v":3},"HEAVY GUN",null,"Target #",null,{"$f":"O92+1","v":4}]
["Competitor #",null,{"$f":"'Label data'!A14","v":112},null,null,"Competitor #",null,{"$f":"C93","v":112},null,null,"Competitor #",null,{"$f":"H93","v":112},null,null,"Competitor #",null,{"$f":"M93","v":112}]
[]
[null,null,null,"Frame #",{"$f":"'Label data'!G14","v":12},null,null,null,"Frame #",{"$f":"E95","v":12},null,null,null,"Frame #",{"$f":"'Label data'!H14","v":12},null,null,null,"Frame #",{"$f":"O95","v":12}]
[null,null,null,"Top/Left",null,null,null,null,"Bottom/Right",null,null,null,null,"Top/Left",null,null,null,null,"Bottom/Right"]
[{"$f":"'Competitor List'!$B$1","v":"Freedom Benchrest 600 YARD MATCH #1"},null,null,null,null,{"$f":"'Competitor List'!$B$1","v":"Freedom Benchrest 600 YARD MATCH #1"},null,null,null,null,{"$f":"'Competitor List'!$B$1","v":"Freedom Benchrest 600 YARD MATCH #1"},null,null,null,null,{"$f":"'Competitor List'!$B$1","v":"Freedom Benchrest 600 YARD MATCH #1"}]
[{"$f":"'Competitor List'!$B$2","v":"Vapor Trail Valley Spickard, Mo"},null,null,null,null,{"$f":"'Competitor List'!$B$2","v":"Vapor Trail Valley Spickard, Mo"},null,null,null,null,{"$f":"'Competitor List'!$B$2","v":"Vapor Trail Valley Spickard, Mo"},null,null,null,null,{"$f":"'Competitor List'!$B$2","v":"Vapor Trail Valley Spickard, Mo"}]
[{"$f":"'Competitor List'!$B$3","v":"2023-03-15"},null,null,null,null,{"$f":"'Competitor List'!$B$3","v":"2023-03-15"},null,null,null,null,{"$f":"'Competitor List'!$B$3","v":"2023-03-15"},null,null,null,null,{"$f":"'Competitor List'!$B$3","v":"2023-03-15"}]
["HEAVY GUN",null,"Target #",null,1,"HEAVY GUN",null,"Target #",null,{"$f":"E100+1","v":2},"HEAVY GUN",null,"Target #",null,{"$f":"J100+1","v":3},"HEAVY GUN",null,"Target #",null,{"$f":"O100+1","v":4}]
["Competitor #",null,{"$f":"'Label data'!A15","v":113},null,null,"Competitor #",null,{"$f":"C101","v":113},null,null,"Competitor #",null,{"$f":"H101","v":113},null,null,"Competitor #",null,{"$f":"M101","v":113}]
[]
[null,null,null,"Frame #",{"$f":"'Label data'!G15","v":13},null,null,null,"Frame #",{"$f":"E103","v":13},null,null,null,"Frame #",{"$f":"'Label data'!H15","v":13},null,null,null,"Frame #",{"$f":"O103","v":13}]
[null,null,null,"Top/Left",null,null,null,null,"Bottom/Right",null,null,null,null,"Top/Left",null,null,null,null,"Bottom/Right"]
[{"$f":"'Competitor List'!$B$1","v":"Freedom Benchrest 600 YARD MATCH #1"},null,null,null,null,{"$f":"'Competitor List'!$B$1","v":"Freedom Benchrest 600 YARD MATCH #1"},null,null,null,null,{"$f":"'Competitor List'!$B$1","v":"Freedom Benchrest 600 YARD MATCH #1"},null,null,null,null,{"$f":"'Competitor List'!$B$1","v":"Freedom Benchrest 600 YARD MATCH #1"}]
[{"$f":"'Competitor List'!$B$2","v":"Vapor Trail Valley Spickard, Mo"},null,null,null,null,{"$f":"'Competitor List'!$B$2","v":"Vapor Trail Valley Spickard, Mo"},null,null,null,null,{"$f":"'Competitor List'!$B$2","v":"Vapor Trail Valley Spickard, Mo"},null,null,null,null,{"$f":"'Competitor List'!$B$2","v":"Vapor Trail Valley Spickard, Mo"}]
[{"$f":"'Competitor List'!$B$3","v":"2023-03-15"},null,null,null,null,{"$f":"'Competitor List'!$B$3","v":"2023-03-15"},null,null,null,null,{"$f":"'Competitor List'!$B$3","v":"2023-03-15"},null,null,null,null,{"$f":"'Competitor List'!$B$3","v":"2023-03-15"}]
["HEAVY GUN",null,"Target #",null,1,"HEAVY GUN",null,"Target #",null,{"$f":"E108+1","v":2},"HEAVY GUN",null,"Target #",null,{"$f":"J108+1","v":3},"HEAVY GUN",null,"Target #",null,{"$f":"O108+1","v":4}]
["Competitor #",null,{"$f":"'Label data'!A16","v":114},null,null,"Competitor #",null,{"$f":"C109","v":114},null,null,"Competitor #",null,{"$f":"H109","v":114},null,null,"Competitor #",null,{"$f":"M109","v":114}]
[]
[null,null,null,"Frame #",{"$f":"'Label data'!G16","v":14},null,null,null,"Frame #",{"$f":"E111","v":14},null,null,null,"Frame #",{"$f":"'Label data'!H16","v":14},null,null,null,"Frame #",{"$f":"O111","v":14}]
[null,null,null,"Top/Left",null,null,null,null,"Bottom/Right",null,null,null,null,"Top/Left",null,null,null,null,"Bottom/Right"]
[{"$f":"'Competitor List'!$B$1","v":"Freedom Benchrest 600 YARD MATCH #1"},null,null,null,null,{"$f":"'Competitor List'!$B$1","v":"Freedom Benchrest 600 YARD MATCH #1"},null,null,null,null,{"$f":"'Competitor List'!$B$1","v":"Freedom Benchrest 600 YARD MATCH #1"},null,null,null,null,{"$f":"'Competitor List'!$B$1","v":"Freedom Benchrest 600 YARD MATCH #1"}]
[{"$f":"'Competitor List'!$B$2","v":"Vapor Trail Valley Spickard, Mo"},null,null,null,null,{"$f":"'Competitor List'!$B$2","v":"Vapor Trail Valley Spickard, Mo"},null,null,null,null,{"$f":"'Competitor List'!$B$2","v":"Vapor Trail Valley Spickard, Mo"},null,null,null,null,{"$f":"'Competitor List'!$B$2","v":"Vapor Trail Valley Spickard, Mo"}]
[{"$f":"'Competitor List'!$B$3","v":"2023-03-15"},null,null,null,null,{"$f":"'Competitor List'!$B$3","v":"2023-03-15"},null,null,null,null,{"$f":"'Competitor List'!$B$3","v":"2023-03-15"},null,null,null,null,{"$f":"'Competitor List'!$B$3","v":"2023-03-15"}]
["HEAVY GUN",null,"Target #",null,1,"HEAVY GUN",null,"Target #",null,{"$f":"E116+1","v":2},"HEAVY GUN",null,"Target #",null,{"$f":"J116+1","v":3},"HEAVY GUN",null,"Target #",null,{"$f":"O116+1","v":4}]
["Competitor #",null,{"$f":"'Label data'!A17","v":115},null,null,"Competitor #",null,{"$f":"C117","v":115},null,null,"Competitor #",null,{"$f":"H117","v":115},null,null,"Competitor #",null,{"$f":"M117","v":115}]
[]
[null,null,null,"Frame #",{"$f":"'Label data'!G17","v":15},null,null,null,"Frame #",{"$f":"E119","v":15},null,null,null,"Frame #",{"$f":"'Label data'!H17","v":15},null,null,null,"Frame #",{"$f":"O119","v":15}]
[null,null,null,"Top/Left",null,null,null,null,"Bottom/Right",null,null,null,null,"Top/Left",null,null,null,null,"Bottom/Right"]
[{"$f":"'Competitor List'!$B$1","v":"Freedom Benchrest 600 YARD MATCH #1"},null,null,null,null,{"$f":"'Competitor List'!$B$1","v":"Freedom Benchrest 600 YARD MATCH #1"},null,null,null,null,{"$f":"'Competitor List'!$B$1","v":"Freedom Benchrest 600 YARD MATCH #1"},null,null,null,null,{"$f":"'Competitor List'!$B$1","v":"Freedom Benchrest 600 YARD MATCH #1"}]
[{"$f":"'Competitor List'!$B$2","v":"Vapor Trail Valley Spickard, Mo"},null,null,null,null,{"$f":"'Competitor List'!$B$2","v":"Vapor Trail Valley Spickard, Mo"},null,null,null,null,{"$f":"'Competitor List'!$B$2","v":"Vapor Trail Valley Spickard, Mo"},null,null,null,null,{"$f":"'Competitor List'!$B$2","v":"Vapor Trail Valley Spickard, Mo"}]
[{"$f":"'Competitor List'!$B$3","v":"2023-03-15"},null,null,null,null,{"$f":"'Competitor List'!$B$3","v":"2023-03-15"},null,null,null,null,{"$f":"'Competitor List'!$B$3","v":"2023-03-15"},null,null,null,null,{"$f":"'Competitor List'!$B$3","v":"2023-03-15"}]
["HEAVY GUN",null,"Target #",null,1,"HEAVY GUN",null,"Target #",null,{"$f":"E124+1","v":2},"HEAVY GUN",null,"Target #",null,{"$f":"J124+1","v":3},"HEAVY GUN",null,"Target #",null,{"$f":"O124+1","v":4}]
["Competitor #",null,{"$f":"'Label data'!A18","v":201},null,null,"Competitor #",null,{"$f":"C125","v":201},null,null,"Competitor #",null,{"$f":"H125","v":201},null,null,"Competitor #",null,{"$f":"M125","v":201}]
[]
[null,null,null,"Frame #",{"$f":"'Label data'!G18","v":1},null,null,null,"Frame #",{"$f":"E127","v":1},null,null,null,"Frame #",{"$f":"'Label data'!H18","v":1},null,null,null,"Frame #",{"$f":"O127","v":1}]
[null,null,null,"Top/Left",null,null,null,null,"Bottom/Right",null,null,null,null,"Top/Left",null,null,null,null,"Bottom/Right"]
[{"$f":"'Competitor List'!$B$1","v":"Freedom Benchrest 600 YARD MATCH #1"},null,null,null,null,{"$f":"'Competitor List'!$B$1","v":"Freedom Benchrest 600 YARD MATCH #1"},null,null,null,null,{"$f":"'Competitor List'!$B$1","v":"Freedom Benchrest 600 YARD MATCH #1"},null,null,null,null,{"$f":"'Competitor List'!$B$1","v":"Freedom Benchrest 600 YARD MATCH #1"}]
[{"$f":"'Competitor List'!$B$2","v":"Vapor Trail Valley Spickard, Mo"},null,null,null,null,{"$f":"'Competitor List'!$B$2","v":"Vapor Trail Valley Spickard, Mo"},null,null,null,null,{"$f":"'Competitor List'!$B$2","v":"Vapor Trail Valley Spickard, Mo"},null,null,null,null,{"$f":"'Competitor List'!$B$2","v":"Vapor Trail Valley Spickard, Mo"}]
[{"$f":"'Competitor List'!$B$3","v":"2023-03-15"},null,null,null,null,{"$f":"'Competitor List'!$B$3","v":"2023-03-15"},null,null,null,null,{"$f":"'Competitor List'!$B$3","v":"2023-03-15"},null,null,null,null,{"$f":"'Competitor List'!$B$3","v":"2023-03-15"}]
["HEAVY GUN",null,"Target #",null,1,"HEAVY GUN",null,"Target #",null,{"$f":"E132+1","v":2},"HEAVY GUN",null,"Target #",null,{"$f":"J132+1","v":3},"HEAVY GUN",null,"Target #",null,{"$f":"O132+1","v":4}]
["Competitor #",null,{"$f":"'Label data'!A19","v":202},null,null,"Competitor #",null,{"$f":"C133","v":202},null,null,"Competitor #",null,{"$f":"H133","v":202},null,null,"Competitor #",null,{"$f":"M133","v":202}]
[]
[null,null,null,"Frame #",{"$f":"'Label data'!G19","v":2},null,null,null,"Frame #",{"$f":"E135","v":2},null,null,null,"Frame #",{"$f":"'Label data'!H19","v":2},null,null,null,"Frame #",{"$f":"O135","v":2}]
[null,null,null,"Top/Left",null,null,null,null,"Bottom/Right",null,null,null,null,"Top/Left",null,null,null,null,"Bottom/Right"]
[{"$f":"'Competitor List'!$B$1","v":"Freedom Benchrest 600 YARD MATCH #1"},null,null,null,null,{"$f":"'Competitor List'!$B$1","v":"Freedom Benchrest 600 YARD MATCH #1"},null,null,null,null,{"$f":"'Competitor List'!$B$1","v":"Freedom Benchrest 600 YARD MATCH #1"},null,null,null,null,{"$f":"'Competitor List'!$B$1","v":"Freedom Benchrest 600 YARD MATCH #1"}]
[{"$f":"'Competitor List'!$B$2","v":"Vapor Trail Valley Spickard, Mo"},null,null,null,null,{"$f":"'Competitor List'!$B$2","v":"Vapor Trail Valley Spickard, Mo"},null,null,null,null,{"$f":"'Competitor List'!$B$2","v":"Vapor Trail Valley Spickard, Mo"},null,null,null,null,{"$f":"'Competitor List'!$B$2","v":"Vapor Trail Valley Spickard, Mo"}]
[{"$f":"'Competitor List'!$B$3","v":"2023-03-15"},null,null,null,null,{"$f":"'Competitor List'!$B$3","v":"2023-03-15"},null,null,null,null,{"$f":"'Competitor List'!$B$3","v":"2023-03-15"},null,null,null,null,{"$f":"'Competitor List'!$B$3","v":"2023-03-15"}]
["HEAVY GUN",null,"Target #",null,1,"HEAVY GUN",null,"Target #",null,{"$f":"E140+1","v":2},"HEAVY GUN",null,"Target #",null,{"$f":"J140+1","v":3},"HEAVY GUN",null,"Target #",null,{"$f":"O140+1","v":4}]
["Competitor #",null,{"$f":"'Label data'!A20","v":203},null,null,"Competitor #",null,{"$f":"C141","v":203},null,null,"Competitor #",null,{"$f":"H141","v":203},null,null,"Competitor #",null,{"$f":"M141","v":203}]
[]
[null,null,null,"Frame #",{"$f":"'Label data'!G20","v":3},null,null,null,"Frame #",{"$f":"E143","v":3},null,null,null,"Frame #",{"$f":"'Label data'!H20","v":3},null,null,null,"Frame #",{"$f":"O143","v":3}]
[null,null,null,"Top/Left",null,null,null,null,"Bottom/Right",null,null,null,null,"Top/Left",null,null,null,null,"Bottom/Right"]
[{"$f":"'Competitor List'!$B$1","v":"Freedom Benchrest 600 YARD MATCH #1"},null,null,null,null,{"$f":"'Competitor List'!$B$1","v":"Freedom Benchrest 600 YARD MATCH #1"},null,null,null,null,{"$f":"'Competitor List'!$B$1","v":"Freedom Benchrest 600 YARD MATCH #1"},null,null,null,null,{"$f":"'Competitor List'!$B$1","v":"Freedom Benchrest 600 YARD MATCH #1"}]
[{"$f":"'Competitor List'!$B$2","v":"Vapor Trail Valley Spickard, Mo"},null,null,null,null,{"$f":"'Competitor List'!$B$2","v":"Vapor Trail Valley Spickard, Mo"},null,null,null,null,{"$f":"'Competitor List'!$B$2","v":"Vapor Trail Valley Spickard, Mo"},null,null,null,null,{"$f":"'Competitor List'!$B$2","v":"Vapor Trail Valley Spickard, Mo"}]
[{"$f":"'Competitor List'!$B$3","v":"2023-03-15"},null,null,null,null,{"$f":"'Competitor List'!$B$3","v":"2023-03-15"},null,null,null,null,{"$f":"'Competitor List'!$B$3","v":"2023-03-15"},null,null,null,null,{"$f":"'Competitor List'!$B$3","v":"2023-03-15"}]
["HEAVY GUN",null,"Target #",null,1,"HEAVY GUN",null,"Target #",null,{"$f":"E148+1","v":2},"HEAVY GUN",null,"Target #",null,{"$f":"J148+1","v":3},"HEAVY GUN",null,"Target #",null,{"$f":"O148+1","v":4}]
["Competitor #",null,{"$f":"'Label data'!A21","v":204},null,null,"Competitor #",null,{"$f":"C149","v":204},null,null,"Competitor #",null,{"$f":"H149","v":204},null,null,"Competitor #",null,{"$f":"M149","v":204}]
[]
[null,null,null,"Frame #",{"$f":"'Label data'!G21","v":4},null,null,null,"Frame #",{"$f":"E151","v":4},null,null,null,"Frame #",{"$f":"'Label data'!H21","v":4},null,null,null,"Frame #",{"$f":"O151","v":4}]
[null,null,null,"Top/Left",null,null,null,null,"Bottom/Right",null,null,null,null,"Top/Left",null,null,null,null,"Bottom/Right"]
[{"$f":"'Competitor List'!$B$1","v":"Freedom Benchrest 600 YARD MATCH #1"},null,null,null,null,{"$f":"'Competitor List'!$B$1","v":"Freedom Benchrest 600 YARD MATCH #1"},null,null,null,null,{"$f":"'Competitor List'!$B$1","v":"Freedom Benchrest 600 YARD MATCH #1"},null,null,null,null,{"$f":"'Competitor List'!$B$1","v":"Freedom Benchrest 600 YARD MATCH #1"}]
[{"$f":"'Competitor List'!$B$2","v":"Vapor Trail Valley Spickard, Mo"},null,null,null,null,{"$f":"'Competitor List'!$B$2","v":"Vapor Trail Valley Spickard, Mo"},null,null,null,null,{"$f":"'Competitor List'!$B$2","v":"Vapor Trail Valley Spickard, Mo"},null,null,null,null,{"$f":"'Competitor List'!$B$2","v":"Vapor Trail Valley Spickard, Mo"}]
[{"$f":"'Competitor List'!$B$3","v":"2023-03-15"},null,null,null,null,{"$f":"'Competitor List'!$B$3","v":"2023-03-15"},null,null,null,null,{"$f":"'Competitor List'!$B$3","v":"2023-03-15"},null,null,null,null,{"$f":"'Competitor List'!$B$3","v":"2023-03-15"}]
["HEAVY GUN",null,"Target #",null,1,"HEAVY GUN",null,"Target #",null,{"$f":"E156+1","v":2},"HEAVY GUN",null,"Target #",null,{"$f":"J156+1","v":3},"HEAVY GUN",null,"Target #",null,{"$f":"O156+1","v":4}]
["Competitor #",null,{"$f":"'Label data'!A22","v":205},null,null,"Competitor #",null,{"$f":"C157","v":205},null,null,"Competitor #",null,{"$f":"H157","v":205},null,null,"Competitor #",null,{"$f":"M157","v":205}]
[]
[null,null,null,"Frame #",{"$f":"'Label data'!G22","v":5},null,null,null,"Frame #",{"$f":"E159","v":5},null,null,null,"Frame #",{"$f":"'Label data'!H22","v":5},null,null,null,"Frame #",{"$f":"O159","v":5}]
[null,null,null,"Top/Left",null,null,null,null,"Bottom/Right",null,null,null,null,"Top/Left",null,null,null,null,"Bottom/Right"]
[{"$f":"'Competitor List'!$B$1","v":"Freedom Benchrest 600 YARD MATCH #1"},null,null,null,null,{"$f":"'Competitor List'!$B$1","v":"Freedom Benchrest 600 YARD MATCH #1"},null,null,null,null,{"$f":"'Competitor List'!$B$1","v":"Freedom Benchrest 600 YARD MATCH #1"},null,null,null,null,{"$f":"'Competitor List'!$B$1","v":"Freedom Benchrest 600 YARD MATCH #1"}]
[{"$f":"'Competitor List'!$B$2","v":"Vapor Trail Valley Spickard, Mo"},null,null,null,null,{"$f":"'Competitor List'!$B$2","v":"Vapor Trail Valley Spickard, Mo"},null,null,null,null,{"$f":"'Competitor List'!$B$2","v":"Vapor Trail Valley Spickard, Mo"},null,null,null,null,{"$f":"'Competitor List'!$B$2","v":"Vapor Trail Valley Spickard, Mo"}]
[{"$f":"'Competitor List'!$B$3","v":"2023-03-15"},null,null,null,null,{"$f":"'Competitor List'!$B$3","v":"2023-03-15"},null,null,null,null,{"$f":"'Competitor List'!$B$3","v":"2023-03-15"},null,null,null,null,{"$f":"'Competitor List'!$B$3","v":"2023-03-15"}]
["HEAVY GUN",null,"Target #",null,1,"HEAVY GUN",null,"Target #",null,{"$f":"E164+1","v":2},"HEAVY GUN",null,"Target #",null,{"$f":"J164+1","v":3},"HEAVY GUN",null,"Target #",null,{"$f":"O164+1","v":4}]
["Competitor #",null,{"$f":"'Label data'!A23","v":206},null,null,"Competitor #",null,{"$f":"C165","v":206},null,null,"Competitor #",null,{"$f":"H165","v":206},null,null,"Competitor #",null,{"$f":"M165","v":206}]
[]
[null,null,null,"Frame #",{"$f":"'Label data'!G23","v":6},null,null,null,"Frame #",{"$f":"E167","v":6},null,null,null,"Frame #",{"$f":"'Label data'!H23","v":6},null,null,null,"Frame #",{"$f":"O167","v":6}]
[null,null,null,"Top/Left",null,null,null,null,"Bottom/Right",null,null,null,null,"Top/Left",null,null,null,null,"Bottom/Right"]
[{"$f":"'Competitor List'!$B$1","v":"Freedom Benchrest 600 YARD MATCH #1"},null,null,null,null,{"$f":"'Competitor List'!$B$1","v":"Freedom Benchrest 600 YARD MATCH #1"},null,null,null,null,{"$f":"'Competitor List'!$B$1","v":"Freedom Benchrest 600 YARD MATCH #1"},null,null,null,null,{"$f":"'Competitor List'!$B$1","v":"Freedom Benchrest 600 YARD MATCH #1"}]
[{"$f":"'Competitor List'!$B$2","v":"Vapor Trail Valley Spickard, Mo"},null,null,null,null,{"$f":"'Competitor List'!$B$2","v":"Vapor Trail Valley Spickard, Mo"},null,null,null,null,{"$f":"'Competitor List'!$B$2","v":"Vapor Trail Valley Spickard, Mo"},null,null,null,null,{"$f":"'Competitor List'!$B$2","v":"Vapor Trail Valley Spickard, Mo"}]
[{"$f":"'Competitor List'!$B$3","v":"2023-03-15"},null,null,null,null,{"$f":"'Competitor List'!$B$3","v":"2023-03-15"},null,null,null,null,{"$f":"'Competitor List'!$B$3","v":"2023-03-15"},null,null,null,null,{"$f":"'Competitor List'!$B$3","v":"2023-03-15"}]
["HEAVY GUN",null,"Target #",null,1,"HEAVY GUN",null,"Target #",null,{"$f":"E172+1","v":2},"HEAVY GUN",null,"Target #",null,{"$f":"J172+1","v":3},"HEAVY GUN",null,"Target #",null,{"$f":"O172+1","v":4}]
["Competitor #",null,{"$f":"'Label data'!A24","v":207},null,null,"Competitor #",null,{"$f":"C173","v":207},null,null,"Competitor #",null,{"$f":"H173","v":207},null,null,"Competitor #",null,{"$f":"M173","v":207}]
[]
[null,null,null,"Frame #",{"$f":"'Label data'!G24","v":7},null,null,null,"Frame #",{"$f":"E175","v":7},null,null,null,"Frame #",{"$f":"'Label data'!H24","v":7},null,null,null,"Frame #",{"$f":"O175","v":7}]
[null,null,null,"Top/Left",null,null,null,null,"Bottom/Right",null,null,null,null,"Top/Left",null,null,null,null,"Bottom/Right"]
[{"$f":"'Competitor List'!$B$1","v":"Freedom Benchrest 600 YARD MATCH #1"},null,null,null,null,{"$f":"'Competitor List'!$B$1","v":"Freedom Benchrest 600 YARD MATCH #1"},null,null,null,null,{"$f":"'Competitor List'!$B$1","v":"Freedom Benchrest 600 YARD MATCH #1"},null,null,null,null,{"$f":"'Competitor List'!$B$1","v":"Freedom Benchrest 600 YARD MATCH #1"}]
[{"$f":"'Competitor List'!$B$2","v":"Vapor Trail Valley Spickard, Mo"},null,null,null,null,{"$f":"'Competitor List'!$B$2","v":"Vapor Trail Valley Spickard, Mo"},null,null,null,null,{"$f":"'Competitor List'!$B$2","v":"Vapor Trail Valley Spickard, Mo"},null,null,null,null,{"$f":"'Competitor List'!$B$2","v":"Vapor Trail Valley Spickard, Mo"}]
[{"$f":"'Competitor List'!$B$3","v":"2023-03-15"},null,null,null,null,{"$f":"'Competitor List'!$B$3","v":"2023-03-15"},null,null,null,null,{"$f":"'Competitor List'!$B$3","v":"2023-03-15"},null,null,null,null,{"$f":"'Competitor List'!$B$3","v":"2023-03-15"}]
["HEAVY GUN",null,"Target #",null,1,"HEAVY GUN",null,"Target #",null,{"$f":"E180+1","v":2},"HEAVY GUN",null,"Target #",null,{"$f":"J180+1","v":3},"HEAVY GUN",null,"Target #",null,{"$f":"O180+1","v":4}]
["Competitor #",null,{"$f":"'Label data'!A25","v":208},null,null,"Competitor #",null,{"$f":"C181","v":208},null,null,"Competitor #",null,{"$f":"H181","v":208},null,null,"Competitor #",null,{"$f":"M181","v":208}]
[]
[null,null,null,"Frame #",{"$f":"'Label data'!G25","v":8},null,null,null,"Frame #",{"$f":"E183","v":8},null,null,null,"Frame #",{"$f":"'Label data'!H25","v":8},null,null,null,"Frame #",{"$f":"O183","v":8}]
[null,null,null,"Top/Left",null,null,null,null,"Bottom/Right",null,null,null,null,"Top/Left",null,null,null,null,"Bottom/Right"]
[{"$f":"'Competitor List'!$B$1","v":"Freedom Benchrest 600 YARD MATCH #1"},null,null,null,null,{"$f":"'Competitor List'!$B$1","v":"Freedom Benchrest 600 YARD MATCH #1"},null,null,null,null,{"$f":"'Competitor List'!$B$1","v":"Freedom Benchrest 600 YARD MATCH #1"},null,null,null,null,{"$f":"'Competitor List'!$B$1","v":"Freedom Benchrest 600 YARD MATCH #1"}]
[{"$f":"'Competitor List'!$B$2","v":"Vapor Trail Valley Spickard, Mo"},null,null,null,null,{"$f":"'Competitor List'!$B$2","v":"Vapor Trail Valley Spickard, Mo"},null,null,null,null,{"$f":"'Competitor List'!$B$2","v":"Vapor Trail Valley Spickard, Mo"},null,null,null,null,{"$f":"'Competitor List'!$B$2","v":"Vapor Trail Valley Spickard, Mo"}]
[{"$f":"'Competitor List'!$B$3","v":"2023-03-15"},null,null,null,null,{"$f":"'Competitor List'!$B$3","v":"2023-03-15"},null,null,null,null,{"$f":"'Competitor List'!$B$3","v":"2023-03-15"},null,null,null,null,{"$f":"'Competitor List'!$B$3","v":"2023-03-15"}]
["HEAVY GUN",null,"Target #",null,1,"HEAVY GUN",null,"Target #",null,{"$f":"E188+1","v":2},"HEAVY GUN",null,"Target #",null,{"$f":"J188+1","v":3},"HEAVY GUN",null,"Target #",null,{"$f":"O188+1","v":4}]
["Competitor #",null,{"$f":"'Label data'!A26","v":209},null,null,"Competitor #",null,{"$f":"C189","v":209},null,null,"Competitor #",null,{"$f":"H189","v":209},null,null,"Competitor #",null,{"$f":"M189","v":209}]
[]
[null,null,null,"Frame #",{"$f":"'Label data'!G26","v":9},null,null,null,"Frame #",{"$f":"E191","v":9},null,null,null,"Frame #",{"$f":"'Label data'!H26","v":9},null,null,null,"Frame #",{"$f":"O191","v":9}]
[null,null,null,"Top/Left",null,null,null,null,"Bottom/Right",null,null,null,null,"Top/Left",null,null,null,null,"Bottom/Right"]
[{"$f":"'Competitor List'!$B$1","v":"Freedom Benchrest 600 YARD MATCH #1"},null,null,null,null,{"$f":"'Competitor List'!$B$1","v":"Freedom Benchrest 600 YARD MATCH #1"},null,null,null,null,{"$f":"'Competitor List'!$B$1","v":"Freedom Benchrest 600 YARD MATCH #1"},null,null,null,null,{"$f":"'Competitor List'!$B$1","v":"Freedom Benchrest 600 YARD MATCH #1"}]
[{"$f":"'Competitor List'!$B$2","v":"Vapor Trail Valley Spickard, Mo"},null,null,null,null,{"$f":"'Competitor List'!$B$2","v":"Vapor Trail Valley Spickard, Mo"},null,null,null,null,{"$f":"'Competitor List'!$B$2","v":"Vapor Trail Valley Spickard, Mo"},null,null,null,null,{"$f":"'Competitor List'!$B$2","v":"Vapor Trail Valley Spickard, Mo"}]
[{"$f":"'Competitor List'!$B$3","v":"2023-03-15"},null,null,null,null,{"$f":"'Competitor List'!$B$3","v":"2023-03-15"},null,null,null,null,{"$f":"'Competitor List'!$B$3","v":"2023-03-15"},null,null,null,null,{"$f":"'Competitor List'!$B$3","v":"2023-03-15"}]
["HEAVY GUN",null,"Target #",null,1,"HEAVY GUN",null,"Target #",null,{"$f":"E196+1","v":2},"HEAVY GUN",null,"Target #",null,{"$f":"J196+1","v":3},"HEAVY GUN",null,"Target #",null,{"$f":"O196+1","v":4}]
["Competitor #",null,{"$f":"'Label data'!A27","v":210},null,null,"Competitor #",null,{"$f":"C197","v":210},null,null,"Competitor #",null,{"$f":"H197","v":210},null,null,"Competitor #",null,{"$f":"M197","v":210}]
[]
[null,null,null,"Frame #",{"$f":"'Label data'!G27","v":10},null,null,null,"Frame #",{"$f":"E199","v":10},null,null,null,"Frame #",{"$f":"'Label data'!H27","v":10},null,null,null,"Frame #",{"$f":"O199","v":10}]
[null,null,null,"Top/Left",null,null,null,null,"Bottom/Right",null,null,null,null,"Top/Left",null,null,null,null,"Bottom/Right"]
[{"$f":"'Competitor List'!$B$1","v":"Freedom Benchrest 600 YARD MATCH #1"},null,null,null,null,{"$f":"'Competitor List'!$B$1","v":"Freedom Benchrest 600 YARD MATCH #1"},null,null,null,null,{"$f":"'Competitor List'!$B$1","v":"Freedom Benchrest 600 YARD MATCH #1"},null,null,null,null,{"$f":"'Competitor List'!$B$1","v":"Freedom Benchrest 600 YARD MATCH #1"}]
[{"$f":"'Competitor List'!$B$2","v":"Vapor Trail Valley Spickard, Mo"},null,null,null,null,{"$f":"'Competitor List'!$B$2","v":"Vapor Trail Valley Spickard, Mo"},null,null,null,null,{"$f":"'Competitor List'!$B$2","v":"Vapor Trail Valley Spickard, Mo"},null,null,null,null,{"$f":"'Competitor List'!$B$2","v":"Vapor Trail Valley Spickard, Mo"}]
[{"$f":"'Competitor List'!$B$3","v":"2023-03-15"},null,null,null,null,{"$f":"'Competitor List'!$B$3","v":"2023-03-15"},null,null,null,null,{"$f":"'Competitor List'!$B$3","v":"2023-03-15"},null,null,null,null,{"$f":"'Competitor List'!$B$3","v":"2023-03-15"}]
["HEAVY GUN",null,"Target #",null,1,"HEAVY GUN",null,"Target #",null,{"$f":"E204+1","v":2},"HEAVY GUN",null,"Target #",null,{"$f":"J204+1","v":3},"HEAVY GUN",null,"Target #",null,{"$f":"O204+1","v":4}]
["Competitor #",null,{"$f":"'Label data'!A28","v":211},null,null,"Competitor #",null,{"$f":"C205","v":211},null,null,"Competitor #",null,{"$f":"H205","v":211},null,null,"Competitor #",null,{"$f":"M205","v":211}]
[]
[null,null,null,"Frame #",{"$f":"'Label data'!G28","v":11},null,null,null,"Frame #",{"$f":"E207","v":11},null,null,null,"Frame #",{"$f":"'Label data'!H28","v":11},null,null,null,"Frame #",{"$f":"O207","v":11}]
[null,null,null,"Top/Left",null,null,null,null,"Bottom/Right",null,null,null,null,"Top/Left",null,null,null,null,"Bottom/Right"]
[{"$f":"'Competitor List'!$B$1","v":"Freedom Benchrest 600 YARD MATCH #1"},null,null,null,null,{"$f":"'Competitor List'!$B$1","v":"Freedom Benchrest 600 YARD MATCH #1"},null,null,null,null,{"$f":"'Competitor List'!$B$1","v":"Freedom Benchrest 600 YARD MATCH #1"},null,null,null,null,{"$f":"'Competitor List'!$B$1","v":"Freedom Benchrest 600 YARD MATCH #1"}]
[{"$f":"'Competitor List'!$B$2","v":"Vapor Trail Valley Spickard, Mo"},null,null,null,null,{"$f":"'Competitor List'!$B$2","v":"Vapor Trail Valley Spickard, Mo"},null,null,null,null,{"$f":"'Competitor List'!$B$2","v":"Vapor Trail Valley Spickard, Mo"},null,null,null,null,{"$f":"'Competitor List'!$B$2","v":"Vapor Trail Valley Spickard, Mo"}]
[{"$f":"'Competitor List'!$B$3","v":"2023-03-15"},null,null,null,null,{"$f":"'Competitor List'!$B$3","v":"2023-03-15"},null,null,null,null,{"$f":"'Competitor List'!$B$3","v":"2023-03-15"},null,null,null,null,{"$f":"'Competitor List'!$B$3","v":"2023-03-15"}]
["HEAVY GUN",null,"Target #",null,1,"HEAVY GUN",null,"Target #",null,{"$f":"E212+1","v":2},"HEAVY GUN",null,"Target #",null,{"$f":"J212+1","v":3},"HEAVY GUN",null,"Target #",null,{"$f":"O212+1","v":4}]
["Competitor #",null,{"$f":"'Label data'!A29","v":212},null,null,"Competitor #",null,{"$f":"C213","v":212},null,null,"Competitor #",null,{"$f":"H213","v":212},null,null,"Competitor #",null,{"$f":"M213","v":212}]
[]
[null,null,null,"Frame #",{"$f":"'Label data'!G29","v":12},null,null,null,"Frame #",{"$f":"E215","v":12},null,null,null,"Frame #",{"$f":"'Label data'!H29","v":12},null,null,null,"Frame #",{"$f":"O215","v":12}]
[null,null,null,"Top/Left",null,null,null,null,"Bottom/Right",null,null,null,null,"Top/Left",null,null,null,null,"Bottom/Right"]
[{"$f":"'Competitor List'!$B$1","v":"Freedom Benchrest 600 YARD MATCH #1"},null,null,null,null,{"$f":"'Competitor List'!$B$1","v":"Freedom Benchrest 600 YARD MATCH #1"},null,null,null,null,{"$f":"'Competitor List'!$B$1","v":"Freedom Benchrest 600 YARD MATCH #1"},null,null,null,null,{"$f":"'Competitor List'!$B$1","v":"Freedom Benchrest 600 YARD MATCH #1"}]
[{"$f":"'Competitor List'!$B$2","v":"Vapor Trail Valley Spickard, Mo"},null,null,null,null,{"$f":"'Competitor List'!$B$2","v":"Vapor Trail Valley Spickard, Mo"},null,null,null,null,{"$f":"'Competitor List'!$B$2","v":"Vapor Trail Valley Spickard, Mo"},null,null,null,null,{"$f":"'Competitor List'!$B$2","v":"Vapor Trail Valley Spickard, Mo"}]
[{"$f":"'Competitor List'!$B$3","v":"2023-03-15"},null,null,null,null,{"$f":"'Competitor List'!$B$3","v":"2023-03-15"},null,null,null,null,{"$f":"'Competitor List'!$B$3","v":"2023-03-15"},null,null,null,null,{"$f":"'Competitor List'!$B$3","v":"2023-03-15"}]
["HEAVY GUN",null,"Target #",null,1,"HEAVY GUN",null,"Target #",null,{"$f":"E220+1","v":2},"HEAVY GUN",null,"Target #",null,{"$f":"J220+1","v":3},"HEAVY GUN",null,"Target #",null,{"$f":"O220+1","v":4}]
["Competitor #",null,{"$f":"'Label data'!A30","v":213},null,null,"Competitor #",null,{"$f":"C221","v":213},null,null,"Competitor #",null,{"$f":"H221","v":213},null,null,"Competitor #",null,{"$f":"M221","v":213}]
[]
[null,null,null,"Frame #",{"$f":"'Label data'!G30","v":13},null,null,null,"Frame #",{"$f":"E223","v":13},null,null,null,"Frame #",{"$f":"'Label data'!H30","v":13},null,null,null,"Frame #",{"$f":"O223","v":13}]
[null,null,null,"Top/Left",null,null,null,null,"Bottom/Right",null,null,null,null,"Top/Left",null,null,null,null,"Bottom/Right"]
[{"$f":"'Competitor List'!$B$1","v":"Freedom Benchrest 600 YARD MATCH #1"},null,null,null,null,{"$f":"'Competitor List'!$B$1","v":"Freedom Benchrest 600 YARD MATCH #1"},null,null,null,null,{"$f":"'Competitor List'!$B$1","v":"Freedom Benchrest 600 YARD MATCH #1"},null,null,null,null,{"$f":"'Competitor List'!$B$1","v":"Freedom Benchrest 600 YARD MATCH #1"}]
[{"$f":"'Competitor List'!$B$2","v":"Vapor Trail Valley Spickard, Mo"},null,null,null,null,{"$f":"'Competitor List'!$B$2","v":"Vapor Trail Valley Spickard, Mo"},null,null,null,null,{"$f":"'Competitor List'!$B$2","v":"Vapor Trail Valley Spickard, Mo"},null,null,null,null,{"$f":"'Competitor List'!$B$2","v":"Vapor Trail Valley Spickard, Mo"}]
[{"$f":"'Competitor List'!$B$3","v":"2023-03-15"},null,null,null,null,{"$f":"'Competitor List'!$B$3","v":"2023-03-15"},null,null,null,null,{"$f":"'Competitor List'!$B$3","v":"2023-03-15"},null,null,null,null,{"$f":"'Competitor List'!$B$3","v":"2023-03-15"}]
["HEAVY GUN",null,"Target #",null,1,"HEAVY GUN",null,"Target #",null,{"$f":"E228+1","v":2},"HEAVY GUN",null,"Target #",null,{"$f":"J228+1","v":3},"HEAVY GUN",null,"Target #",null,{"$f":"O228+1","v":4}]
["Competitor #",null,{"$f":"'Label data'!A31","v":214},null,null,"Competitor #",null,{"$f":"C229","v":214},null,null,"Competitor #",null,{"$f":"H229","v":214},null,null,"Competitor #",null,{"$f":"M229","v":214}]
[]
[null,null,null,"Frame #",{"$f":"'Label data'!G31","v":14},null,null,null,"Frame #",{"$f":"E231","v":14},null,null,null,"Frame #",{"$f":"'Label data'!H31","v":14},null,null,null,"Frame #",{"$f":"O231","v":14}]
[null,null,null,"Top/Left",null,null,null,null,"Bottom/Right",null,null,null,null,"Top/Left",null,null,null,null,"Bottom/Right"]
[{"$f":"'Competitor List'!$B$1","v":"Freedom Benchrest 600 YARD MATCH #1"},null,null,null,null,{"$f":"'Competitor List'!$B$1","v":"Freedom Benchrest 600 YARD MATCH #1"},null,null,null,null,{"$f":"'Competitor List'!$B$1","v":"Freedom Benchrest 600 YARD MATCH #1"},null,null,null,null,{"$f":"'Competitor List'!$B$1","v":"Freedom Benchrest 600 YARD MATCH #1"}]
[{"$f":"'Competitor List'!$B$2","v":"Vapor Trail Valley Spickard, Mo"},null,null,null,null,{"$f":"'Competitor List'!$B$2","v":"Vapor Trail Valley Spickard, Mo"},null,null,null,null,{"$f":"'Competitor List'!$B$2","v":"Vapor Trail Valley Spickard, Mo"},null,null,null,null,{"$f":"'Competitor List'!$B$2","v":"Vapor Trail Valley Spickard, Mo"}]
[{"$f":"'Competitor List'!$B$3","v":"2023-03-15"},null,null,null,null,{"$f":"'Competitor List'!$B$3","v":"2023-03-15"},null,null,null,null,{"$f":"'Competitor List'!$B$3","v":"2023-03-15"},null,null,null,null,{"$f":"'Competitor List'!$B$3","v":"2023-03-15"}]
["HEAVY GUN",null,"Target #",null,1,"HEAVY GUN",null,"Target #",null,{"$f":"E236+1","v":2},"HEAVY GUN",null,"Target #",null,{"$f":"J236+1","v":3},"HEAVY GUN",null,"Target #",null,{"$f":"O236+1","v":4}]
["Competitor #",null,{"$f":"'Label data'!A32","v":215},null,null,"Competitor #",null,{"$f":"C237","v":215},null,null,"Competitor #",null,{"$f":"H237","v":215},null,null,"Competitor #",null,{"$f":"M237","v":215}]
[]
[null,null,null,"Frame #",{"$f":"'Label data'!G32","v":15},null,null,null,"Frame #",{"$f":"E239","v":15},null,null,null,"Frame #",{"$f":"'Label data'!H32","v":15},null,null,null,"Frame #",{"$f":"O239","v":15}]
[null,null,null,"Top/Left",null,null,null,null,"Bottom/Right",null,null,null,null,"Top/Left",null,null,null,null,"Bottom/Right"]
[{"$f":"'Competitor List'!$B$1","v":"Freedom Benchrest 600 YARD MATCH #1"},null,null,null,null,{"$f":"'Competitor List'!$B$1","v":"Freedom Benchrest 600 YARD MATCH #1"},null,null,null,null,{"$f":"'Competitor List'!$B$1","v":"Freedom Benchrest 600 YARD MATCH #1"},null,null,null,null,{"$f":"'Competitor List'!$B$1","v":"Freedom Benchrest 600 YARD MATCH #1"}]
[{"$f":"'Competitor List'!$B$2","v":"Vapor Trail Valley Spickard, Mo"},null,null,null,null,{"$f":"'Competitor List'!$B$2","v":"Vapor Trail Valley Spickard, Mo"},null,null,null,null,{"$f":"'Competitor List'!$B$2","v":"Vapor Trail Valley Spickard, Mo"},null,null,null,null,{"$f":"'Competitor List'!$B$2","v":"Vapor Trail Valley Spickard, Mo"}]
[{"$f":"'Competitor List'!$B$3","v":"2023-03-15"},null,null,null,null,{"$f":"'Competitor List'!$B$3","v":"2023-03-15"},null,null,null,null,{"$f":"'Competitor List'!$B$3","v":"2023-03-15"},null,null,null,null,{"$f":"'Competitor List'!$B$3","v":"2023-03-15"}]
["HEAVY GUN",null,"Target #",null,1,"HEAVY GUN",null,"Target #",null,{"$f":"E244+1","v":2},"HEAVY GUN",null,"Target #",null,{"$f":"J244+1","v":3},"HEAVY GUN",null,"Target #",null,{"$f":"O244+1","v":4}]
["Competitor #",null,{"$f":"'Label data'!A33","v":301},null,null,"Competitor #",null,{"$f":"C245","v":301},null,null,"Competitor #",null,{"$f":"H245","v":301},null,null,"Competitor #",null,{"$f":"M245","v":301}]
[]
[null,null,null,"Frame #",{"$f":"'Label data'!G33","v":1},null,null,null,"Frame #",{"$f":"E247","v":1},null,null,null,"Frame #",{"$f":"'Label data'!H33","v":1},null,null,null,"Frame #",{"$f":"O247","v":1}]
[null,null,null,"Top/Left",null,null,null,null,"Bottom/Right",null,null,null,null,"Top/Left",null,null,null,null,"Bottom/Right"]
[{"$f":"'Competitor List'!$B$1","v":"Freedom Benchrest 600 YARD MATCH #1"},null,null,null,null,{"$f":"'Competitor List'!$B$1","v":"Freedom Benchrest 600 YARD MATCH #1"},null,null,null,null,{"$f":"'Competitor List'!$B$1","v":"Freedom Benchrest 600 YARD MATCH #1"},null,null,null,null,{"$f":"'Competitor List'!$B$1","v":"Freedom Benchrest 600 YARD MATCH #1"}]
[{"$f":"'Competitor List'!$B$2","v":"Vapor Trail Valley Spickard, Mo"},null,null,null,null,{"$f":"'Competitor List'!$B$2","v":"Vapor Trail Valley Spickard, Mo"},null,null,null,null,{"$f":"'Competitor List'!$B$2","v":"Vapor Trail Valley Spickard, Mo"},null,null,null,null,{"$f":"'Competitor List'!$B$2","v":"Vapor Trail Valley Spickard, Mo"}]
[{"$f":"'Competitor List'!$B$3","v":"2023-03-15"},null,null,null,null,{"$f":"'Competitor List'!$B$3","v":"2023-03-15"},null,null,null,null,{"$f":"'Competitor List'!$B$3","v":"2023-03-15"},null,null,null,null,{"$f":"'Competitor List'!$B$3","v":"2023-03-15"}]
["HEAVY GUN",null,"Target #",null,1,"HEAVY GUN",null,"Target #",null,{"$f":"E252+1","v":2},"HEAVY GUN",null,"Target #",null,{"$f":"J252+1","v":3},"HEAVY GUN",null,"Target #",null,{"$f":"O252+1","v":4}]
["Competitor #",null,{"$f":"'Label data'!A34","v":302},null,null,"Competitor #",null,{"$f":"C253","v":302},null,null,"Competitor #",null,{"$f":"H253","v":302},null,null,"Competitor #",null,{"$f":"M253","v":302}]
[]
[null,null,null,"Frame #",{"$f":"'Label data'!G34","v":2},null,null,null,"Frame #",{"$f":"E255","v":2},null,null,null,"Frame #",{"$f":"'Label data'!H34","v":2},null,null,null,"Frame #",{"$f":"O255","v":2}]
[null,null,null,"Top/Left",null,null,null,null,"Bottom/Right",null,null,null,null,"Top/Left",null,null,null,null,"Bottom/Right"]
[{"$f":"'Competitor List'!$B$1","v":"Freedom Benchrest 600 YARD MATCH #1"},null,null,null,null,{"$f":"'Competitor List'!$B$1","v":"Freedom Benchrest 600 YARD MATCH #1"},null,null,null,null,{"$f":"'Competitor List'!$B$1","v":"Freedom Benchrest 600 YARD MATCH #1"},null,null,null,null,{"$f":"'Competitor List'!$B$1","v":"Freedom Benchrest 600 YARD MATCH #1"}]
[{"$f":"'Competitor List'!$B$2","v":"Vapor Trail Valley Spickard, Mo"},null,null,null,null,{"$f":"'Competitor List'!$B$2","v":"Vapor Trail Valley Spickard, Mo"},null,null,null,null,{"$f":"'Competitor List'!$B$2","v":"Vapor Trail Valley Spickard, Mo"},null,null,null,null,{"$f":"'Competitor List'!$B$2","v":"Vapor Trail Valley Spickard, Mo"}]
[{"$f":"'Competitor List'!$B$3","v":"2023-03-15"},null,null,null,null,{"$f":"'Competitor List'!$B$3","v":"2023-03-15"},null,null,null,null,{"$f":"'Competitor List'!$B$3","v":"2023-03-15"},null,null,null,null,{"$f":"'Competitor List'!$B$3","v":"2023-03-15"}]
["HEAVY GUN",null,"Target #",null,1,"HEAVY GUN",null,"Target #",null,{"$f":"E260+1","v":2},"HEAVY GUN",null,"Target #",null,{"$f":"J260+1","v":3},"HEAVY GUN",null,"Target #",null,{"$f":"O260+1","v":4}]
["Competitor #",null,{"$f":"'Label data'!A35","v":303},null,null,"Competitor #",null,{"$f":"C261","v":303},null,null,"Competitor #",null,{"$f":"H261","v":303},null,null,"Competitor #",null,{"$f":"M261","v":303}]
[]
[null,null,null,"Frame #",{"$f":"'Label data'!G35","v":3},null,null,null,"Frame #",{"$f":"E263","v":3},null,null,null,"Frame #",{"$f":"'Label data'!H35","v":3},null,null,null,"Frame #",{"$f":"O263","v":3}]
[null,null,null,"Top/Left",null,null,null,null,"Bottom/Right",null,null,null,null,"Top/Left",null,null,null,null,"Bottom/Right"]
[{"$f":"'Competitor List'!$B$1","v":"Freedom Benchrest 600 YARD MATCH #1"},null,null,null,null,{"$f":"'Competitor List'!$B$1","v":"Freedom Benchrest 600 YARD MATCH #1"},null,null,null,null,{"$f":"'Competitor List'!$B$1","v":"Freedom Benchrest 600 YARD MATCH #1"},null,null,null,null,{"$f":"'Competitor List'!$B$1","v":"Freedom Benchrest 600 YARD MATCH #1"}]
[{"$f":"'Competitor List'!$B$2","v":"Vapor Trail Valley Spickard, Mo"},null,null,null,null,{"$f":"'Competitor List'!$B$2","v":"Vapor Trail Valley Spickard, Mo"},null,null,null,null,{"$f":"'Competitor List'!$B$2","v":"Vapor Trail Valley Spickard, Mo"},null,null,null,null,{"$f":"'Competitor List'!$B$2","v":"Vapor Trail Valley Spickard, Mo"}]
[{"$f":"'Competitor List'!$B$3","v":"2023-03-15"},null,null,null,null,{"$f":"'Competitor List'!$B$3","v":"2023-03-15"},null,null,null,null,{"$f":"'Competitor List'!$B$3","v":"2023-03-15"},null,null,null,null,{"$f":"'Competitor List'!$B$3","v":"2023-03-15"}]
["HEAVY GUN",null,"Target #",null,1,"HEAVY GUN",null,"Target #",null,{"$f":"E268+1","v":2},"HEAVY GUN",null,"Target #",null,{"$f":"J268+1","v":3},"HEAVY GUN",null,"Target #",null,{"$f":"O268+1","v":4}]
["Competitor #",null,{"$f":"'Label data'!A36","v":304},null,null,"Competitor #",null,{"$f":"C269","v":304},null,null,"Competitor #",null,{"$f":"H269","v":304},null,null,"Competitor #",null,{"$f":"M269","v":304}]
[]
[null,null,null,"Frame #",{"$f":"'Label data'!G36","v":4},null,null,null,"Frame #",{"$f":"E271","v":4},null,null,null,"Frame #",{"$f":"'Label data'!H36","v":4},null,null,null,"Frame #",{"$f":"O271","v":4}]
[null,null,null,"Top/Left",null,null,null,null,"Bottom/Right",null,null,null,null,"Top/Left",null,null,null,null,"Bottom/Right"]
[{"$f":"'Competitor List'!$B$1","v":"Freedom Benchrest 600 YARD MATCH #1"},null,null,null,null,{"$f":"'Competitor List'!$B$1","v":"Freedom Benchrest 600 YARD MATCH #1"},null,null,null,null,{"$f":"'Competitor List'!$B$1","v":"Freedom Benchrest 600 YARD MATCH #1"},null,null,null,null,{"$f":"'Competitor List'!$B$1","v":"Freedom Benchrest 600 YARD MATCH #1"}]
[{"$f":"'Competitor List'!$B$2","v":"Vapor Trail Valley Spickard, Mo"},null,null,null,null,{"$f":"'Competitor List'!$B$2","v":"Vapor Trail Valley Spickard, Mo"},null,null,null,null,{"$f":"'Competitor List'!$B$2","v":"Vapor Trail Valley Spickard, Mo"},null,null,null,null,{"$f":"'Competitor List'!$B$2","v":"Vapor Trail Valley Spickard, Mo"}]
[{"$f":"'Competitor List'!$B$3","v":"2023-03-15"},null,null,null,null,{"$f":"'Competitor List'!$B$3","v":"2023-03-15"},null,null,null,null,{"$f":"'Competitor List'!$B$3","v":"2023-03-15"},null,null,null,null,{"$f":"'Competitor List'!$B$3","v":"2023-03-15"}]
["HEAVY GUN",null,"Target #",null,1,"HEAVY GUN",null,"Target #",null,{"$f":"E276+1","v":2},"HEAVY GUN",null,"Target #",null,{"$f":"J276+1","v":3},"HEAVY GUN",null,"Target #",null,{"$f":"O276+1","v":4}]
["Competitor #",null,{"$f":"'Label data'!A37","v":305},null,null,"Competitor #",null,{"$f":"C277","v":305},null,null,"Competitor #",null,{"$f":"H277","v":305},null,null,"Competitor #",null,{"$f":"M277","v":305}]
[]
[null,null,null,"Frame #",{"$f":"'Label data'!G37","v":5},null,null,null,"Frame #",{"$f":"E279","v":5},null,null,null,"Frame #",{"$f":"'Label data'!H37","v":5},null,null,null,"Frame #",{"$f":"O279","v":5}]
[null,null,null,"Top/Left",null,null,null,null,"Bottom/Right",null,null,null,null,"Top/Left",null,null,null,null,"Bottom/Right"]
[{"$f":"'Competitor List'!$B$1","v":"Freedom Benchrest 600 YARD MATCH #1"},null,null,null,null,{"$f":"'Competitor List'!$B$1","v":"Freedom Benchrest 600 YARD MATCH #1"},null,null,null,null,{"$f":"'Competitor List'!$B$1","v":"Freedom Benchrest 600 YARD MATCH #1"},null,null,null,null,{"$f":"'Competitor List'!$B$1","v":"Freedom Benchrest 600 YARD MATCH #1"}]
[{"$f":"'Competitor List'!$B$2","v":"Vapor Trail Valley Spickard, Mo"},null,null,null,null,{"$f":"'Competitor List'!$B$2","v":"Vapor Trail Valley Spickard, Mo"},null,null,null,null,{"$f":"'Competitor List'!$B$2","v":"Vapor Trail Valley Spickard, Mo"},null,null,null,null,{"$f":"'Competitor List'!$B$2","v":"Vapor Trail Valley Spickard, Mo"}]
[{"$f":"'Competitor List'!$B$3","v":"2023-03-15"},null,null,null,null,{"$f":"'Competitor List'!$B$3","v":"2023-03-15"},null,null,null,null,{"$f":"'Competitor List'!$B$3","v":"2023-03-15"},null,null,null,null,{"$f":"'Competitor List'!$B$3","v":"2023-03-15"}]
["HEAVY GUN",null,"Target #",null,1,"HEAVY GUN",null,"Target #",null,{"$f":"E284+1","v":2},"HEAVY GUN",null,"Target #",null,{"$f":"J284+1","v":3},"HEAVY GUN",null,"Target #",null,{"$f":"O284+1","v":4}]
["Competitor #",null,{"$f":"'Label data'!A38","v":306},null,null,"Competitor #",null,{"$f":"C285","v":306},null,null,"Competitor #",null,{"$f":"H285","v":306},null,null,"Competitor #",null,{"$f":"M285","v":306}]
[]
[null,null,null,"Frame #",{"$f":"'Label data'!G38","v":6},null,null,null,"Frame #",{"$f":"E287","v":6},null,null,null,"Frame #",{"$f":"'Label data'!H38","v":6},null,null,null,"Frame #",{"$f":"O287","v":6}]
[null,null,null,"Top/Left",null,null,null,null,"Bottom/Right",null,null,null,null,"Top/Left",null,null,null,null,"Bottom/Right"]
[{"$f":"'Competitor List'!$B$1","v":"Freedom Benchrest 600 YARD MATCH #1"},null,null,null,null,{"$f":"'Competitor List'!$B$1","v":"Freedom Benchrest 600 YARD MATCH #1"},null,null,null,null,{"$f":"'Competitor List'!$B$1","v":"Freedom Benchrest 600 YARD MATCH #1"},null,null,null,null,{"$f":"'Competitor List'!$B$1","v":"Freedom Benchrest 600 YARD MATCH #1"}]
[{"$f":"'Competitor List'!$B$2","v":"Vapor Trail Valley Spickard, Mo"},null,null,null,null,{"$f":"'Competitor List'!$B$2","v":"Vapor Trail Valley Spickard, Mo"},null,null,null,null,{"$f":"'Competitor List'!$B$2","v":"Vapor Trail Valley Spickard, Mo"},null,null,null,null,{"$f":"'Competitor List'!$B$2","v":"Vapor Trail Valley Spickard, Mo"}]
[{"$f":"'Competitor List'!$B$3","v":"2023-03-15"},null,null,null,null,{"$f":"'Competitor List'!$B$3","v":"2023-03-15"},null,null,null,null,{"$f":"'Competitor List'!$B$3","v":"2023-03-15"},null,null,null,null,{"$f":"'Competitor List'!$B$3","v":"2023-03-15"}]
["HEAVY GUN",null,"Target #",null,1,"HEAVY GUN",null,"Target #",null,{"$f":"E292+1","v":2},"HEAVY GUN",null,"Target #",null,{"$f":"J292+1","v":3},"HEAVY GUN",null,"Target #",null,{"$f":"O292+1","v":4}]
["Competitor #",null,{"$f":"'Label data'!A39","v":307},null,null,"Competitor #",null,{"$f":"C293","v":307},null,null,"Competitor #",null,{"$f":"H293","v":307},null,null,"Competitor #",null,{"$f":"M293","v":307}]
[]
[null,null,null,"Frame #",{"$f":"'Label data'!G39","v":7},null,null,null,"Frame #",{"$f":"E295","v":7},null,null,null,"Frame #",{"$f":"'Label data'!H39","v":7},null,null,null,"Frame #",{"$f":"O295","v":7}]
[null,null,null,"Top/Left",null,null,null,null,"Bottom/Right",null,null,null,null,"Top/Left",null,null,null,null,"Bottom/Right"]
[{"$f":"'Competitor List'!$B$1","v":"Freedom Benchrest 600 YARD MATCH #1"},null,null,null,null,{"$f":"'Competitor List'!$B$1","v":"Freedom Benchrest 600 YARD MATCH #1"},null,null,null,null,{"$f":"'Competitor List'!$B$1","v":"Freedom Benchrest 600 YARD MATCH #1"},null,null,null,null,{"$f":"'Competitor List'!$B$1","v":"Freedom Benchrest 600 YARD MATCH #1"}]
[{"$f":"'Competitor List'!$B$2","v":"Vapor Trail Valley Spickard, Mo"},null,null,null,null,{"$f":"'Competitor List'!$B$2","v":"Vapor Trail Valley Spickard, Mo"},null,null,null,null,{"$f":"'Competitor List'!$B$2","v":"Vapor Trail Valley Spickard, Mo"},null,null,null,null,{"$f":"'Competitor List'!$B$2","v":"Vapor Trail Valley Spickard, Mo"}]
[{"$f":"'Competitor List'!$B$3","v":"2023-03-15"},null,null,null,null,{"$f":"'Competitor List'!$B$3","v":"2023-03-15"},null,null,null,null,{"$f":"'Competitor List'!$B$3","v":"2023-03-15"},null,null,null,null,{"$f":"'Competitor List'!$B$3","v":"2023-03-15"}]
["HEAVY GUN",null,"Target #",null,1,"HEAVY GUN",null,"Target #",null,{"$f":"E300+1","v":2},"HEAVY GUN",null,"Target #",null,{"$f":"J300+1","v":3},"HEAVY GUN",null,"Target #",null,{"$f":"O300+1","v":4}]
["Competitor #",null,{"$f":"'Label data'!A40","v":308},null,null,"Competitor #",null,{"$f":"C301","v":308},null,null,"Competitor #",null,{"$f":"H301","v":308},null,null,"Competitor #",null,{"$f":"M301","v":308}]
[]
[null,null,null,"Frame #",{"$f":"'Label data'!G40","v":8},null,null,null,"Frame #",{"$f":"E303","v":8},null,null,null,"Frame #",{"$f":"'Label data'!H40","v":8},null,null,null,"Frame #",{"$f":"O303","v":8}]
[null,null,null,"Top/Left",null,null,null,null,"Bottom/Right",null,null,null,null,"Top/Left",null,null,null,null,"Bottom/Right"]
[{"$f":"'Competitor List'!$B$1","v":"Freedom Benchrest 600 YARD MATCH #1"},null,null,null,null,{"$f":"'Competitor List'!$B$1","v":"Freedom Benchrest 600 YARD MATCH #1"},null,null,null,null,{"$f":"'Competitor List'!$B$1","v":"Freedom Benchrest 600 YARD MATCH #1"},null,null,null,null,{"$f":"'Competitor List'!$B$1","v":"Freedom Benchrest 600 YARD MATCH #1"}]
[{"$f":"'Competitor List'!$B$2","v":"Vapor Trail Valley Spickard, Mo"},null,null,null,null,{"$f":"'Competitor List'!$B$2","v":"Vapor Trail Valley Spickard, Mo"},null,null,null,null,{"$f":"'Competitor List'!$B$2","v":"Vapor Trail Valley Spickard, Mo"},null,null,null,null,{"$f":"'Competitor List'!$B$2","v":"Vapor Trail Valley Spickard, Mo"}]
[{"$f":"'Competitor List'!$B$3","v":"2023-03-15"},null,null,null,null,{"$f":"'Competitor List'!$B$3","v":"2023-03-15"},null,null,null,null,{"$f":"'Competitor List'!$B$3","v":"2023-03-15"},null,null,null,null,{"$f":"'Competitor List'!$B$3","v":"2023-03-15"}]
["HEAVY GUN",null,"Target #",null,1,"HEAVY GUN",null,"Target #",null,{"$f":"E308+1","v":2},"HEAVY GUN",null,"Target #",null,{"$f":"J308+1","v":3},"HEAVY GUN",null,"Target #",null,{"$f":"O308+1","v":4}]
["Competitor #",null,{"$f":"'Label data'!A41","v":309},null,null,"Competitor #",null,{"$f":"C309","v":309},null,null,"Competitor #",null,{"$f":"H309","v":309},null,null,"Competitor #",null,{"$f":"M309","v":309}]
[]
[null,null,null,"Frame #",{"$f":"'Label data'!G41","v":9},null,null,null,"Frame #",{"$f":"E311","v":9},null,null,null,"Frame #",{"$f":"'Label data'!H41","v":9},null,null,null,"Frame #",{"$f":"O311","v":9}]
[null,null,null,"Top/Left",null,null,null,null,"Bottom/Right",null,null,null,null,"Top/Left",null,null,null,null,"Bottom/Right"]
[{"$f":"'Competitor List'!$B$1","v":"Freedom Benchrest 600 YARD MATCH #1"},null,null,null,null,{"$f":"'Competitor List'!$B$1","v":"Freedom Benchrest 600 YARD MATCH #1"},null,null,null,null,{"$f":"'Competitor List'!$B$1","v":"Freedom Benchrest 600 YARD MATCH #1"},null,null,null,null,{"$f":"'Competitor List'!$B$1","v":"Freedom Benchrest 600 YARD MATCH #1"}]
[{"$f":"'Competitor List'!$B$2","v":"Vapor Trail Valley Spickard, Mo"},null,null,null,null,{"$f":"'Competitor List'!$B$2","v":"Vapor Trail Valley Spickard, Mo"},null,null,null,null,{"$f":"'Competitor List'!$B$2","v":"Vapor Trail Valley Spickard, Mo"},null,null,null,null,{"$f":"'Competitor List'!$B$2","v":"Vapor Trail Valley Spickard, Mo"}]
[{"$f":"'Competitor List'!$B$3","v":"2023-03-15"},null,null,null,null,{"$f":"'Competitor List'!$B$3","v":"2023-03-15"},null,null,null,null,{"$f":"'Competitor List'!$B$3","v":"2023-03-15"},null,null,null,null,{"$f":"'Competitor List'!$B$3","v":"2023-03-15"}]
["HEAVY GUN",null,"Target #",null,1,"HEAVY GUN",null,"Target #",null,{"$f":"E316+1","v":2},"HEAVY GUN",null,"Target #",null,{"$f":"J316+1","v":3},"HEAVY GUN",null,"Target #",null,{"$f":"O316+1","v":4}]
["Competitor #",null,{"$f":"'Label data'!A42","v":310},null,null,"Competitor #",null,{"$f":"C317","v":310},null,null,"Competitor #",null,{"$f":"H317","v":310},null,null,"Competitor #",null,{"$f":"M317","v":310}]
[]
[null,null,null,"Frame #",{"$f":"'Label data'!G42","v":10},null,null,null,"Frame #",{"$f":"E319","v":10},null,null,null,"Frame #",{"$f":"'Label data'!H42","v":10},null,null,null,"Frame #",{"$f":"O319","v":10}]
[null,null,null,"Top/Left",null,null,null,null,"Bottom/Right",null,null,null,null,"Top/Left",null,null,null,null,"Bottom/Right"]
[{"$f":"'Competitor List'!$B$1","v":"Freedom Benchrest 600 YARD MATCH #1"},null,null,null,null,{"$f":"'Competitor List'!$B$1","v":"Freedom Benchrest 600 YARD MATCH #1"},null,null,null,null,{"$f":"'Competitor List'!$B$1","v":"Freedom Benchrest 600 YARD MATCH #1"},null,null,null,null,{"$f":"'Competitor List'!$B$1","v":"Freedom Benchrest 600 YARD MATCH #1"}]
[{"$f":"'Competitor List'!$B$2","v":"Vapor Trail Valley Spickard, Mo"},null,null,null,null,{"$f":"'Competitor List'!$B$2","v":"Vapor Trail Valley Spickard, Mo"},null,null,null,null,{"$f":"'Competitor List'!$B$2","v":"Vapor Trail Valley Spickard, Mo"},null,null,null,null,{"$f":"'Competitor List'!$B$2","v":"Vapor Trail Valley Spickard, Mo"}]
[{"$f":"'Competitor List'!$B$3","v":"2023-03-15"},null,null,null,null,{"$f":"'Competitor List'!$B$3","v":"2023-03-15"},null,null,null,null,{"$f":"'Competitor List'!$B$3","v":"2023-03-15"},null,null,null,null,{"$f":"'Competitor List'!$B$3","v":"2023-03-15"}]
["HEAVY GUN",null,"Target #",null,1,"HEAVY GUN",null,"Target #",null,{"$f":"E324+1","v":2},"HEAVY GUN",null,"Target #",null,{"$f":"J324+1","v":3},"HEAVY GUN",null,"Target #",null,{"$f":"O324+1","v":4}]
["Competitor #",null,{"$f":"'Label data'!A43","v":311},null,null,"Competitor #",null,{"$f":"C325","v":311},null,null,"Competitor #",null,{"$f":"H325","v":311},null,null,"Competitor #",null,{"$f":"M325","v":311}]
[]
[null,null,null,"Frame #",{"$f":"'Label data'!G43","v":11},null,null,null,"Frame #",{"$f":"E327","v":11},null,null,null,"Frame #",{"$f":"'Label data'!H43","v":11},null,null,null,"Frame #",{"$f":"O327","v":11}]
[null,null,null,"Top/Left",null,null,null,null,"Bottom/Right",null,null,null,null,"Top/Left",null,null,null,null,"Bottom/Right"]
[{"$f":"'Competitor List'!$B$1","v":"Freedom Benchrest 600 YARD MATCH #1"},null,null,null,null,{"$f":"'Competitor List'!$B$1","v":"Freedom Benchrest 600 YARD MATCH #1"},null,null,null,null,{"$f":"'Competitor List'!$B$1","v":"Freedom Benchrest 600 YARD MATCH #1"},null,null,null,null,{"$f":"'Competitor List'!$B$1","v":"Freedom Benchrest 600 YARD MATCH #1"}]
[{"$f":"'Competitor List'!$B$2","v":"Vapor Trail Valley Spickard, Mo"},null,null,null,null,{"$f":"'Competitor List'!$B$2","v":"Vapor Trail Valley Spickard, Mo"},null,null,null,null,{"$f":"'Competitor List'!$B$2","v":"Vapor Trail Valley Spickard, Mo"},null,null,null,null,{"$f":"'Competitor List'!$B$2","v":"Vapor Trail Valley Spickard, Mo"}]
[{"$f":"'Competitor List'!$B$3","v":"2023-03-15"},null,null,null,null,{"$f":"'Competitor List'!$B$3","v":"2023-03-15"},null,null,null,null,{"$f":"'Competitor List'!$B$3","v":"2023-03-15"},null,null,null,null,{"$f":"'Competitor List'!$B$3","v":"2023-03-15"}]
["HEAVY GUN",null,"Target #",null,1,"HEAVY GUN",null,"Target #",null,{"$f":"E332+1","v":2},"HEAVY GUN",null,"Target #",null,{"$f":"J332+1","v":3},"HEAVY GUN",null,"Target #",null,{"$f":"O332+1","v":4}]
["Competitor #",null,{"$f":"'Label data'!A44","v":312},null,null,"Competitor #",null,{"$f":"C333","v":312},null,null,"Competitor #",null,{"$f":"H333","v":312},null,null,"Competitor #",null,{"$f":"M333","v":312}]
[]
[null,null,null,"Frame #",{"$f":"'Label data'!G44","v":12},null,null,null,"Frame #",{"$f":"E335","v":12},null,null,null,"Frame #",{"$f":"'Label data'!H44","v":12},null,null,null,"Frame #",{"$f":"O335","v":12}]
[null,null,null,"Top/Left",null,null,null,null,"Bottom/Right",null,null,null,null,"Top/Left",null,null,null,null,"Bottom/Right"]
[{"$f":"'Competitor List'!$B$1","v":"Freedom Benchrest 600 YARD MATCH #1"},null,null,null,null,{"$f":"'Competitor List'!$B$1","v":"Freedom Benchrest 600 YARD MATCH #1"},null,null,null,null,{"$f":"'Competitor List'!$B$1","v":"Freedom Benchrest 600 YARD MATCH #1"},null,null,null,null,{"$f":"'Competitor List'!$B$1","v":"Freedom Benchrest 600 YARD MATCH #1"}]
[{"$f":"'Competitor List'!$B$2","v":"Vapor Trail Valley Spickard, Mo"},null,null,null,null,{"$f":"'Competitor List'!$B$2","v":"Vapor Trail Valley Spickard, Mo"},null,null,null,null,{"$f":"'Competitor List'!$B$2","v":"Vapor Trail Valley Spickard, Mo"},null,null,null,null,{"$f":"'Competitor List'!$B$2","v":"Vapor Trail Valley Spickard, Mo"}]
[{"$f":"'Competitor List'!$B$3","v":"2023-03-15"},null,null,null,null,{"$f":"'Competitor List'!$B$3","v":"2023-03-15"},null,null,null,null,{"$f":"'Competitor List'!$B$3","v":"2023-03-15"},null,null,null,null,{"$f":"'Competitor List'!$B$3","v":"2023-03-15"}]
["HEAVY GUN",null,"Target #",null,1,"HEAVY GUN",null,"Target #",null,{"$f":"E340+1","v":2},"HEAVY GUN",null,"Target #",null,{"$f":"J340+1","v":3},"HEAVY GUN",null,"Target #",null,{"$f":"O340+1","v":4}]
["Competitor #",null,{"$f":"'Label data'!A45","v":313},null,null,"Competitor #",null,{"$f":"C341","v":313},null,null,"Competitor #",null,{"$f":"H341","v":313},null,null,"Competitor #",null,{"$f":"M341","v":313}]
[]
[null,null,null,"Frame #",{"$f":"'Label data'!G45","v":13},null,null,null,"Frame #",{"$f":"E343","v":13},null,null,null,"Frame #",{"$f":"'Label data'!H45","v":13},null,null,null,"Frame #",{"$f":"O343","v":13}]
[null,null,null,"Top/Left",null,null,null,null,"Bottom/Right",null,null,null,null,"Top/Left",null,null,null,null,"Bottom/Right"]
[{"$f":"'Competitor List'!$B$1","v":"Freedom Benchrest 600 YARD MATCH #1"},null,null,null,null,{"$f":"'Competitor List'!$B$1","v":"Freedom Benchrest 600 YARD MATCH #1"},null,null,null,null,{"$f":"'Competitor List'!$B$1","v":"Freedom Benchrest 600 YARD MATCH #1"},null,null,null,null,{"$f":"'Competitor List'!$B$1","v":"Freedom Benchrest 600 YARD MATCH #1"}]
[{"$f":"'Competitor List'!$B$2","v":"Vapor Trail Valley Spickard, Mo"},null,null,null,null,{"$f":"'Competitor List'!$B$2","v":"Vapor Trail Valley Spickard, Mo"},null,null,null,null,{"$f":"'Competitor List'!$B$2","v":"Vapor Trail Valley Spickard, Mo"},null,null,null,null,{"$f":"'Competitor List'!$B$2","v":"Vapor Trail Valley Spickard, Mo"}]
[{"$f":"'Competitor List'!$B$3","v":"2023-03-15"},null,null,null,null,{"$f":"'Competitor List'!$B$3","v":"2023-03-15"},null,null,null,null,{"$f":"'Competitor List'!$B$3","v":"2023-03-15"},null,null,null,null,{"$f":"'Competitor List'!$B$3","v":"2023-03-15"}]
["HEAVY GUN",null,"Target #",null,1,"HEAVY GUN",null,"Target #",null,{"$f":"E348+1","v":2},"HEAVY GUN",null,"Target #",null,{"$f":"J348+1","v":3},"HEAVY GUN",null,"Target #",null,{"$f":"O348+1","v":4}]
["Competitor #",null,{"$f":"'Label data'!A46","v":314},null,null,"Competitor #",null,{"$f":"C349","v":314},null,null,"Competitor #",null,{"$f":"H349","v":314},null,null,"Competitor #",null,{"$f":"M349","v":314}]
[]
[null,null,null,"Frame #",{"$f":"'Label data'!G46","v":14},null,null,null,"Frame #",{"$f":"E351","v":14},null,null,null,"Frame #",{"$f":"'Label data'!H46","v":14},null,null,null,"Frame #",{"$f":"O351","v":14}]
[null,null,null,"Top/Left",null,null,null,null,"Bottom/Right",null,null,null,null,"Top/Left",null,null,null,null,"Bottom/Right"]
[{"$f":"'Competitor List'!$B$1","v":"Freedom Benchrest 600 YARD MATCH #1"},null,null,null,null,{"$f":"'Competitor List'!$B$1","v":"Freedom Benchrest 600 YARD MATCH #1"},null,null,null,null,{"$f":"'Competitor List'!$B$1","v":"Freedom Benchrest 600 YARD MATCH #1"},null,null,null,null,{"$f":"'Competitor List'!$B$1","v":"Freedom Benchrest 600 YARD MATCH #1"}]
[{"$f":"'Competitor List'!$B$2","v":"Vapor Trail Valley Spickard, Mo"},null,null,null,null,{"$f":"'Competitor List'!$B$2","v":"Vapor Trail Valley Spickard, Mo"},null,null,null,null,{"$f":"'Competitor List'!$B$2","v":"Vapor Trail Valley Spickard, Mo"},null,null,null,null,{"$f":"'Competitor List'!$B$2","v":"Vapor Trail Valley Spickard, Mo"}]
[{"$f":"'Competitor List'!$B$3","v":"2023-03-15"},null,null,null,null,{"$f":"'Competitor List'!$B$3","v":"2023-03-15"},null,null,null,null,{"$f":"'Competitor List'!$B$3","v":"2023-03-15"},null,null,null,null,{"$f":"'Competitor List'!$B$3","v":"2023-03-15"}]
["HEAVY GUN",null,"Target #",null,1,"HEAVY GUN",null,"Target #",null,{"$f":"E356+1","v":2},"HEAVY GUN",null,"Target #",null,{"$f":"J356+1","v":3},"HEAVY GUN",null,"Target #",null,{"$f":"O356+1","v":4}]
["Competitor #",null,{"$f":"'Label data'!A47","v":315},null,null,"Competitor #",null,{"$f":"C357","v":315},null,null,"Competitor #",null,{"$f":"H357","v":315},null,null,"Competitor #",null,{"$f":"M357","v":315}]
[]
[null,null,null,"Frame #",{"$f":"'Label data'!G47","v":15},null,null,null,"Frame #",{"$f":"E359","v":15},null,null,null,"Frame #",{"$f":"'Label data'!H47","v":15},null,null,null,"Frame #",{"$f":"O359","v":15}]
[null,null,null,"Top/Left",null,null,null,null,"Bottom/Right",null,null,null,null,"Top/Left",null,null,null,null,"Bottom/Right"]
[{"$f":"'Competitor List'!$B$1","v":"Freedom Benchrest 600 YARD MATCH #1"},null,null,null,null,{"$f":"'Competitor List'!$B$1","v":"Freedom Benchrest 600 YARD MATCH #1"},null,null,null,null,{"$f":"'Competitor List'!$B$1","v":"Freedom Benchrest 600 YARD MATCH #1"},null,null,null,null,{"$f":"'Competitor List'!$B$1","v":"Freedom Benchrest 600 YARD MATCH #1"}]
[{"$f":"'Competitor List'!$B$2","v":"Vapor Trail Valley Spickard, Mo"},null,null,null,null,{"$f":"'Competitor List'!$B$2","v":"Vapor Trail Valley Spickard, Mo"},null,null,null,null,{"$f":"'Competitor List'!$B$2","v":"Vapor Trail Valley Spickard, Mo"},null,null,null,null,{"$f":"'Competitor List'!$B$2","v":"Vapor Trail Valley Spickard, Mo"}]
[{"$f":"'Competitor List'!$B$3","v":"2023-03-15"},null,null,null,null,{"$f":"'Competitor List'!$B$3","v":"2023-03-15"},null,null,null,null,{"$f":"'Competitor List'!$B$3","v":"2023-03-15"},null,null,null,null,{"$f":"'Competitor List'!$B$3","v":"2023-03-15"}]
["HEAVY GUN",null,"Target #",null,1,"HEAVY GUN",null,"Target #",null,{"$f":"E364+1","v":2},"HEAVY GUN",null,"Target #",null,{"$f":"J364+1","v":3},"HEAVY GUN",null,"Target #",null,{"$f":"O364+1","v":4}]
["Competitor #",null,{"$f":"'Label data'!A48","v":401},null,null,"Competitor #",null,{"$f":"C365","v":401},null,null,"Competitor #",null,{"$f":"H365","v":401},null,null,"Competitor #",null,{"$f":"M365","v":401}]
[]
[null,null,null,"Frame #",{"$f":"'Label data'!G48","v":1},null,null,null,"Frame #",{"$f":"E367","v":1},null,null,null,"Frame #",{"$f":"'Label data'!H48","v":1},null,null,null,"Frame #",{"$f":"O367","v":1}]
[null,null,null,"Top/Left",null,null,null,null,"Bottom/Right",null,null,null,null,"Top/Left",null,null,null,null,"Bottom/Right"]
[{"$f":"'Competitor List'!$B$1","v":"Freedom Benchrest 600 YARD MATCH #1"},null,null,null,null,{"$f":"'Competitor List'!$B$1","v":"Freedom Benchrest 600 YARD MATCH #1"},null,null,null,null,{"$f":"'Competitor List'!$B$1","v":"Freedom Benchrest 600 YARD MATCH #1"},null,null,null,null,{"$f":"'Competitor List'!$B$1","v":"Freedom Benchrest 600 YARD MATCH #1"}]
[{"$f":"'Competitor List'!$B$2","v":"Vapor Trail Valley Spickard, Mo"},null,null,null,null,{"$f":"'Competitor List'!$B$2","v":"Vapor Trail Valley Spickard, Mo"},null,null,null,null,{"$f":"'Competitor List'!$B$2","v":"Vapor Trail Valley Spickard, Mo"},null,null,null,null,{"$f":"'Competitor List'!$B$2","v":"Vapor Trail Valley Spickard, Mo"}]
[{"$f":"'Competitor List'!$B$3","v":"2023-03-15"},null,null,null,null,{"$f":"'Competitor List'!$B$3","v":"2023-03-15"},null,null,null,null,{"$f":"'Competitor List'!$B$3","v":"2023-03-15"},null,null,null,null,{"$f":"'Competitor List'!$B$3","v":"2023-03-15"}]
["HEAVY GUN",null,"Target #",null,1,"HEAVY GUN",null,"Target #",null,{"$f":"E372+1","v":2},"HEAVY GUN",null,"Target #",null,{"$f":"J372+1","v":3},"HEAVY GUN",null,"Target #",null,{"$f":"O372+1","v":4}]
["Competitor #",null,{"$f":"'Label data'!A49","v":402},null,null,"Competitor #",null,{"$f":"C373","v":402},null,null,"Competitor #",null,{"$f":"H373","v":402},null,null,"Competitor #",null,{"$f":"M373","v":402}]
[]
[null,null,null,"Frame #",{"$f":"'Label data'!G49","v":2},null,null,null,"Frame #",{"$f":"E375","v":2},null,null,null,"Frame #",{"$f":"'Label data'!H49","v":2},null,null,null,"Frame #",{"$f":"O375","v":2}]
[null,null,null,"Top/Left",null,null,null,null,"Bottom/Right",null,null,null,null,"Top/Left",null,null,null,null,"Bottom/Right"]
[{"$f":"'Competitor List'!$B$1","v":"Freedom Benchrest 600 YARD MATCH #1"},null,null,null,null,{"$f":"'Competitor List'!$B$1","v":"Freedom Benchrest 600 YARD MATCH #1"},null,null,null,null,{"$f":"'Competitor List'!$B$1","v":"Freedom Benchrest 600 YARD MATCH #1"},null,null,null,null,{"$f":"'Competitor List'!$B$1","v":"Freedom Benchrest 600 YARD MATCH #1"}]
[{"$f":"'Competitor List'!$B$2","v":"Vapor Trail Valley Spickard, Mo"},null,null,null,null,{"$f":"'Competitor List'!$B$2","v":"Vapor Trail Valley Spickard, Mo"},null,null,null,null,{"$f":"'Competitor List'!$B$2","v":"Vapor Trail Valley Spickard, Mo"},null,null,null,null,{"$f":"'Competitor List'!$B$2","v":"Vapor Trail Valley Spickard, Mo"}]
[{"$f":"'Competitor List'!$B$3","v":"2023-03-15"},null,null,null,null,{"$f":"'Competitor List'!$B$3","v":"2023-03-15"},null,null,null,null,{"$f":"'Competitor List'!$B$3","v":"2023-03-15"},null,null,null,null,{"$f":"'Competitor List'!$B$3","v":"2023-03-15"}]
["HEAVY GUN",null,"Target #",null,1,"HEAVY GUN",null,"Target #",null,{"$f":"E380+1","v":2},"HEAVY GUN",null,"Target #",null,{"$f":"J380+1","v":3},"HEAVY GUN",null,"Target #",null,{"$f":"O380+1","v":4}]
["Competitor #",null,{"$f":"'Label data'!A50","v":403},null,null,"Competitor #",null,{"$f":"C381","v":403},null,null,"Competitor #",null,{"$f":"H381","v":403},null,null,"Competitor #",null,{"$f":"M381","v":403}]
[]
[null,null,null,"Frame #",{"$f":"'Label data'!G50","v":3},null,null,null,"Frame #",{"$f":"E383","v":3},null,null,null,"Frame #",{"$f":"'Label data'!H50","v":3},null,null,null,"Frame #",{"$f":"O383","v":3}]
[null,null,null,"Top/Left",null,null,null,null,"Bottom/Right",null,null,null,null,"Top/Left",null,null,null,null,"Bottom/Right"]
[{"$f":"'Competitor List'!$B$1","v":"Freedom Benchrest 600 YARD MATCH #1"},null,null,null,null,{"$f":"'Competitor List'!$B$1","v":"Freedom Benchrest 600 YARD MATCH #1"},null,null,null,null,{"$f":"'Competitor List'!$B$1","v":"Freedom Benchrest 600 YARD MATCH #1"},null,null,null,null,{"$f":"'Competitor List'!$B$1","v":"Freedom Benchrest 600 YARD MATCH #1"}]
[{"$f":"'Competitor List'!$B$2","v":"Vapor Trail Valley Spickard, Mo"},null,null,null,null,{"$f":"'Competitor List'!$B$2","v":"Vapor Trail Valley Spickard, Mo"},null,null,null,null,{"$f":"'Competitor List'!$B$2","v":"Vapor Trail Valley Spickard, Mo"},null,null,null,null,{"$f":"'Competitor List'!$B$2","v":"Vapor Trail Valley Spickard, Mo"}]
[{"$f":"'Competitor List'!$B$3","v":"2023-03-15"},null,null,null,null,{"$f":"'Competitor List'!$B$3","v":"2023-03-15"},null,null,null,null,{"$f":"'Competitor List'!$B$3","v":"2023-03-15"},null,null,null,null,{"$f":"'Competitor List'!$B$3","v":"2023-03-15"}]
["HEAVY GUN",null,"Target #",null,1,"HEAVY GUN",null,"Target #",null,{"$f":"E388+1","v":2},"HEAVY GUN",null,"Target #",null,{"$f":"J388+1","v":3},"HEAVY GUN",null,"Target #",null,{"$f":"O388+1","v":4}]
["Competitor #",null,{"$f":"'Label data'!A51","v":404},null,null,"Competitor #",null,{"$f":"C389","v":404},null,null,"Competitor #",null,{"$f":"H389","v":404},null,null,"Competitor #",null,{"$f":"M389","v":404}]
[]
[null,null,null,"Frame #",{"$f":"'Label data'!G51","v":4},null,null,null,"Frame #",{"$f":"E391","v":4},null,null,null,"Frame #",{"$f":"'Label data'!H51","v":4},null,null,null,"Frame #",{"$f":"O391","v":4}]
[null,null,null,"Top/Left",null,null,null,null,"Bottom/Right",null,null,null,null,"Top/Left",null,null,null,null,"Bottom/Right"]
[{"$f":"'Competitor List'!$B$1","v":"Freedom Benchrest 600 YARD MATCH #1"},null,null,null,null,{"$f":"'Competitor List'!$B$1","v":"Freedom Benchrest 600 YARD MATCH #1"},null,null,null,null,{"$f":"'Competitor List'!$B$1","v":"Freedom Benchrest 600 YARD MATCH #1"},null,null,null,null,{"$f":"'Competitor List'!$B$1","v":"Freedom Benchrest 600 YARD MATCH #1"}]
[{"$f":"'Competitor List'!$B$2","v":"Vapor Trail Valley Spickard, Mo"},null,null,null,null,{"$f":"'Competitor List'!$B$2","v":"Vapor Trail Valley Spickard, Mo"},null,null,null,null,{"$f":"'Competitor List'!$B$2","v":"Vapor Trail Valley Spickard, Mo"},null,null,null,null,{"$f":"'Competitor List'!$B$2","v":"Vapor Trail Valley Spickard, Mo"}]
[{"$f":"'Competitor List'!$B$3","v":"2023-03-15"},null,null,null,null,{"$f":"'Competitor List'!$B$3","v":"2023-03-15"},null,null,null,null,{"$f":"'Competitor List'!$B$3","v":"2023-03-15"},null,null,null,null,{"$f":"'Competitor List'!$B$3","v":"2023-03-15"}]
["HEAVY GUN",null,"Target #",null,1,"HEAVY GUN",null,"Target #",null,{"$f":"E396+1","v":2},"HEAVY GUN",null,"Target #",null,{"$f":"J396+1","v":3},"HEAVY GUN",null,"Target #",null,{"$f":"O396+1","v":4}]
["Competitor #",null,{"$f":"'Label data'!A52","v":405},null,null,"Competitor #",null,{"$f":"C397","v":405},null,null,"Competitor #",null,{"$f":"H397","v":405},null,null,"Competitor #",null,{"$f":"M397","v":405}]
[]
[null,null,null,"Frame #",{"$f":"'Label data'!G52","v":5},null,null,null,"Frame #",{"$f":"E399","v":5},null,null,null,"Frame #",{"$f":"'Label data'!H52","v":5},null,null,null,"Frame #",{"$f":"O399","v":5}]
[null,null,null,"Top/Left",null,null,null,null,"Bottom/Right",null,null,null,null,"Top/Left",null,null,null,null,"Bottom/Right"]
[{"$f":"'Competitor List'!$B$1","v":"Freedom Benchrest 600 YARD MATCH #1"},null,null,null,null,{"$f":"'Competitor List'!$B$1","v":"Freedom Benchrest 600 YARD MATCH #1"},null,null,null,null,{"$f":"'Competitor List'!$B$1","v":"Freedom Benchrest 600 YARD MATCH #1"},null,null,null,null,{"$f":"'Competitor List'!$B$1","v":"Freedom Benchrest 600 YARD MATCH #1"}]
[{"$f":"'Competitor List'!$B$2","v":"Vapor Trail Valley Spickard, Mo"},null,null,null,null,{"$f":"'Competitor List'!$B$2","v":"Vapor Trail Valley Spickard, Mo"},null,null,null,null,{"$f":"'Competitor List'!$B$2","v":"Vapor Trail Valley Spickard, Mo"},null,null,null,null,{"$f":"'Competitor List'!$B$2","v":"Vapor Trail Valley Spickard, Mo"}]
[{"$f":"'Competitor List'!$B$3","v":"2023-03-15"},null,null,null,null,{"$f":"'Competitor List'!$B$3","v":"2023-03-15"},null,null,null,null,{"$f":"'Competitor List'!$B$3","v":"2023-03-15"},null,null,null,null,{"$f":"'Competitor List'!$B$3","v":"2023-03-15"}]
["HEAVY GUN",null,"Target #",null,1,"HEAVY GUN",null,"Target #",null,{"$f":"E404+1","v":2},"HEAVY GUN",null,"Target #",null,{"$f":"J404+1","v":3},"HEAVY GUN",null,"Target #",null,{"$f":"O404+1","v":4}]
["Competitor #",null,{"$f":"'Label data'!A53","v":406},null,null,"Competitor #",null,{"$f":"C405","v":406},null,null,"Competitor #",null,{"$f":"H405","v":406},null,null,"Competitor #",null,{"$f":"M405","v":406}]
[]
[null,null,null,"Frame #",{"$f":"'Label data'!G53","v":6},null,null,null,"Frame #",{"$f":"E407","v":6},null,null,null,"Frame #",{"$f":"'Label data'!H53","v":6},null,null,null,"Frame #",{"$f":"O407","v":6}]
[null,null,null,"Top/Left",null,null,null,null,"Bottom/Right",null,null,null,null,"Top/Left",null,null,null,null,"Bottom/Right"]
[{"$f":"'Competitor List'!$B$1","v":"Freedom Benchrest 600 YARD MATCH #1"},null,null,null,null,{"$f":"'Competitor List'!$B$1","v":"Freedom Benchrest 600 YARD MATCH #1"},null,null,null,null,{"$f":"'Competitor List'!$B$1","v":"Freedom Benchrest 600 YARD MATCH #1"},null,null,null,null,{"$f":"'Competitor List'!$B$1","v":"Freedom Benchrest 600 YARD MATCH #1"}]
[{"$f":"'Competitor List'!$B$2","v":"Vapor Trail Valley Spickard, Mo"},null,null,null,null,{"$f":"'Competitor List'!$B$2","v":"Vapor Trail Valley Spickard, Mo"},null,null,null,null,{"$f":"'Competitor List'!$B$2","v":"Vapor Trail Valley Spickard, Mo"},null,null,null,null,{"$f":"'Competitor List'!$B$2","v":"Vapor Trail Valley Spickard, Mo"}]
[{"$f":"'Competitor List'!$B$3","v":"2023-03-15"},null,null,null,null,{"$f":"'Competitor List'!$B$3","v":"2023-03-15"},null,null,null,null,{"$f":"'Competitor List'!$B$3","v":"2023-03-15"},null,null,null,null,{"$f":"'Competitor List'!$B$3","v":"2023-03-15"}]
["HEAVY GUN",null,"Target #",null,1,"HEAVY GUN",null,"Target #",null,{"$f":"E412+1","v":2},"HEAVY GUN",null,"Target #",null,{"$f":"J412+1","v":3},"HEAVY GUN",null,"Target #",null,{"$f":"O412+1","v":4}]
["Competitor #",null,{"$f":"'Label data'!A54","v":407},null,null,"Competitor #",null,{"$f":"C413","v":407},null,null,"Competitor #",null,{"$f":"H413","v":407},null,null,"Competitor #",null,{"$f":"M413","v":407}]
[]
[null,null,null,"Frame #",{"$f":"'Label data'!G54","v":7},null,null,null,"Frame #",{"$f":"E415","v":7},null,null,null,"Frame #",{"$f":"'Label data'!H54","v":7},null,null,null,"Frame #",{"$f":"O415","v":7}]
[null,null,null,"Top/Left",null,null,null,null,"Bottom/Right",null,null,null,null,"Top/Left",null,null,null,null,"Bottom/Right"]
[{"$f":"'Competitor List'!$B$1","v":"Freedom Benchrest 600 YARD MATCH #1"},null,null,null,null,{"$f":"'Competitor List'!$B$1","v":"Freedom Benchrest 600 YARD MATCH #1"},null,null,null,null,{"$f":"'Competitor List'!$B$1","v":"Freedom Benchrest 600 YARD MATCH #1"},null,null,null,null,{"$f":"'Competitor List'!$B$1","v":"Freedom Benchrest 600 YARD MATCH #1"}]
[{"$f":"'Competitor List'!$B$2","v":"Vapor Trail Valley Spickard, Mo"},null,null,null,null,{"$f":"'Competitor List'!$B$2","v":"Vapor Trail Valley Spickard, Mo"},null,null,null,null,{"$f":"'Competitor List'!$B$2","v":"Vapor Trail Valley Spickard, Mo"},null,null,null,null,{"$f":"'Competitor List'!$B$2","v":"Vapor Trail Valley Spickard, Mo"}]
[{"$f":"'Competitor List'!$B$3","v":"2023-03-15"},null,null,null,null,{"$f":"'Competitor List'!$B$3","v":"2023-03-15"},null,null,null,null,{"$f":"'Competitor List'!$B$3","v":"2023-03-15"},null,null,null,null,{"$f":"'Competitor List'!$B$3","v":"2023-03-15"}]
["HEAVY GUN",null,"Target #",null,1,"HEAVY GUN",null,"Target #",null,{"$f":"E420+1","v":2},"HEAVY GUN",null,"Target #",null,{"$f":"J420+1","v":3},"HEAVY GUN",null,"Target #",null,{"$f":"O420+1","v":4}]
["Competitor #",null,{"$f":"'Label data'!A55","v":408},null,null,"Competitor #",null,{"$f":"C421","v":408},null,null,"Competitor #",null,{"$f":"H421","v":408},null,null,"Competitor #",null,{"$f":"M421","v":408}]
[]
[null,null,null,"Frame #",{"$f":"'Label data'!G55","v":8},null,null,null,"Frame #",{"$f":"E423","v":8},null,null,null,"Frame #",{"$f":"'Label data'!H55","v":8},null,null,null,"Frame #",{"$f":"O423","v":8}]
[null,null,null,"Top/Left",null,null,null,null,"Bottom/Right",null,null,null,null,"Top/Left",null,null,null,null,"Bottom/Right"]
[{"$f":"'Competitor List'!$B$1","v":"Freedom Benchrest 600 YARD MATCH #1"},null,null,null,null,{"$f":"'Competitor List'!$B$1","v":"Freedom Benchrest 600 YARD MATCH #1"},null,null,null,null,{"$f":"'Competitor List'!$B$1","v":"Freedom Benchrest 600 YARD MATCH #1"},null,null,null,null,{"$f":"'Competitor List'!$B$1","v":"Freedom Benchrest 600 YARD MATCH #1"}]
[{"$f":"'Competitor List'!$B$2","v":"Vapor Trail Valley Spickard, Mo"},null,null,null,null,{"$f":"'Competitor List'!$B$2","v":"Vapor Trail Valley Spickard, Mo"},null,null,null,null,{"$f":"'Competitor List'!$B$2","v":"Vapor Trail Valley Spickard, Mo"},null,null,null,null,{"$f":"'Competitor List'!$B$2","v":"Vapor Trail Valley Spickard, Mo"}]
[{"$f":"'Competitor List'!$B$3","v":"2023-03-15"},null,null,null,null,{"$f":"'Competitor List'!$B$3","v":"2023-03-15"},null,null,null,null,{"$f":"'Competitor List'!$B$3","v":"2023-03-15"},null,null,null,null,{"$f":"'Competitor List'!$B$3","v":"2023-03-15"}]
["HEAVY GUN",null,"Target #",null,1,"HEAVY GUN",null,"Target #",null,{"$f":"E428+1","v":2},"HEAVY GUN",null,"Target #",null,{"$f":"J428+1","v":3},"HEAVY GUN",null,"Target #",null,{"$f":"O428+1","v":4}]
["Competitor #",null,{"$f":"'Label data'!A56","v":409},null,null,"Competitor #",null,{"$f":"C429","v":409},null,null,"Competitor #",null,{"$f":"H429","v":409},null,null,"Competitor #",null,{"$f":"M429","v":409}]
[]
[null,null,null,"Frame #",{"$f":"'Label data'!G56","v":9},null,null,null,"Frame #",{"$f":"E431","v":9},null,null,null,"Frame #",{"$f":"'Label data'!H56","v":9},null,null,null,"Frame #",{"$f":"O431","v":9}]
[null,null,null,"Top/Left",null,null,null,null,"Bottom/Right",null,null,null,null,"Top/Left",null,null,null,null,"Bottom/Right"]
[{"$f":"'Competitor List'!$B$1","v":"Freedom Benchrest 600 YARD MATCH #1"},null,null,null,null,{"$f":"'Competitor List'!$B$1","v":"Freedom Benchrest 600 YARD MATCH #1"},null,null,null,null,{"$f":"'Competitor List'!$B$1","v":"Freedom Benchrest 600 YARD MATCH #1"},null,null,null,null,{"$f":"'Competitor List'!$B$1","v":"Freedom Benchrest 600 YARD MATCH #1"}]
[{"$f":"'Competitor List'!$B$2","v":"Vapor Trail Valley Spickard, Mo"},null,null,null,null,{"$f":"'Competitor List'!$B$2","v":"Vapor Trail Valley Spickard, Mo"},null,null,null,null,{"$f":"'Competitor List'!$B$2","v":"Vapor Trail Valley Spickard, Mo"},null,null,null,null,{"$f":"'Competitor List'!$B$2","v":"Vapor Trail Valley Spickard, Mo"}]
[{"$f":"'Competitor List'!$B$3","v":"2023-03-15"},null,null,null,null,{"$f":"'Competitor List'!$B$3","v":"2023-03-15"},null,null,null,null,{"$f":"'Competitor List'!$B$3","v":"2023-03-15"},null,null,null,null,{"$f":"'Competitor List'!$B$3","v":"2023-03-15"}]
["HEAVY GUN",null,"Target #",null,1,"HEAVY GUN",null,"Target #",null,{"$f":"E436+1","v":2},"HEAVY GUN",null,"Target #",null,{"$f":"J436+1","v":3},"HEAVY GUN",null,"Target #",null,{"$f":"O436+1","v":4}]
["Competitor #",null,{"$f":"'Label data'!A57","v":410},null,null,"Competitor #",null,{"$f":"C437","v":410},null,null,"Competitor #",null,{"$f":"H437","v":410},null,null,"Competitor #",null,{"$f":"M437","v":410}]
[]
[null,null,null,"Frame #",{"$f":"'Label data'!G57","v":10},null,null,null,"Frame #",{"$f":"E439","v":10},null,null,null,"Frame #",{"$f":"'Label data'!H57","v":10},null,null,null,"Frame #",{"$f":"O439","v":10}]
[null,null,null,"Top/Left",null,null,null,null,"Bottom/Right",null,null,null,null,"Top/Left",null,null,null,null,"Bottom/Right"]
[{"$f":"'Competitor List'!$B$1","v":"Freedom Benchrest 600 YARD MATCH #1"},null,null,null,null,{"$f":"'Competitor List'!$B$1","v":"Freedom Benchrest 600 YARD MATCH #1"},null,null,null,null,{"$f":"'Competitor List'!$B$1","v":"Freedom Benchrest 600 YARD MATCH #1"},null,null,null,null,{"$f":"'Competitor List'!$B$1","v":"Freedom Benchrest 600 YARD MATCH #1"}]
[{"$f":"'Competitor List'!$B$2","v":"Vapor Trail Valley Spickard, Mo"},null,null,null,null,{"$f":"'Competitor List'!$B$2","v":"Vapor Trail Valley Spickard, Mo"},null,null,null,null,{"$f":"'Competitor List'!$B$2","v":"Vapor Trail Valley Spickard, Mo"},null,null,null,null,{"$f":"'Competitor List'!$B$2","v":"Vapor Trail Valley Spickard, Mo"}]
[{"$f":"'Competitor List'!$B$3","v":"2023-03-15"},null,null,null,null,{"$f":"'Competitor List'!$B$3","v":"2023-03-15"},null,null,null,null,{"$f":"'Competitor List'!$B$3","v":"2023-03-15"},null,null,null,null,{"$f":"'Competitor List'!$B$3","v":"2023-03-15"}]
["HEAVY GUN",null,"Target #",null,1,"HEAVY GUN",null,"Target #",null,{"$f":"E444+1","v":2},"HEAVY GUN",null,"Target #",null,{"$f":"J444+1","v":3},"HEAVY GUN",null,"Target #",null,{"$f":"O444+1","v":4}]
["Competitor #",null,{"$f":"'Label data'!A58","v":411},null,null,"Competitor #",null,{"$f":"C445","v":411},null,null,"Competitor #",null,{"$f":"H445","v":411},null,null,"Competitor #",null,{"$f":"M445","v":411}]
[]
[null,null,null,"Frame #",{"$f":"'Label data'!G58","v":11},null,null,null,"Frame #",{"$f":"E447","v":11},null,null,null,"Frame #",{"$f":"'Label data'!H58","v":11},null,null,null,"Frame #",{"$f":"O447","v":11}]
[null,null,null,"Top/Left",null,null,null,null,"Bottom/Right",null,null,null,null,"Top/Left",null,null,null,null,"Bottom/Right"]
[{"$f":"'Competitor List'!$B$1","v":"Freedom Benchrest 600 YARD MATCH #1"},null,null,null,null,{"$f":"'Competitor List'!$B$1","v":"Freedom Benchrest 600 YARD MATCH #1"},null,null,null,null,{"$f":"'Competitor List'!$B$1","v":"Freedom Benchrest 600 YARD MATCH #1"},null,null,null,null,{"$f":"'Competitor List'!$B$1","v":"Freedom Benchrest 600 YARD MATCH #1"}]
[{"$f":"'Competitor List'!$B$2","v":"Vapor Trail Valley Spickard, Mo"},null,null,null,null,{"$f":"'Competitor List'!$B$2","v":"Vapor Trail Valley Spickard, Mo"},null,null,null,null,{"$f":"'Competitor List'!$B$2","v":"Vapor Trail Valley Spickard, Mo"},null,null,null,null,{"$f":"'Competitor List'!$B$2","v":"Vapor Trail Valley Spickard, Mo"}]
[{"$f":"'Competitor List'!$B$3","v":"2023-03-15"},null,null,null,null,{"$f":"'Competitor List'!$B$3","v":"2023-03-15"},null,null,null,null,{"$f":"'Competitor List'!$B$3","v":"2023-03-15"},null,null,null,null,{"$f":"'Competitor List'!$B$3","v":"2023-03-15"}]
["HEAVY GUN",null,"Target #",null,1,"HEAVY GUN",null,"Target #",null,{"$f":"E452+1","v":2},"HEAVY GUN",null,"Target #",null,{"$f":"J452+1","v":3},"HEAVY GUN",null,"Target #",null,{"$f":"O452+1","v":4}]
["Competitor #",null,{"$f":"'Label data'!A59","v":412},null,null,"Competitor #",null,{"$f":"C453","v":412},null,null,"Competitor #",null,{"$f":"H453","v":412},null,null,"Competitor #",null,{"$f":"M453","v":412}]
[]
[null,null,null,"Frame #",{"$f":"'Label data'!G59","v":12},null,null,null,"Frame #",{"$f":"E455","v":12},null,null,null,"Frame #",{"$f":"'Label data'!H59","v":12},null,null,null,"Frame #",{"$f":"O455","v":12}]
[null,null,null,"Top/Left",null,null,null,null,"Bottom/Right",null,null,null,null,"Top/Left",null,null,null,null,"Bottom/Right"]
[{"$f":"'Competitor List'!$B$1","v":"Freedom Benchrest 600 YARD MATCH #1"},null,null,null,null,{"$f":"'Competitor List'!$B$1","v":"Freedom Benchrest 600 YARD MATCH #1"},null,null,null,null,{"$f":"'Competitor List'!$B$1","v":"Freedom Benchrest 600 YARD MATCH #1"},null,null,null,null,{"$f":"'Competitor List'!$B$1","v":"Freedom Benchrest 600 YARD MATCH #1"}]
[{"$f":"'Competitor List'!$B$2","v":"Vapor Trail Valley Spickard, Mo"},null,null,null,null,{"$f":"'Competitor List'!$B$2","v":"Vapor Trail Valley Spickard, Mo"},null,null,null,null,{"$f":"'Competitor List'!$B$2","v":"Vapor Trail Valley Spickard, Mo"},null,null,null,null,{"$f":"'Competitor List'!$B$2","v":"Vapor Trail Valley Spickard, Mo"}]
[{"$f":"'Competitor List'!$B$3","v":"2023-03-15"},null,null,null,null,{"$f":"'Competitor List'!$B$3","v":"2023-03-15"},null,null,null,null,{"$f":"'Competitor List'!$B$3","v":"2023-03-15"},null,null,null,null,{"$f":"'Competitor List'!$B$3","v":"2023-03-15"}]
["HEAVY GUN",null,"Target #",null,1,"HEAVY GUN",null,"Target #",null,{"$f":"E460+1","v":2},"HEAVY GUN",null,"Target #",null,{"$f":"J460+1","v":3},"HEAVY GUN",null,"Target #",null,{"$f":"O460+1","v":4}]
["Competitor #",null,{"$f":"'Label data'!A60","v":413},null,null,"Competitor #",null,{"$f":"C461","v":413},null,null,"Competitor #",null,{"$f":"H461","v":413},null,null,"Competitor #",null,{"$f":"M461","v":413}]
[]
[null,null,null,"Frame #",{"$f":"'Label data'!G60","v":13},null,null,null,"Frame #",{"$f":"E463","v":13},null,null,null,"Frame #",{"$f":"'Label data'!H60","v":13},null,null,null,"Frame #",{"$f":"O463","v":13}]
[null,null,null,"Top/Left",null,null,null,null,"Bottom/Right",null,null,null,null,"Top/Left",null,null,null,null,"Bottom/Right"]
[{"$f":"'Competitor List'!$B$1","v":"Freedom Benchrest 600 YARD MATCH #1"},null,null,null,null,{"$f":"'Competitor List'!$B$1","v":"Freedom Benchrest 600 YARD MATCH #1"},null,null,null,null,{"$f":"'Competitor List'!$B$1","v":"Freedom Benchrest 600 YARD MATCH #1"},null,null,null,null,{"$f":"'Competitor List'!$B$1","v":"Freedom Benchrest 600 YARD MATCH #1"}]
[{"$f":"'Competitor List'!$B$2","v":"Vapor Trail Valley Spickard, Mo"},null,null,null,null,{"$f":"'Competitor List'!$B$2","v":"Vapor Trail Valley Spickard, Mo"},null,null,null,null,{"$f":"'Competitor List'!$B$2","v":"Vapor Trail Valley Spickard, Mo"},null,null,null,null,{"$f":"'Competitor List'!$B$2","v":"Vapor Trail Valley Spickard, Mo"}]
[{"$f":"'Competitor List'!$B$3","v":"2023-03-15"},null,null,null,null,{"$f":"'Competitor List'!$B$3","v":"2023-03-15"},null,null,null,null,{"$f":"'Competitor List'!$B$3","v":"2023-03-15"},null,null,null,null,{"$f":"'Competitor List'!$B$3","v":"2023-03-15"}]
["HEAVY GUN",null,"Target #",null,1,"HEAVY GUN",null,"Target #",null,{"$f":"E468+1","v":2},"HEAVY GUN",null,"Target #",null,{"$f":"J468+1","v":3},"HEAVY GUN",null,"Target #",null,{"$f":"O468+1","v":4}]
["Competitor #",null,{"$f":"'Label data'!A61","v":414},null,null,"Competitor #",null,{"$f":"C469","v":414},null,null,"Competitor #",null,{"$f":"H469","v":414},null,null,"Competitor #",null,{"$f":"M469","v":414}]
[]
[null,null,null,"Frame #",{"$f":"'Label data'!G61","v":14},null,null,null,"Frame #",{"$f":"E471","v":14},null,null,null,"Frame #",{"$f":"'Label data'!H61","v":14},null,null,null,"Frame #",{"$f":"O471","v":14}]
[null,null,null,"Top/Left",null,null,null,null,"Bottom/Right",null,null,null,null,"Top/Left",null,null,null,null,"Bottom/Right"]
[{"$f":"'Competitor List'!$B$1","v":"Freedom Benchrest 600 YARD MATCH #1"},null,null,null,null,{"$f":"'Competitor List'!$B$1","v":"Freedom Benchrest 600 YARD MATCH #1"},null,null,null,null,{"$f":"'Competitor List'!$B$1","v":"Freedom Benchrest 600 YARD MATCH #1"},null,null,null,null,{"$f":"'Competitor List'!$B$1","v":"Freedom Benchrest 600 YARD MATCH #1"}]
[{"$f":"'Competitor List'!$B$2","v":"Vapor Trail Valley Spickard, Mo"},null,null,null,null,{"$f":"'Competitor List'!$B$2","v":"Vapor Trail Valley Spickard, Mo"},null,null,null,null,{"$f":"'Competitor List'!$B$2","v":"Vapor Trail Valley Spickard, Mo"},null,null,null,null,{"$f":"'Competitor List'!$B$2","v":"Vapor Trail Valley Spickard, Mo"}]
[{"$f":"'Competitor List'!$B$3","v":"2023-03-15"},null,null,null,null,{"$f":"'Competitor List'!$B$3","v":"2023-03-15"},null,null,null,null,{"$f":"'Competitor List'!$B$3","v":"2023-03-15"},null,null,null,null,{"$f":"'Competitor List'!$B$3","v":"2023-03-15"}]
["HEAVY GUN",null,"Target #",null,1,"HEAVY GUN",null,"Target #",null,{"$f":"E476+1","v":2},"HEAVY GUN",null,"Target #",null,{"$f":"J476+1","v":3},"HEAVY GUN",null,"Target #",null,{"$f":"O476+1","v":4}]
["Competitor #",null,{"$f":"'Label data'!A62","v":415},null,null,"Competitor #",null,{"$f":"C477","v":415},null,null,"Competitor #",null,{"$f":"H477","v":415},null,null,"Competitor #",null,{"$f":"M477","v":415}]
[]
[null,null,null,"Frame #",{"$f":"'Label data'!G62","v":15},null,null,null,"Frame #",{"$f":"E479","v":15},null,null,null,"Frame #",{"$f":"'Label data'!H62","v":15},null,null,null,"Frame #",{"$f":"O479","v":15}]
[null,null,null,"Top/Left",null,null,null,null,"Bottom/Right",null,null,null,null,"Top/Left",null,null,null,null,"Bottom/Right"]
[{"$f":"'Competitor List'!$B$1","v":"Freedom Benchrest 600 YARD MATCH #1"},null,null,null,null,{"$f":"'Competitor List'!$B$1","v":"Freedom Benchrest 600 YARD MATCH #1"},null,null,null,null,{"$f":"'Competitor List'!$B$1","v":"Freedom Benchrest 600 YARD MATCH #1"},null,null,null,null,{"$f":"'Competitor List'!$B$1","v":"Freedom Benchrest 600 YARD MATCH #1"}]
[{"$f":"'Competitor List'!$B$2","v":"Vapor Trail Valley Spickard, Mo"},null,null,null,null,{"$f":"'Competitor List'!$B$2","v":"Vapor Trail Valley Spickard, Mo"},null,null,null,null,{"$f":"'Competitor List'!$B$2","v":"Vapor Trail Valley Spickard, Mo"},null,null,null,null,{"$f":"'Competitor List'!$B$2","v":"Vapor Trail Valley Spickard, Mo"}]
[{"$f":"'Competitor List'!$B$3","v":"2023-03-15"},null,null,null,null,{"$f":"'Competitor List'!$B$3","v":"2023-03-15"},null,null,null,null,{"$f":"'Competitor List'!$B$3","v":"2023-03-15"},null,null,null,null,{"$f":"'Competitor List'!$B$3","v":"2023-03-15"}]
["HEAVY GUN",null,"Target #",null,1,"HEAVY GUN",null,"Target #",null,{"$f":"E484+1","v":2},"HEAVY GUN",null,"Target #",null,{"$f":"J484+1","v":3},"HEAVY GUN",null,"Target #",null,{"$f":"O484+1","v":4}]
["Competitor #",null,{"$f":"'Label data'!A63","v":501},null,null,"Competitor #",null,{"$f":"C485","v":501},null,null,"Competitor #",null,{"$f":"H485","v":501},null,null,"Competitor #",null,{"$f":"M485","v":501}]
[]
[null,null,null,"Frame #",{"$f":"'Label data'!G63","v":1},null,null,null,"Frame #",{"$f":"E487","v":1},null,null,null,"Frame #",{"$f":"'Label data'!H63","v":1},null,null,null,"Frame #",{"$f":"O487","v":1}]
[null,null,null,"Top/Left",null,null,null,null,"Bottom/Right",null,null,null,null,"Top/Left",null,null,null,null,"Bottom/Right"]
[{"$f":"'Competitor List'!$B$1","v":"Freedom Benchrest 600 YARD MATCH #1"},null,null,null,null,{"$f":"'Competitor List'!$B$1","v":"Freedom Benchrest 600 YARD MATCH #1"},null,null,null,null,{"$f":"'Competitor List'!$B$1","v":"Freedom Benchrest 600 YARD MATCH #1"},null,null,null,null,{"$f":"'Competitor List'!$B$1","v":"Freedom Benchrest 600 YARD MATCH #1"}]
[{"$f":"'Competitor List'!$B$2","v":"Vapor Trail Valley Spickard, Mo"},null,null,null,null,{"$f":"'Competitor List'!$B$2","v":"Vapor Trail Valley Spickard, Mo"},null,null,null,null,{"$f":"'Competitor List'!$B$2","v":"Vapor Trail Valley Spickard, Mo"},null,null,null,null,{"$f":"'Competitor List'!$B$2","v":"Vapor Trail Valley Spickard, Mo"}]
[{"$f":"'Competitor List'!$B$3","v":"2023-03-15"},null,null,null,null,{"$f":"'Competitor List'!$B$3","v":"2023-03-15"},null,null,null,null,{"$f":"'Competitor List'!$B$3","v":"2023-03-15"},null,null,null,null,{"$f":"'Competitor List'!$B$3","v":"2023-03-15"}]
["HEAVY GUN",null,"Target #",null,1,"HEAVY GUN",null,"Target #",null,{"$f":"E492+1","v":2},"HEAVY GUN",null,"Target #",null,{"$f":"J492+1","v":3},"HEAVY GUN",null,"Target #",null,{"$f":"O492+1","v":4}]
["Competitor #",null,{"$f":"'Label data'!A64","v":502},null,null,"Competitor #",null,{"$f":"C493","v":502},null,null,"Competitor #",null,{"$f":"H493","v":502},null,null,"Competitor #",null,{"$f":"M493","v":502}]
[]
[null,null,null,"Frame #",{"$f":"'Label data'!G64","v":2},null,null,null,"Frame #",{"$f":"E495","v":2},null,null,null,"Frame #",{"$f":"'Label data'!H64","v":2},null,null,null,"Frame #",{"$f":"O495","v":2}]
[null,null,null,"Top/Left",null,null,null,null,"Bottom/Right",null,null,null,null,"Top/Left",null,null,null,null,"Bottom/Right"]
[{"$f":"'Competitor List'!$B$1","v":"Freedom Benchrest 600 YARD MATCH #1"},null,null,null,null,{"$f":"'Competitor List'!$B$1","v":"Freedom Benchrest 600 YARD MATCH #1"},null,null,null,null,{"$f":"'Competitor List'!$B$1","v":"Freedom Benchrest 600 YARD MATCH #1"},null,null,null,null,{"$f":"'Competitor List'!$B$1","v":"Freedom Benchrest 600 YARD MATCH #1"}]
[{"$f":"'Competitor List'!$B$2","v":"Vapor Trail Valley Spickard, Mo"},null,null,null,null,{"$f":"'Competitor List'!$B$2","v":"Vapor Trail Valley Spickard, Mo"},null,null,null,null,{"$f":"'Competitor List'!$B$2","v":"Vapor Trail Valley Spickard, Mo"},null,null,null,null,{"$f":"'Competitor List'!$B$2","v":"Vapor Trail Valley Spickard, Mo"}]
[{"$f":"'Competitor List'!$B$3","v":"2023-03-15"},null,null,null,null,{"$f":"'Competitor List'!$B$3","v":"2023-03-15"},null,null,null,null,{"$f":"'Competitor List'!$B$3","v":"2023-03-15"},null,null,null,null,{"$f":"'Competitor List'!$B$3","v":"2023-03-15"}]
["HEAVY GUN",null,"Target #",null,1,"HEAVY GUN",null,"Target #",null,{"$f":"E500+1","v":2},"HEAVY GUN",null,"Target #",null,{"$f":"J500+1","v":3},"HEAVY GUN",null,"Target #",null,{"$f":"O500+1","v":4}]
["Competitor #",null,{"$f":"'Label data'!A65","v":503},null,null,"Competitor #",null,{"$f":"C501","v":503},null,null,"Competitor #",null,{"$f":"H501","v":503},null,null,"Competitor #",null,{"$f":"M501","v":503}]
[]
[null,null,null,"Frame #",{"$f":"'Label data'!G65","v":3},null,null,null,"Frame #",{"$f":"E503","v":3},null,null,null,"Frame #",{"$f":"'Label data'!H65","v":3},null,null,null,"Frame #",{"$f":"O503","v":3}]
[null,null,null,"Top/Left",null,null,null,null,"Bottom/Right",null,null,null,null,"Top/Left",null,null,null,null,"Bottom/Right"]
[{"$f":"'Competitor List'!$B$1","v":"Freedom Benchrest 600 YARD MATCH #1"},null,null,null,null,{"$f":"'Competitor List'!$B$1","v":"Freedom Benchrest 600 YARD MATCH #1"},null,null,null,null,{"$f":"'Competitor List'!$B$1","v":"Freedom Benchrest 600 YARD MATCH #1"},null,null,null,null,{"$f":"'Competitor List'!$B$1","v":"Freedom Benchrest 600 YARD MATCH #1"}]
[{"$f":"'Competitor List'!$B$2","v":"Vapor Trail Valley Spickard, Mo"},null,null,null,null,{"$f":"'Competitor List'!$B$2","v":"Vapor Trail Valley Spickard, Mo"},null,null,null,null,{"$f":"'Competitor List'!$B$2","v":"Vapor Trail Valley Spickard, Mo"},null,null,null,null,{"$f":"'Competitor List'!$B$2","v":"Vapor Trail Valley Spickard, Mo"}]
[{"$f":"'Competitor List'!$B$3","v":"2023-03-15"},null,null,null,null,{"$f":"'Competitor List'!$B$3","v":"2023-03-15"},null,null,null,null,{"$f":"'Competitor List'!$B$3","v":"2023-03-15"},null,null,null,null,{"$f":"'Competitor List'!$B$3","v":"2023-03-15"}]
["HEAVY GUN",null,"Target #",null,1,"HEAVY GUN",null,"Target #",null,{"$f":"E508+1","v":2},"HEAVY GUN",null,"Target #",null,{"$f":"J508+1","v":3},"HEAVY GUN",null,"Target #",null,{"$f":"O508+1","v":4}]
["Competitor #",null,{"$f":"'Label data'!A66","v":504},null,null,"Competitor #",null,{"$f":"C509","v":504},null,null,"Competitor #",null,{"$f":"H509","v":504},null,null,"Competitor #",null,{"$f":"M509","v":504}]
[]
[null,null,null,"Frame #",{"$f":"'Label data'!G66","v":4},null,null,null,"Frame #",{"$f":"E511","v":4},null,null,null,"Frame #",{"$f":"'Label data'!H66","v":4},null,null,null,"Frame #",{"$f":"O511","v":4}]
[null,null,null,"Top/Left",null,null,null,null,"Bottom/Right",null,null,null,null,"Top/Left",null,null,null,null,"Bottom/Right"]
[{"$f":"'Competitor List'!$B$1","v":"Freedom Benchrest 600 YARD MATCH #1"},null,null,null,null,{"$f":"'Competitor List'!$B$1","v":"Freedom Benchrest 600 YARD MATCH #1"},null,null,null,null,{"$f":"'Competitor List'!$B$1","v":"Freedom Benchrest 600 YARD MATCH #1"},null,null,null,null,{"$f":"'Competitor List'!$B$1","v":"Freedom Benchrest 600 YARD MATCH #1"}]
[{"$f":"'Competitor List'!$B$2","v":"Vapor Trail Valley Spickard, Mo"},null,null,null,null,{"$f":"'Competitor List'!$B$2","v":"Vapor Trail Valley Spickard, Mo"},null,null,null,null,{"$f":"'Competitor List'!$B$2","v":"Vapor Trail Valley Spickard, Mo"},null,null,null,null,{"$f":"'Competitor List'!$B$2","v":"Vapor Trail Valley Spickard, Mo"}]
[{"$f":"'Competitor List'!$B$3","v":"2023-03-15"},null,null,null,null,{"$f":"'Competitor List'!$B$3","v":"2023-03-15"},null,null,null,null,{"$f":"'Competitor List'!$B$3","v":"2023-03-15"},null,null,null,null,{"$f":"'Competitor List'!$B$3","v":"2023-03-15"}]
["HEAVY GUN",null,"Target #",null,1,"HEAVY GUN",null,"Target #",null,{"$f":"E516+1","v":2},"HEAVY GUN",null,"Target #",null,{"$f":"J516+1","v":3},"HEAVY GUN",null,"Target #",null,{"$f":"O516+1","v":4}]
["Competitor #",null,{"$f":"'Label data'!A67","v":505},null,null,"Competitor #",null,{"$f":"C517","v":505},null,null,"Competitor #",null,{"$f":"H517","v":505},null,null,"Competitor #",null,{"$f":"M517","v":505}]
[]
[null,null,null,"Frame #",{"$f":"'Label data'!G67","v":5},null,null,null,"Frame #",{"$f":"E519","v":5},null,null,null,"Frame #",{"$f":"'Label data'!H67","v":5},null,null,null,"Frame #",{"$f":"O519","v":5}]
[null,null,null,"Top/Left",null,null,null,null,"Bottom/Right",null,null,null,null,"Top/Left",null,null,null,null,"Bottom/Right"]
[{"$f":"'Competitor List'!$B$1","v":"Freedom Benchrest 600 YARD MATCH #1"},null,null,null,null,{"$f":"'Competitor List'!$B$1","v":"Freedom Benchrest 600 YARD MATCH #1"},null,null,null,null,{"$f":"'Competitor List'!$B$1","v":"Freedom Benchrest 600 YARD MATCH #1"},null,null,null,null,{"$f":"'Competitor List'!$B$1","v":"Freedom Benchrest 600 YARD MATCH #1"}]
[{"$f":"'Competitor List'!$B$2","v":"Vapor Trail Valley Spickard, Mo"},null,null,null,null,{"$f":"'Competitor List'!$B$2","v":"Vapor Trail Valley Spickard, Mo"},null,null,null,null,{"$f":"'Competitor List'!$B$2","v":"Vapor Trail Valley Spickard, Mo"},null,null,null,null,{"$f":"'Competitor List'!$B$2","v":"Vapor Trail Valley Spickard, Mo"}]
[{"$f":"'Competitor List'!$B$3","v":"2023-03-15"},null,null,null,null,{"$f":"'Competitor List'!$B$3","v":"2023-03-15"},null,null,null,null,{"$f":"'Competitor List'!$B$3","v":"2023-03-15"},null,null,null,null,{"$f":"'Competitor List'!$B$3","v":"2023-03-15"}]
["HEAVY GUN",null,"Target #",null,1,"HEAVY GUN",null,"Target #",null,{"$f":"E524+1","v":2},"HEAVY GUN",null,"Target #",null,{"$f":"J524+1","v":3},"HEAVY GUN",null,"Target #",null,{"$f":"O524+1","v":4}]
["Competitor #",null,{"$f":"'Label data'!A68","v":506},null,null,"Competitor #",null,{"$f":"C525","v":506},null,null,"Competitor #",null,{"$f":"H525","v":506},null,null,"Competitor #",null,{"$f":"M525","v":506}]
[]
[null,null,null,"Frame #",{"$f":"'Label data'!G68","v":6},null,null,null,"Frame #",{"$f":"E527","v":6},null,null,null,"Frame #",{"$f":"'Label data'!H68","v":6},null,null,null,"Frame #",{"$f":"O527","v":6}]
[null,null,null,"Top/Left",null,null,null,null,"Bottom/Right",null,null,null,null,"Top/Left",null,null,null,null,"Bottom/Right"]
[{"$f":"'Competitor List'!$B$1","v":"Freedom Benchrest 600 YARD MATCH #1"},null,null,null,null,{"$f":"'Competitor List'!$B$1","v":"Freedom Benchrest 600 YARD MATCH #1"},null,null,null,null,{"$f":"'Competitor List'!$B$1","v":"Freedom Benchrest 600 YARD MATCH #1"},null,null,null,null,{"$f":"'Competitor List'!$B$1","v":"Freedom Benchrest 600 YARD MATCH #1"}]
[{"$f":"'Competitor List'!$B$2","v":"Vapor Trail Valley Spickard, Mo"},null,null,null,null,{"$f":"'Competitor List'!$B$2","v":"Vapor Trail Valley Spickard, Mo"},null,null,null,null,{"$f":"'Competitor List'!$B$2","v":"Vapor Trail Valley Spickard, Mo"},null,null,null,null,{"$f":"'Competitor List'!$B$2","v":"Vapor Trail Valley Spickard, Mo"}]
[{"$f":"'Competitor List'!$B$3","v":"2023-03-15"},null,null,null,null,{"$f":"'Competitor List'!$B$3","v":"2023-03-15"},null,null,null,null,{"$f":"'Competitor List'!$B$3","v":"2023-03-15"},null,null,null,null,{"$f":"'Competitor List'!$B$3","v":"2023-03-15"}]
["HEAVY GUN",null,"Target #",null,1,"HEAVY GUN",null,"Target #",null,{"$f":"E532+1","v":2},"HEAVY GUN",null,"Target #",null,{"$f":"J532+1","v":3},"HEAVY GUN",null,"Target #",null,{"$f":"O532+1","v":4}]
["Competitor #",null,{"$f":"'Label data'!A69","v":507},null,null,"Competitor #",null,{"$f":"C533","v":507},null,null,"Competitor #",null,{"$f":"H533","v":507},null,null,"Competitor #",null,{"$f":"M533","v":507}]
[]
[null,null,null,"Frame #",{"$f":"'Label data'!G69","v":7},null,null,null,"Frame #",{"$f":"E535","v":7},null,null,null,"Frame #",{"$f":"'Label data'!H69","v":7},null,null,null,"Frame #",{"$f":"O535","v":7}]
[null,null,null,"Top/Left",null,null,null,null,"Bottom/Right",null,null,null,null,"Top/Left",null,null,null,null,"Bottom/Right"]
[{"$f":"'Competitor List'!$B$1","v":"Freedom Benchrest 600 YARD MATCH #1"},null,null,null,null,{"$f":"'Competitor List'!$B$1","v":"Freedom Benchrest 600 YARD MATCH #1"},null,null,null,null,{"$f":"'Competitor List'!$B$1","v":"Freedom Benchrest 600 YARD MATCH #1"},null,null,null,null,{"$f":"'Competitor List'!$B$1","v":"Freedom Benchrest 600 YARD MATCH #1"}]
[{"$f":"'Competitor List'!$B$2","v":"Vapor Trail Valley Spickard, Mo"},null,null,null,null,{"$f":"'Competitor List'!$B$2","v":"Vapor Trail Valley Spickard, Mo"},null,null,null,null,{"$f":"'Competitor List'!$B$2","v":"Vapor Trail Valley Spickard, Mo"},null,null,null,null,{"$f":"'Competitor List'!$B$2","v":"Vapor Trail Valley Spickard, Mo"}]
[{"$f":"'Competitor List'!$B$3","v":"2023-03-15"},null,null,null,null,{"$f":"'Competitor List'!$B$3","v":"2023-03-15"},null,null,null,null,{"$f":"'Competitor List'!$B$3","v":"2023-03-15"},null,null,null,null,{"$f":"'Competitor List'!$B$3","v":"2023-03-15"}]
["HEAVY GUN",null,"Target #",null,1,"HEAVY GUN",null,"Target #",null,{"$f":"E540+1","v":2},"HEAVY GUN",null,"Target #",null,{"$f":"J540+1","v":3},"HEAVY GUN",null,"Target #",null,{"$f":"O540+1","v":4}]
["Competitor #",null,{"$f":"'Label data'!A70","v":508},null,null,"Competitor #",null,{"$f":"C541","v":508},null,null,"Competitor #",null,{"$f":"H541","v":508},null,null,"Competitor #",null,{"$f":"M541","v":508}]
[]
[null,null,null,"Frame #",{"$f":"'Label data'!G70","v":8},null,null,null,"Frame #",{"$f":"E543","v":8},null,null,null,"Frame #",{"$f":"'Label data'!H70","v":8},null,null,null,"Frame #",{"$f":"O543","v":8}]
[null,null,null,"Top/Left",null,null,null,null,"Bottom/Right",null,null,null,null,"Top/Left",null,null,null,null,"Bottom/Right"]
[{"$f":"'Competitor List'!$B$1","v":"Freedom Benchrest 600 YARD MATCH #1"},null,null,null,null,{"$f":"'Competitor List'!$B$1","v":"Freedom Benchrest 600 YARD MATCH #1"},null,null,null,null,{"$f":"'Competitor List'!$B$1","v":"Freedom Benchrest 600 YARD MATCH #1"},null,null,null,null,{"$f":"'Competitor List'!$B$1","v":"Freedom Benchrest 600 YARD MATCH #1"}]
[{"$f":"'Competitor List'!$B$2","v":"Vapor Trail Valley Spickard, Mo"},null,null,null,null,{"$f":"'Competitor List'!$B$2","v":"Vapor Trail Valley Spickard, Mo"},null,null,null,null,{"$f":"'Competitor List'!$B$2","v":"Vapor Trail Valley Spickard, Mo"},null,null,null,null,{"$f":"'Competitor List'!$B$2","v":"Vapor Trail Valley Spickard, Mo"}]
[{"$f":"'Competitor List'!$B$3","v":"2023-03-15"},null,null,null,null,{"$f":"'Competitor List'!$B$3","v":"2023-03-15"},null,null,null,null,{"$f":"'Competitor List'!$B$3","v":"2023-03-15"},null,null,null,null,{"$f":"'Competitor List'!$B$3","v":"2023-03-15"}]
["HEAVY GUN",null,"Target #",null,1,"HEAVY GUN",null,"Target #",null,{"$f":"E548+1","v":2},"HEAVY GUN",null,"Target #",null,{"$f":"J548+1","v":3},"HEAVY GUN",null,"Target #",null,{"$f":"O548+1","v":4}]
["Competitor #",null,{"$f":"'Label data'!A71","v":509},null,null,"Competitor #",null,{"$f":"C549","v":509},null,null,"Competitor #",null,{"$f":"H549","v":509},null,null,"Competitor #",null,{"$f":"M549","v":509}]
[]
[null,null,null,"Frame #",{"$f":"'Label data'!G71","v":9},null,null,null,"Frame #",{"$f":"E551","v":9},null,null,null,"Frame #",{"$f":"'Label data'!H71","v":9},null,null,null,"Frame #",{"$f":"O551","v":9}]
[null,null,null,"Top/Left",null,null,null,null,"Bottom/Right",null,null,null,null,"Top/Left",null,null,null,null,"Bottom/Right"]
[{"$f":"'Competitor List'!$B$1","v":"Freedom Benchrest 600 YARD MATCH #1"},null,null,null,null,{"$f":"'Competitor List'!$B$1","v":"Freedom Benchrest 600 YARD MATCH #1"},null,null,null,null,{"$f":"'Competitor List'!$B$1","v":"Freedom Benchrest 600 YARD MATCH #1"},null,null,null,null,{"$f":"'Competitor List'!$B$1","v":"Freedom Benchrest 600 YARD MATCH #1"}]
[{"$f":"'Competitor List'!$B$2","v":"Vapor Trail Valley Spickard, Mo"},null,null,null,null,{"$f":"'Competitor List'!$B$2","v":"Vapor Trail Valley Spickard, Mo"},null,null,null,null,{"$f":"'Competitor List'!$B$2","v":"Vapor Trail Valley Spickard, Mo"},null,null,null,null,{"$f":"'Competitor List'!$B$2","v":"Vapor Trail Valley Spickard, Mo"}]
[{"$f":"'Competitor List'!$B$3","v":"2023-03-15"},null,null,null,null,{"$f":"'Competitor List'!$B$3","v":"2023-03-15"},null,null,null,null,{"$f":"'Competitor List'!$B$3","v":"2023-03-15"},null,null,null,null,{"$f":"'Competitor List'!$B$3","v":"2023-03-15"}]
["HEAVY GUN",null,"Target #",null,1,"HEAVY GUN",null,"Target #",null,{"$f":"E556+1","v":2},"HEAVY GUN",null,"Target #",null,{"$f":"J556+1","v":3},"HEAVY GUN",null,"Target #",null,{"$f":"O556+1","v":4}]
["Competitor #",null,{"$f":"'Label data'!A72","v":510},null,null,"Competitor #",null,{"$f":"C557","v":510},null,null,"Competitor #",null,{"$f":"H557","v":510},null,null,"Competitor #",null,{"$f":"M557","v":510}]
[]
[null,null,null,"Frame #",{"$f":"'Label data'!G72","v":10},null,null,null,"Frame #",{"$f":"E559","v":10},null,null,null,"Frame #",{"$f":"'Label data'!H72","v":10},null,null,null,"Frame #",{"$f":"O559","v":10}]
[null,null,null,"Top/Left",null,null,null,null,"Bottom/Right",null,null,null,null,"Top/Left",null,null,null,null,"Bottom/Right"]
[{"$f":"'Competitor List'!$B$1","v":"Freedom Benchrest 600 YARD MATCH #1"},null,null,null,null,{"$f":"'Competitor List'!$B$1","v":"Freedom Benchrest 600 YARD MATCH #1"},null,null,null,null,{"$f":"'Competitor List'!$B$1","v":"Freedom Benchrest 600 YARD MATCH #1"},null,null,null,null,{"$f":"'Competitor List'!$B$1","v":"Freedom Benchrest 600 YARD MATCH #1"}]
[{"$f":"'Competitor List'!$B$2","v":"Vapor Trail Valley Spickard, Mo"},null,null,null,null,{"$f":"'Competitor List'!$B$2","v":"Vapor Trail Valley Spickard, Mo"},null,null,null,null,{"$f":"'Competitor List'!$B$2","v":"Vapor Trail Valley Spickard, Mo"},null,null,null,null,{"$f":"'Competitor List'!$B$2","v":"Vapor Trail Valley Spickard, Mo"}]
[{"$f":"'Competitor List'!$B$3","v":"2023-03-15"},null,null,null,null,{"$f":"'Competitor List'!$B$3","v":"2023-03-15"},null,null,null,null,{"$f":"'Competitor List'!$B$3","v":"2023-03-15"},null,null,null,null,{"$f":"'Competitor List'!$B$3","v":"2023-03-15"}]
["HEAVY GUN",null,"Target #",null,1,"HEAVY GUN",null,"Target #",null,{"$f":"E564+1","v":2},"HEAVY GUN",null,"Target #",null,{"$f":"J564+1","v":3},"HEAVY GUN",null,"Target #",null,{"$f":"O564+1","v":4}]
["Competitor #",null,{"$f":"'Label data'!A73","v":511},null,null,"Competitor #",null,{"$f":"C565","v":511},null,null,"Competitor #",null,{"$f":"H565","v":511},null,null,"Competitor #",null,{"$f":"M565","v":511}]
[]
[null,null,null,"Frame #",{"$f":"'Label data'!G73","v":11},null,null,null,"Frame #",{"$f":"E567","v":11},null,null,null,"Frame #",{"$f":"'Label data'!H73","v":11},null,null,null,"Frame #",{"$f":"O567","v":11}]
[null,null,null,"Top/Left",null,null,null,null,"Bottom/Right",null,null,null,null,"Top/Left",null,null,null,null,"Bottom/Right"]
[{"$f":"'Competitor List'!$B$1","v":"Freedom Benchrest 600 YARD MATCH #1"},null,null,null,null,{"$f":"'Competitor List'!$B$1","v":"Freedom Benchrest 600 YARD MATCH #1"},null,null,null,null,{"$f":"'Competitor List'!$B$1","v":"Freedom Benchrest 600 YARD MATCH #1"},null,null,null,null,{"$f":"'Competitor List'!$B$1","v":"Freedom Benchrest 600 YARD MATCH #1"}]
[{"$f":"'Competitor List'!$B$2","v":"Vapor Trail Valley Spickard, Mo"},null,null,null,null,{"$f":"'Competitor List'!$B$2","v":"Vapor Trail Valley Spickard, Mo"},null,null,null,null,{"$f":"'Competitor List'!$B$2","v":"Vapor Trail Valley Spickard, Mo"},null,null,null,null,{"$f":"'Competitor List'!$B$2","v":"Vapor Trail Valley Spickard, Mo"}]
[{"$f":"'Competitor List'!$B$3","v":"2023-03-15"},null,null,null,null,{"$f":"'Competitor List'!$B$3","v":"2023-03-15"},null,null,null,null,{"$f":"'Competitor List'!$B$3","v":"2023-03-15"},null,null,null,null,{"$f":"'Competitor List'!$B$3","v":"2023-03-15"}]
["HEAVY GUN",null,"Target #",null,1,"HEAVY GUN",null,"Target #",null,{"$f":"E572+1","v":2},"HEAVY GUN",null,"Target #",null,{"$f":"J572+1","v":3},"HEAVY GUN",null,"Target #",null,{"$f":"O572+1","v":4}]
["Competitor #",null,{"$f":"'Label data'!A74","v":512},null,null,"Competitor #",null,{"$f":"C573","v":512},null,null,"Competitor #",null,{"$f":"H573","v":512},null,null,"Competitor #",null,{"$f":"M573","v":512}]
[]
[null,null,null,"Frame #",{"$f":"'Label data'!G74","v":12},null,null,null,"Frame #",{"$f":"E575","v":12},null,null,null,"Frame #",{"$f":"'Label data'!H74","v":12},null,null,null,"Frame #",{"$f":"O575","v":12}]
[null,null,null,"Top/Left",null,null,null,null,"Bottom/Right",null,null,null,null,"Top/Left",null,null,null,null,"Bottom/Right"]
[{"$f":"'Competitor List'!$B$1","v":"Freedom Benchrest 600 YARD MATCH #1"},null,null,null,null,{"$f":"'Competitor List'!$B$1","v":"Freedom Benchrest 600 YARD MATCH #1"},null,null,null,null,{"$f":"'Competitor List'!$B$1","v":"Freedom Benchrest 600 YARD MATCH #1"},null,null,null,null,{"$f":"'Competitor List'!$B$1","v":"Freedom Benchrest 600 YARD MATCH #1"}]
[{"$f":"'Competitor List'!$B$2","v":"Vapor Trail Valley Spickard, Mo"},null,null,null,null,{"$f":"'Competitor List'!$B$2","v":"Vapor Trail Valley Spickard, Mo"},null,null,null,null,{"$f":"'Competitor List'!$B$2","v":"Vapor Trail Valley Spickard, Mo"},null,null,null,null,{"$f":"'Competitor List'!$B$2","v":"Vapor Trail Valley Spickard, Mo"}]
[{"$f":"'Competitor List'!$B$3","v":"2023-03-15"},null,null,null,null,{"$f":"'Competitor List'!$B$3","v":"2023-03-15"},null,null,null,null,{"$f":"'Competitor List'!$B$3","v":"2023-03-15"},null,null,null,null,{"$f":"'Competitor List'!$B$3","v":"2023-03-15"}]
["HEAVY GUN",null,"Target #",null,1,"HEAVY GUN",null,"Target #",null,{"$f":"E580+1","v":2},"HEAVY GUN",null,"Target #",null,{"$f":"J580+1","v":3},"HEAVY GUN",null,"Target #",null,{"$f":"O580+1","v":4}]
["Competitor #",null,{"$f":"'Label data'!A75","v":513},null,null,"Competitor #",null,{"$f":"C581","v":513},null,null,"Competitor #",null,{"$f":"H581","v":513},null,null,"Competitor #",null,{"$f":"M581","v":513}]
[]
[null,null,null,"Frame #",{"$f":"'Label data'!G75","v":13},null,null,null,"Frame #",{"$f":"E583","v":13},null,null,null,"Frame #",{"$f":"'Label data'!H75","v":13},null,null,null,"Frame #",{"$f":"O583","v":13}]
[null,null,null,"Top/Left",null,null,null,null,"Bottom/Right",null,null,null,null,"Top/Left",null,null,null,null,"Bottom/Right"]
[{"$f":"'Competitor List'!$B$1","v":"Freedom Benchrest 600 YARD MATCH #1"},null,null,null,null,{"$f":"'Competitor List'!$B$1","v":"Freedom Benchrest 600 YARD MATCH #1"},null,null,null,null,{"$f":"'Competitor List'!$B$1","v":"Freedom Benchrest 600 YARD MATCH #1"},null,null,null,null,{"$f":"'Competitor List'!$B$1","v":"Freedom Benchrest 600 YARD MATCH #1"}]
[{"$f":"'Competitor List'!$B$2","v":"Vapor Trail Valley Spickard, Mo"},null,null,null,null,{"$f":"'Competitor List'!$B$2","v":"Vapor Trail Valley Spickard, Mo"},null,null,null,null,{"$f":"'Competitor List'!$B$2","v":"Vapor Trail Valley Spickard, Mo"},null,null,null,null,{"$f":"'Competitor List'!$B$2","v":"Vapor Trail Valley Spickard, Mo"}]
[{"$f":"'Competitor List'!$B$3","v":"2023-03-15"},null,null,null,null,{"$f":"'Competitor List'!$B$3","v":"2023-03-15"},null,null,null,null,{"$f":"'Competitor List'!$B$3","v":"2023-03-15"},null,null,null,null,{"$f":"'Competitor List'!$B$3","v":"2023-03-15"}]
["HEAVY GUN",null,"Target #",null,1,"HEAVY GUN",null,"Target #",null,{"$f":"E588+1","v":2},"HEAVY GUN",null,"Target #",null,{"$f":"J588+1","v":3},"HEAVY GUN",null,"Target #",null,{"$f":"O588+1","v":4}]
["Competitor #",null,{"$f":"'Label data'!A76","v":514},null,null,"Competitor #",null,{"$f":"C589","v":514},null,null,"Competitor #",null,{"$f":"H589","v":514},null,null,"Competitor #",null,{"$f":"M589","v":514}]
[]
[null,null,null,"Frame #",{"$f":"'Label data'!G76","v":14},null,null,null,"Frame #",{"$f":"E591","v":14},null,null,null,"Frame #",{"$f":"'Label data'!H76","v":14},null,null,null,"Frame #",{"$f":"O591","v":14}]
[null,null,null,"Top/Left",null,null,null,null,"Bottom/Right",null,null,null,null,"Top/Left",null,null,null,null,"Bottom/Right"]
[{"$f":"'Competitor List'!$B$1","v":"Freedom Benchrest 600 YARD MATCH #1"},null,null,null,null,{"$f":"'Competitor List'!$B$1","v":"Freedom Benchrest 600 YARD MATCH #1"},null,null,null,null,{"$f":"'Competitor List'!$B$1","v":"Freedom Benchrest 600 YARD MATCH #1"},null,null,null,null,{"$f":"'Competitor List'!$B$1","v":"Freedom Benchrest 600 YARD MATCH #1"}]
[{"$f":"'Competitor List'!$B$2","v":"Vapor Trail Valley Spickard, Mo"},null,null,null,null,{"$f":"'Competitor List'!$B$2","v":"Vapor Trail Valley Spickard, Mo"},null,null,null,null,{"$f":"'Competitor List'!$B$2","v":"Vapor Trail Valley Spickard, Mo"},null,null,null,null,{"$f":"'Competitor List'!$B$2","v":"Vapor Trail Valley Spickard, Mo"}]
[{"$f":"'Competitor List'!$B$3","v":"2023-03-15"},null,null,null,null,{"$f":"'Competitor List'!$B$3","v":"2023-03-15"},null,null,null,null,{"$f":"'Competitor List'!$B$3","v":"2023-03-15"},null,null,null,null,{"$f":"'Competitor List'!$B$3","v":"2023-03-15"}]
["HEAVY GUN",null,"Target #",null,1,"HEAVY GUN",null,"Target #",null,{"$f":"E596+1","v":2},"HEAVY GUN",null,"Target #",null,{"$f":"J596+1","v":3},"HEAVY GUN",null,"Target #",null,{"$f":"O596+1","v":4}]
["Competitor #",null,{"$f":"'Label data'!A77","v":515},null,null,"Competitor #",null,{"$f":"C597","v":515},null,null,"Competitor #",null,{"$f":"H597","v":515},null,null,"Competitor #",null,{"$f":"M597","v":515}]
[]
[null,null,null,"Frame #",{"$f":"'Label data'!G77","v":15},null,null,null,"Frame #",{"$f":"E599","v":15},null,null,null,"Frame #",{"$f":"'Label data'!H77","v":15},null,null,null,"Frame #",{"$f":"O599","v":15}]
[null,null,null,"Top/Left",null,null,null,null,"Bottom/Right",null,null,null,null,"Top/Left",null,null,null,null,"Bottom/Right"]
[{"$f":"'Competitor List'!$B$1","v":"Freedom Benchrest 600 YARD MATCH #1"},null,null,null,null,{"$f":"'Competitor List'!$B$1","v":"Freedom Benchrest 600 YARD MATCH #1"},null,null,null,null,{"$f":"'Competitor List'!$B$1","v":"Freedom Benchrest 600 YARD MATCH #1"},null,null,null,null,{"$f":"'Competitor List'!$B$1","v":"Freedom Benchrest 600 YARD MATCH #1"}]
[{"$f":"'Competitor List'!$B$2","v":"Vapor Trail Valley Spickard, Mo"},null,null,null,null,{"$f":"'Competitor List'!$B$2","v":"Vapor Trail Valley Spickard, Mo"},null,null,null,null,{"$f":"'Competitor List'!$B$2","v":"Vapor Trail Valley Spickard, Mo"},null,null,null,null,{"$f":"'Competitor List'!$B$2","v":"Vapor Trail Valley Spickard, Mo"}]
[{"$f":"'Competitor List'!$B$3","v":"2023-03-15"},null,null,null,null,{"$f":"'Competitor List'!$B$3","v":"2023-03-15"},null,null,null,null,{"$f":"'Competitor List'!$B$3","v":"2023-03-15"},null,null,null,null,{"$f":"'Competitor List'!$B$3","v":"2023-03-15"}]
["HEAVY GUN",null,"Target #",null,1,"HEAVY GUN",null,"Target #",null,{"$f":"E604+1","v":2},"HEAVY GUN",null,"Target #",null,{"$f":"J604+1","v":3},"HEAVY GUN",null,"Target #",null,{"$f":"O604+1","v":4}]
["Competitor #",null,{"$f":"'Label data'!A78","v":601},null,null,"Competitor #",null,{"$f":"C605","v":601},null,null,"Competitor #",null,{"$f":"H605","v":601},null,null,"Competitor #",null,{"$f":"M605","v":601}]
[]
[null,null,null,"Frame #",{"$f":"'Label data'!G78","v":1},null,null,null,"Frame #",{"$f":"E607","v":1},null,null,null,"Frame #",{"$f":"'Label data'!H78","v":1},null,null,null,"Frame #",{"$f":"O607","v":1}]
[null,null,null,"Top/Left",null,null,null,null,"Bottom/Right",null,null,null,null,"Top/Left",null,null,null,null,"Bottom/Right"]
[{"$f":"'Competitor List'!$B$1","v":"Freedom Benchrest 600 YARD MATCH #1"},null,null,null,null,{"$f":"'Competitor List'!$B$1","v":"Freedom Benchrest 600 YARD MATCH #1"},null,null,null,null,{"$f":"'Competitor List'!$B$1","v":"Freedom Benchrest 600 YARD MATCH #1"},null,null,null,null,{"$f":"'Competitor List'!$B$1","v":"Freedom Benchrest 600 YARD MATCH #1"}]
[{"$f":"'Competitor List'!$B$2","v":"Vapor Trail Valley Spickard, Mo"},null,null,null,null,{"$f":"'Competitor List'!$B$2","v":"Vapor Trail Valley Spickard, Mo"},null,null,null,null,{"$f":"'Competitor List'!$B$2","v":"Vapor Trail Valley Spickard, Mo"},null,null,null,null,{"$f":"'Competitor List'!$B$2","v":"Vapor Trail Valley Spickard, Mo"}]
[{"$f":"'Competitor List'!$B$3","v":"2023-03-15"},null,null,null,null,{"$f":"'Competitor List'!$B$3","v":"2023-03-15"},null,null,null,null,{"$f":"'Competitor List'!$B$3","v":"2023-03-15"},null,null,null,null,{"$f":"'Competitor List'!$B$3","v":"2023-03-15"}]
["HEAVY GUN",null,"Target #",null,1,"HEAVY GUN",null,"Target #",null,{"$f":"E612+1","v":2},"HEAVY GUN",null,"Target #",null,{"$f":"J612+1","v":3},"HEAVY GUN",null,"Target #",null,{"$f":"O612+1","v":4}]
["Competitor #",null,{"$f":"'Label data'!A79","v":602},null,null,"Competitor #",null,{"$f":"C613","v":602},null,null,"Competitor #",null,{"$f":"H613","v":602},null,null,"Competitor #",null,{"$f":"M613","v":602}]
[]
[null,null,null,"Frame #",{"$f":"'Label data'!G79","v":2},null,null,null,"Frame #",{"$f":"E615","v":2},null,null,null,"Frame #",{"$f":"'Label data'!H79","v":2},null,null,null,"Frame #",{"$f":"O615","v":2}]
[null,null,null,"Top/Left",null,null,null,null,"Bottom/Right",null,null,null,null,"Top/Left",null,null,null,null,"Bottom/Right"]
[{"$f":"'Competitor List'!$B$1","v":"Freedom Benchrest 600 YARD MATCH #1"},null,null,null,null,{"$f":"'Competitor List'!$B$1","v":"Freedom Benchrest 600 YARD MATCH #1"},null,null,null,null,{"$f":"'Competitor List'!$B$1","v":"Freedom Benchrest 600 YARD MATCH #1"},null,null,null,null,{"$f":"'Competitor List'!$B$1","v":"Freedom Benchrest 600 YARD MATCH #1"}]
[{"$f":"'Competitor List'!$B$2","v":"Vapor Trail Valley Spickard, Mo"},null,null,null,null,{"$f":"'Competitor List'!$B$2","v":"Vapor Trail Valley Spickard, Mo"},null,null,null,null,{"$f":"'Competitor List'!$B$2","v":"Vapor Trail Valley Spickard, Mo"},null,null,null,null,{"$f":"'Competitor List'!$B$2","v":"Vapor Trail Valley Spickard, Mo"}]
[{"$f":"'Competitor List'!$B$3","v":"2023-03-15"},null,null,null,null,{"$f":"'Competitor List'!$B$3","v":"2023-03-15"},null,null,null,null,{"$f":"'Competitor List'!$B$3","v":"2023-03-15"},null,null,null,null,{"$f":"'Competitor List'!$B$3","v":"2023-03-15"}]
["HEAVY GUN",null,"Target #",null,1,"HEAVY GUN",null,"Target #",null,{"$f":"E620+1","v":2},"HEAVY GUN",null,"Target #",null,{"$f":"J620+1","v":3},"HEAVY GUN",null,"Target #",null,{"$f":"O620+1","v":4}]
["Competitor #",null,{"$f":"'Label data'!A80","v":603},null,null,"Competitor #",null,{"$f":"C621","v":603},null,null,"Competitor #",null,{"$f":"H621","v":603},null,null,"Competitor #",null,{"$f":"M621","v":603}]
[]
[null,null,null,"Frame #",{"$f":"'Label data'!G80","v":3},null,null,null,"Frame #",{"$f":"E623","v":3},null,null,null,"Frame #",{"$f":"'Label data'!H80","v":3},null,null,null,"Frame #",{"$f":"O623","v":3}]
[null,null,null,"Top/Left",null,null,null,null,"Bottom/Right",null,null,null,null,"Top/Left",null,null,null,null,"Bottom/Right"]
[{"$f":"'Competitor List'!$B$1","v":"Freedom Benchrest 600 YARD MATCH #1"},null,null,null,null,{"$f":"'Competitor List'!$B$1","v":"Freedom Benchrest 600 YARD MATCH #1"},null,null,null,null,{"$f":"'Competitor List'!$B$1","v":"Freedom Benchrest 600 YARD MATCH #1"},null,null,null,null,{"$f":"'Competitor List'!$B$1","v":"Freedom Benchrest 600 YARD MATCH #1"}]
[{"$f":"'Competitor List'!$B$2","v":"Vapor Trail Valley Spickard, Mo"},null,null,null,null,{"$f":"'Competitor List'!$B$2","v":"Vapor Trail Valley Spickard, Mo"},null,null,null,null,{"$f":"'Competitor List'!$B$2","v":"Vapor Trail Valley Spickard, Mo"},null,null,null,null,{"$f":"'Competitor List'!$B$2","v":"Vapor Trail Valley Spickard, Mo"}]
[{"$f":"'Competitor List'!$B$3","v":"2023-03-15"},null,null,null,null,{"$f":"'Competitor List'!$B$3","v":"2023-03-15"},null,null,null,null,{"$f":"'Competitor List'!$B$3","v":"2023-03-15"},null,null,null,null,{"$f":"'Competitor List'!$B$3","v":"2023-03-15"}]
["HEAVY GUN",null,"Target #",null,1,"HEAVY GUN",null,"Target #",null,{"$f":"E628+1","v":2},"HEAVY GUN",null,"Target #",null,{"$f":"J628+1","v":3},"HEAVY GUN",null,"Target #",null,{"$f":"O628+1","v":4}]
["Competitor #",null,{"$f":"'Label data'!A81","v":604},null,null,"Competitor #",null,{"$f":"C629","v":604},null,null,"Competitor #",null,{"$f":"H629","v":604},null,null,"Competitor #",null,{"$f":"M629","v":604}]
[]
[null,null,null,"Frame #",{"$f":"'Label data'!G81","v":4},null,null,null,"Frame #",{"$f":"E631","v":4},null,null,null,"Frame #",{"$f":"'Label data'!H81","v":4},null,null,null,"Frame #",{"$f":"O631","v":4}]
[null,null,null,"Top/Left",null,null,null,null,"Bottom/Right",null,null,null,null,"Top/Left",null,null,null,null,"Bottom/Right"]
[{"$f":"'Competitor List'!$B$1","v":"Freedom Benchrest 600 YARD MATCH #1"},null,null,null,null,{"$f":"'Competitor List'!$B$1","v":"Freedom Benchrest 600 YARD MATCH #1"},null,null,null,null,{"$f":"'Competitor List'!$B$1","v":"Freedom Benchrest 600 YARD MATCH #1"},null,null,null,null,{"$f":"'Competitor List'!$B$1","v":"Freedom Benchrest 600 YARD MATCH #1"}]
[{"$f":"'Competitor List'!$B$2","v":"Vapor Trail Valley Spickard, Mo"},null,null,null,null,{"$f":"'Competitor List'!$B$2","v":"Vapor Trail Valley Spickard, Mo"},null,null,null,null,{"$f":"'Competitor List'!$B$2","v":"Vapor Trail Valley Spickard, Mo"},null,null,null,null,{"$f":"'Competitor List'!$B$2","v":"Vapor Trail Valley Spickard, Mo"}]
[{"$f":"'Competitor List'!$B$3","v":"2023-03-15"},null,null,null,null,{"$f":"'Competitor List'!$B$3","v":"2023-03-15"},null,null,null,null,{"$f":"'Competitor List'!$B$3","v":"2023-03-15"},null,null,null,null,{"$f":"'Competitor List'!$B$3","v":"2023-03-15"}]
["HEAVY GUN",null,"Target #",null,1,"HEAVY GUN",null,"Target #",null,{"$f":"E636+1","v":2},"HEAVY GUN",null,"Target #",null,{"$f":"J636+1","v":3},"HEAVY GUN",null,"Target #",null,{"$f":"O636+1","v":4}]
["Competitor #",null,{"$f":"'Label data'!A82","v":605},null,null,"Competitor #",null,{"$f":"C637","v":605},null,null,"Competitor #",null,{"$f":"H637","v":605},null,null,"Competitor #",null,{"$f":"M637","v":605}]
[]
[null,null,null,"Frame #",{"$f":"'Label data'!G82","v":5},null,null,null,"Frame #",{"$f":"E639","v":5},null,null,null,"Frame #",{"$f":"'Label data'!H82","v":5},null,null,null,"Frame #",{"$f":"O639","v":5}]
[null,null,null,"Top/Left",null,null,null,null,"Bottom/Right",null,null,null,null,"Top/Left",null,null,null,null,"Bottom/Right"]

{"sheet":"Label data","index":11,"n_rows":122,"n_cols":10,"rows_kept":122,"cut":false,"hidden":true,"merged":[]}
["#",null,"Relay","Bench","LG","LG","HG","HG","LG","HG"]
[null,null,null,null,"1-2","3-4","1-2","3-4"]
[{"$f":"'Bench Assignment'!G8","v":101},{"$f":"'Bench Assignment'!A8","v":""},{"$f":"'Competitor List'!P6","v":100},{"$f":"'Competitor List'!Q6","v":1},{"$f":"'Bench Assignment'!H8","v":1},{"$f":"'Bench Assignment'!I8","v":1},{"$f":"'Bench Assignment'!J8","v":1},{"$f":"'Bench Assignment'!K8","v":1},{"$f":"'Competitor List'!J6","v":0},{"$f":"'Competitor List'!K6","v":0}]
[{"$f":"'Bench Assignment'!G9","v":102},{"$f":"'Bench Assignment'!A9","v":""},{"$f":"'Competitor List'!P7","v":100},{"$f":"'Competitor List'!Q7","v":2},{"$f":"'Bench Assignment'!H9","v":2},{"$f":"'Bench Assignment'!I9","v":2},{"$f":"'Bench Assignment'!J9","v":2},{"$f":"'Bench Assignment'!K9","v":2},{"$f":"'Competitor List'!J7","v":0},{"$f":"'Competitor List'!K7","v":0}]
[{"$f":"'Bench Assignment'!G10","v":103},{"$f":"'Bench Assignment'!A10","v":""},{"$f":"'Competitor List'!P8","v":100},{"$f":"'Competitor List'!Q8","v":3},{"$f":"'Bench Assignment'!H10","v":3},{"$f":"'Bench Assignment'!I10","v":3},{"$f":"'Bench Assignment'!J10","v":3},{"$f":"'Bench Assignment'!K10","v":3},{"$f":"'Competitor List'!J8","v":0},{"$f":"'Competitor List'!K8","v":0}]
[{"$f":"'Bench Assignment'!G11","v":104},{"$f":"'Bench Assignment'!A11","v":""},{"$f":"'Competitor List'!P9","v":100},{"$f":"'Competitor List'!Q9","v":4},{"$f":"'Bench Assignment'!H11","v":4},{"$f":"'Bench Assignment'!I11","v":4},{"$f":"'Bench Assignment'!J11","v":4},{"$f":"'Bench Assignment'!K11","v":4},{"$f":"'Competitor List'!J9","v":0},{"$f":"'Competitor List'!K9","v":0}]
[{"$f":"'Bench Assignment'!G12","v":105},{"$f":"'Bench Assignment'!A12","v":""},{"$f":"'Competitor List'!P10","v":100},{"$f":"'Competitor List'!Q10","v":5},{"$f":"'Bench Assignment'!H12","v":5},{"$f":"'Bench Assignment'!I12","v":5},{"$f":"'Bench Assignment'!J12","v":5},{"$f":"'Bench Assignment'!K12","v":5},{"$f":"'Competitor List'!J10","v":0},{"$f":"'Competitor List'!K10","v":0}]
[{"$f":"'Bench Assignment'!G13","v":106},{"$f":"'Bench Assignment'!A13","v":""},{"$f":"'Competitor List'!P11","v":100},{"$f":"'Competitor List'!Q11","v":6},{"$f":"'Bench Assignment'!H13","v":6},{"$f":"'Bench Assignment'!I13","v":6},{"$f":"'Bench Assignment'!J13","v":6},{"$f":"'Bench Assignment'!K13","v":6},{"$f":"'Competitor List'!J11","v":0},{"$f":"'Competitor List'!K11","v":0}]
[{"$f":"'Bench Assignment'!G14","v":107},{"$f":"'Bench Assignment'!A14","v":""},{"$f":"'Competitor List'!P12","v":100},{"$f":"'Competitor List'!Q12","v":7},{"$f":"'Bench Assignment'!H14","v":7},{"$f":"'Bench Assignment'!I14","v":7},{"$f":"'Bench Assignment'!J14","v":7},{"$f":"'Bench Assignment'!K14","v":7},{"$f":"'Competitor List'!J12","v":0},{"$f":"'Competitor List'!K12","v":0}]
[{"$f":"'Bench Assignment'!G15","v":108},{"$f":"'Bench Assignment'!A15","v":""},{"$f":"'Competitor List'!P13","v":100},{"$f":"'Competitor List'!Q13","v":8},{"$f":"'Bench Assignment'!H15","v":8},{"$f":"'Bench Assignment'!I15","v":8},{"$f":"'Bench Assignment'!J15","v":8},{"$f":"'Bench Assignment'!K15","v":8},{"$f":"'Competitor List'!J13","v":0},{"$f":"'Competitor List'!K13","v":0}]
[{"$f":"'Bench Assignment'!G16","v":109},{"$f":"'Bench Assignment'!A16","v":""},{"$f":"'Competitor List'!P14","v":100},{"$f":"'Competitor List'!Q14","v":9},{"$f":"'Bench Assignment'!H16","v":9},{"$f":"'Bench Assignment'!I16","v":9},{"$f":"'Bench Assignment'!J16","v":9},{"$f":"'Bench Assignment'!K16","v":9},{"$f":"'Competitor List'!J14","v":0},{"$f":"'Competitor List'!K14","v":0}]
[{"$f":"'Bench Assignment'!G17","v":110},{"$f":"'Bench Assignment'!A17","v":""},{"$f":"'Competitor List'!P15","v":100},{"$f":"'Competitor List'!Q15","v":10},{"$f":"'Bench Assignment'!H17","v":10},{"$f":"'Bench Assignment'!I17","v":10},{"$f":"'Bench Assignment'!J17","v":10},{"$f":"'Bench Assignment'!K17","v":10},{"$f":"'Competitor List'!J15","v":0},{"$f":"'Competitor List'!K15","v":0}]
[{"$f":"'Bench Assignment'!G18","v":111},{"$f":"'Bench Assignment'!A18","v":""},{"$f":"'Competitor List'!P16","v":100},{"$f":"'Competitor List'!Q16","v":11},{"$f":"'Bench Assignment'!H18","v":11},{"$f":"'Bench Assignment'!I18","v":11},{"$f":"'Bench Assignment'!J18","v":11},{"$f":"'Bench Assignment'!K18","v":11},{"$f":"'Competitor List'!J16","v":0},{"$f":"'Competitor List'!K16","v":0}]
[{"$f":"'Bench Assignment'!G19","v":112},{"$f":"'Bench Assignment'!A19","v":""},{"$f":"'Competitor List'!P17","v":100},{"$f":"'Competitor List'!Q17","v":12},{"$f":"'Bench Assignment'!H19","v":12},{"$f":"'Bench Assignment'!I19","v":12},{"$f":"'Bench Assignment'!J19","v":12},{"$f":"'Bench Assignment'!K19","v":12},{"$f":"'Competitor List'!J17","v":0},{"$f":"'Competitor List'!K17","v":0}]
[{"$f":"'Bench Assignment'!G20","v":113},{"$f":"'Bench Assignment'!A20","v":""},{"$f":"'Competitor List'!P18","v":100},{"$f":"'Competitor List'!Q18","v":13},{"$f":"'Bench Assignment'!H20","v":13},{"$f":"'Bench Assignment'!I20","v":13},{"$f":"'Bench Assignment'!J20","v":13},{"$f":"'Bench Assignment'!K20","v":13},{"$f":"'Competitor List'!J18","v":0},{"$f":"'Competitor List'!K18","v":0}]
[{"$f":"'Bench Assignment'!G21","v":114},{"$f":"'Bench Assignment'!A21","v":""},{"$f":"'Competitor List'!P19","v":100},{"$f":"'Competitor List'!Q19","v":14},{"$f":"'Bench Assignment'!H21","v":14},{"$f":"'Bench Assignment'!I21","v":14},{"$f":"'Bench Assignment'!J21","v":14},{"$f":"'Bench Assignment'!K21","v":14},{"$f":"'Competitor List'!J19","v":0},{"$f":"'Competitor List'!K19","v":0}]
[{"$f":"'Bench Assignment'!G22","v":115},{"$f":"'Bench Assignment'!A22","v":""},{"$f":"'Competitor List'!P20","v":100},{"$f":"'Competitor List'!Q20","v":15},{"$f":"'Bench Assignment'!H22","v":15},{"$f":"'Bench Assignment'!I22","v":15},{"$f":"'Bench Assignment'!J22","v":15},{"$f":"'Bench Assignment'!K22","v":15},{"$f":"'Competitor List'!J20","v":0},{"$f":"'Competitor List'!K20","v":0}]
[{"$f":"'Bench Assignment'!G23","v":201},{"$f":"'Bench Assignment'!A23","v":""},{"$f":"'Competitor List'!P21","v":200},{"$f":"'Competitor List'!Q21","v":1},{"$f":"'Bench Assignment'!H23","v":1},{"$f":"'Bench Assignment'!I23","v":1},{"$f":"'Bench Assignment'!J23","v":1},{"$f":"'Bench Assignment'!K23","v":1},{"$f":"'Competitor List'!J21","v":0},{"$f":"'Competitor List'!K21","v":0}]
[{"$f":"'Bench Assignment'!G24","v":202},{"$f":"'Bench Assignment'!A24","v":""},{"$f":"'Competitor List'!P22","v":200},{"$f":"'Competitor List'!Q22","v":2},{"$f":"'Bench Assignment'!H24","v":2},{"$f":"'Bench Assignment'!I24","v":2},{"$f":"'Bench Assignment'!J24","v":2},{"$f":"'Bench Assignment'!K24","v":2},{"$f":"'Competitor List'!J22","v":0},{"$f":"'Competitor List'!K22","v":0}]
[{"$f":"'Bench Assignment'!G25","v":203},{"$f":"'Bench Assignment'!A25","v":""},{"$f":"'Competitor List'!P23","v":200},{"$f":"'Competitor List'!Q23","v":3},{"$f":"'Bench Assignment'!H25","v":3},{"$f":"'Bench Assignment'!I25","v":3},{"$f":"'Bench Assignment'!J25","v":3},{"$f":"'Bench Assignment'!K25","v":3},{"$f":"'Competitor List'!J23","v":0},{"$f":"'Competitor List'!K23","v":0}]
[{"$f":"'Bench Assignment'!G26","v":204},{"$f":"'Bench Assignment'!A26","v":""},{"$f":"'Competitor List'!P24","v":200},{"$f":"'Competitor List'!Q24","v":4},{"$f":"'Bench Assignment'!H26","v":4},{"$f":"'Bench Assignment'!I26","v":4},{"$f":"'Bench Assignment'!J26","v":4},{"$f":"'Bench Assignment'!K26","v":4},{"$f":"'Competitor List'!J24","v":0},{"$f":"'Competitor List'!K24","v":0}]
[{"$f":"'Bench Assignment'!G27","v":205},{"$f":"'Bench Assignment'!A27","v":""},{"$f":"'Competitor List'!P25","v":200},{"$f":"'Competitor List'!Q25","v":5},{"$f":"'Bench Assignment'!H27","v":5},{"$f":"'Bench Assignment'!I27","v":5},{"$f":"'Bench Assignment'!J27","v":5},{"$f":"'Bench Assignment'!K27","v":5},{"$f":"'Competitor List'!J25","v":0},{"$f":"'Competitor List'!K25","v":0}]
[{"$f":"'Bench Assignment'!G28","v":206},{"$f":"'Bench Assignment'!A28","v":""},{"$f":"'Competitor List'!P26","v":200},{"$f":"'Competitor List'!Q26","v":6},{"$f":"'Bench Assignment'!H28","v":6},{"$f":"'Bench Assignment'!I28","v":6},{"$f":"'Bench Assignment'!J28","v":6},{"$f":"'Bench Assignment'!K28","v":6},{"$f":"'Competitor List'!J26","v":0},{"$f":"'Competitor List'!K26","v":0}]
[{"$f":"'Bench Assignment'!G29","v":207},{"$f":"'Bench Assignment'!A29","v":""},{"$f":"'Competitor List'!P27","v":200},{"$f":"'Competitor List'!Q27","v":7},{"$f":"'Bench Assignment'!H29","v":7},{"$f":"'Bench Assignment'!I29","v":7},{"$f":"'Bench Assignment'!J29","v":7},{"$f":"'Bench Assignment'!K29","v":7},{"$f":"'Competitor List'!J27","v":0},{"$f":"'Competitor List'!K27","v":0}]
[{"$f":"'Bench Assignment'!G30","v":208},{"$f":"'Bench Assignment'!A30","v":""},{"$f":"'Competitor List'!P28","v":200},{"$f":"'Competitor List'!Q28","v":8},{"$f":"'Bench Assignment'!H30","v":8},{"$f":"'Bench Assignment'!I30","v":8},{"$f":"'Bench Assignment'!J30","v":8},{"$f":"'Bench Assignment'!K30","v":8},{"$f":"'Competitor List'!J28","v":0},{"$f":"'Competitor List'!K28","v":0}]
[{"$f":"'Bench Assignment'!G31","v":209},{"$f":"'Bench Assignment'!A31","v":""},{"$f":"'Competitor List'!P29","v":200},{"$f":"'Competitor List'!Q29","v":9},{"$f":"'Bench Assignment'!H31","v":9},{"$f":"'Bench Assignment'!I31","v":9},{"$f":"'Bench Assignment'!J31","v":9},{"$f":"'Bench Assignment'!K31","v":9},{"$f":"'Competitor List'!J29","v":0},{"$f":"'Competitor List'!K29","v":0}]
[{"$f":"'Bench Assignment'!G32","v":210},{"$f":"'Bench Assignment'!A32","v":""},{"$f":"'Competitor List'!P30","v":200},{"$f":"'Competitor List'!Q30","v":10},{"$f":"'Bench Assignment'!H32","v":10},{"$f":"'Bench Assignment'!I32","v":10},{"$f":"'Bench Assignment'!J32","v":10},{"$f":"'Bench Assignment'!K32","v":10},{"$f":"'Competitor List'!J30","v":0},{"$f":"'Competitor List'!K30","v":0}]
[{"$f":"'Bench Assignment'!G33","v":211},{"$f":"'Bench Assignment'!A33","v":""},{"$f":"'Competitor List'!P31","v":200},{"$f":"'Competitor List'!Q31","v":11},{"$f":"'Bench Assignment'!H33","v":11},{"$f":"'Bench Assignment'!I33","v":11},{"$f":"'Bench Assignment'!J33","v":11},{"$f":"'Bench Assignment'!K33","v":11},{"$f":"'Competitor List'!J31","v":0},{"$f":"'Competitor List'!K31","v":0}]
[{"$f":"'Bench Assignment'!G34","v":212},{"$f":"'Bench Assignment'!A34","v":""},{"$f":"'Competitor List'!P32","v":200},{"$f":"'Competitor List'!Q32","v":12},{"$f":"'Bench Assignment'!H34","v":12},{"$f":"'Bench Assignment'!I34","v":12},{"$f":"'Bench Assignment'!J34","v":12},{"$f":"'Bench Assignment'!K34","v":12},{"$f":"'Competitor List'!J32","v":0},{"$f":"'Competitor List'!K32","v":0}]
[{"$f":"'Bench Assignment'!G35","v":213},{"$f":"'Bench Assignment'!A35","v":""},{"$f":"'Competitor List'!P33","v":200},{"$f":"'Competitor List'!Q33","v":13},{"$f":"'Bench Assignment'!H35","v":13},{"$f":"'Bench Assignment'!I35","v":13},{"$f":"'Bench Assignment'!J35","v":13},{"$f":"'Bench Assignment'!K35","v":13},{"$f":"'Competitor List'!J33","v":0},{"$f":"'Competitor List'!K33","v":0}]
[{"$f":"'Bench Assignment'!G36","v":214},{"$f":"'Bench Assignment'!A36","v":""},{"$f":"'Competitor List'!P34","v":200},{"$f":"'Competitor List'!Q34","v":14},{"$f":"'Bench Assignment'!H36","v":14},{"$f":"'Bench Assignment'!I36","v":14},{"$f":"'Bench Assignment'!J36","v":14},{"$f":"'Bench Assignment'!K36","v":14},{"$f":"'Competitor List'!J34","v":0},{"$f":"'Competitor List'!K34","v":0}]
[{"$f":"'Bench Assignment'!G37","v":215},{"$f":"'Bench Assignment'!A37","v":""},{"$f":"'Competitor List'!P35","v":200},{"$f":"'Competitor List'!Q35","v":15},{"$f":"'Bench Assignment'!H37","v":15},{"$f":"'Bench Assignment'!I37","v":15},{"$f":"'Bench Assignment'!J37","v":15},{"$f":"'Bench Assignment'!K37","v":15},{"$f":"'Competitor List'!J35","v":0},{"$f":"'Competitor List'!K35","v":0}]
[{"$f":"'Bench Assignment'!G38","v":301},{"$f":"'Bench Assignment'!A38","v":""},{"$f":"'Competitor List'!P36","v":300},{"$f":"'Competitor List'!Q36","v":1},{"$f":"'Bench Assignment'!H38","v":1},{"$f":"'Bench Assignment'!I38","v":1},{"$f":"'Bench Assignment'!J38","v":1},{"$f":"'Bench Assignment'!K38","v":1},{"$f":"'Competitor List'!J36","v":0},{"$f":"'Competitor List'!K36","v":0}]
[{"$f":"'Bench Assignment'!G39","v":302},{"$f":"'Bench Assignment'!A39","v":""},{"$f":"'Competitor List'!P37","v":300},{"$f":"'Competitor List'!Q37","v":2},{"$f":"'Bench Assignment'!H39","v":2},{"$f":"'Bench Assignment'!I39","v":2},{"$f":"'Bench Assignment'!J39","v":2},{"$f":"'Bench Assignment'!K39","v":2},{"$f":"'Competitor List'!J37","v":0},{"$f":"'Competitor List'!K37","v":0}]
[{"$f":"'Bench Assignment'!G40","v":303},{"$f":"'Bench Assignment'!A40","v":""},{"$f":"'Competitor List'!P38","v":300},{"$f":"'Competitor List'!Q38","v":3},{"$f":"'Bench Assignment'!H40","v":3},{"$f":"'Bench Assignment'!I40","v":3},{"$f":"'Bench Assignment'!J40","v":3},{"$f":"'Bench Assignment'!K40","v":3},{"$f":"'Competitor List'!J38","v":0},{"$f":"'Competitor List'!K38","v":0}]
[{"$f":"'Bench Assignment'!G41","v":304},{"$f":"'Bench Assignment'!A41","v":""},{"$f":"'Competitor List'!P39","v":300},{"$f":"'Competitor List'!Q39","v":4},{"$f":"'Bench Assignment'!H41","v":4},{"$f":"'Bench Assignment'!I41","v":4},{"$f":"'Bench Assignment'!J41","v":4},{"$f":"'Bench Assignment'!K41","v":4},{"$f":"'Competitor List'!J39","v":0},{"$f":"'Competitor List'!K39","v":0}]
[{"$f":"'Bench Assignment'!G42","v":305},{"$f":"'Bench Assignment'!A42","v":""},{"$f":"'Competitor List'!P40","v":300},{"$f":"'Competitor List'!Q40","v":5},{"$f":"'Bench Assignment'!H42","v":5},{"$f":"'Bench Assignment'!I42","v":5},{"$f":"'Bench Assignment'!J42","v":5},{"$f":"'Bench Assignment'!K42","v":5},{"$f":"'Competitor List'!J40","v":0},{"$f":"'Competitor List'!K40","v":0}]
[{"$f":"'Bench Assignment'!G43","v":306},{"$f":"'Bench Assignment'!A43","v":""},{"$f":"'Competitor List'!P41","v":300},{"$f":"'Competitor List'!Q41","v":6},{"$f":"'Bench Assignment'!H43","v":6},{"$f":"'Bench Assignment'!I43","v":6},{"$f":"'Bench Assignment'!J43","v":6},{"$f":"'Bench Assignment'!K43","v":6},{"$f":"'Competitor List'!J41","v":0},{"$f":"'Competitor List'!K41","v":0}]
[{"$f":"'Bench Assignment'!G44","v":307},{"$f":"'Bench Assignment'!A44","v":""},{"$f":"'Competitor List'!P42","v":300},{"$f":"'Competitor List'!Q42","v":7},{"$f":"'Bench Assignment'!H44","v":7},{"$f":"'Bench Assignment'!I44","v":7},{"$f":"'Bench Assignment'!J44","v":7},{"$f":"'Bench Assignment'!K44","v":7},{"$f":"'Competitor List'!J42","v":0},{"$f":"'Competitor List'!K42","v":0}]
[{"$f":"'Bench Assignment'!G45","v":308},{"$f":"'Bench Assignment'!A45","v":""},{"$f":"'Competitor List'!P43","v":300},{"$f":"'Competitor List'!Q43","v":8},{"$f":"'Bench Assignment'!H45","v":8},{"$f":"'Bench Assignment'!I45","v":8},{"$f":"'Bench Assignment'!J45","v":8},{"$f":"'Bench Assignment'!K45","v":8},{"$f":"'Competitor List'!J43","v":0},{"$f":"'Competitor List'!K43","v":0}]
[{"$f":"'Bench Assignment'!G46","v":309},{"$f":"'Bench Assignment'!A46","v":""},{"$f":"'Competitor List'!P44","v":300},{"$f":"'Competitor List'!Q44","v":9},{"$f":"'Bench Assignment'!H46","v":9},{"$f":"'Bench Assignment'!I46","v":9},{"$f":"'Bench Assignment'!J46","v":9},{"$f":"'Bench Assignment'!K46","v":9},{"$f":"'Competitor List'!J44","v":0},{"$f":"'Competitor List'!K44","v":0}]
[{"$f":"'Bench Assignment'!G47","v":310},{"$f":"'Bench Assignment'!A47","v":""},{"$f":"'Competitor List'!P45","v":300},{"$f":"'Competitor List'!Q45","v":10},{"$f":"'Bench Assignment'!H47","v":10},{"$f":"'Bench Assignment'!I47","v":10},{"$f":"'Bench Assignment'!J47","v":10},{"$f":"'Bench Assignment'!K47","v":10},{"$f":"'Competitor List'!J45","v":0},{"$f":"'Competitor List'!K45","v":0}]
[{"$f":"'Bench Assignment'!G48","v":311},{"$f":"'Bench Assignment'!A48","v":""},{"$f":"'Competitor List'!P46","v":300},{"$f":"'Competitor List'!Q46","v":11},{"$f":"'Bench Assignment'!H48","v":11},{"$f":"'Bench Assignment'!I48","v":11},{"$f":"'Bench Assignment'!J48","v":11},{"$f":"'Bench Assignment'!K48","v":11},{"$f":"'Competitor List'!J46","v":0},{"$f":"'Competitor List'!K46","v":0}]
[{"$f":"'Bench Assignment'!G49","v":312},{"$f":"'Bench Assignment'!A49","v":""},{"$f":"'Competitor List'!P47","v":300},{"$f":"'Competitor List'!Q47","v":12},{"$f":"'Bench Assignment'!H49","v":12},{"$f":"'Bench Assignment'!I49","v":12},{"$f":"'Bench Assignment'!J49","v":12},{"$f":"'Bench Assignment'!K49","v":12},{"$f":"'Competitor List'!J47","v":0},{"$f":"'Competitor List'!K47","v":0}]
[{"$f":"'Bench Assignment'!G50","v":313},{"$f":"'Bench Assignment'!A50","v":""},{"$f":"'Competitor List'!P48","v":300},{"$f":"'Competitor List'!Q48","v":13},{"$f":"'Bench Assignment'!H50","v":13},{"$f":"'Bench Assignment'!I50","v":13},{"$f":"'Bench Assignment'!J50","v":13},{"$f":"'Bench Assignment'!K50","v":13},{"$f":"'Competitor List'!J48","v":0},{"$f":"'Competitor List'!K48","v":0}]
[{"$f":"'Bench Assignment'!G51","v":314},{"$f":"'Bench Assignment'!A51","v":""},{"$f":"'Competitor List'!P49","v":300},{"$f":"'Competitor List'!Q49","v":14},{"$f":"'Bench Assignment'!H51","v":14},{"$f":"'Bench Assignment'!I51","v":14},{"$f":"'Bench Assignment'!J51","v":14},{"$f":"'Bench Assignment'!K51","v":14},{"$f":"'Competitor List'!J49","v":0},{"$f":"'Competitor List'!K49","v":0}]
[{"$f":"'Bench Assignment'!G52","v":315},{"$f":"'Bench Assignment'!A52","v":""},{"$f":"'Competitor List'!P50","v":300},{"$f":"'Competitor List'!Q50","v":15},{"$f":"'Bench Assignment'!H52","v":15},{"$f":"'Bench Assignment'!I52","v":15},{"$f":"'Bench Assignment'!J52","v":15},{"$f":"'Bench Assignment'!K52","v":15},{"$f":"'Competitor List'!J50","v":0},{"$f":"'Competitor List'!K50","v":0}]
[{"$f":"'Bench Assignment'!G53","v":401},{"$f":"'Bench Assignment'!A53","v":""},{"$f":"'Competitor List'!P51","v":400},{"$f":"'Competitor List'!Q51","v":1},{"$f":"'Bench Assignment'!H53","v":1},{"$f":"'Bench Assignment'!I53","v":1},{"$f":"'Bench Assignment'!J53","v":1},{"$f":"'Bench Assignment'!K53","v":1},{"$f":"'Competitor List'!J51","v":0},{"$f":"'Competitor List'!K51","v":0}]
[{"$f":"'Bench Assignment'!G54","v":402},{"$f":"'Bench Assignment'!A54","v":""},{"$f":"'Competitor List'!P52","v":400},{"$f":"'Competitor List'!Q52","v":2},{"$f":"'Bench Assignment'!H54","v":2},{"$f":"'Bench Assignment'!I54","v":2},{"$f":"'Bench Assignment'!J54","v":2},{"$f":"'Bench Assignment'!K54","v":2},{"$f":"'Competitor List'!J52","v":0},{"$f":"'Competitor List'!K52","v":0}]
[{"$f":"'Bench Assignment'!G55","v":403},{"$f":"'Bench Assignment'!A55","v":""},{"$f":"'Competitor List'!P53","v":400},{"$f":"'Competitor List'!Q53","v":3},{"$f":"'Bench Assignment'!H55","v":3},{"$f":"'Bench Assignment'!I55","v":3},{"$f":"'Bench Assignment'!J55","v":3},{"$f":"'Bench Assignment'!K55","v":3},{"$f":"'Competitor List'!J53","v":0},{"$f":"'Competitor List'!K53","v":0}]
[{"$f":"'Bench Assignment'!G56","v":404},{"$f":"'Bench Assignment'!A56","v":""},{"$f":"'Competitor List'!P54","v":400},{"$f":"'Competitor List'!Q54","v":4},{"$f":"'Bench Assignment'!H56","v":4},{"$f":"'Bench Assignment'!I56","v":4},{"$f":"'Bench Assignment'!J56","v":4},{"$f":"'Bench Assignment'!K56","v":4},{"$f":"'Competitor List'!J54","v":0},{"$f":"'Competitor List'!K54","v":0}]
[{"$f":"'Bench Assignment'!G57","v":405},{"$f":"'Bench Assignment'!A57","v":""},{"$f":"'Competitor List'!P55","v":400},{"$f":"'Competitor List'!Q55","v":5},{"$f":"'Bench Assignment'!H57","v":5},{"$f":"'Bench Assignment'!I57","v":5},{"$f":"'Bench Assignment'!J57","v":5},{"$f":"'Bench Assignment'!K57","v":5},{"$f":"'Competitor List'!J55","v":0},{"$f":"'Competitor List'!K55","v":0}]
[{"$f":"'Bench Assignment'!G58","v":406},{"$f":"'Bench Assignment'!A58","v":""},{"$f":"'Competitor List'!P56","v":400},{"$f":"'Competitor List'!Q56","v":6},{"$f":"'Bench Assignment'!H58","v":6},{"$f":"'Bench Assignment'!I58","v":6},{"$f":"'Bench Assignment'!J58","v":6},{"$f":"'Bench Assignment'!K58","v":6},{"$f":"'Competitor List'!J56","v":0},{"$f":"'Competitor List'!K56","v":0}]
[{"$f":"'Bench Assignment'!G59","v":407},{"$f":"'Bench Assignment'!A59","v":""},{"$f":"'Competitor List'!P57","v":400},{"$f":"'Competitor List'!Q57","v":7},{"$f":"'Bench Assignment'!H59","v":7},{"$f":"'Bench Assignment'!I59","v":7},{"$f":"'Bench Assignment'!J59","v":7},{"$f":"'Bench Assignment'!K59","v":7},{"$f":"'Competitor List'!J57","v":0},{"$f":"'Competitor List'!K57","v":0}]
[{"$f":"'Bench Assignment'!G60","v":408},{"$f":"'Bench Assignment'!A60","v":""},{"$f":"'Competitor List'!P58","v":400},{"$f":"'Competitor List'!Q58","v":8},{"$f":"'Bench Assignment'!H60","v":8},{"$f":"'Bench Assignment'!I60","v":8},{"$f":"'Bench Assignment'!J60","v":8},{"$f":"'Bench Assignment'!K60","v":8},{"$f":"'Competitor List'!J58","v":0},{"$f":"'Competitor List'!K58","v":0}]
[{"$f":"'Bench Assignment'!G61","v":409},{"$f":"'Bench Assignment'!A61","v":""},{"$f":"'Competitor List'!P59","v":400},{"$f":"'Competitor List'!Q59","v":9},{"$f":"'Bench Assignment'!H61","v":9},{"$f":"'Bench Assignment'!I61","v":9},{"$f":"'Bench Assignment'!J61","v":9},{"$f":"'Bench Assignment'!K61","v":9},{"$f":"'Competitor List'!J59","v":0},{"$f":"'Competitor List'!K59","v":0}]
[{"$f":"'Bench Assignment'!G62","v":410},{"$f":"'Bench Assignment'!A62","v":""},{"$f":"'Competitor List'!P60","v":400},{"$f":"'Competitor List'!Q60","v":10},{"$f":"'Bench Assignment'!H62","v":10},{"$f":"'Bench Assignment'!I62","v":10},{"$f":"'Bench Assignment'!J62","v":10},{"$f":"'Bench Assignment'!K62","v":10},{"$f":"'Competitor List'!J60","v":0},{"$f":"'Competitor List'!K60","v":0}]
[{"$f":"'Bench Assignment'!G63","v":411},{"$f":"'Bench Assignment'!A63","v":""},{"$f":"'Competitor List'!P61","v":400},{"$f":"'Competitor List'!Q61","v":11},{"$f":"'Bench Assignment'!H63","v":11},{"$f":"'Bench Assignment'!I63","v":11},{"$f":"'Bench Assignment'!J63","v":11},{"$f":"'Bench Assignment'!K63","v":11},{"$f":"'Competitor List'!J61","v":0},{"$f":"'Competitor List'!K61","v":0}]
[{"$f":"'Bench Assignment'!G64","v":412},{"$f":"'Bench Assignment'!A64","v":""},{"$f":"'Competitor List'!P62","v":400},{"$f":"'Competitor List'!Q62","v":12},{"$f":"'Bench Assignment'!H64","v":12},{"$f":"'Bench Assignment'!I64","v":12},{"$f":"'Bench Assignment'!J64","v":12},{"$f":"'Bench Assignment'!K64","v":12},{"$f":"'Competitor List'!J62","v":0},{"$f":"'Competitor List'!K62","v":0}]
[{"$f":"'Bench Assignment'!G65","v":413},{"$f":"'Bench Assignment'!A65","v":""},{"$f":"'Competitor List'!P63","v":400},{"$f":"'Competitor List'!Q63","v":13},{"$f":"'Bench Assignment'!H65","v":13},{"$f":"'Bench Assignment'!I65","v":13},{"$f":"'Bench Assignment'!J65","v":13},{"$f":"'Bench Assignment'!K65","v":13},{"$f":"'Competitor List'!J63","v":0},{"$f":"'Competitor List'!K63","v":0}]
[{"$f":"'Bench Assignment'!G66","v":414},{"$f":"'Bench Assignment'!A66","v":""},{"$f":"'Competitor List'!P64","v":400},{"$f":"'Competitor List'!Q64","v":14},{"$f":"'Bench Assignment'!H66","v":14},{"$f":"'Bench Assignment'!I66","v":14},{"$f":"'Bench Assignment'!J66","v":14},{"$f":"'Bench Assignment'!K66","v":14},{"$f":"'Competitor List'!J64","v":0},{"$f":"'Competitor List'!K64","v":0}]
[{"$f":"'Bench Assignment'!G67","v":415},{"$f":"'Bench Assignment'!A67","v":""},{"$f":"'Competitor List'!P65","v":400},{"$f":"'Competitor List'!Q65","v":15},{"$f":"'Bench Assignment'!H67","v":15},{"$f":"'Bench Assignment'!I67","v":15},{"$f":"'Bench Assignment'!J67","v":15},{"$f":"'Bench Assignment'!K67","v":15},{"$f":"'Competitor List'!J65","v":0},{"$f":"'Competitor List'!K65","v":0}]
[{"$f":"'Bench Assignment'!G68","v":501},{"$f":"'Bench Assignment'!A68","v":""},{"$f":"'Competitor List'!P66","v":500},{"$f":"'Competitor List'!Q66","v":1},{"$f":"'Bench Assignment'!H68","v":1},{"$f":"'Bench Assignment'!I68","v":1},{"$f":"'Bench Assignment'!J68","v":1},{"$f":"'Bench Assignment'!K68","v":1},{"$f":"'Competitor List'!J66","v":0},{"$f":"'Competitor List'!K66","v":0}]
[{"$f":"'Bench Assignment'!G69","v":502},{"$f":"'Bench Assignment'!A69","v":""},{"$f":"'Competitor List'!P67","v":500},{"$f":"'Competitor List'!Q67","v":2},{"$f":"'Bench Assignment'!H69","v":2},{"$f":"'Bench Assignment'!I69","v":2},{"$f":"'Bench Assignment'!J69","v":2},{"$f":"'Bench Assignment'!K69","v":2},{"$f":"'Competitor List'!J67","v":0},{"$f":"'Competitor List'!K67","v":0}]
[{"$f":"'Bench Assignment'!G70","v":503},{"$f":"'Bench Assignment'!A70","v":""},{"$f":"'Competitor List'!P68","v":500},{"$f":"'Competitor List'!Q68","v":3},{"$f":"'Bench Assignment'!H70","v":3},{"$f":"'Bench Assignment'!I70","v":3},{"$f":"'Bench Assignment'!J70","v":3},{"$f":"'Bench Assignment'!K70","v":3},{"$f":"'Competitor List'!J68","v":0},{"$f":"'Competitor List'!K68","v":0}]
[{"$f":"'Bench Assignment'!G71","v":504},{"$f":"'Bench Assignment'!A71","v":""},{"$f":"'Competitor List'!P69","v":500},{"$f":"'Competitor List'!Q69","v":4},{"$f":"'Bench Assignment'!H71","v":4},{"$f":"'Bench Assignment'!I71","v":4},{"$f":"'Bench Assignment'!J71","v":4},{"$f":"'Bench Assignment'!K71","v":4},{"$f":"'Competitor List'!J69","v":0},{"$f":"'Competitor List'!K69","v":0}]
[{"$f":"'Bench Assignment'!G72","v":505},{"$f":"'Bench Assignment'!A72","v":""},{"$f":"'Competitor List'!P70","v":500},{"$f":"'Competitor List'!Q70","v":5},{"$f":"'Bench Assignment'!H72","v":5},{"$f":"'Bench Assignment'!I72","v":5},{"$f":"'Bench Assignment'!J72","v":5},{"$f":"'Bench Assignment'!K72","v":5},{"$f":"'Competitor List'!J70","v":0},{"$f":"'Competitor List'!K70","v":0}]
[{"$f":"'Bench Assignment'!G73","v":506},{"$f":"'Bench Assignment'!A73","v":""},{"$f":"'Competitor List'!P71","v":500},{"$f":"'Competitor List'!Q71","v":6},{"$f":"'Bench Assignment'!H73","v":6},{"$f":"'Bench Assignment'!I73","v":6},{"$f":"'Bench Assignment'!J73","v":6},{"$f":"'Bench Assignment'!K73","v":6},{"$f":"'Competitor List'!J71","v":0},{"$f":"'Competitor List'!K71","v":0}]
[{"$f":"'Bench Assignment'!G74","v":507},{"$f":"'Bench Assignment'!A74","v":""},{"$f":"'Competitor List'!P72","v":500},{"$f":"'Competitor List'!Q72","v":7},{"$f":"'Bench Assignment'!H74","v":7},{"$f":"'Bench Assignment'!I74","v":7},{"$f":"'Bench Assignment'!J74","v":7},{"$f":"'Bench Assignment'!K74","v":7},{"$f":"'Competitor List'!J72","v":0},{"$f":"'Competitor List'!K72","v":0}]
[{"$f":"'Bench Assignment'!G75","v":508},{"$f":"'Bench Assignment'!A75","v":""},{"$f":"'Competitor List'!P73","v":500},{"$f":"'Competitor List'!Q73","v":8},{"$f":"'Bench Assignment'!H75","v":8},{"$f":"'Bench Assignment'!I75","v":8},{"$f":"'Bench Assignment'!J75","v":8},{"$f":"'Bench Assignment'!K75","v":8},{"$f":"'Competitor List'!J73","v":0},{"$f":"'Competitor List'!K73","v":0}]
[{"$f":"'Bench Assignment'!G76","v":509},{"$f":"'Bench Assignment'!A76","v":""},{"$f":"'Competitor List'!P74","v":500},{"$f":"'Competitor List'!Q74","v":9},{"$f":"'Bench Assignment'!H76","v":9},{"$f":"'Bench Assignment'!I76","v":9},{"$f":"'Bench Assignment'!J76","v":9},{"$f":"'Bench Assignment'!K76","v":9},{"$f":"'Competitor List'!J74","v":0},{"$f":"'Competitor List'!K74","v":0}]
[{"$f":"'Bench Assignment'!G77","v":510},{"$f":"'Bench Assignment'!A77","v":""},{"$f":"'Competitor List'!P75","v":500},{"$f":"'Competitor List'!Q75","v":10},{"$f":"'Bench Assignment'!H77","v":10},{"$f":"'Bench Assignment'!I77","v":10},{"$f":"'Bench Assignment'!J77","v":10},{"$f":"'Bench Assignment'!K77","v":10},{"$f":"'Competitor List'!J75","v":0},{"$f":"'Competitor List'!K75","v":0}]
[{"$f":"'Bench Assignment'!G78","v":511},{"$f":"'Bench Assignment'!A78","v":""},{"$f":"'Competitor List'!P76","v":500},{"$f":"'Competitor List'!Q76","v":11},{"$f":"'Bench Assignment'!H78","v":11},{"$f":"'Bench Assignment'!I78","v":11},{"$f":"'Bench Assignment'!J78","v":11},{"$f":"'Bench Assignment'!K78","v":11},{"$f":"'Competitor List'!J76","v":0},{"$f":"'Competitor List'!K76","v":0}]
[{"$f":"'Bench Assignment'!G79","v":512},{"$f":"'Bench Assignment'!A79","v":""},{"$f":"'Competitor List'!P77","v":500},{"$f":"'Competitor List'!Q77","v":12},{"$f":"'Bench Assignment'!H79","v":12},{"$f":"'Bench Assignment'!I79","v":12},{"$f":"'Bench Assignment'!J79","v":12},{"$f":"'Bench Assignment'!K79","v":12},{"$f":"'Competitor List'!J77","v":0},{"$f":"'Competitor List'!K77","v":0}]
[{"$f":"'Bench Assignment'!G80","v":513},{"$f":"'Bench Assignment'!A80","v":""},{"$f":"'Competitor List'!P78","v":500},{"$f":"'Competitor List'!Q78","v":13},{"$f":"'Bench Assignment'!H80","v":13},{"$f":"'Bench Assignment'!I80","v":13},{"$f":"'Bench Assignment'!J80","v":13},{"$f":"'Bench Assignment'!K80","v":13},{"$f":"'Competitor List'!J78","v":0},{"$f":"'Competitor List'!K78","v":0}]
[{"$f":"'Bench Assignment'!G81","v":514},{"$f":"'Bench Assignment'!A81","v":""},{"$f":"'Competitor List'!P79","v":500},{"$f":"'Competitor List'!Q79","v":14},{"$f":"'Bench Assignment'!H81","v":14},{"$f":"'Bench Assignment'!I81","v":14},{"$f":"'Bench Assignment'!J81","v":14},{"$f":"'Bench Assignment'!K81","v":14},{"$f":"'Competitor List'!J79","v":0},{"$f":"'Competitor List'!K79","v":0}]
[{"$f":"'Bench Assignment'!G82","v":515},{"$f":"'Bench Assignment'!A82","v":""},{"$f":"'Competitor List'!P80","v":500},{"$f":"'Competitor List'!Q80","v":15},{"$f":"'Bench Assignment'!H82","v":15},{"$f":"'Bench Assignment'!I82","v":15},{"$f":"'Bench Assignment'!J82","v":15},{"$f":"'Bench Assignment'!K82","v":15},{"$f":"'Competitor List'!J80","v":0},{"$f":"'Competitor List'!K80","v":0}]
[{"$f":"'Bench Assignment'!G83","v":601},{"$f":"'Bench Assignment'!A83","v":""},{"$f":"'Competitor List'!P81","v":600},{"$f":"'Competitor List'!Q81","v":1},{"$f":"'Bench Assignment'!H83","v":1},{"$f":"'Bench Assignment'!I83","v":1},{"$f":"'Bench Assignment'!J83","v":1},{"$f":"'Bench Assignment'!K83","v":1},{"$f":"'Competitor List'!J81","v":0},{"$f":"'Competitor List'!K81","v":0}]
[{"$f":"'Bench Assignment'!G84","v":602},{"$f":"'Bench Assignment'!A84","v":""},{"$f":"'Competitor List'!P82","v":600},{"$f":"'Competitor List'!Q82","v":2},{"$f":"'Bench Assignment'!H84","v":2},{"$f":"'Bench Assignment'!I84","v":2},{"$f":"'Bench Assignment'!J84","v":2},{"$f":"'Bench Assignment'!K84","v":2},{"$f":"'Competitor List'!J82","v":0},{"$f":"'Competitor List'!K82","v":0}]
[{"$f":"'Bench Assignment'!G85","v":603},{"$f":"'Bench Assignment'!A85","v":""},{"$f":"'Competitor List'!P83","v":600},{"$f":"'Competitor List'!Q83","v":3},{"$f":"'Bench Assignment'!H85","v":3},{"$f":"'Bench Assignment'!I85","v":3},{"$f":"'Bench Assignment'!J85","v":3},{"$f":"'Bench Assignment'!K85","v":3},{"$f":"'Competitor List'!J83","v":0},{"$f":"'Competitor List'!K83","v":0}]
[{"$f":"'Bench Assignment'!G86","v":604},{"$f":"'Bench Assignment'!A86","v":""},{"$f":"'Competitor List'!P84","v":600},{"$f":"'Competitor List'!Q84","v":4},{"$f":"'Bench Assignment'!H86","v":4},{"$f":"'Bench Assignment'!I86","v":4},{"$f":"'Bench Assignment'!J86","v":4},{"$f":"'Bench Assignment'!K86","v":4},{"$f":"'Competitor List'!J84","v":0},{"$f":"'Competitor List'!K84","v":0}]
[{"$f":"'Bench Assignment'!G87","v":605},{"$f":"'Bench Assignment'!A87","v":""},{"$f":"'Competitor List'!P85","v":600},{"$f":"'Competitor List'!Q85","v":5},{"$f":"'Bench Assignment'!H87","v":5},{"$f":"'Bench Assignment'!I87","v":5},{"$f":"'Bench Assignment'!J87","v":5},{"$f":"'Bench Assignment'!K87","v":5},{"$f":"'Competitor List'!J85","v":0},{"$f":"'Competitor List'!K85","v":0}]
[{"$f":"'Bench Assignment'!G88","v":606},{"$f":"'Bench Assignment'!A88","v":""},{"$f":"'Competitor List'!P86","v":600},{"$f":"'Competitor List'!Q86","v":6},{"$f":"'Bench Assignment'!H88","v":6},{"$f":"'Bench Assignment'!I88","v":6},{"$f":"'Bench Assignment'!J88","v":6},{"$f":"'Bench Assignment'!K88","v":6},{"$f":"'Competitor List'!J86","v":0},{"$f":"'Competitor List'!K86","v":0}]
[{"$f":"'Bench Assignment'!G89","v":607},{"$f":"'Bench Assignment'!A89","v":""},{"$f":"'Competitor List'!P87","v":600},{"$f":"'Competitor List'!Q87","v":7},{"$f":"'Bench Assignment'!H89","v":7},{"$f":"'Bench Assignment'!I89","v":7},{"$f":"'Bench Assignment'!J89","v":7},{"$f":"'Bench Assignment'!K89","v":7},{"$f":"'Competitor List'!J87","v":0},{"$f":"'Competitor List'!K87","v":0}]
[{"$f":"'Bench Assignment'!G90","v":608},{"$f":"'Bench Assignment'!A90","v":""},{"$f":"'Competitor List'!P88","v":600},{"$f":"'Competitor List'!Q88","v":8},{"$f":"'Bench Assignment'!H90","v":8},{"$f":"'Bench Assignment'!I90","v":8},{"$f":"'Bench Assignment'!J90","v":8},{"$f":"'Bench Assignment'!K90","v":8},{"$f":"'Competitor List'!J88","v":0},{"$f":"'Competitor List'!K88","v":0}]
[{"$f":"'Bench Assignment'!G91","v":609},{"$f":"'Bench Assignment'!A91","v":""},{"$f":"'Competitor List'!P89","v":600},{"$f":"'Competitor List'!Q89","v":9},{"$f":"'Bench Assignment'!H91","v":9},{"$f":"'Bench Assignment'!I91","v":9},{"$f":"'Bench Assignment'!J91","v":9},{"$f":"'Bench Assignment'!K91","v":9},{"$f":"'Competitor List'!J89","v":0},{"$f":"'Competitor List'!K89","v":0}]
[{"$f":"'Bench Assignment'!G92","v":610},{"$f":"'Bench Assignment'!A92","v":""},{"$f":"'Competitor List'!P90","v":600},{"$f":"'Competitor List'!Q90","v":10},{"$f":"'Bench Assignment'!H92","v":10},{"$f":"'Bench Assignment'!I92","v":10},{"$f":"'Bench Assignment'!J92","v":10},{"$f":"'Bench Assignment'!K92","v":10},{"$f":"'Competitor List'!J90","v":0},{"$f":"'Competitor List'!K90","v":0}]
[{"$f":"'Bench Assignment'!G93","v":611},{"$f":"'Bench Assignment'!A93","v":""},{"$f":"'Competitor List'!P91","v":600},{"$f":"'Competitor List'!Q91","v":11},{"$f":"'Bench Assignment'!H93","v":11},{"$f":"'Bench Assignment'!I93","v":11},{"$f":"'Bench Assignment'!J93","v":11},{"$f":"'Bench Assignment'!K93","v":11},{"$f":"'Competitor List'!J91","v":0},{"$f":"'Competitor List'!K91","v":0}]
[{"$f":"'Bench Assignment'!G94","v":612},{"$f":"'Bench Assignment'!A94","v":""},{"$f":"'Competitor List'!P92","v":600},{"$f":"'Competitor List'!Q92","v":12},{"$f":"'Bench Assignment'!H94","v":12},{"$f":"'Bench Assignment'!I94","v":12},{"$f":"'Bench Assignment'!J94","v":12},{"$f":"'Bench Assignment'!K94","v":12},{"$f":"'Competitor List'!J92","v":0},{"$f":"'Competitor List'!K92","v":0}]
[{"$f":"'Bench Assignment'!G95","v":613},{"$f":"'Bench Assignment'!A95","v":""},{"$f":"'Competitor List'!P93","v":600},{"$f":"'Competitor List'!Q93","v":13},{"$f":"'Bench Assignment'!H95","v":13},{"$f":"'Bench Assignment'!I95","v":13},{"$f":"'Bench Assignment'!J95","v":13},{"$f":"'Bench Assignment'!K95","v":13},{"$f":"'Competitor List'!J93","v":0},{"$f":"'Competitor List'!K93","v":0}]
[{"$f":"'Bench Assignment'!G96","v":614},{"$f":"'Bench Assignment'!A96","v":""},{"$f":"'Competitor List'!P94","v":600},{"$f":"'Competitor List'!Q94","v":14},{"$f":"'Bench Assignment'!H96","v":14},{"$f":"'Bench Assignment'!I96","v":14},{"$f":"'Bench Assignment'!J96","v":14},{"$f":"'Bench Assignment'!K96","v":14},{"$f":"'Competitor List'!J94","v":0},{"$f":"'Competitor List'!K94","v":0}]
[{"$f":"'Bench Assignment'!G97","v":615},{"$f":"'Bench Assignment'!A97","v":""},{"$f":"'Competitor List'!P95","v":600},{"$f":"'Competitor List'!Q95","v":15},{"$f":"'Bench Assignment'!H97","v":15},{"$f":"'Bench Assignment'!I97","v":15},{"$f":"'Bench Assignment'!J97","v":15},{"$f":"'Bench Assignment'!K97","v":15},{"$f":"'Competitor List'!J95","v":0},{"$f":"'Competitor List'!K95","v":0}]
[{"$f":"'Bench Assignment'!G98","v":701},{"$f":"'Bench Assignment'!A98","v":""},{"$f":"'Competitor List'!P96","v":700},{"$f":"'Competitor List'!Q96","v":1},{"$f":"'Bench Assignment'!H98","v":1},{"$f":"'Bench Assignment'!I98","v":1},{"$f":"'Bench Assignment'!J98","v":1},{"$f":"'Bench Assignment'!K98","v":1},{"$f":"'Competitor List'!J96","v":0},{"$f":"'Competitor List'!K96","v":0}]
[{"$f":"'Bench Assignment'!G99","v":702},{"$f":"'Bench Assignment'!A99","v":""},{"$f":"'Competitor List'!P97","v":700},{"$f":"'Competitor List'!Q97","v":2},{"$f":"'Bench Assignment'!H99","v":2},{"$f":"'Bench Assignment'!I99","v":2},{"$f":"'Bench Assignment'!J99","v":2},{"$f":"'Bench Assignment'!K99","v":2},{"$f":"'Competitor List'!J97","v":0},{"$f":"'Competitor List'!K97","v":0}]
[{"$f":"'Bench Assignment'!G100","v":703},{"$f":"'Bench Assignment'!A100","v":""},{"$f":"'Competitor List'!P98","v":700},{"$f":"'Competitor List'!Q98","v":3},{"$f":"'Bench Assignment'!H100","v":3},{"$f":"'Bench Assignment'!I100","v":3},{"$f":"'Bench Assignment'!J100","v":3},{"$f":"'Bench Assignment'!K100","v":3},{"$f":"'Competitor List'!J98","v":0},{"$f":"'Competitor List'!K98","v":0}]
[{"$f":"'Bench Assignment'!G101","v":704},{"$f":"'Bench Assignment'!A101","v":""},{"$f":"'Competitor List'!P99","v":700},{"$f":"'Competitor List'!Q99","v":4},{"$f":"'Bench Assignment'!H101","v":4},{"$f":"'Bench Assignment'!I101","v":4},{"$f":"'Bench Assignment'!J101","v":4},{"$f":"'Bench Assignment'!K101","v":4},{"$f":"'Competitor List'!J99","v":0},{"$f":"'Competitor List'!K99","v":0}]
[{"$f":"'Bench Assignment'!G102","v":705},{"$f":"'Bench Assignment'!A102","v":""},{"$f":"'Competitor List'!P100","v":700},{"$f":"'Competitor List'!Q100","v":5},{"$f":"'Bench Assignment'!H102","v":5},{"$f":"'Bench Assignment'!I102","v":5},{"$f":"'Bench Assignment'!J102","v":5},{"$f":"'Bench Assignment'!K102","v":5},{"$f":"'Competitor List'!J100","v":0},{"$f":"'Competitor List'!K100","v":0}]
[{"$f":"'Bench Assignment'!G103","v":706},{"$f":"'Bench Assignment'!A103","v":""},{"$f":"'Competitor List'!P101","v":700},{"$f":"'Competitor List'!Q101","v":6},{"$f":"'Bench Assignment'!H103","v":6},{"$f":"'Bench Assignment'!I103","v":6},{"$f":"'Bench Assignment'!J103","v":6},{"$f":"'Bench Assignment'!K103","v":6},{"$f":"'Competitor List'!J101","v":0},{"$f":"'Competitor List'!K101","v":0}]
[{"$f":"'Bench Assignment'!G104","v":707},{"$f":"'Bench Assignment'!A104","v":""},{"$f":"'Competitor List'!P102","v":700},{"$f":"'Competitor List'!Q102","v":7},{"$f":"'Bench Assignment'!H104","v":7},{"$f":"'Bench Assignment'!I104","v":7},{"$f":"'Bench Assignment'!J104","v":7},{"$f":"'Bench Assignment'!K104","v":7},{"$f":"'Competitor List'!J102","v":0},{"$f":"'Competitor List'!K102","v":0}]
[{"$f":"'Bench Assignment'!G105","v":708},{"$f":"'Bench Assignment'!A105","v":""},{"$f":"'Competitor List'!P103","v":700},{"$f":"'Competitor List'!Q103","v":8},{"$f":"'Bench Assignment'!H105","v":8},{"$f":"'Bench Assignment'!I105","v":8},{"$f":"'Bench Assignment'!J105","v":8},{"$f":"'Bench Assignment'!K105","v":8},{"$f":"'Competitor List'!J103","v":0},{"$f":"'Competitor List'!K103","v":0}]
[{"$f":"'Bench Assignment'!G106","v":709},{"$f":"'Bench Assignment'!A106","v":""},{"$f":"'Competitor List'!P104","v":700},{"$f":"'Competitor List'!Q104","v":9},{"$f":"'Bench Assignment'!H106","v":9},{"$f":"'Bench Assignment'!I106","v":9},{"$f":"'Bench Assignment'!J106","v":9},{"$f":"'Bench Assignment'!K106","v":9},{"$f":"'Competitor List'!J104","v":0},{"$f":"'Competitor List'!K104","v":0}]
[{"$f":"'Bench Assignment'!G107","v":710},{"$f":"'Bench Assignment'!A107","v":""},{"$f":"'Competitor List'!P105","v":700},{"$f":"'Competitor List'!Q105","v":10},{"$f":"'Bench Assignment'!H107","v":10},{"$f":"'Bench Assignment'!I107","v":10},{"$f":"'Bench Assignment'!J107","v":10},{"$f":"'Bench Assignment'!K107","v":10},{"$f":"'Competitor List'!J105","v":0},{"$f":"'Competitor List'!K105","v":0}]
[{"$f":"'Bench Assignment'!G108","v":711},{"$f":"'Bench Assignment'!A108","v":""},{"$f":"'Competitor List'!P106","v":700},{"$f":"'Competitor List'!Q106","v":11},{"$f":"'Bench Assignment'!H108","v":11},{"$f":"'Bench Assignment'!I108","v":11},{"$f":"'Bench Assignment'!J108","v":11},{"$f":"'Bench Assignment'!K108","v":11},{"$f":"'Competitor List'!J106","v":0},{"$f":"'Competitor List'!K106","v":0}]
[{"$f":"'Bench Assignment'!G109","v":712},{"$f":"'Bench Assignment'!A109","v":""},{"$f":"'Competitor List'!P107","v":700},{"$f":"'Competitor List'!Q107","v":12},{"$f":"'Bench Assignment'!H109","v":12},{"$f":"'Bench Assignment'!I109","v":12},{"$f":"'Bench Assignment'!J109","v":12},{"$f":"'Bench Assignment'!K109","v":12},{"$f":"'Competitor List'!J107","v":0},{"$f":"'Competitor List'!K107","v":0}]
[{"$f":"'Bench Assignment'!G110","v":713},{"$f":"'Bench Assignment'!A110","v":""},{"$f":"'Competitor List'!P108","v":700},{"$f":"'Competitor List'!Q108","v":13},{"$f":"'Bench Assignment'!H110","v":13},{"$f":"'Bench Assignment'!I110","v":13},{"$f":"'Bench Assignment'!J110","v":13},{"$f":"'Bench Assignment'!K110","v":13},{"$f":"'Competitor List'!J108","v":0},{"$f":"'Competitor List'!K108","v":0}]
[{"$f":"'Bench Assignment'!G111","v":714},{"$f":"'Bench Assignment'!A111","v":""},{"$f":"'Competitor List'!P109","v":700},{"$f":"'Competitor List'!Q109","v":14},{"$f":"'Bench Assignment'!H111","v":14},{"$f":"'Bench Assignment'!I111","v":14},{"$f":"'Bench Assignment'!J111","v":14},{"$f":"'Bench Assignment'!K111","v":14},{"$f":"'Competitor List'!J109","v":0},{"$f":"'Competitor List'!K109","v":0}]
[{"$f":"'Bench Assignment'!G112","v":715},{"$f":"'Bench Assignment'!A112","v":""},{"$f":"'Competitor List'!P110","v":700},{"$f":"'Competitor List'!Q110","v":15},{"$f":"'Bench Assignment'!H112","v":15},{"$f":"'Bench Assignment'!I112","v":15},{"$f":"'Bench Assignment'!J112","v":15},{"$f":"'Bench Assignment'!K112","v":15},{"$f":"'Competitor List'!J110","v":0},{"$f":"'Competitor List'!K110","v":0}]
[{"$f":"'Bench Assignment'!G113","v":801},{"$f":"'Bench Assignment'!A113","v":""},{"$f":"'Competitor List'!P111","v":800},{"$f":"'Competitor List'!Q111","v":1},{"$f":"'Bench Assignment'!H113","v":1},{"$f":"'Bench Assignment'!I113","v":1},{"$f":"'Bench Assignment'!J113","v":1},{"$f":"'Bench Assignment'!K113","v":1},{"$f":"'Competitor List'!J111","v":0},{"$f":"'Competitor List'!K111","v":0}]
[{"$f":"'Bench Assignment'!G114","v":802},{"$f":"'Bench Assignment'!A114","v":""},{"$f":"'Competitor List'!P112","v":800},{"$f":"'Competitor List'!Q112","v":2},{"$f":"'Bench Assignment'!H114","v":2},{"$f":"'Bench Assignment'!I114","v":2},{"$f":"'Bench Assignment'!J114","v":2},{"$f":"'Bench Assignment'!K114","v":2},{"$f":"'Competitor List'!J112","v":0},{"$f":"'Competitor List'!K112","v":0}]
[{"$f":"'Bench Assignment'!G115","v":803},{"$f":"'Bench Assignment'!A115","v":""},{"$f":"'Competitor List'!P113","v":800},{"$f":"'Competitor List'!Q113","v":3},{"$f":"'Bench Assignment'!H115","v":3},{"$f":"'Bench Assignment'!I115","v":3},{"$f":"'Bench Assignment'!J115","v":3},{"$f":"'Bench Assignment'!K115","v":3},{"$f":"'Competitor List'!J113","v":0},{"$f":"'Competitor List'!K113","v":0}]
[{"$f":"'Bench Assignment'!G116","v":804},{"$f":"'Bench Assignment'!A116","v":""},{"$f":"'Competitor List'!P114","v":800},{"$f":"'Competitor List'!Q114","v":4},{"$f":"'Bench Assignment'!H116","v":4},{"$f":"'Bench Assignment'!I116","v":4},{"$f":"'Bench Assignment'!J116","v":4},{"$f":"'Bench Assignment'!K116","v":4},{"$f":"'Competitor List'!J114","v":0},{"$f":"'Competitor List'!K114","v":0}]
[{"$f":"'Bench Assignment'!G117","v":805},{"$f":"'Bench Assignment'!A117","v":""},{"$f":"'Competitor List'!P115","v":800},{"$f":"'Competitor List'!Q115","v":5},{"$f":"'Bench Assignment'!H117","v":5},{"$f":"'Bench Assignment'!I117","v":5},{"$f":"'Bench Assignment'!J117","v":5},{"$f":"'Bench Assignment'!K117","v":5},{"$f":"'Competitor List'!J115","v":0},{"$f":"'Competitor List'!K115","v":0}]
[{"$f":"'Bench Assignment'!G118","v":806},{"$f":"'Bench Assignment'!A118","v":""},{"$f":"'Competitor List'!P116","v":800},{"$f":"'Competitor List'!Q116","v":6},{"$f":"'Bench Assignment'!H118","v":6},{"$f":"'Bench Assignment'!I118","v":6},{"$f":"'Bench Assignment'!J118","v":6},{"$f":"'Bench Assignment'!K118","v":6},{"$f":"'Competitor List'!J116","v":0},{"$f":"'Competitor List'!K116","v":0}]
[{"$f":"'Bench Assignment'!G119","v":807},{"$f":"'Bench Assignment'!A119","v":""},{"$f":"'Competitor List'!P117","v":800},{"$f":"'Competitor List'!Q117","v":7},{"$f":"'Bench Assignment'!H119","v":7},{"$f":"'Bench Assignment'!I119","v":7},{"$f":"'Bench Assignment'!J119","v":7},{"$f":"'Bench Assignment'!K119","v":7},{"$f":"'Competitor List'!J117","v":0},{"$f":"'Competitor List'!K117","v":0}]
[{"$f":"'Bench Assignment'!G120","v":808},{"$f":"'Bench Assignment'!A120","v":""},{"$f":"'Competitor List'!P118","v":800},{"$f":"'Competitor List'!Q118","v":8},{"$f":"'Bench Assignment'!H120","v":8},{"$f":"'Bench Assignment'!I120","v":8},{"$f":"'Bench Assignment'!J120","v":8},{"$f":"'Bench Assignment'!K120","v":8},{"$f":"'Competitor List'!J118","v":0},{"$f":"'Competitor List'!K118","v":0}]
[{"$f":"'Bench Assignment'!G121","v":809},{"$f":"'Bench Assignment'!A121","v":""},{"$f":"'Competitor List'!P119","v":800},{"$f":"'Competitor List'!Q119","v":9},{"$f":"'Bench Assignment'!H121","v":9},{"$f":"'Bench Assignment'!I121","v":9},{"$f":"'Bench Assignment'!J121","v":9},{"$f":"'Bench Assignment'!K121","v":9},{"$f":"'Competitor List'!J119","v":0},{"$f":"'Competitor List'!K119","v":0}]
[{"$f":"'Bench Assignment'!G122","v":810},{"$f":"'Bench Assignment'!A122","v":""},{"$f":"'Competitor List'!P120","v":800},{"$f":"'Competitor List'!Q120","v":10},{"$f":"'Bench Assignment'!H122","v":10},{"$f":"'Bench Assignment'!I122","v":10},{"$f":"'Bench Assignment'!J122","v":10},{"$f":"'Bench Assignment'!K122","v":10},{"$f":"'Competitor List'!J120","v":0},{"$f":"'Competitor List'!K120","v":0}]
[{"$f":"'Bench Assignment'!G123","v":811},{"$f":"'Bench Assignment'!A123","v":""},{"$f":"'Competitor List'!P121","v":800},{"$f":"'Competitor List'!Q121","v":11},{"$f":"'Bench Assignment'!H123","v":11},{"$f":"'Bench Assignment'!I123","v":11},{"$f":"'Bench Assignment'!J123","v":11},{"$f":"'Bench Assignment'!K123","v":11},{"$f":"'Competitor List'!J121","v":0},{"$f":"'Competitor List'!K121","v":0}]
[{"$f":"'Bench Assignment'!G124","v":812},{"$f":"'Bench Assignment'!A124","v":""},{"$f":"'Competitor List'!P122","v":800},{"$f":"'Competitor List'!Q122","v":12},{"$f":"'Bench Assignment'!H124","v":12},{"$f":"'Bench Assignment'!I124","v":12},{"$f":"'Bench Assignment'!J124","v":12},{"$f":"'Bench Assignment'!K124","v":12},{"$f":"'Competitor List'!J122","v":0},{"$f":"'Competitor List'!K122","v":0}]
[{"$f":"'Bench Assignment'!G125","v":813},{"$f":"'Bench Assignment'!A125","v":""},{"$f":"'Competitor List'!P123","v":800},{"$f":"'Competitor List'!Q123","v":13},{"$f":"'Bench Assignment'!H125","v":13},{"$f":"'Bench Assignment'!I125","v":13},{"$f":"'Bench Assignment'!J125","v":13},{"$f":"'Bench Assignment'!K125","v":13},{"$f":"'Competitor List'!J123","v":0},{"$f":"'Competitor List'!K123","v":0}]
[{"$f":"'Bench Assignment'!G126","v":814},{"$f":"'Bench Assignment'!A126","v":""},{"$f":"'Competitor List'!P124","v":800},{"$f":"'Competitor List'!Q124","v":14},{"$f":"'Bench Assignment'!H126","v":14},{"$f":"'Bench Assignment'!I126","v":14},{"$f":"'Bench Assignment'!J126","v":14},{"$f":"'Bench Assignment'!K126","v":14},{"$f":"'Competitor List'!J124","v":0},{"$f":"'Competitor List'!K124","v":0}]
[{"$f":"'Bench Assignment'!G127","v":815},{"$f":"'Bench Assignment'!A127","v":""},{"$f":"'Competitor List'!P125","v":800},{"$f":"'Competitor List'!Q125","v":15},{"$f":"'Bench Assignment'!H127","v":15},{"$f":"'Bench Assignment'!I127","v":15},{"$f":"'Bench Assignment'!J127","v":15},{"$f":"'Bench Assignment'!K127","v":15},{"$f":"'Competitor List'!J125","v":0},{"$f":"'Competitor List'!K125","v":0}]

{"sheet":"Instructions","index":12,"n_rows":45,"n_cols":2,"rows_kept":45,"cut":false,"hidden":false,"merged":[[0,0,0,1],[1,0,1,1]]}
["Instructions for 600 yard IBS program written by Mike McBride."]
["Most of these instructions and more notes are also shown on the right hand side of each page out of the print area.  When entering target data I highly recomment printing the results after you enter each set of targets.  This will make sure you have a hard copy of the data after targets are released and just incase there is a problem with the computer.  Most of the pages and all important formulas are protected so that you can not change how the program functions.  I also recommend saving often or turning auto-save on."]
[]
["Competitor List","- enter Range, date and match info in top left corner.  This info is passed onto the other pages so you only have to fill it in once on this page"]
[null,"- enter starting and ending bench numbers"]
[null,"- enter bench rotation.  If you are not rotating benches enter 0."]
[null,"- enter names in Light Gun column"]
[null,"  - use button at top to copy names to HG column"]
[null,"    - If entering different shooter info for one bench now is the time to change one of the names"]
[null,"- enter a Y if an IBS member in the \"LG IBS\" column and \"HG IBS\" column"]
[null,"- Enter a \"Y\" in the LG and HG column if they are entered in that class"]
[null,"- Once the number of relays are determined you can use the random sort button in the top right.  This will distribute the shooters across all relays in a random order."]
[null,"- Shooters can be moved around or added after the sort has been completed to accommodate special circumstances.  (ie. using same equipment for 2 people)"]
[null,"-NOTE - when moving people after the sort make sure to move/enter the IBS/LG/HG info also"]
[null,"- \"Start new Match\" button will clear all shooter info and target data so that you can start entering a new match"]
[]
["Bench Assignment","- Enter target firing order in cells G6-J7"]
[null,"- print and post "]
[]
["Light Gun Equipment","- edit lists on right of page for quicker entry using the drop down menues"]
[null,"- enter light gun equipment"]
[]
["Heavy Gun Equipment","- enter heavy gun equipment.  Drop down menues are linked back to the Light Gun page"]
[]
["Light Gun","- enter target data"]
[null,"- if you zoom in too much some boxes will show ## but will print correctly"]
[null,"- save and print after each set of targets are entered"]
[null,"- most of page is automatically filled in and calculated"]
[]
["Heavy Gun","- Same as light gun page"]
[]
["2-Gun Overall","- This page is automatically filled in and calculated."]
[]
[]
["printing","- forms are created long to accommodate all ranges/situations so you will have to set the print area to only print the needed realy information"]
[null,"- For submitting results it is best to \"Print to PDF\""]
[null," - To use the \"Save AS PDF\" button you must create a folder c:\\600YardResults that is not read only"]
[]
["Target Labels","Labels are setup for 2\" x 4\" labels 10 per sheet"]
[null,"  you may have to change margin size for it to print correctly"]
[null," ** Frame # only works for no rotation, or shooting all LG then all HG using rotation."]
[null,"   - any other rotation just ignore the frame# on the target labels"]
[]
["Factory Gun","This page is not linked to the competitor list so you must enter names manually"]
[null,"   Results must be printed seperately since most ranges do not use this page"]

{"sheet":"Rev","index":13,"n_rows":39,"n_cols":3,"rows_kept":39,"cut":false,"hidden":false,"merged":[]}
["Version"]
[1,"2015-09-01","testing"]
[]
["2",null,"testing"]
[]
["3","2015-09-17","Sent to vapor trail for 2015 nationals"]
[]
["4","2016-03-01","Modified for 4 target regular matches"]
[null,null,"added IBS columns and revised calculations for rank only off IBS=Y"]
[null,null,"added automatic IBS points calculation for any number of shooters in different classes"]
[null,null,"fixed macros for sort functions"]
[null,null,"expanded to 150 rows to make sure it will work with any number of shooters"]
[]
[null,"2016-03-03","modified for 20 benches and sent to Harris for eval"]
[]
["2016v2","2016-04-16","added dynamic bench assignment and rotation"]
[null,null,"   works for any starting and ending bench number, one program now works for all ranges"]
[null,null,"added X count"]
[null,null,"added second and third tie breakers"]
[null,null,"added macro to clear equipment lists"]
[null,null,"added macro to clear names and target data for new match"]
[null,null,"added dynamic ranges in sort function for different # of benches"]
[]
["2016V3","2016-04-25","Added factory gun page"]
[null,null,"Added print to PDF function"]
[]
["2016V4","2016-05-07","Added ability for one shooter to shoot LG and another in HG with same shooter ID and same bench"]
[null,null,"  - This also disqualifies that bench from 2 gun page"]
[null,null,"Added IBS points sheet for submission of points"]
[null,null,"  - total points had to be removed from 2gun page to allow one shooter to shoot relay 1 bench1 LG (101) while another person shot Heavy gun relay 1, bench 1 (101)"]
[]
["2016V5","2016-06-16","Fixed HG count for # of shooters that was linked to LG on comp page."]
[null,null,"Found out macros do not work at Hunters Pointe on a Excel 2007 version.  About 8-10 other computers have worked fine."]
[null,null,"  Even without macros the program works for scoring.  Just do not have random sort, or print to pdf button, or clear target data for new match.  Must manually do this."]
[]
["2019V1","2019-02-03","added LG overall and HG overall points for SOY"]
[]
["2020V1","2020-02-21","Reconfigured 2 gun page for new 2gun overall calculation - uses 2gun score and group and not the LG and HG aggs"]
[null,null,"added pages to print target stickers"]

{"sheet":"single target","index":14,"n_rows":606,"n_cols":28,"rows_kept":606,"cut":false,"hidden":true,"merged":[]}
[null,null,"This page is used to sort and search for the smallest groups and best single scores and tie it to the correct name.  "]
[]
[null,null,"**  Do not edit anything on this page.  Entire page should be protected"]
[null,null,null,null,null,null,null,null,null,null,null,null,"Heavy gun",null,null,null,null,null,null,null,null,"Factory gun"]
[null,null,"Light gun",null,null,null,null,null,"rank","rank",null,null,null,null,null,null,null,"rank","rank",null,null,null,null,null,null,null,"rank","rank"]
[null,null,null,"score","X","group","CALC","CALC2","score","group",null,null,"score","X","group","CALC","CALC2","score","group",null,null,"score","X","group","CALC","CALC2","score","group"]
[1,"target 1",{"$f":"IF('Competitor List'!J6=\"Y\",'Competitor List'!B6,\" \")","v":" "},{"$f":"'LIGHT GUN'!G27","v":0},{"$f":"'LIGHT GUN'!H27","v":0},{"$f":"'LIGHT GUN'!I27","v":0},{"$f":"IF(ISNUMBER(F7),SUM(F7),\"99\")","v":0},{"$f":"IF(G7=0,\"99\",G7)","v":"99"},{"$f":" IF(AND(ISNUMBER(D7)),RANK(D7,$D$7:$D$606,0)+SUMPRODUCT(($D$7:$D$606=D7)*($F$7:$F$606<F7))+SUMPRODUCT(($D$7:$D$606=D7)*($F$7:$F$606=F7)*($E$7:$E$606>E7))+SUMPRODUCT(($D$7:$D$606=D7)*($F$7:$F$606=F7)*($E$7:$E$606=E7)*($A$7:$A$606<A7)),\"DQ\")","v":1},{"$f":" IF(AND(ISNUMBER(H7)),RANK(H7,$H$7:$H$606,1)+SUMPRODUCT(($H$7:$H$606=H7)*($D$7:$D$606>D7))+SUMPRODUCT(($H$7:$H$606=H7)*($D$7:$D$606=D7)*($E$7:$E$606>E7))+SUMPRODUCT(($H$7:$H$606=H7)*($D$7:$D$606=D7)*($E$7:$E$606=E7)*($A$7:$A$606<A7)),\"DQ\")","v":"DQ"},null,{"$f":"IF('Competitor List'!K6=\"Y\",'Competitor List'!C6,\" \")","v":" "},{"$f":"'HEAVY GUN'!G27","v":0},{"$f":"'HEAVY GUN'!H27","v":0},{"$f":"'HEAVY GUN'!I27","v":0},{"$f":"IF(ISNUMBER(O7),SUM(O7),\"99\")","v":0},{"$f":"IF(P7=0,\"99\",P7)","v":"99"},{"$f":" IF(AND(ISNUMBER(M7)),RANK(M7,$M$7:$M$606,0)+SUMPRODUCT(($M$7:$M$606=M7)*($O$7:$O$606<O7))+SUMPRODUCT(($M$7:$M$606=M7)*($O$7:$O$606=O7)*($N$7:$N$606>N7))+SUMPRODUCT(($M$7:$M$606=M7)*($O$7:$O$606=O7)*($N$7:$N$606=N7)*($A$7:$A$606<A7)),\"DQ\")","v":1},{"$f":" IF(AND(Q7>0,ISNUMBER(Q7)),RANK(Q7,$Q$7:$Q$606,1)+SUMPRODUCT(($Q$7:$Q$606=Q7)*($M$7:$M$606>M7))+SUMPRODUCT(($Q$7:$Q$606=Q7)*($M$7:$M$606=M7)*($N$7:$N$606>N7))+SUMPRODUCT(($Q$7:$Q$606=Q7)*($M$7:$M$606=M7)*($N$7:$N$606=N7)*($A$7:$A$606<A7)),\"DQ\")","v":"DQ"},null,{"$f":"'TACTICAL GUN'!B27","v":0},{"$f":"'TACTICAL GUN'!G27","v":0},{"$f":"'TACTICAL GUN'!H27","v":0},{"$f":"'TACTICAL GUN'!I27","v":0},{"$f":"IF(ISNUMBER(X7),SUM(X7),\"99\")","v":0},{"$f":"IF(Y7=0,\"99\",Y7)","v":"99"},{"$f":" IF(AND(ISNUMBER(V7)),RANK(V7,$V$7:$V$606,0)+SUMPRODUCT(($V$7:$V$606=V7)*($X$7:$X$606<X7))+SUMPRODUCT(($V$7:$V$606=V7)*($X$7:$X$606=X7)*($W$7:$W$606>W7))+SUMPRODUCT(($V$7:$V$606=V7)*($X$7:$X$606=X7)*($W$7:$W$606=W7)*($A$7:$A$606<A7)),\"DQ\")","v":1},{"$f":" IF(AND(Z7>0,ISNUMBER(Z7)),RANK(Z7,$Z$7:$Z$606,1)+SUMPRODUCT(($Z$7:$Z$606=Z7)*($V$7:$V$606>V7))+SUMPRODUCT(($Z$7:$Z$606=Z7)*($V$7:$V$606=V7)*($W$7:$W$606>W7))+SUMPRODUCT(($Z$7:$Z$606=Z7)*($V$7:$V$606=V7)*($W$7:$W$606=W7)*($A$7:$A$606<A7)),\"DQ\")","v":"DQ"}]
[2,"target 1",{"$f":"IF('Competitor List'!J7=\"Y\",'Competitor List'!B7,\" \")","v":" "},{"$f":"'LIGHT GUN'!G28","v":0},{"$f":"'LIGHT GUN'!H28","v":0},{"$f":"'LIGHT GUN'!I28","v":0},{"$f":"IF(ISNUMBER(F8),SUM(F8),\"99\")","v":0},{"$f":"IF(G8=0,\"99\",G8)","v":"99"},{"$f":" IF(AND(ISNUMBER(D8)),RANK(D8,$D$7:$D$606,0)+SUMPRODUCT(($D$7:$D$606=D8)*($F$7:$F$606<F8))+SUMPRODUCT(($D$7:$D$606=D8)*($F$7:$F$606=F8)*($E$7:$E$606>E8))+SUMPRODUCT(($D$7:$D$606=D8)*($F$7:$F$606=F8)*($E$7:$E$606=E8)*($A$7:$A$606<A8)),\"DQ\")","v":2},{"$f":" IF(AND(ISNUMBER(H8)),RANK(H8,$H$7:$H$606,1)+SUMPRODUCT(($H$7:$H$606=H8)*($D$7:$D$606>D8))+SUMPRODUCT(($H$7:$H$606=H8)*($D$7:$D$606=D8)*($E$7:$E$606>E8))+SUMPRODUCT(($H$7:$H$606=H8)*($D$7:$D$606=D8)*($E$7:$E$606=E8)*($A$7:$A$606<A8)),\"DQ\")","v":"DQ"},null,{"$f":"IF('Competitor List'!K7=\"Y\",'Competitor List'!C7,\" \")","v":" "},{"$f":"'HEAVY GUN'!G28","v":0},{"$f":"'HEAVY GUN'!H28","v":0},{"$f":"'HEAVY GUN'!I28","v":0},{"$f":"IF(ISNUMBER(O8),SUM(O8),\"99\")","v":0},{"$f":"IF(P8=0,\"99\",P8)","v":"99"},{"$f":" IF(AND(ISNUMBER(M8)),RANK(M8,$M$7:$M$606,0)+SUMPRODUCT(($M$7:$M$606=M8)*($O$7:$O$606<O8))+SUMPRODUCT(($M$7:$M$606=M8)*($O$7:$O$606=O8)*($N$7:$N$606>N8))+SUMPRODUCT(($M$7:$M$606=M8)*($O$7:$O$606=O8)*($N$7:$N$606=N8)*($A$7:$A$606<A8)),\"DQ\")","v":2},{"$f":" IF(AND(Q8>0,ISNUMBER(Q8)),RANK(Q8,$Q$7:$Q$606,1)+SUMPRODUCT(($Q$7:$Q$606=Q8)*($M$7:$M$606>M8))+SUMPRODUCT(($Q$7:$Q$606=Q8)*($M$7:$M$606=M8)*($N$7:$N$606>N8))+SUMPRODUCT(($Q$7:$Q$606=Q8)*($M$7:$M$606=M8)*($N$7:$N$606=N8)*($A$7:$A$606<A8)),\"DQ\")","v":"DQ"},null,{"$f":"'TACTICAL GUN'!B28","v":0},{"$f":"'TACTICAL GUN'!G28","v":0},{"$f":"'TACTICAL GUN'!H28","v":0},{"$f":"'TACTICAL GUN'!I28","v":0},{"$f":"IF(ISNUMBER(X8),SUM(X8),\"99\")","v":0},{"$f":"IF(Y8=0,\"99\",Y8)","v":"99"},{"$f":" IF(AND(ISNUMBER(V8)),RANK(V8,$V$7:$V$606,0)+SUMPRODUCT(($V$7:$V$606=V8)*($X$7:$X$606<X8))+SUMPRODUCT(($V$7:$V$606=V8)*($X$7:$X$606=X8)*($W$7:$W$606>W8))+SUMPRODUCT(($V$7:$V$606=V8)*($X$7:$X$606=X8)*($W$7:$W$606=W8)*($A$7:$A$606<A8)),\"DQ\")","v":2},{"$f":" IF(AND(Z8>0,ISNUMBER(Z8)),RANK(Z8,$Z$7:$Z$606,1)+SUMPRODUCT(($Z$7:$Z$606=Z8)*($V$7:$V$606>V8))+SUMPRODUCT(($Z$7:$Z$606=Z8)*($V$7:$V$606=V8)*($W$7:$W$606>W8))+SUMPRODUCT(($Z$7:$Z$606=Z8)*($V$7:$V$606=V8)*($W$7:$W$606=W8)*($A$7:$A$606<A8)),\"DQ\")","v":"DQ"}]
[3,"target 1",{"$f":"IF('Competitor List'!J8=\"Y\",'Competitor List'!B8,\" \")","v":" "},{"$f":"'LIGHT GUN'!G29","v":0},{"$f":"'LIGHT GUN'!H29","v":0},{"$f":"'LIGHT GUN'!I29","v":0},0,"99",3,"DQ",null,{"$f":"IF('Competitor List'!K8=\"Y\",'Competitor List'!C8,\" \")","v":" "},{"$f":"'HEAVY GUN'!G29","v":0},{"$f":"'HEAVY GUN'!H29","v":0},{"$f":"'HEAVY GUN'!I29","v":0},0,"99",3,"DQ",null,{"$f":"'TACTICAL GUN'!B29","v":0},{"$f":"'TACTICAL GUN'!G29","v":0},{"$f":"'TACTICAL GUN'!H29","v":0},{"$f":"'TACTICAL GUN'!I29","v":0},0,"99",3,"DQ"]
[4,"target 1",{"$f":"IF('Competitor List'!J9=\"Y\",'Competitor List'!B9,\" \")","v":" "},{"$f":"'LIGHT GUN'!G30","v":0},{"$f":"'LIGHT GUN'!H30","v":0},{"$f":"'LIGHT GUN'!I30","v":0},0,"99",4,"DQ",null,{"$f":"IF('Competitor List'!K9=\"Y\",'Competitor List'!C9,\" \")","v":" "},{"$f":"'HEAVY GUN'!G30","v":0},{"$f":"'HEAVY GUN'!H30","v":0},{"$f":"'HEAVY GUN'!I30","v":0},0,"99",4,"DQ",null,{"$f":"'TACTICAL GUN'!B30","v":0},{"$f":"'TACTICAL GUN'!G30","v":0},{"$f":"'TACTICAL GUN'!H30","v":0},{"$f":"'TACTICAL GUN'!I30","v":0},0,"99",4,"DQ"]
[5,"target 1",{"$f":"IF('Competitor List'!J10=\"Y\",'Competitor List'!B10,\" \")","v":" "},{"$f":"'LIGHT GUN'!G31","v":0},{"$f":"'LIGHT GUN'!H31","v":0},{"$f":"'LIGHT GUN'!I31","v":0},0,"99",5,"DQ",null,{"$f":"IF('Competitor List'!K10=\"Y\",'Competitor List'!C10,\" \")","v":" "},{"$f":"'HEAVY GUN'!G31","v":0},{"$f":"'HEAVY GUN'!H31","v":0},{"$f":"'HEAVY GUN'!I31","v":0},0,"99",5,"DQ",null,{"$f":"'TACTICAL GUN'!B31","v":0},{"$f":"'TACTICAL GUN'!G31","v":0},{"$f":"'TACTICAL GUN'!H31","v":0},{"$f":"'TACTICAL GUN'!I31","v":0},0,"99",5,"DQ"]
[6,"target 1",{"$f":"IF('Competitor List'!J11=\"Y\",'Competitor List'!B11,\" \")","v":" "},{"$f":"'LIGHT GUN'!G32","v":0},{"$f":"'LIGHT GUN'!H32","v":0},{"$f":"'LIGHT GUN'!I32","v":0},0,"99",6,"DQ",null,{"$f":"IF('Competitor List'!K11=\"Y\",'Competitor List'!C11,\" \")","v":" "},{"$f":"'HEAVY GUN'!G32","v":0},{"$f":"'HEAVY GUN'!H32","v":0},{"$f":"'HEAVY GUN'!I32","v":0},0,"99",6,"DQ",null,{"$f":"'TACTICAL GUN'!B32","v":0},{"$f":"'TACTICAL GUN'!G32","v":0},{"$f":"'TACTICAL GUN'!H32","v":0},{"$f":"'TACTICAL GUN'!I32","v":0},0,"99",6,"DQ"]
[7,"target 1",{"$f":"IF('Competitor List'!J12=\"Y\",'Competitor List'!B12,\" \")","v":" "},{"$f":"'LIGHT GUN'!G33","v":0},{"$f":"'LIGHT GUN'!H33","v":0},{"$f":"'LIGHT GUN'!I33","v":0},0,"99",7,"DQ",null,{"$f":"IF('Competitor List'!K12=\"Y\",'Competitor List'!C12,\" \")","v":" "},{"$f":"'HEAVY GUN'!G33","v":0},{"$f":"'HEAVY GUN'!H33","v":0},{"$f":"'HEAVY GUN'!I33","v":0},0,"99",7,"DQ",null,{"$f":"'TACTICAL GUN'!B33","v":0},{"$f":"'TACTICAL GUN'!G33","v":0},{"$f":"'TACTICAL GUN'!H33","v":0},{"$f":"'TACTICAL GUN'!I33","v":0},0,"99",7,"DQ"]
[8,"target 1",{"$f":"IF('Competitor List'!J13=\"Y\",'Competitor List'!B13,\" \")","v":" "},{"$f":"'LIGHT GUN'!G34","v":0},{"$f":"'LIGHT GUN'!H34","v":0},{"$f":"'LIGHT GUN'!I34","v":0},0,"99",8,"DQ",null,{"$f":"IF('Competitor List'!K13=\"Y\",'Competitor List'!C13,\" \")","v":" "},{"$f":"'HEAVY GUN'!G34","v":0},{"$f":"'HEAVY GUN'!H34","v":0},{"$f":"'HEAVY GUN'!I34","v":0},0,"99",8,"DQ",null,{"$f":"'TACTICAL GUN'!B34","v":0},{"$f":"'TACTICAL GUN'!G34","v":0},{"$f":"'TACTICAL GUN'!H34","v":0},{"$f":"'TACTICAL GUN'!I34","v":0},0,"99",8,"DQ"]
[9,"target 1",{"$f":"IF('Competitor List'!J14=\"Y\",'Competitor List'!B14,\" \")","v":" "},{"$f":"'LIGHT GUN'!G35","v":0},{"$f":"'LIGHT GUN'!H35","v":0},{"$f":"'LIGHT GUN'!I35","v":0},0,"99",9,"DQ",null,{"$f":"IF('Competitor List'!K14=\"Y\",'Competitor List'!C14,\" \")","v":" "},{"$f":"'HEAVY GUN'!G35","v":0},{"$f":"'HEAVY GUN'!H35","v":0},{"$f":"'HEAVY GUN'!I35","v":0},0,"99",9,"DQ",null,{"$f":"'TACTICAL GUN'!B35","v":0},{"$f":"'TACTICAL GUN'!G35","v":0},{"$f":"'TACTICAL GUN'!H35","v":0},{"$f":"'TACTICAL GUN'!I35","v":0},0,"99",9,"DQ"]
[10,"target 1",{"$f":"IF('Competitor List'!J15=\"Y\",'Competitor List'!B15,\" \")","v":" "},{"$f":"'LIGHT GUN'!G36","v":0},{"$f":"'LIGHT GUN'!H36","v":0},{"$f":"'LIGHT GUN'!I36","v":0},0,"99",10,"DQ",null,{"$f":"IF('Competitor List'!K15=\"Y\",'Competitor List'!C15,\" \")","v":" "},{"$f":"'HEAVY GUN'!G36","v":0},{"$f":"'HEAVY GUN'!H36","v":0},{"$f":"'HEAVY GUN'!I36","v":0},0,"99",10,"DQ",null,{"$f":"'TACTICAL GUN'!B36","v":0},{"$f":"'TACTICAL GUN'!G36","v":0},{"$f":"'TACTICAL GUN'!H36","v":0},{"$f":"'TACTICAL GUN'!I36","v":0},0,"99",10,"DQ"]
[11,"target 1",{"$f":"IF('Competitor List'!J16=\"Y\",'Competitor List'!B16,\" \")","v":" "},{"$f":"'LIGHT GUN'!G37","v":0},{"$f":"'LIGHT GUN'!H37","v":0},{"$f":"'LIGHT GUN'!I37","v":0},0,"99",11,"DQ",null,{"$f":"IF('Competitor List'!K16=\"Y\",'Competitor List'!C16,\" \")","v":" "},{"$f":"'HEAVY GUN'!G37","v":0},{"$f":"'HEAVY GUN'!H37","v":0},{"$f":"'HEAVY GUN'!I37","v":0},0,"99",11,"DQ",null,{"$f":"'TACTICAL GUN'!B37","v":0},{"$f":"'TACTICAL GUN'!G37","v":0},{"$f":"'TACTICAL GUN'!H37","v":0},{"$f":"'TACTICAL GUN'!I37","v":0},0,"99",11,"DQ"]
[12,"target 1",{"$f":"IF('Competitor List'!J17=\"Y\",'Competitor List'!B17,\" \")","v":" "},{"$f":"'LIGHT GUN'!G38","v":0},{"$f":"'LIGHT GUN'!H38","v":0},{"$f":"'LIGHT GUN'!I38","v":0},0,"99",12,"DQ",null,{"$f":"IF('Competitor List'!K17=\"Y\",'Competitor List'!C17,\" \")","v":" "},{"$f":"'HEAVY GUN'!G38","v":0},{"$f":"'HEAVY GUN'!H38","v":0},{"$f":"'HEAVY GUN'!I38","v":0},0,"99",12,"DQ",null,{"$f":"'TACTICAL GUN'!B38","v":0},{"$f":"'TACTICAL GUN'!G38","v":0},{"$f":"'TACTICAL GUN'!H38","v":0},{"$f":"'TACTICAL GUN'!I38","v":0},0,"99",12,"DQ"]
[13,"target 1",{"$f":"IF('Competitor List'!J18=\"Y\",'Competitor List'!B18,\" \")","v":" "},{"$f":"'LIGHT GUN'!G39","v":0},{"$f":"'LIGHT GUN'!H39","v":0},{"$f":"'LIGHT GUN'!I39","v":0},0,"99",13,"DQ",null,{"$f":"IF('Competitor List'!K18=\"Y\",'Competitor List'!C18,\" \")","v":" "},{"$f":"'HEAVY GUN'!G39","v":0},{"$f":"'HEAVY GUN'!H39","v":0},{"$f":"'HEAVY GUN'!I39","v":0},0,"99",13,"DQ",null,{"$f":"'TACTICAL GUN'!B39","v":0},{"$f":"'TACTICAL GUN'!G39","v":0},{"$f":"'TACTICAL GUN'!H39","v":0},{"$f":"'TACTICAL GUN'!I39","v":0},0,"99",13,"DQ"]
[14,"target 1",{"$f":"IF('Competitor List'!J19=\"Y\",'Competitor List'!B19,\" \")","v":" "},{"$f":"'LIGHT GUN'!G40","v":0},{"$f":"'LIGHT GUN'!H40","v":0},{"$f":"'LIGHT GUN'!I40","v":0},0,"99",14,"DQ",null,{"$f":"IF('Competitor List'!K19=\"Y\",'Competitor List'!C19,\" \")","v":" "},{"$f":"'HEAVY GUN'!G40","v":0},{"$f":"'HEAVY GUN'!H40","v":0},{"$f":"'HEAVY GUN'!I40","v":0},0,"99",14,"DQ",null,{"$f":"'TACTICAL GUN'!B40","v":0},{"$f":"'TACTICAL GUN'!G40","v":0},{"$f":"'TACTICAL GUN'!H40","v":0},{"$f":"'TACTICAL GUN'!I40","v":0},0,"99",14,"DQ"]
[15,"target 1",{"$f":"IF('Competitor List'!J20=\"Y\",'Competitor List'!B20,\" \")","v":" "},{"$f":"'LIGHT GUN'!G41","v":0},{"$f":"'LIGHT GUN'!H41","v":0},{"$f":"'LIGHT GUN'!I41","v":0},0,"99",15,"DQ",null,{"$f":"IF('Competitor List'!K20=\"Y\",'Competitor List'!C20,\" \")","v":" "},{"$f":"'HEAVY GUN'!G41","v":0},{"$f":"'HEAVY GUN'!H41","v":0},{"$f":"'HEAVY GUN'!I41","v":0},0,"99",15,"DQ",null,{"$f":"'TACTICAL GUN'!B41","v":0},{"$f":"'TACTICAL GUN'!G41","v":0},{"$f":"'TACTICAL GUN'!H41","v":0},{"$f":"'TACTICAL GUN'!I41","v":0},0,"99",15,"DQ"]
[16,"target 1",{"$f":"IF('Competitor List'!J21=\"Y\",'Competitor List'!B21,\" \")","v":" "},{"$f":"'LIGHT GUN'!G42","v":0},{"$f":"'LIGHT GUN'!H42","v":0},{"$f":"'LIGHT GUN'!I42","v":0},0,"99",16,"DQ",null,{"$f":"IF('Competitor List'!K21=\"Y\",'Competitor List'!C21,\" \")","v":" "},{"$f":"'HEAVY GUN'!G42","v":0},{"$f":"'HEAVY GUN'!H42","v":0},{"$f":"'HEAVY GUN'!I42","v":0},0,"99",16,"DQ",null,{"$f":"'TACTICAL GUN'!B42","v":0},{"$f":"'TACTICAL GUN'!G42","v":0},{"$f":"'TACTICAL GUN'!H42","v":0},{"$f":"'TACTICAL GUN'!I42","v":0},0,"99",16,"DQ"]
[17,"target 1",{"$f":"IF('Competitor List'!J22=\"Y\",'Competitor List'!B22,\" \")","v":" "},{"$f":"'LIGHT GUN'!G43","v":0},{"$f":"'LIGHT GUN'!H43","v":0},{"$f":"'LIGHT GUN'!I43","v":0},0,"99",17,"DQ",null,{"$f":"IF('Competitor List'!K22=\"Y\",'Competitor List'!C22,\" \")","v":" "},{"$f":"'HEAVY GUN'!G43","v":0},{"$f":"'HEAVY GUN'!H43","v":0},{"$f":"'HEAVY GUN'!I43","v":0},0,"99",17,"DQ",null,{"$f":"'TACTICAL GUN'!B43","v":0},{"$f":"'TACTICAL GUN'!G43","v":0},{"$f":"'TACTICAL GUN'!H43","v":0},{"$f":"'TACTICAL GUN'!I43","v":0},0,"99",17,"DQ"]
[18,"target 1",{"$f":"IF('Competitor List'!J23=\"Y\",'Competitor List'!B23,\" \")","v":" "},{"$f":"'LIGHT GUN'!G44","v":0},{"$f":"'LIGHT GUN'!H44","v":0},{"$f":"'LIGHT GUN'!I44","v":0},0,"99",18,"DQ",null,{"$f":"IF('Competitor List'!K23=\"Y\",'Competitor List'!C23,\" \")","v":" "},{"$f":"'HEAVY GUN'!G44","v":0},{"$f":"'HEAVY GUN'!H44","v":0},{"$f":"'HEAVY GUN'!I44","v":0},0,"99",18,"DQ",null,{"$f":"'TACTICAL GUN'!B44","v":0},{"$f":"'TACTICAL GUN'!G44","v":0},{"$f":"'TACTICAL GUN'!H44","v":0},{"$f":"'TACTICAL GUN'!I44","v":0},0,"99",18,"DQ"]
[19,"target 1",{"$f":"IF('Competitor List'!J24=\"Y\",'Competitor List'!B24,\" \")","v":" "},{"$f":"'LIGHT GUN'!G45","v":0},{"$f":"'LIGHT GUN'!H45","v":0},{"$f":"'LIGHT GUN'!I45","v":0},0,"99",19,"DQ",null,{"$f":"IF('Competitor List'!K24=\"Y\",'Competitor List'!C24,\" \")","v":" "},{"$f":"'HEAVY GUN'!G45","v":0},{"$f":"'HEAVY GUN'!H45","v":0},{"$f":"'HEAVY GUN'!I45","v":0},0,"99",19,"DQ",null,{"$f":"'TACTICAL GUN'!B45","v":0},{"$f":"'TACTICAL GUN'!G45","v":0},{"$f":"'TACTICAL GUN'!H45","v":0},{"$f":"'TACTICAL GUN'!I45","v":0},0,"99",19,"DQ"]
[20,"target 1",{"$f":"IF('Competitor List'!J25=\"Y\",'Competitor List'!B25,\" \")","v":" "},{"$f":"'LIGHT GUN'!G46","v":0},{"$f":"'LIGHT GUN'!H46","v":0},{"$f":"'LIGHT GUN'!I46","v":0},0,"99",20,"DQ",null,{"$f":"IF('Competitor List'!K25=\"Y\",'Competitor List'!C25,\" \")","v":" "},{"$f":"'HEAVY GUN'!G46","v":0},{"$f":"'HEAVY GUN'!H46","v":0},{"$f":"'HEAVY GUN'!I46","v":0},0,"99",20,"DQ",null,{"$f":"'TACTICAL GUN'!B46","v":0},{"$f":"'TACTICAL GUN'!G46","v":0},{"$f":"'TACTICAL GUN'!H46","v":0},{"$f":"'TACTICAL GUN'!I46","v":0},0,"99",20,"DQ"]
[21,"target 1",{"$f":"IF('Competitor List'!J26=\"Y\",'Competitor List'!B26,\" \")","v":" "},{"$f":"'LIGHT GUN'!G47","v":0},{"$f":"'LIGHT GUN'!H47","v":0},{"$f":"'LIGHT GUN'!I47","v":0},0,"99",21,"DQ",null,{"$f":"IF('Competitor List'!K26=\"Y\",'Competitor List'!C26,\" \")","v":" "},{"$f":"'HEAVY GUN'!G47","v":0},{"$f":"'HEAVY GUN'!H47","v":0},{"$f":"'HEAVY GUN'!I47","v":0},0,"99",21,"DQ",null,{"$f":"'TACTICAL GUN'!B47","v":0},{"$f":"'TACTICAL GUN'!G47","v":0},{"$f":"'TACTICAL GUN'!H47","v":0},{"$f":"'TACTICAL GUN'!I47","v":0},0,"99",21,"DQ"]
[22,"target 1",{"$f":"IF('Competitor List'!J27=\"Y\",'Competitor List'!B27,\" \")","v":" "},{"$f":"'LIGHT GUN'!G48","v":0},{"$f":"'LIGHT GUN'!H48","v":0},{"$f":"'LIGHT GUN'!I48","v":0},0,"99",22,"DQ",null,{"$f":"IF('Competitor List'!K27=\"Y\",'Competitor List'!C27,\" \")","v":" "},{"$f":"'HEAVY GUN'!G48","v":0},{"$f":"'HEAVY GUN'!H48","v":0},{"$f":"'HEAVY GUN'!I48","v":0},0,"99",22,"DQ",null,{"$f":"'TACTICAL GUN'!B48","v":0},{"$f":"'TACTICAL GUN'!G48","v":0},{"$f":"'TACTICAL GUN'!H48","v":0},{"$f":"'TACTICAL GUN'!I48","v":0},0,"99",22,"DQ"]
[23,"target 1",{"$f":"IF('Competitor List'!J28=\"Y\",'Competitor List'!B28,\" \")","v":" "},{"$f":"'LIGHT GUN'!G49","v":0},{"$f":"'LIGHT GUN'!H49","v":0},{"$f":"'LIGHT GUN'!I49","v":0},0,"99",23,"DQ",null,{"$f":"IF('Competitor List'!K28=\"Y\",'Competitor List'!C28,\" \")","v":" "},{"$f":"'HEAVY GUN'!G49","v":0},{"$f":"'HEAVY GUN'!H49","v":0},{"$f":"'HEAVY GUN'!I49","v":0},0,"99",23,"DQ",null,{"$f":"'TACTICAL GUN'!B49","v":0},{"$f":"'TACTICAL GUN'!G49","v":0},{"$f":"'TACTICAL GUN'!H49","v":0},{"$f":"'TACTICAL GUN'!I49","v":0},0,"99",23,"DQ"]
[24,"target 1",{"$f":"IF('Competitor List'!J29=\"Y\",'Competitor List'!B29,\" \")","v":" "},{"$f":"'LIGHT GUN'!G50","v":0},{"$f":"'LIGHT GUN'!H50","v":0},{"$f":"'LIGHT GUN'!I50","v":0},0,"99",24,"DQ",null,{"$f":"IF('Competitor List'!K29=\"Y\",'Competitor List'!C29,\" \")","v":" "},{"$f":"'HEAVY GUN'!G50","v":0},{"$f":"'HEAVY GUN'!H50","v":0},{"$f":"'HEAVY GUN'!I50","v":0},0,"99",24,"DQ",null,{"$f":"'TACTICAL GUN'!B50","v":0},{"$f":"'TACTICAL GUN'!G50","v":0},{"$f":"'TACTICAL GUN'!H50","v":0},{"$f":"'TACTICAL GUN'!I50","v":0},0,"99",24,"DQ"]
[25,"target 1",{"$f":"IF('Competitor List'!J30=\"Y\",'Competitor List'!B30,\" \")","v":" "},{"$f":"'LIGHT GUN'!G51","v":0},{"$f":"'LIGHT GUN'!H51","v":0},{"$f":"'LIGHT GUN'!I51","v":0},0,"99",25,"DQ",null,{"$f":"IF('Competitor List'!K30=\"Y\",'Competitor List'!C30,\" \")","v":" "},{"$f":"'HEAVY GUN'!G51","v":0},{"$f":"'HEAVY GUN'!H51","v":0},{"$f":"'HEAVY GUN'!I51","v":0},0,"99",25,"DQ",null,{"$f":"'TACTICAL GUN'!B51","v":0},{"$f":"'TACTICAL GUN'!G51","v":0},{"$f":"'TACTICAL GUN'!H51","v":0},{"$f":"'TACTICAL GUN'!I51","v":0},0,"99",25,"DQ"]
[26,"target 1",{"$f":"IF('Competitor List'!J31=\"Y\",'Competitor List'!B31,\" \")","v":" "},{"$f":"'LIGHT GUN'!G52","v":0},{"$f":"'LIGHT GUN'!H52","v":0},{"$f":"'LIGHT GUN'!I52","v":0},0,"99",26,"DQ",null,{"$f":"IF('Competitor List'!K31=\"Y\",'Competitor List'!C31,\" \")","v":" "},{"$f":"'HEAVY GUN'!G52","v":0},{"$f":"'HEAVY GUN'!H52","v":0},{"$f":"'HEAVY GUN'!I52","v":0},0,"99",26,"DQ",null,{"$f":"'TACTICAL GUN'!B52","v":0},{"$f":"'TACTICAL GUN'!G52","v":0},{"$f":"'TACTICAL GUN'!H52","v":0},{"$f":"'TACTICAL GUN'!I52","v":0},0,"99",26,"DQ"]
[27,"target 1",{"$f":"IF('Competitor List'!J32=\"Y\",'Competitor List'!B32,\" \")","v":" "},{"$f":"'LIGHT GUN'!G53","v":0},{"$f":"'LIGHT GUN'!H53","v":0},{"$f":"'LIGHT GUN'!I53","v":0},0,"99",27,"DQ",null,{"$f":"IF('Competitor List'!K32=\"Y\",'Competitor List'!C32,\" \")","v":" "},{"$f":"'HEAVY GUN'!G53","v":0},{"$f":"'HEAVY GUN'!H53","v":0},{"$f":"'HEAVY GUN'!I53","v":0},0,"99",27,"DQ",null,{"$f":"'TACTICAL GUN'!B53","v":0},{"$f":"'TACTICAL GUN'!G53","v":0},{"$f":"'TACTICAL GUN'!H53","v":0},{"$f":"'TACTICAL GUN'!I53","v":0},0,"99",27,"DQ"]
[28,"target 1",{"$f":"IF('Competitor List'!J33=\"Y\",'Competitor List'!B33,\" \")","v":" "},{"$f":"'LIGHT GUN'!G54","v":0},{"$f":"'LIGHT GUN'!H54","v":0},{"$f":"'LIGHT GUN'!I54","v":0},0,"99",28,"DQ",null,{"$f":"IF('Competitor List'!K33=\"Y\",'Competitor List'!C33,\" \")","v":" "},{"$f":"'HEAVY GUN'!G54","v":0},{"$f":"'HEAVY GUN'!H54","v":0},{"$f":"'HEAVY GUN'!I54","v":0},0,"99",28,"DQ",null,{"$f":"'TACTICAL GUN'!B54","v":0},{"$f":"'TACTICAL GUN'!G54","v":0},{"$f":"'TACTICAL GUN'!H54","v":0},{"$f":"'TACTICAL GUN'!I54","v":0},0,"99",28,"DQ"]
[29,"target 1",{"$f":"IF('Competitor List'!J34=\"Y\",'Competitor List'!B34,\" \")","v":" "},{"$f":"'LIGHT GUN'!G55","v":0},{"$f":"'LIGHT GUN'!H55","v":0},{"$f":"'LIGHT GUN'!I55","v":0},0,"99",29,"DQ",null,{"$f":"IF('Competitor List'!K34=\"Y\",'Competitor List'!C34,\" \")","v":" "},{"$f":"'HEAVY GUN'!G55","v":0},{"$f":"'HEAVY GUN'!H55","v":0},{"$f":"'HEAVY GUN'!I55","v":0},0,"99",29,"DQ",null,{"$f":"'TACTICAL GUN'!B55","v":0},{"$f":"'TACTICAL GUN'!G55","v":0},{"$f":"'TACTICAL GUN'!H55","v":0},{"$f":"'TACTICAL GUN'!I55","v":0},0,"99",29,"DQ"]
[30,"target 1",{"$f":"IF('Competitor List'!J35=\"Y\",'Competitor List'!B35,\" \")","v":" "},{"$f":"'LIGHT GUN'!G56","v":0},{"$f":"'LIGHT GUN'!H56","v":0},{"$f":"'LIGHT GUN'!I56","v":0},0,"99",30,"DQ",null,{"$f":"IF('Competitor List'!K35=\"Y\",'Competitor List'!C35,\" \")","v":" "},{"$f":"'HEAVY GUN'!G56","v":0},{"$f":"'HEAVY GUN'!H56","v":0},{"$f":"'HEAVY GUN'!I56","v":0},0,"99",30,"DQ",null,{"$f":"'TACTICAL GUN'!B56","v":0},{"$f":"'TACTICAL GUN'!G56","v":0},{"$f":"'TACTICAL GUN'!H56","v":0},{"$f":"'TACTICAL GUN'!I56","v":0},0,"99",30,"DQ"]
[31,"target 1",{"$f":"IF('Competitor List'!J36=\"Y\",'Competitor List'!B36,\" \")","v":" "},{"$f":"'LIGHT GUN'!G57","v":0},{"$f":"'LIGHT GUN'!H57","v":0},{"$f":"'LIGHT GUN'!I57","v":0},0,"99",31,"DQ",null,{"$f":"IF('Competitor List'!K36=\"Y\",'Competitor List'!C36,\" \")","v":" "},{"$f":"'HEAVY GUN'!G57","v":0},{"$f":"'HEAVY GUN'!H57","v":0},{"$f":"'HEAVY GUN'!I57","v":0},0,"99",31,"DQ",null,{"$f":"'TACTICAL GUN'!B57","v":0},{"$f":"'TACTICAL GUN'!G57","v":0},{"$f":"'TACTICAL GUN'!H57","v":0},{"$f":"'TACTICAL GUN'!I57","v":0},0,"99",31,"DQ"]
[32,"target 1",{"$f":"IF('Competitor List'!J37=\"Y\",'Competitor List'!B37,\" \")","v":" "},{"$f":"'LIGHT GUN'!G58","v":0},{"$f":"'LIGHT GUN'!H58","v":0},{"$f":"'LIGHT GUN'!I58","v":0},0,"99",32,"DQ",null,{"$f":"IF('Competitor List'!K37=\"Y\",'Competitor List'!C37,\" \")","v":" "},{"$f":"'HEAVY GUN'!G58","v":0},{"$f":"'HEAVY GUN'!H58","v":0},{"$f":"'HEAVY GUN'!I58","v":0},0,"99",32,"DQ",null,{"$f":"'TACTICAL GUN'!B58","v":0},{"$f":"'TACTICAL GUN'!G58","v":0},{"$f":"'TACTICAL GUN'!H58","v":0},{"$f":"'TACTICAL GUN'!I58","v":0},0,"99",32,"DQ"]
[33,"target 1",{"$f":"IF('Competitor List'!J38=\"Y\",'Competitor List'!B38,\" \")","v":" "},{"$f":"'LIGHT GUN'!G59","v":0},{"$f":"'LIGHT GUN'!H59","v":0},{"$f":"'LIGHT GUN'!I59","v":0},0,"99",33,"DQ",null,{"$f":"IF('Competitor List'!K38=\"Y\",'Competitor List'!C38,\" \")","v":" "},{"$f":"'HEAVY GUN'!G59","v":0},{"$f":"'HEAVY GUN'!H59","v":0},{"$f":"'HEAVY GUN'!I59","v":0},0,"99",33,"DQ",null,{"$f":"'TACTICAL GUN'!B59","v":0},{"$f":"'TACTICAL GUN'!G59","v":0},{"$f":"'TACTICAL GUN'!H59","v":0},{"$f":"'TACTICAL GUN'!I59","v":0},0,"99",33,"DQ"]
[34,"target 1",{"$f":"IF('Competitor List'!J39=\"Y\",'Competitor List'!B39,\" \")","v":" "},{"$f":"'LIGHT GUN'!G60","v":0},{"$f":"'LIGHT GUN'!H60","v":0},{"$f":"'LIGHT GUN'!I60","v":0},0,"99",34,"DQ",null,{"$f":"IF('Competitor List'!K39=\"Y\",'Competitor List'!C39,\" \")","v":" "},{"$f":"'HEAVY GUN'!G60","v":0},{"$f":"'HEAVY GUN'!H60","v":0},{"$f":"'HEAVY GUN'!I60","v":0},0,"99",34,"DQ",null,{"$f":"'TACTICAL GUN'!B60","v":0},{"$f":"'TACTICAL GUN'!G60","v":0},{"$f":"'TACTICAL GUN'!H60","v":0},{"$f":"'TACTICAL GUN'!I60","v":0},0,"99",34,"DQ"]
[35,"target 1",{"$f":"IF('Competitor List'!J40=\"Y\",'Competitor List'!B40,\" \")","v":" "},{"$f":"'LIGHT GUN'!G61","v":0},{"$f":"'LIGHT GUN'!H61","v":0},{"$f":"'LIGHT GUN'!I61","v":0},0,"99",35,"DQ",null,{"$f":"IF('Competitor List'!K40=\"Y\",'Competitor List'!C40,\" \")","v":" "},{"$f":"'HEAVY GUN'!G61","v":0},{"$f":"'HEAVY GUN'!H61","v":0},{"$f":"'HEAVY GUN'!I61","v":0},0,"99",35,"DQ",null,{"$f":"'TACTICAL GUN'!B61","v":0},{"$f":"'TACTICAL GUN'!G61","v":0},{"$f":"'TACTICAL GUN'!H61","v":0},{"$f":"'TACTICAL GUN'!I61","v":0},0,"99",35,"DQ"]
[36,"target 1",{"$f":"IF('Competitor List'!J41=\"Y\",'Competitor List'!B41,\" \")","v":" "},{"$f":"'LIGHT GUN'!G62","v":0},{"$f":"'LIGHT GUN'!H62","v":0},{"$f":"'LIGHT GUN'!I62","v":0},0,"99",36,"DQ",null,{"$f":"IF('Competitor List'!K41=\"Y\",'Competitor List'!C41,\" \")","v":" "},{"$f":"'HEAVY GUN'!G62","v":0},{"$f":"'HEAVY GUN'!H62","v":0},{"$f":"'HEAVY GUN'!I62","v":0},0,"99",36,"DQ",null,{"$f":"'TACTICAL GUN'!B62","v":0},{"$f":"'TACTICAL GUN'!G62","v":0},{"$f":"'TACTICAL GUN'!H62","v":0},{"$f":"'TACTICAL GUN'!I62","v":0},0,"99",36,"DQ"]
[37,"target 1",{"$f":"IF('Competitor List'!J42=\"Y\",'Competitor List'!B42,\" \")","v":" "},{"$f":"'LIGHT GUN'!G63","v":0},{"$f":"'LIGHT GUN'!H63","v":0},{"$f":"'LIGHT GUN'!I63","v":0},0,"99",37,"DQ",null,{"$f":"IF('Competitor List'!K42=\"Y\",'Competitor List'!C42,\" \")","v":" "},{"$f":"'HEAVY GUN'!G63","v":0},{"$f":"'HEAVY GUN'!H63","v":0},{"$f":"'HEAVY GUN'!I63","v":0},0,"99",37,"DQ",null,{"$f":"'TACTICAL GUN'!B63","v":0},{"$f":"'TACTICAL GUN'!G63","v":0},{"$f":"'TACTICAL GUN'!H63","v":0},{"$f":"'TACTICAL GUN'!I63","v":0},0,"99",37,"DQ"]
[38,"target 1",{"$f":"IF('Competitor List'!J43=\"Y\",'Competitor List'!B43,\" \")","v":" "},{"$f":"'LIGHT GUN'!G64","v":0},{"$f":"'LIGHT GUN'!H64","v":0},{"$f":"'LIGHT GUN'!I64","v":0},0,"99",38,"DQ",null,{"$f":"IF('Competitor List'!K43=\"Y\",'Competitor List'!C43,\" \")","v":" "},{"$f":"'HEAVY GUN'!G64","v":0},{"$f":"'HEAVY GUN'!H64","v":0},{"$f":"'HEAVY GUN'!I64","v":0},0,"99",38,"DQ",null,{"$f":"'TACTICAL GUN'!B64","v":0},{"$f":"'TACTICAL GUN'!G64","v":0},{"$f":"'TACTICAL GUN'!H64","v":0},{"$f":"'TACTICAL GUN'!I64","v":0},0,"99",38,"DQ"]
[39,"target 1",{"$f":"IF('Competitor List'!J44=\"Y\",'Competitor List'!B44,\" \")","v":" "},{"$f":"'LIGHT GUN'!G65","v":0},{"$f":"'LIGHT GUN'!H65","v":0},{"$f":"'LIGHT GUN'!I65","v":0},0,"99",39,"DQ",null,{"$f":"IF('Competitor List'!K44=\"Y\",'Competitor List'!C44,\" \")","v":" "},{"$f":"'HEAVY GUN'!G65","v":0},{"$f":"'HEAVY GUN'!H65","v":0},{"$f":"'HEAVY GUN'!I65","v":0},0,"99",39,"DQ",null,{"$f":"'TACTICAL GUN'!B65","v":0},{"$f":"'TACTICAL GUN'!G65","v":0},{"$f":"'TACTICAL GUN'!H65","v":0},{"$f":"'TACTICAL GUN'!I65","v":0},0,"99",39,"DQ"]
[40,"target 1",{"$f":"IF('Competitor List'!J45=\"Y\",'Competitor List'!B45,\" \")","v":" "},{"$f":"'LIGHT GUN'!G66","v":0},{"$f":"'LIGHT GUN'!H66","v":0},{"$f":"'LIGHT GUN'!I66","v":0},0,"99",40,"DQ",null,{"$f":"IF('Competitor List'!K45=\"Y\",'Competitor List'!C45,\" \")","v":" "},{"$f":"'HEAVY GUN'!G66","v":0},{"$f":"'HEAVY GUN'!H66","v":0},{"$f":"'HEAVY GUN'!I66","v":0},0,"99",40,"DQ",null,{"$f":"'TACTICAL GUN'!B66","v":0},{"$f":"'TACTICAL GUN'!G66","v":0},{"$f":"'TACTICAL GUN'!H66","v":0},{"$f":"'TACTICAL GUN'!I66","v":0},0,"99",40,"DQ"]
[41,"target 1",{"$f":"IF('Competitor List'!J46=\"Y\",'Competitor List'!B46,\" \")","v":" "},{"$f":"'LIGHT GUN'!G67","v":0},{"$f":"'LIGHT GUN'!H67","v":0},{"$f":"'LIGHT GUN'!I67","v":0},0,"99",41,"DQ",null,{"$f":"IF('Competitor List'!K46=\"Y\",'Competitor List'!C46,\" \")","v":" "},{"$f":"'HEAVY GUN'!G67","v":0},{"$f":"'HEAVY GUN'!H67","v":0},{"$f":"'HEAVY GUN'!I67","v":0},0,"99",41,"DQ",null,{"$f":"'TACTICAL GUN'!B67","v":0},{"$f":"'TACTICAL GUN'!G67","v":0},{"$f":"'TACTICAL GUN'!H67","v":0},{"$f":"'TACTICAL GUN'!I67","v":0},0,"99",41,"DQ"]
[42,"target 1",{"$f":"IF('Competitor List'!J47=\"Y\",'Competitor List'!B47,\" \")","v":" "},{"$f":"'LIGHT GUN'!G68","v":0},{"$f":"'LIGHT GUN'!H68","v":0},{"$f":"'LIGHT GUN'!I68","v":0},0,"99",42,"DQ",null,{"$f":"IF('Competitor List'!K47=\"Y\",'Competitor List'!C47,\" \")","v":" "},{"$f":"'HEAVY GUN'!G68","v":0},{"$f":"'HEAVY GUN'!H68","v":0},{"$f":"'HEAVY GUN'!I68","v":0},0,"99",42,"DQ",null,{"$f":"'TACTICAL GUN'!B68","v":0},{"$f":"'TACTICAL GUN'!G68","v":0},{"$f":"'TACTICAL GUN'!H68","v":0},{"$f":"'TACTICAL GUN'!I68","v":0},0,"99",42,"DQ"]
[43,"target 1",{"$f":"IF('Competitor List'!J48=\"Y\",'Competitor List'!B48,\" \")","v":" "},{"$f":"'LIGHT GUN'!G69","v":0},{"$f":"'LIGHT GUN'!H69","v":0},{"$f":"'LIGHT GUN'!I69","v":0},0,"99",43,"DQ",null,{"$f":"IF('Competitor List'!K48=\"Y\",'Competitor List'!C48,\" \")","v":" "},{"$f":"'HEAVY GUN'!G69","v":0},{"$f":"'HEAVY GUN'!H69","v":0},{"$f":"'HEAVY GUN'!I69","v":0},0,"99",43,"DQ",null,{"$f":"'TACTICAL GUN'!B69","v":0},{"$f":"'TACTICAL GUN'!G69","v":0},{"$f":"'TACTICAL GUN'!H69","v":0},{"$f":"'TACTICAL GUN'!I69","v":0},0,"99",43,"DQ"]
[44,"target 1",{"$f":"IF('Competitor List'!J49=\"Y\",'Competitor List'!B49,\" \")","v":" "},{"$f":"'LIGHT GUN'!G70","v":0},{"$f":"'LIGHT GUN'!H70","v":0},{"$f":"'LIGHT GUN'!I70","v":0},0,"99",44,"DQ",null,{"$f":"IF('Competitor List'!K49=\"Y\",'Competitor List'!C49,\" \")","v":" "},{"$f":"'HEAVY GUN'!G70","v":0},{"$f":"'HEAVY GUN'!H70","v":0},{"$f":"'HEAVY GUN'!I70","v":0},0,"99",44,"DQ",null,{"$f":"'TACTICAL GUN'!B70","v":0},{"$f":"'TACTICAL GUN'!G70","v":0},{"$f":"'TACTICAL GUN'!H70","v":0},{"$f":"'TACTICAL GUN'!I70","v":0},0,"99",44,"DQ"]
[45,"target 1",{"$f":"IF('Competitor List'!J50=\"Y\",'Competitor List'!B50,\" \")","v":" "},{"$f":"'LIGHT GUN'!G71","v":0},{"$f":"'LIGHT GUN'!H71","v":0},{"$f":"'LIGHT GUN'!I71","v":0},0,"99",45,"DQ",null,{"$f":"IF('Competitor List'!K50=\"Y\",'Competitor List'!C50,\" \")","v":" "},{"$f":"'HEAVY GUN'!G71","v":0},{"$f":"'HEAVY GUN'!H71","v":0},{"$f":"'HEAVY GUN'!I71","v":0},0,"99",45,"DQ",null,{"$f":"'TACTICAL GUN'!B71","v":0},{"$f":"'TACTICAL GUN'!G71","v":0},{"$f":"'TACTICAL GUN'!H71","v":0},{"$f":"'TACTICAL GUN'!I71","v":0},0,"99",45,"DQ"]
[46,"target 1",{"$f":"IF('Competitor List'!J51=\"Y\",'Competitor List'!B51,\" \")","v":" "},{"$f":"'LIGHT GUN'!G72","v":0},{"$f":"'LIGHT GUN'!H72","v":0},{"$f":"'LIGHT GUN'!I72","v":0},0,"99",46,"DQ",null,{"$f":"IF('Competitor List'!K51=\"Y\",'Competitor List'!C51,\" \")","v":" "},{"$f":"'HEAVY GUN'!G72","v":0},{"$f":"'HEAVY GUN'!H72","v":0},{"$f":"'HEAVY GUN'!I72","v":0},0,"99",46,"DQ",null,{"$f":"'TACTICAL GUN'!B72","v":0},{"$f":"'TACTICAL GUN'!G72","v":0},{"$f":"'TACTICAL GUN'!H72","v":0},{"$f":"'TACTICAL GUN'!I72","v":0},0,"99",46,"DQ"]
[47,"target 1",{"$f":"IF('Competitor List'!J52=\"Y\",'Competitor List'!B52,\" \")","v":" "},{"$f":"'LIGHT GUN'!G73","v":0},{"$f":"'LIGHT GUN'!H73","v":0},{"$f":"'LIGHT GUN'!I73","v":0},0,"99",47,"DQ",null,{"$f":"IF('Competitor List'!K52=\"Y\",'Competitor List'!C52,\" \")","v":" "},{"$f":"'HEAVY GUN'!G73","v":0},{"$f":"'HEAVY GUN'!H73","v":0},{"$f":"'HEAVY GUN'!I73","v":0},0,"99",47,"DQ",null,{"$f":"'TACTICAL GUN'!B73","v":0},{"$f":"'TACTICAL GUN'!G73","v":0},{"$f":"'TACTICAL GUN'!H73","v":0},{"$f":"'TACTICAL GUN'!I73","v":0},0,"99",47,"DQ"]
[48,"target 1",{"$f":"IF('Competitor List'!J53=\"Y\",'Competitor List'!B53,\" \")","v":" "},{"$f":"'LIGHT GUN'!G74","v":0},{"$f":"'LIGHT GUN'!H74","v":0},{"$f":"'LIGHT GUN'!I74","v":0},0,"99",48,"DQ",null,{"$f":"IF('Competitor List'!K53=\"Y\",'Competitor List'!C53,\" \")","v":" "},{"$f":"'HEAVY GUN'!G74","v":0},{"$f":"'HEAVY GUN'!H74","v":0},{"$f":"'HEAVY GUN'!I74","v":0},0,"99",48,"DQ",null,{"$f":"'TACTICAL GUN'!B74","v":0},{"$f":"'TACTICAL GUN'!G74","v":0},{"$f":"'TACTICAL GUN'!H74","v":0},{"$f":"'TACTICAL GUN'!I74","v":0},0,"99",48,"DQ"]
[49,"target 1",{"$f":"IF('Competitor List'!J54=\"Y\",'Competitor List'!B54,\" \")","v":" "},{"$f":"'LIGHT GUN'!G75","v":0},{"$f":"'LIGHT GUN'!H75","v":0},{"$f":"'LIGHT GUN'!I75","v":0},0,"99",49,"DQ",null,{"$f":"IF('Competitor List'!K54=\"Y\",'Competitor List'!C54,\" \")","v":" "},{"$f":"'HEAVY GUN'!G75","v":0},{"$f":"'HEAVY GUN'!H75","v":0},{"$f":"'HEAVY GUN'!I75","v":0},0,"99",49,"DQ",null,{"$f":"'TACTICAL GUN'!B75","v":0},{"$f":"'TACTICAL GUN'!G75","v":0},{"$f":"'TACTICAL GUN'!H75","v":0},{"$f":"'TACTICAL GUN'!I75","v":0},0,"99",49,"DQ"]
[50,"target 1",{"$f":"IF('Competitor List'!J55=\"Y\",'Competitor List'!B55,\" \")","v":" "},{"$f":"'LIGHT GUN'!G76","v":0},{"$f":"'LIGHT GUN'!H76","v":0},{"$f":"'LIGHT GUN'!I76","v":0},0,"99",50,"DQ",null,{"$f":"IF('Competitor List'!K55=\"Y\",'Competitor List'!C55,\" \")","v":" "},{"$f":"'HEAVY GUN'!G76","v":0},{"$f":"'HEAVY GUN'!H76","v":0},{"$f":"'HEAVY GUN'!I76","v":0},0,"99",50,"DQ",null,{"$f":"'TACTICAL GUN'!B76","v":0},{"$f":"'TACTICAL GUN'!G76","v":0},{"$f":"'TACTICAL GUN'!H76","v":0},{"$f":"'TACTICAL GUN'!I76","v":0},0,"99",50,"DQ"]
[51,"target 1",{"$f":"IF('Competitor List'!J56=\"Y\",'Competitor List'!B56,\" \")","v":" "},{"$f":"'LIGHT GUN'!G77","v":0},{"$f":"'LIGHT GUN'!H77","v":0},{"$f":"'LIGHT GUN'!I77","v":0},0,"99",51,"DQ",null,{"$f":"IF('Competitor List'!K56=\"Y\",'Competitor List'!C56,\" \")","v":" "},{"$f":"'HEAVY GUN'!G77","v":0},{"$f":"'HEAVY GUN'!H77","v":0},{"$f":"'HEAVY GUN'!I77","v":0},0,"99",51,"DQ",null,{"$f":"'TACTICAL GUN'!B77","v":0},{"$f":"'TACTICAL GUN'!G77","v":0},{"$f":"'TACTICAL GUN'!H77","v":0},{"$f":"'TACTICAL GUN'!I77","v":0},0,"99",51,"DQ"]
[52,"target 1",{"$f":"IF('Competitor List'!J57=\"Y\",'Competitor List'!B57,\" \")","v":" "},{"$f":"'LIGHT GUN'!G78","v":0},{"$f":"'LIGHT GUN'!H78","v":0},{"$f":"'LIGHT GUN'!I78","v":0},0,"99",52,"DQ",null,{"$f":"IF('Competitor List'!K57=\"Y\",'Competitor List'!C57,\" \")","v":" "},{"$f":"'HEAVY GUN'!G78","v":0},{"$f":"'HEAVY GUN'!H78","v":0},{"$f":"'HEAVY GUN'!I78","v":0},0,"99",52,"DQ",null,{"$f":"'TACTICAL GUN'!B78","v":0},{"$f":"'TACTICAL GUN'!G78","v":0},{"$f":"'TACTICAL GUN'!H78","v":0},{"$f":"'TACTICAL GUN'!I78","v":0},0,"99",52,"DQ"]
[53,"target 1",{"$f":"IF('Competitor List'!J58=\"Y\",'Competitor List'!B58,\" \")","v":" "},{"$f":"'LIGHT GUN'!G79","v":0},{"$f":"'LIGHT GUN'!H79","v":0},{"$f":"'LIGHT GUN'!I79","v":0},0,"99",53,"DQ",null,{"$f":"IF('Competitor List'!K58=\"Y\",'Competitor List'!C58,\" \")","v":" "},{"$f":"'HEAVY GUN'!G79","v":0},{"$f":"'HEAVY GUN'!H79","v":0},{"$f":"'HEAVY GUN'!I79","v":0},0,"99",53,"DQ",null,{"$f":"'TACTICAL GUN'!B79","v":0},{"$f":"'TACTICAL GUN'!G79","v":0},{"$f":"'TACTICAL GUN'!H79","v":0},{"$f":"'TACTICAL GUN'!I79","v":0},0,"99",53,"DQ"]
[54,"target 1",{"$f":"IF('Competitor List'!J59=\"Y\",'Competitor List'!B59,\" \")","v":" "},{"$f":"'LIGHT GUN'!G80","v":0},{"$f":"'LIGHT GUN'!H80","v":0},{"$f":"'LIGHT GUN'!I80","v":0},0,"99",54,"DQ",null,{"$f":"IF('Competitor List'!K59=\"Y\",'Competitor List'!C59,\" \")","v":" "},{"$f":"'HEAVY GUN'!G80","v":0},{"$f":"'HEAVY GUN'!H80","v":0},{"$f":"'HEAVY GUN'!I80","v":0},0,"99",54,"DQ",null,{"$f":"'TACTICAL GUN'!B80","v":0},{"$f":"'TACTICAL GUN'!G80","v":0},{"$f":"'TACTICAL GUN'!H80","v":0},{"$f":"'TACTICAL GUN'!I80","v":0},0,"99",54,"DQ"]
[55,"target 1",{"$f":"IF('Competitor List'!J60=\"Y\",'Competitor List'!B60,\" \")","v":" "},{"$f":"'LIGHT GUN'!G81","v":0},{"$f":"'LIGHT GUN'!H81","v":0},{"$f":"'LIGHT GUN'!I81","v":0},0,"99",55,"DQ",null,{"$f":"IF('Competitor List'!K60=\"Y\",'Competitor List'!C60,\" \")","v":" "},{"$f":"'HEAVY GUN'!G81","v":0},{"$f":"'HEAVY GUN'!H81","v":0},{"$f":"'HEAVY GUN'!I81","v":0},0,"99",55,"DQ",null,{"$f":"'TACTICAL GUN'!B81","v":0},{"$f":"'TACTICAL GUN'!G81","v":0},{"$f":"'TACTICAL GUN'!H81","v":0},{"$f":"'TACTICAL GUN'!I81","v":0},0,"99",55,"DQ"]
[56,"target 1",{"$f":"IF('Competitor List'!J61=\"Y\",'Competitor List'!B61,\" \")","v":" "},{"$f":"'LIGHT GUN'!G82","v":0},{"$f":"'LIGHT GUN'!H82","v":0},{"$f":"'LIGHT GUN'!I82","v":0},0,"99",56,"DQ",null,{"$f":"IF('Competitor List'!K61=\"Y\",'Competitor List'!C61,\" \")","v":" "},{"$f":"'HEAVY GUN'!G82","v":0},{"$f":"'HEAVY GUN'!H82","v":0},{"$f":"'HEAVY GUN'!I82","v":0},0,"99",56,"DQ",null,{"$f":"'TACTICAL GUN'!B82","v":0},{"$f":"'TACTICAL GUN'!G82","v":0},{"$f":"'TACTICAL GUN'!H82","v":0},{"$f":"'TACTICAL GUN'!I82","v":0},0,"99",56,"DQ"]
[57,"target 1",{"$f":"IF('Competitor List'!J62=\"Y\",'Competitor List'!B62,\" \")","v":" "},{"$f":"'LIGHT GUN'!G83","v":0},{"$f":"'LIGHT GUN'!H83","v":0},{"$f":"'LIGHT GUN'!I83","v":0},0,"99",57,"DQ",null,{"$f":"IF('Competitor List'!K62=\"Y\",'Competitor List'!C62,\" \")","v":" "},{"$f":"'HEAVY GUN'!G83","v":0},{"$f":"'HEAVY GUN'!H83","v":0},{"$f":"'HEAVY GUN'!I83","v":0},0,"99",57,"DQ",null,{"$f":"'TACTICAL GUN'!B83","v":0},{"$f":"'TACTICAL GUN'!G83","v":0},{"$f":"'TACTICAL GUN'!H83","v":0},{"$f":"'TACTICAL GUN'!I83","v":0},0,"99",57,"DQ"]
[58,"target 1",{"$f":"IF('Competitor List'!J63=\"Y\",'Competitor List'!B63,\" \")","v":" "},{"$f":"'LIGHT GUN'!G84","v":0},{"$f":"'LIGHT GUN'!H84","v":0},{"$f":"'LIGHT GUN'!I84","v":0},0,"99",58,"DQ",null,{"$f":"IF('Competitor List'!K63=\"Y\",'Competitor List'!C63,\" \")","v":" "},{"$f":"'HEAVY GUN'!G84","v":0},{"$f":"'HEAVY GUN'!H84","v":0},{"$f":"'HEAVY GUN'!I84","v":0},0,"99",58,"DQ",null,{"$f":"'TACTICAL GUN'!B84","v":0},{"$f":"'TACTICAL GUN'!G84","v":0},{"$f":"'TACTICAL GUN'!H84","v":0},{"$f":"'TACTICAL GUN'!I84","v":0},0,"99",58,"DQ"]
[59,"target 1",{"$f":"IF('Competitor List'!J64=\"Y\",'Competitor List'!B64,\" \")","v":" "},{"$f":"'LIGHT GUN'!G85","v":0},{"$f":"'LIGHT GUN'!H85","v":0},{"$f":"'LIGHT GUN'!I85","v":0},0,"99",59,"DQ",null,{"$f":"IF('Competitor List'!K64=\"Y\",'Competitor List'!C64,\" \")","v":" "},{"$f":"'HEAVY GUN'!G85","v":0},{"$f":"'HEAVY GUN'!H85","v":0},{"$f":"'HEAVY GUN'!I85","v":0},0,"99",59,"DQ",null,{"$f":"'TACTICAL GUN'!B85","v":0},{"$f":"'TACTICAL GUN'!G85","v":0},{"$f":"'TACTICAL GUN'!H85","v":0},{"$f":"'TACTICAL GUN'!I85","v":0},0,"99",59,"DQ"]
[60,"target 1",{"$f":"IF('Competitor List'!J65=\"Y\",'Competitor List'!B65,\" \")","v":" "},{"$f":"'LIGHT GUN'!G86","v":0},{"$f":"'LIGHT GUN'!H86","v":0},{"$f":"'LIGHT GUN'!I86","v":0},0,"99",60,"DQ",null,{"$f":"IF('Competitor List'!K65=\"Y\",'Competitor List'!C65,\" \")","v":" "},{"$f":"'HEAVY GUN'!G86","v":0},{"$f":"'HEAVY GUN'!H86","v":0},{"$f":"'HEAVY GUN'!I86","v":0},0,"99",60,"DQ",null,{"$f":"'TACTICAL GUN'!B86","v":0},{"$f":"'TACTICAL GUN'!G86","v":0},{"$f":"'TACTICAL GUN'!H86","v":0},{"$f":"'TACTICAL GUN'!I86","v":0},0,"99",60,"DQ"]
[61,"target 1",{"$f":"IF('Competitor List'!J66=\"Y\",'Competitor List'!B66,\" \")","v":" "},{"$f":"'LIGHT GUN'!G87","v":0},{"$f":"'LIGHT GUN'!H87","v":0},{"$f":"'LIGHT GUN'!I87","v":0},0,"99",61,"DQ",null,{"$f":"IF('Competitor List'!K66=\"Y\",'Competitor List'!C66,\" \")","v":" "},{"$f":"'HEAVY GUN'!G87","v":0},{"$f":"'HEAVY GUN'!H87","v":0},{"$f":"'HEAVY GUN'!I87","v":0},0,"99",61,"DQ",null,{"$f":"'TACTICAL GUN'!B87","v":0},{"$f":"'TACTICAL GUN'!G87","v":0},{"$f":"'TACTICAL GUN'!H87","v":0},{"$f":"'TACTICAL GUN'!I87","v":0},0,"99",61,"DQ"]
[62,"target 1",{"$f":"IF('Competitor List'!J67=\"Y\",'Competitor List'!B67,\" \")","v":" "},{"$f":"'LIGHT GUN'!G88","v":0},{"$f":"'LIGHT GUN'!H88","v":0},{"$f":"'LIGHT GUN'!I88","v":0},0,"99",62,"DQ",null,{"$f":"IF('Competitor List'!K67=\"Y\",'Competitor List'!C67,\" \")","v":" "},{"$f":"'HEAVY GUN'!G88","v":0},{"$f":"'HEAVY GUN'!H88","v":0},{"$f":"'HEAVY GUN'!I88","v":0},0,"99",62,"DQ",null,{"$f":"'TACTICAL GUN'!B88","v":0},{"$f":"'TACTICAL GUN'!G88","v":0},{"$f":"'TACTICAL GUN'!H88","v":0},{"$f":"'TACTICAL GUN'!I88","v":0},0,"99",62,"DQ"]
[63,"target 1",{"$f":"IF('Competitor List'!J68=\"Y\",'Competitor List'!B68,\" \")","v":" "},{"$f":"'LIGHT GUN'!G89","v":0},{"$f":"'LIGHT GUN'!H89","v":0},{"$f":"'LIGHT GUN'!I89","v":0},0,"99",63,"DQ",null,{"$f":"IF('Competitor List'!K68=\"Y\",'Competitor List'!C68,\" \")","v":" "},{"$f":"'HEAVY GUN'!G89","v":0},{"$f":"'HEAVY GUN'!H89","v":0},{"$f":"'HEAVY GUN'!I89","v":0},0,"99",63,"DQ",null,{"$f":"'TACTICAL GUN'!B89","v":0},{"$f":"'TACTICAL GUN'!G89","v":0},{"$f":"'TACTICAL GUN'!H89","v":0},{"$f":"'TACTICAL GUN'!I89","v":0},0,"99",63,"DQ"]
[64,"target 1",{"$f":"IF('Competitor List'!J69=\"Y\",'Competitor List'!B69,\" \")","v":" "},{"$f":"'LIGHT GUN'!G90","v":0},{"$f":"'LIGHT GUN'!H90","v":0},{"$f":"'LIGHT GUN'!I90","v":0},0,"99",64,"DQ",null,{"$f":"IF('Competitor List'!K69=\"Y\",'Competitor List'!C69,\" \")","v":" "},{"$f":"'HEAVY GUN'!G90","v":0},{"$f":"'HEAVY GUN'!H90","v":0},{"$f":"'HEAVY GUN'!I90","v":0},0,"99",64,"DQ",null,{"$f":"'TACTICAL GUN'!B90","v":0},{"$f":"'TACTICAL GUN'!G90","v":0},{"$f":"'TACTICAL GUN'!H90","v":0},{"$f":"'TACTICAL GUN'!I90","v":0},0,"99",64,"DQ"]
[65,"target 1",{"$f":"IF('Competitor List'!J70=\"Y\",'Competitor List'!B70,\" \")","v":" "},{"$f":"'LIGHT GUN'!G91","v":0},{"$f":"'LIGHT GUN'!H91","v":0},{"$f":"'LIGHT GUN'!I91","v":0},0,"99",65,"DQ",null,{"$f":"IF('Competitor List'!K70=\"Y\",'Competitor List'!C70,\" \")","v":" "},{"$f":"'HEAVY GUN'!G91","v":0},{"$f":"'HEAVY GUN'!H91","v":0},{"$f":"'HEAVY GUN'!I91","v":0},0,"99",65,"DQ",null,{"$f":"'TACTICAL GUN'!B91","v":0},{"$f":"'TACTICAL GUN'!G91","v":0},{"$f":"'TACTICAL GUN'!H91","v":0},{"$f":"'TACTICAL GUN'!I91","v":0},0,"99",65,"DQ"]
[66,"target 1",{"$f":"IF('Competitor List'!J71=\"Y\",'Competitor List'!B71,\" \")","v":" "},{"$f":"'LIGHT GUN'!G92","v":0},{"$f":"'LIGHT GUN'!H92","v":0},{"$f":"'LIGHT GUN'!I92","v":0},{"$f":"IF(ISNUMBER(F72),SUM(F72),\"99\")","v":0},{"$f":"IF(G72=0,\"99\",G72)","v":"99"},{"$f":" IF(AND(ISNUMBER(D72)),RANK(D72,$D$7:$D$606,0)+SUMPRODUCT(($D$7:$D$606=D72)*($F$7:$F$606<F72))+SUMPRODUCT(($D$7:$D$606=D72)*($F$7:$F$606=F72)*($E$7:$E$606>E72))+SUMPRODUCT(($D$7:$D$606=D72)*($F$7:$F$606=F72)*($E$7:$E$606=E72)*($A$7:$A$606<A72)),\"DQ\")","v":66},{"$f":" IF(AND(ISNUMBER(H72)),RANK(H72,$H$7:$H$606,1)+SUMPRODUCT(($H$7:$H$606=H72)*($D$7:$D$606>D72))+SUMPRODUCT(($H$7:$H$606=H72)*($D$7:$D$606=D72)*($E$7:$E$606>E72))+SUMPRODUCT(($H$7:$H$606=H72)*($D$7:$D$606=D72)*($E$7:$E$606=E72)*($A$7:$A$606<A72)),\"DQ\")","v":"DQ"},null,{"$f":"IF('Competitor List'!K71=\"Y\",'Competitor List'!C71,\" \")","v":" "},{"$f":"'HEAVY GUN'!G92","v":0},{"$f":"'HEAVY GUN'!H92","v":0},{"$f":"'HEAVY GUN'!I92","v":0},{"$f":"IF(ISNUMBER(O72),SUM(O72),\"99\")","v":0},{"$f":"IF(P72=0,\"99\",P72)","v":"99"},{"$f":" IF(AND(ISNUMBER(M72)),RANK(M72,$M$7:$M$606,0)+SUMPRODUCT(($M$7:$M$606=M72)*($O$7:$O$606<O72))+SUMPRODUCT(($M$7:$M$606=M72)*($O$7:$O$606=O72)*($N$7:$N$606>N72))+SUMPRODUCT(($M$7:$M$606=M72)*($O$7:$O$606=O72)*($N$7:$N$606=N72)*($A$7:$A$606<A72)),\"DQ\")","v":66},{"$f":" IF(AND(Q72>0,ISNUMBER(Q72)),RANK(Q72,$Q$7:$Q$606,1)+SUMPRODUCT(($Q$7:$Q$606=Q72)*($M$7:$M$606>M72))+SUMPRODUCT(($Q$7:$Q$606=Q72)*($M$7:$M$606=M72)*($N$7:$N$606>N72))+SUMPRODUCT(($Q$7:$Q$606=Q72)*($M$7:$M$606=M72)*($N$7:$N$606=N72)*($A$7:$A$606<A72)),\"DQ\")","v":"DQ"},null,{"$f":"'TACTICAL GUN'!B92","v":0},{"$f":"'TACTICAL GUN'!G92","v":0},{"$f":"'TACTICAL GUN'!H92","v":0},{"$f":"'TACTICAL GUN'!I92","v":0},{"$f":"IF(ISNUMBER(X72),SUM(X72),\"99\")","v":0},{"$f":"IF(Y72=0,\"99\",Y72)","v":"99"},{"$f":" IF(AND(ISNUMBER(V72)),RANK(V72,$V$7:$V$606,0)+SUMPRODUCT(($V$7:$V$606=V72)*($X$7:$X$606<X72))+SUMPRODUCT(($V$7:$V$606=V72)*($X$7:$X$606=X72)*($W$7:$W$606>W72))+SUMPRODUCT(($V$7:$V$606=V72)*($X$7:$X$606=X72)*($W$7:$W$606=W72)*($A$7:$A$606<A72)),\"DQ\")","v":66},{"$f":" IF(AND(Z72>0,ISNUMBER(Z72)),RANK(Z72,$Z$7:$Z$606,1)+SUMPRODUCT(($Z$7:$Z$606=Z72)*($V$7:$V$606>V72))+SUMPRODUCT(($Z$7:$Z$606=Z72)*($V$7:$V$606=V72)*($W$7:$W$606>W72))+SUMPRODUCT(($Z$7:$Z$606=Z72)*($V$7:$V$606=V72)*($W$7:$W$606=W72)*($A$7:$A$606<A72)),\"DQ\")","v":"DQ"}]
[67,"target 1",{"$f":"IF('Competitor List'!J72=\"Y\",'Competitor List'!B72,\" \")","v":" "},{"$f":"'LIGHT GUN'!G93","v":0},{"$f":"'LIGHT GUN'!H93","v":0},{"$f":"'LIGHT GUN'!I93","v":0},0,"99",67,"DQ",null,{"$f":"IF('Competitor List'!K72=\"Y\",'Competitor List'!C72,\" \")","v":" "},{"$f":"'HEAVY GUN'!G93","v":0},{"$f":"'HEAVY GUN'!H93","v":0},{"$f":"'HEAVY GUN'!I93","v":0},0,"99",67,"DQ",null,{"$f":"'TACTICAL GUN'!B93","v":0},{"$f":"'TACTICAL GUN'!G93","v":0},{"$f":"'TACTICAL GUN'!H93","v":0},{"$f":"'TACTICAL GUN'!I93","v":0},0,"99",67,"DQ"]
[68,"target 1",{"$f":"IF('Competitor List'!J73=\"Y\",'Competitor List'!B73,\" \")","v":" "},{"$f":"'LIGHT GUN'!G94","v":0},{"$f":"'LIGHT GUN'!H94","v":0},{"$f":"'LIGHT GUN'!I94","v":0},0,"99",68,"DQ",null,{"$f":"IF('Competitor List'!K73=\"Y\",'Competitor List'!C73,\" \")","v":" "},{"$f":"'HEAVY GUN'!G94","v":0},{"$f":"'HEAVY GUN'!H94","v":0},{"$f":"'HEAVY GUN'!I94","v":0},0,"99",68,"DQ",null,{"$f":"'TACTICAL GUN'!B94","v":0},{"$f":"'TACTICAL GUN'!G94","v":0},{"$f":"'TACTICAL GUN'!H94","v":0},{"$f":"'TACTICAL GUN'!I94","v":0},0,"99",68,"DQ"]
[69,"target 1",{"$f":"IF('Competitor List'!J74=\"Y\",'Competitor List'!B74,\" \")","v":" "},{"$f":"'LIGHT GUN'!G95","v":0},{"$f":"'LIGHT GUN'!H95","v":0},{"$f":"'LIGHT GUN'!I95","v":0},0,"99",69,"DQ",null,{"$f":"IF('Competitor List'!K74=\"Y\",'Competitor List'!C74,\" \")","v":" "},{"$f":"'HEAVY GUN'!G95","v":0},{"$f":"'HEAVY GUN'!H95","v":0},{"$f":"'HEAVY GUN'!I95","v":0},0,"99",69,"DQ",null,{"$f":"'TACTICAL GUN'!B95","v":0},{"$f":"'TACTICAL GUN'!G95","v":0},{"$f":"'TACTICAL GUN'!H95","v":0},{"$f":"'TACTICAL GUN'!I95","v":0},0,"99",69,"DQ"]
[70,"target 1",{"$f":"IF('Competitor List'!J75=\"Y\",'Competitor List'!B75,\" \")","v":" "},{"$f":"'LIGHT GUN'!G96","v":0},{"$f":"'LIGHT GUN'!H96","v":0},{"$f":"'LIGHT GUN'!I96","v":0},0,"99",70,"DQ",null,{"$f":"IF('Competitor List'!K75=\"Y\",'Competitor List'!C75,\" \")","v":" "},{"$f":"'HEAVY GUN'!G96","v":0},{"$f":"'HEAVY GUN'!H96","v":0},{"$f":"'HEAVY GUN'!I96","v":0},0,"99",70,"DQ",null,{"$f":"'TACTICAL GUN'!B96","v":0},{"$f":"'TACTICAL GUN'!G96","v":0},{"$f":"'TACTICAL GUN'!H96","v":0},{"$f":"'TACTICAL GUN'!I96","v":0},0,"99",70,"DQ"]
[71,"target 1",{"$f":"IF('Competitor List'!J76=\"Y\",'Competitor List'!B76,\" \")","v":" "},{"$f":"'LIGHT GUN'!G97","v":0},{"$f":"'LIGHT GUN'!H97","v":0},{"$f":"'LIGHT GUN'!I97","v":0},0,"99",71,"DQ",null,{"$f":"IF('Competitor List'!K76=\"Y\",'Competitor List'!C76,\" \")","v":" "},{"$f":"'HEAVY GUN'!G97","v":0},{"$f":"'HEAVY GUN'!H97","v":0},{"$f":"'HEAVY GUN'!I97","v":0},0,"99",71,"DQ",null,{"$f":"'TACTICAL GUN'!B97","v":0},{"$f":"'TACTICAL GUN'!G97","v":0},{"$f":"'TACTICAL GUN'!H97","v":0},{"$f":"'TACTICAL GUN'!I97","v":0},0,"99",71,"DQ"]
[72,"target 1",{"$f":"IF('Competitor List'!J77=\"Y\",'Competitor List'!B77,\" \")","v":" "},{"$f":"'LIGHT GUN'!G98","v":0},{"$f":"'LIGHT GUN'!H98","v":0},{"$f":"'LIGHT GUN'!I98","v":0},0,"99",72,"DQ",null,{"$f":"IF('Competitor List'!K77=\"Y\",'Competitor List'!C77,\" \")","v":" "},{"$f":"'HEAVY GUN'!G98","v":0},{"$f":"'HEAVY GUN'!H98","v":0},{"$f":"'HEAVY GUN'!I98","v":0},0,"99",72,"DQ",null,{"$f":"'TACTICAL GUN'!B98","v":0},{"$f":"'TACTICAL GUN'!G98","v":0},{"$f":"'TACTICAL GUN'!H98","v":0},{"$f":"'TACTICAL GUN'!I98","v":0},0,"99",72,"DQ"]
[73,"target 1",{"$f":"IF('Competitor List'!J78=\"Y\",'Competitor List'!B78,\" \")","v":" "},{"$f":"'LIGHT GUN'!G99","v":0},{"$f":"'LIGHT GUN'!H99","v":0},{"$f":"'LIGHT GUN'!I99","v":0},0,"99",73,"DQ",null,{"$f":"IF('Competitor List'!K78=\"Y\",'Competitor List'!C78,\" \")","v":" "},{"$f":"'HEAVY GUN'!G99","v":0},{"$f":"'HEAVY GUN'!H99","v":0},{"$f":"'HEAVY GUN'!I99","v":0},0,"99",73,"DQ",null,{"$f":"'TACTICAL GUN'!B99","v":0},{"$f":"'TACTICAL GUN'!G99","v":0},{"$f":"'TACTICAL GUN'!H99","v":0},{"$f":"'TACTICAL GUN'!I99","v":0},0,"99",73,"DQ"]
[74,"target 1",{"$f":"IF('Competitor List'!J79=\"Y\",'Competitor List'!B79,\" \")","v":" "},{"$f":"'LIGHT GUN'!G100","v":0},{"$f":"'LIGHT GUN'!H100","v":0},{"$f":"'LIGHT GUN'!I100","v":0},0,"99",74,"DQ",null,{"$f":"IF('Competitor List'!K79=\"Y\",'Competitor List'!C79,\" \")","v":" "},{"$f":"'HEAVY GUN'!G100","v":0},{"$f":"'HEAVY GUN'!H100","v":0},{"$f":"'HEAVY GUN'!I100","v":0},0,"99",74,"DQ",null,{"$f":"'TACTICAL GUN'!B100","v":0},{"$f":"'TACTICAL GUN'!G100","v":0},{"$f":"'TACTICAL GUN'!H100","v":0},{"$f":"'TACTICAL GUN'!I100","v":0},0,"99",74,"DQ"]
[75,"target 1",{"$f":"IF('Competitor List'!J80=\"Y\",'Competitor List'!B80,\" \")","v":" "},{"$f":"'LIGHT GUN'!G101","v":0},{"$f":"'LIGHT GUN'!H101","v":0},{"$f":"'LIGHT GUN'!I101","v":0},0,"99",75,"DQ",null,{"$f":"IF('Competitor List'!K80=\"Y\",'Competitor List'!C80,\" \")","v":" "},{"$f":"'HEAVY GUN'!G101","v":0},{"$f":"'HEAVY GUN'!H101","v":0},{"$f":"'HEAVY GUN'!I101","v":0},0,"99",75,"DQ",null,{"$f":"'TACTICAL GUN'!B101","v":0},{"$f":"'TACTICAL GUN'!G101","v":0},{"$f":"'TACTICAL GUN'!H101","v":0},{"$f":"'TACTICAL GUN'!I101","v":0},0,"99",75,"DQ"]
[76,"target 1",{"$f":"IF('Competitor List'!J81=\"Y\",'Competitor List'!B81,\" \")","v":" "},{"$f":"'LIGHT GUN'!G102","v":0},{"$f":"'LIGHT GUN'!H102","v":0},{"$f":"'LIGHT GUN'!I102","v":0},0,"99",76,"DQ",null,{"$f":"IF('Competitor List'!K81=\"Y\",'Competitor List'!C81,\" \")","v":" "},{"$f":"'HEAVY GUN'!G102","v":0},{"$f":"'HEAVY GUN'!H102","v":0},{"$f":"'HEAVY GUN'!I102","v":0},0,"99",76,"DQ",null,{"$f":"'TACTICAL GUN'!B102","v":0},{"$f":"'TACTICAL GUN'!G102","v":0},{"$f":"'TACTICAL GUN'!H102","v":0},{"$f":"'TACTICAL GUN'!I102","v":0},0,"99",76,"DQ"]
[77,"target 1",{"$f":"IF('Competitor List'!J82=\"Y\",'Competitor List'!B82,\" \")","v":" "},{"$f":"'LIGHT GUN'!G103","v":0},{"$f":"'LIGHT GUN'!H103","v":0},{"$f":"'LIGHT GUN'!I103","v":0},0,"99",77,"DQ",null,{"$f":"IF('Competitor List'!K82=\"Y\",'Competitor List'!C82,\" \")","v":" "},{"$f":"'HEAVY GUN'!G103","v":0},{"$f":"'HEAVY GUN'!H103","v":0},{"$f":"'HEAVY GUN'!I103","v":0},0,"99",77,"DQ",null,{"$f":"'TACTICAL GUN'!B103","v":0},{"$f":"'TACTICAL GUN'!G103","v":0},{"$f":"'TACTICAL GUN'!H103","v":0},{"$f":"'TACTICAL GUN'!I103","v":0},0,"99",77,"DQ"]
[78,"target 1",{"$f":"IF('Competitor List'!J83=\"Y\",'Competitor List'!B83,\" \")","v":" "},{"$f":"'LIGHT GUN'!G104","v":0},{"$f":"'LIGHT GUN'!H104","v":0},{"$f":"'LIGHT GUN'!I104","v":0},0,"99",78,"DQ",null,{"$f":"IF('Competitor List'!K83=\"Y\",'Competitor List'!C83,\" \")","v":" "},{"$f":"'HEAVY GUN'!G104","v":0},{"$f":"'HEAVY GUN'!H104","v":0},{"$f":"'HEAVY GUN'!I104","v":0},0,"99",78,"DQ",null,{"$f":"'TACTICAL GUN'!B104","v":0},{"$f":"'TACTICAL GUN'!G104","v":0},{"$f":"'TACTICAL GUN'!H104","v":0},{"$f":"'TACTICAL GUN'!I104","v":0},0,"99",78,"DQ"]
[79,"target 1",{"$f":"IF('Competitor List'!J84=\"Y\",'Competitor List'!B84,\" \")","v":" "},{"$f":"'LIGHT GUN'!G105","v":0},{"$f":"'LIGHT GUN'!H105","v":0},{"$f":"'LIGHT GUN'!I105","v":0},0,"99",79,"DQ",null,{"$f":"IF('Competitor List'!K84=\"Y\",'Competitor List'!C84,\" \")","v":" "},{"$f":"'HEAVY GUN'!G105","v":0},{"$f":"'HEAVY GUN'!H105","v":0},{"$f":"'HEAVY GUN'!I105","v":0},0,"99",79,"DQ",null,{"$f":"'TACTICAL GUN'!B105","v":0},{"$f":"'TACTICAL GUN'!G105","v":0},{"$f":"'TACTICAL GUN'!H105","v":0},{"$f":"'TACTICAL GUN'!I105","v":0},0,"99",79,"DQ"]
[80,"target 1",{"$f":"IF('Competitor List'!J85=\"Y\",'Competitor List'!B85,\" \")","v":" "},{"$f":"'LIGHT GUN'!G106","v":0},{"$f":"'LIGHT GUN'!H106","v":0},{"$f":"'LIGHT GUN'!I106","v":0},0,"99",80,"DQ",null,{"$f":"IF('Competitor List'!K85=\"Y\",'Competitor List'!C85,\" \")","v":" "},{"$f":"'HEAVY GUN'!G106","v":0},{"$f":"'HEAVY GUN'!H106","v":0},{"$f":"'HEAVY GUN'!I106","v":0},0,"99",80,"DQ",null,{"$f":"'TACTICAL GUN'!B106","v":0},{"$f":"'TACTICAL GUN'!G106","v":0},{"$f":"'TACTICAL GUN'!H106","v":0},{"$f":"'TACTICAL GUN'!I106","v":0},0,"99",80,"DQ"]
[81,"target 1",{"$f":"IF('Competitor List'!J86=\"Y\",'Competitor List'!B86,\" \")","v":" "},{"$f":"'LIGHT GUN'!G107","v":0},{"$f":"'LIGHT GUN'!H107","v":0},{"$f":"'LIGHT GUN'!I107","v":0},0,"99",81,"DQ",null,{"$f":"IF('Competitor List'!K86=\"Y\",'Competitor List'!C86,\" \")","v":" "},{"$f":"'HEAVY GUN'!G107","v":0},{"$f":"'HEAVY GUN'!H107","v":0},{"$f":"'HEAVY GUN'!I107","v":0},0,"99",81,"DQ",null,{"$f":"'TACTICAL GUN'!B107","v":0},{"$f":"'TACTICAL GUN'!G107","v":0},{"$f":"'TACTICAL GUN'!H107","v":0},{"$f":"'TACTICAL GUN'!I107","v":0},0,"99",81,"DQ"]
[82,"target 1",{"$f":"IF('Competitor List'!J87=\"Y\",'Competitor List'!B87,\" \")","v":" "},{"$f":"'LIGHT GUN'!G108","v":0},{"$f":"'LIGHT GUN'!H108","v":0},{"$f":"'LIGHT GUN'!I108","v":0},0,"99",82,"DQ",null,{"$f":"IF('Competitor List'!K87=\"Y\",'Competitor List'!C87,\" \")","v":" "},{"$f":"'HEAVY GUN'!G108","v":0},{"$f":"'HEAVY GUN'!H108","v":0},{"$f":"'HEAVY GUN'!I108","v":0},0,"99",82,"DQ",null,{"$f":"'TACTICAL GUN'!B108","v":0},{"$f":"'TACTICAL GUN'!G108","v":0},{"$f":"'TACTICAL GUN'!H108","v":0},{"$f":"'TACTICAL GUN'!I108","v":0},0,"99",82,"DQ"]
[83,"target 1",{"$f":"IF('Competitor List'!J88=\"Y\",'Competitor List'!B88,\" \")","v":" "},{"$f":"'LIGHT GUN'!G109","v":0},{"$f":"'LIGHT GUN'!H109","v":0},{"$f":"'LIGHT GUN'!I109","v":0},0,"99",83,"DQ",null,{"$f":"IF('Competitor List'!K88=\"Y\",'Competitor List'!C88,\" \")","v":" "},{"$f":"'HEAVY GUN'!G109","v":0},{"$f":"'HEAVY GUN'!H109","v":0},{"$f":"'HEAVY GUN'!I109","v":0},0,"99",83,"DQ",null,{"$f":"'TACTICAL GUN'!B109","v":0},{"$f":"'TACTICAL GUN'!G109","v":0},{"$f":"'TACTICAL GUN'!H109","v":0},{"$f":"'TACTICAL GUN'!I109","v":0},0,"99",83,"DQ"]
[84,"target 1",{"$f":"IF('Competitor List'!J89=\"Y\",'Competitor List'!B89,\" \")","v":" "},{"$f":"'LIGHT GUN'!G110","v":0},{"$f":"'LIGHT GUN'!H110","v":0},{"$f":"'LIGHT GUN'!I110","v":0},0,"99",84,"DQ",null,{"$f":"IF('Competitor List'!K89=\"Y\",'Competitor List'!C89,\" \")","v":" "},{"$f":"'HEAVY GUN'!G110","v":0},{"$f":"'HEAVY GUN'!H110","v":0},{"$f":"'HEAVY GUN'!I110","v":0},0,"99",84,"DQ",null,{"$f":"'TACTICAL GUN'!B110","v":0},{"$f":"'TACTICAL GUN'!G110","v":0},{"$f":"'TACTICAL GUN'!H110","v":0},{"$f":"'TACTICAL GUN'!I110","v":0},0,"99",84,"DQ"]
[85,"target 1",{"$f":"IF('Competitor List'!J90=\"Y\",'Competitor List'!B90,\" \")","v":" "},{"$f":"'LIGHT GUN'!G111","v":0},{"$f":"'LIGHT GUN'!H111","v":0},{"$f":"'LIGHT GUN'!I111","v":0},0,"99",85,"DQ",null,{"$f":"IF('Competitor List'!K90=\"Y\",'Competitor List'!C90,\" \")","v":" "},{"$f":"'HEAVY GUN'!G111","v":0},{"$f":"'HEAVY GUN'!H111","v":0},{"$f":"'HEAVY GUN'!I111","v":0},0,"99",85,"DQ",null,{"$f":"'TACTICAL GUN'!B111","v":0},{"$f":"'TACTICAL GUN'!G111","v":0},{"$f":"'TACTICAL GUN'!H111","v":0},{"$f":"'TACTICAL GUN'!I111","v":0},0,"99",85,"DQ"]
[86,"target 1",{"$f":"IF('Competitor List'!J91=\"Y\",'Competitor List'!B91,\" \")","v":" "},{"$f":"'LIGHT GUN'!G112","v":0},{"$f":"'LIGHT GUN'!H112","v":0},{"$f":"'LIGHT GUN'!I112","v":0},0,"99",86,"DQ",null,{"$f":"IF('Competitor List'!K91=\"Y\",'Competitor List'!C91,\" \")","v":" "},{"$f":"'HEAVY GUN'!G112","v":0},{"$f":"'HEAVY GUN'!H112","v":0},{"$f":"'HEAVY GUN'!I112","v":0},0,"99",86,"DQ",null,{"$f":"'TACTICAL GUN'!B112","v":0},{"$f":"'TACTICAL GUN'!G112","v":0},{"$f":"'TACTICAL GUN'!H112","v":0},{"$f":"'TACTICAL GUN'!I112","v":0},0,"99",86,"DQ"]
[87,"target 1",{"$f":"IF('Competitor List'!J92=\"Y\",'Competitor List'!B92,\" \")","v":" "},{"$f":"'LIGHT GUN'!G113","v":0},{"$f":"'LIGHT GUN'!H113","v":0},{"$f":"'LIGHT GUN'!I113","v":0},0,"99",87,"DQ",null,{"$f":"IF('Competitor List'!K92=\"Y\",'Competitor List'!C92,\" \")","v":" "},{"$f":"'HEAVY GUN'!G113","v":0},{"$f":"'HEAVY GUN'!H113","v":0},{"$f":"'HEAVY GUN'!I113","v":0},0,"99",87,"DQ",null,{"$f":"'TACTICAL GUN'!B113","v":0},{"$f":"'TACTICAL GUN'!G113","v":0},{"$f":"'TACTICAL GUN'!H113","v":0},{"$f":"'TACTICAL GUN'!I113","v":0},0,"99",87,"DQ"]
[88,"target 1",{"$f":"IF('Competitor List'!J93=\"Y\",'Competitor List'!B93,\" \")","v":" "},{"$f":"'LIGHT GUN'!G114","v":0},{"$f":"'LIGHT GUN'!H114","v":0},{"$f":"'LIGHT GUN'!I114","v":0},0,"99",88,"DQ",null,{"$f":"IF('Competitor List'!K93=\"Y\",'Competitor List'!C93,\" \")","v":" "},{"$f":"'HEAVY GUN'!G114","v":0},{"$f":"'HEAVY GUN'!H114","v":0},{"$f":"'HEAVY GUN'!I114","v":0},0,"99",88,"DQ",null,{"$f":"'TACTICAL GUN'!B114","v":0},{"$f":"'TACTICAL GUN'!G114","v":0},{"$f":"'TACTICAL GUN'!H114","v":0},{"$f":"'TACTICAL GUN'!I114","v":0},0,"99",88,"DQ"]
[89,"target 1",{"$f":"IF('Competitor List'!J94=\"Y\",'Competitor List'!B94,\" \")","v":" "},{"$f":"'LIGHT GUN'!G115","v":0},{"$f":"'LIGHT GUN'!H115","v":0},{"$f":"'LIGHT GUN'!I115","v":0},0,"99",89,"DQ",null,{"$f":"IF('Competitor List'!K94=\"Y\",'Competitor List'!C94,\" \")","v":" "},{"$f":"'HEAVY GUN'!G115","v":0},{"$f":"'HEAVY GUN'!H115","v":0},{"$f":"'HEAVY GUN'!I115","v":0},0,"99",89,"DQ",null,{"$f":"'TACTICAL GUN'!B115","v":0},{"$f":"'TACTICAL GUN'!G115","v":0},{"$f":"'TACTICAL GUN'!H115","v":0},{"$f":"'TACTICAL GUN'!I115","v":0},0,"99",89,"DQ"]
[90,"target 1",{"$f":"IF('Competitor List'!J95=\"Y\",'Competitor List'!B95,\" \")","v":" "},{"$f":"'LIGHT GUN'!G116","v":0},{"$f":"'LIGHT GUN'!H116","v":0},{"$f":"'LIGHT GUN'!I116","v":0},0,"99",90,"DQ",null,{"$f":"IF('Competitor List'!K95=\"Y\",'Competitor List'!C95,\" \")","v":" "},{"$f":"'HEAVY GUN'!G116","v":0},{"$f":"'HEAVY GUN'!H116","v":0},{"$f":"'HEAVY GUN'!I116","v":0},0,"99",90,"DQ",null,{"$f":"'TACTICAL GUN'!B116","v":0},{"$f":"'TACTICAL GUN'!G116","v":0},{"$f":"'TACTICAL GUN'!H116","v":0},{"$f":"'TACTICAL GUN'!I116","v":0},0,"99",90,"DQ"]
[91,"target 1",{"$f":"IF('Competitor List'!J96=\"Y\",'Competitor List'!B96,\" \")","v":" "},{"$f":"'LIGHT GUN'!G117","v":0},{"$f":"'LIGHT GUN'!H117","v":0},{"$f":"'LIGHT GUN'!I117","v":0},0,"99",91,"DQ",null,{"$f":"IF('Competitor List'!K96=\"Y\",'Competitor List'!C96,\" \")","v":" "},{"$f":"'HEAVY GUN'!G117","v":0},{"$f":"'HEAVY GUN'!H117","v":0},{"$f":"'HEAVY GUN'!I117","v":0},0,"99",91,"DQ",null,{"$f":"'TACTICAL GUN'!B117","v":0},{"$f":"'TACTICAL GUN'!G117","v":0},{"$f":"'TACTICAL GUN'!H117","v":0},{"$f":"'TACTICAL GUN'!I117","v":0},0,"99",91,"DQ"]
[92,"target 1",{"$f":"IF('Competitor List'!J97=\"Y\",'Competitor List'!B97,\" \")","v":" "},{"$f":"'LIGHT GUN'!G118","v":0},{"$f":"'LIGHT GUN'!H118","v":0},{"$f":"'LIGHT GUN'!I118","v":0},0,"99",92,"DQ",null,{"$f":"IF('Competitor List'!K97=\"Y\",'Competitor List'!C97,\" \")","v":" "},{"$f":"'HEAVY GUN'!G118","v":0},{"$f":"'HEAVY GUN'!H118","v":0},{"$f":"'HEAVY GUN'!I118","v":0},0,"99",92,"DQ",null,{"$f":"'TACTICAL GUN'!B118","v":0},{"$f":"'TACTICAL GUN'!G118","v":0},{"$f":"'TACTICAL GUN'!H118","v":0},{"$f":"'TACTICAL GUN'!I118","v":0},0,"99",92,"DQ"]
[93,"target 1",{"$f":"IF('Competitor List'!J98=\"Y\",'Competitor List'!B98,\" \")","v":" "},{"$f":"'LIGHT GUN'!G119","v":0},{"$f":"'LIGHT GUN'!H119","v":0},{"$f":"'LIGHT GUN'!I119","v":0},0,"99",93,"DQ",null,{"$f":"IF('Competitor List'!K98=\"Y\",'Competitor List'!C98,\" \")","v":" "},{"$f":"'HEAVY GUN'!G119","v":0},{"$f":"'HEAVY GUN'!H119","v":0},{"$f":"'HEAVY GUN'!I119","v":0},0,"99",93,"DQ",null,{"$f":"'TACTICAL GUN'!B119","v":0},{"$f":"'TACTICAL GUN'!G119","v":0},{"$f":"'TACTICAL GUN'!H119","v":0},{"$f":"'TACTICAL GUN'!I119","v":0},0,"99",93,"DQ"]
[94,"target 1",{"$f":"IF('Competitor List'!J99=\"Y\",'Competitor List'!B99,\" \")","v":" "},{"$f":"'LIGHT GUN'!G120","v":0},{"$f":"'LIGHT GUN'!H120","v":0},{"$f":"'LIGHT GUN'!I120","v":0},0,"99",94,"DQ",null,{"$f":"IF('Competitor List'!K99=\"Y\",'Competitor List'!C99,\" \")","v":" "},{"$f":"'HEAVY GUN'!G120","v":0},{"$f":"'HEAVY GUN'!H120","v":0},{"$f":"'HEAVY GUN'!I120","v":0},0,"99",94,"DQ",null,{"$f":"'TACTICAL GUN'!B120","v":0},{"$f":"'TACTICAL GUN'!G120","v":0},{"$f":"'TACTICAL GUN'!H120","v":0},{"$f":"'TACTICAL GUN'!I120","v":0},0,"99",94,"DQ"]
[95,"target 1",{"$f":"IF('Competitor List'!J100=\"Y\",'Competitor List'!B100,\" \")","v":" "},{"$f":"'LIGHT GUN'!G121","v":0},{"$f":"'LIGHT GUN'!H121","v":0},{"$f":"'LIGHT GUN'!I121","v":0},0,"99",95,"DQ",null,{"$f":"IF('Competitor List'!K100=\"Y\",'Competitor List'!C100,\" \")","v":" "},{"$f":"'HEAVY GUN'!G121","v":0},{"$f":"'HEAVY GUN'!H121","v":0},{"$f":"'HEAVY GUN'!I121","v":0},0,"99",95,"DQ",null,{"$f":"'TACTICAL GUN'!B121","v":0},{"$f":"'TACTICAL GUN'!G121","v":0},{"$f":"'TACTICAL GUN'!H121","v":0},{"$f":"'TACTICAL GUN'!I121","v":0},0,"99",95,"DQ"]
[96,"target 1",{"$f":"IF('Competitor List'!J101=\"Y\",'Competitor List'!B101,\" \")","v":" "},{"$f":"'LIGHT GUN'!G122","v":0},{"$f":"'LIGHT GUN'!H122","v":0},{"$f":"'LIGHT GUN'!I122","v":0},0,"99",96,"DQ",null,{"$f":"IF('Competitor List'!K101=\"Y\",'Competitor List'!C101,\" \")","v":" "},{"$f":"'HEAVY GUN'!G122","v":0},{"$f":"'HEAVY GUN'!H122","v":0},{"$f":"'HEAVY GUN'!I122","v":0},0,"99",96,"DQ",null,{"$f":"'TACTICAL GUN'!B122","v":0},{"$f":"'TACTICAL GUN'!G122","v":0},{"$f":"'TACTICAL GUN'!H122","v":0},{"$f":"'TACTICAL GUN'!I122","v":0},0,"99",96,"DQ"]
[97,"target 1",{"$f":"IF('Competitor List'!J102=\"Y\",'Competitor List'!B102,\" \")","v":" "},{"$f":"'LIGHT GUN'!G123","v":0},{"$f":"'LIGHT GUN'!H123","v":0},{"$f":"'LIGHT GUN'!I123","v":0},0,"99",97,"DQ",null,{"$f":"IF('Competitor List'!K102=\"Y\",'Competitor List'!C102,\" \")","v":" "},{"$f":"'HEAVY GUN'!G123","v":0},{"$f":"'HEAVY GUN'!H123","v":0},{"$f":"'HEAVY GUN'!I123","v":0},0,"99",97,"DQ",null,{"$f":"'TACTICAL GUN'!B123","v":0},{"$f":"'TACTICAL GUN'!G123","v":0},{"$f":"'TACTICAL GUN'!H123","v":0},{"$f":"'TACTICAL GUN'!I123","v":0},0,"99",97,"DQ"]
[98,"target 1",{"$f":"IF('Competitor List'!J103=\"Y\",'Competitor List'!B103,\" \")","v":" "},{"$f":"'LIGHT GUN'!G124","v":0},{"$f":"'LIGHT GUN'!H124","v":0},{"$f":"'LIGHT GUN'!I124","v":0},0,"99",98,"DQ",null,{"$f":"IF('Competitor List'!K103=\"Y\",'Competitor List'!C103,\" \")","v":" "},{"$f":"'HEAVY GUN'!G124","v":0},{"$f":"'HEAVY GUN'!H124","v":0},{"$f":"'HEAVY GUN'!I124","v":0},0,"99",98,"DQ",null,{"$f":"'TACTICAL GUN'!B124","v":0},{"$f":"'TACTICAL GUN'!G124","v":0},{"$f":"'TACTICAL GUN'!H124","v":0},{"$f":"'TACTICAL GUN'!I124","v":0},0,"99",98,"DQ"]
[99,"target 1",{"$f":"IF('Competitor List'!J104=\"Y\",'Competitor List'!B104,\" \")","v":" "},{"$f":"'LIGHT GUN'!G125","v":0},{"$f":"'LIGHT GUN'!H125","v":0},{"$f":"'LIGHT GUN'!I125","v":0},0,"99",99,"DQ",null,{"$f":"IF('Competitor List'!K104=\"Y\",'Competitor List'!C104,\" \")","v":" "},{"$f":"'HEAVY GUN'!G125","v":0},{"$f":"'HEAVY GUN'!H125","v":0},{"$f":"'HEAVY GUN'!I125","v":0},0,"99",99,"DQ",null,{"$f":"'TACTICAL GUN'!B125","v":0},{"$f":"'TACTICAL GUN'!G125","v":0},{"$f":"'TACTICAL GUN'!H125","v":0},{"$f":"'TACTICAL GUN'!I125","v":0},0,"99",99,"DQ"]
[100,"target 1",{"$f":"IF('Competitor List'!J105=\"Y\",'Competitor List'!B105,\" \")","v":" "},{"$f":"'LIGHT GUN'!G126","v":0},{"$f":"'LIGHT GUN'!H126","v":0},{"$f":"'LIGHT GUN'!I126","v":0},0,"99",100,"DQ",null,{"$f":"IF('Competitor List'!K105=\"Y\",'Competitor List'!C105,\" \")","v":" "},{"$f":"'HEAVY GUN'!G126","v":0},{"$f":"'HEAVY GUN'!H126","v":0},{"$f":"'HEAVY GUN'!I126","v":0},0,"99",100,"DQ",null,{"$f":"'TACTICAL GUN'!B126","v":0},{"$f":"'TACTICAL GUN'!G126","v":0},{"$f":"'TACTICAL GUN'!H126","v":0},{"$f":"'TACTICAL GUN'!I126","v":0},0,"99",100,"DQ"]
[101,"target 1",{"$f":"IF('Competitor List'!J106=\"Y\",'Competitor List'!B106,\" \")","v":" "},{"$f":"'LIGHT GUN'!G127","v":0},{"$f":"'LIGHT GUN'!H127","v":0},{"$f":"'LIGHT GUN'!I127","v":0},0,"99",101,"DQ",null,{"$f":"IF('Competitor List'!K106=\"Y\",'Competitor List'!C106,\" \")","v":" "},{"$f":"'HEAVY GUN'!G127","v":0},{"$f":"'HEAVY GUN'!H127","v":0},{"$f":"'HEAVY GUN'!I127","v":0},0,"99",101,"DQ",null,{"$f":"'TACTICAL GUN'!B127","v":0},{"$f":"'TACTICAL GUN'!G127","v":0},{"$f":"'TACTICAL GUN'!H127","v":0},{"$f":"'TACTICAL GUN'!I127","v":0},0,"99",101,"DQ"]
[102,"target 1",{"$f":"IF('Competitor List'!J107=\"Y\",'Competitor List'!B107,\" \")","v":" "},{"$f":"'LIGHT GUN'!G128","v":0},{"$f":"'LIGHT GUN'!H128","v":0},{"$f":"'LIGHT GUN'!I128","v":0},0,"99",102,"DQ",null,{"$f":"IF('Competitor List'!K107=\"Y\",'Competitor List'!C107,\" \")","v":" "},{"$f":"'HEAVY GUN'!G128","v":0},{"$f":"'HEAVY GUN'!H128","v":0},{"$f":"'HEAVY GUN'!I128","v":0},0,"99",102,"DQ",null,{"$f":"'TACTICAL GUN'!B128","v":0},{"$f":"'TACTICAL GUN'!G128","v":0},{"$f":"'TACTICAL GUN'!H128","v":0},{"$f":"'TACTICAL GUN'!I128","v":0},0,"99",102,"DQ"]
[103,"target 1",{"$f":"IF('Competitor List'!J108=\"Y\",'Competitor List'!B108,\" \")","v":" "},{"$f":"'LIGHT GUN'!G129","v":0},{"$f":"'LIGHT GUN'!H129","v":0},{"$f":"'LIGHT GUN'!I129","v":0},0,"99",103,"DQ",null,{"$f":"IF('Competitor List'!K108=\"Y\",'Competitor List'!C108,\" \")","v":" "},{"$f":"'HEAVY GUN'!G129","v":0},{"$f":"'HEAVY GUN'!H129","v":0},{"$f":"'HEAVY GUN'!I129","v":0},0,"99",103,"DQ",null,{"$f":"'TACTICAL GUN'!B129","v":0},{"$f":"'TACTICAL GUN'!G129","v":0},{"$f":"'TACTICAL GUN'!H129","v":0},{"$f":"'TACTICAL GUN'!I129","v":0},0,"99",103,"DQ"]
[104,"target 1",{"$f":"IF('Competitor List'!J109=\"Y\",'Competitor List'!B109,\" \")","v":" "},{"$f":"'LIGHT GUN'!G130","v":0},{"$f":"'LIGHT GUN'!H130","v":0},{"$f":"'LIGHT GUN'!I130","v":0},0,"99",104,"DQ",null,{"$f":"IF('Competitor List'!K109=\"Y\",'Competitor List'!C109,\" \")","v":" "},{"$f":"'HEAVY GUN'!G130","v":0},{"$f":"'HEAVY GUN'!H130","v":0},{"$f":"'HEAVY GUN'!I130","v":0},0,"99",104,"DQ",null,{"$f":"'TACTICAL GUN'!B130","v":0},{"$f":"'TACTICAL GUN'!G130","v":0},{"$f":"'TACTICAL GUN'!H130","v":0},{"$f":"'TACTICAL GUN'!I130","v":0},0,"99",104,"DQ"]
[105,"target 1",{"$f":"IF('Competitor List'!J110=\"Y\",'Competitor List'!B110,\" \")","v":" "},{"$f":"'LIGHT GUN'!G131","v":0},{"$f":"'LIGHT GUN'!H131","v":0},{"$f":"'LIGHT GUN'!I131","v":0},0,"99",105,"DQ",null,{"$f":"IF('Competitor List'!K110=\"Y\",'Competitor List'!C110,\" \")","v":" "},{"$f":"'HEAVY GUN'!G131","v":0},{"$f":"'HEAVY GUN'!H131","v":0},{"$f":"'HEAVY GUN'!I131","v":0},0,"99",105,"DQ",null,{"$f":"'TACTICAL GUN'!B131","v":0},{"$f":"'TACTICAL GUN'!G131","v":0},{"$f":"'TACTICAL GUN'!H131","v":0},{"$f":"'TACTICAL GUN'!I131","v":0},0,"99",105,"DQ"]
[106,"target 1",{"$f":"IF('Competitor List'!J111=\"Y\",'Competitor List'!B111,\" \")","v":" "},{"$f":"'LIGHT GUN'!G132","v":0},{"$f":"'LIGHT GUN'!H132","v":0},{"$f":"'LIGHT GUN'!I132","v":0},0,"99",106,"DQ",null,{"$f":"IF('Competitor List'!K111=\"Y\",'Competitor List'!C111,\" \")","v":" "},{"$f":"'HEAVY GUN'!G132","v":0},{"$f":"'HEAVY GUN'!H132","v":0},{"$f":"'HEAVY GUN'!I132","v":0},0,"99",106,"DQ",null,{"$f":"'TACTICAL GUN'!B132","v":0},{"$f":"'TACTICAL GUN'!G132","v":0},{"$f":"'TACTICAL GUN'!H132","v":0},{"$f":"'TACTICAL GUN'!I132","v":0},0,"99",106,"DQ"]
[107,"target 1",{"$f":"IF('Competitor List'!J112=\"Y\",'Competitor List'!B112,\" \")","v":" "},{"$f":"'LIGHT GUN'!G133","v":0},{"$f":"'LIGHT GUN'!H133","v":0},{"$f":"'LIGHT GUN'!I133","v":0},0,"99",107,"DQ",null,{"$f":"IF('Competitor List'!K112=\"Y\",'Competitor List'!C112,\" \")","v":" "},{"$f":"'HEAVY GUN'!G133","v":0},{"$f":"'HEAVY GUN'!H133","v":0},{"$f":"'HEAVY GUN'!I133","v":0},0,"99",107,"DQ",null,{"$f":"'TACTICAL GUN'!B133","v":0},{"$f":"'TACTICAL GUN'!G133","v":0},{"$f":"'TACTICAL GUN'!H133","v":0},{"$f":"'TACTICAL GUN'!I133","v":0},0,"99",107,"DQ"]
[108,"target 1",{"$f":"IF('Competitor List'!J113=\"Y\",'Competitor List'!B113,\" \")","v":" "},{"$f":"'LIGHT GUN'!G134","v":0},{"$f":"'LIGHT GUN'!H134","v":0},{"$f":"'LIGHT GUN'!I134","v":0},0,"99",108,"DQ",null,{"$f":"IF('Competitor List'!K113=\"Y\",'Competitor List'!C113,\" \")","v":" "},{"$f":"'HEAVY GUN'!G134","v":0},{"$f":"'HEAVY GUN'!H134","v":0},{"$f":"'HEAVY GUN'!I134","v":0},0,"99",108,"DQ",null,{"$f":"'TACTICAL GUN'!B134","v":0},{"$f":"'TACTICAL GUN'!G134","v":0},{"$f":"'TACTICAL GUN'!H134","v":0},{"$f":"'TACTICAL GUN'!I134","v":0},0,"99",108,"DQ"]
[109,"target 1",{"$f":"IF('Competitor List'!J114=\"Y\",'Competitor List'!B114,\" \")","v":" "},{"$f":"'LIGHT GUN'!G135","v":0},{"$f":"'LIGHT GUN'!H135","v":0},{"$f":"'LIGHT GUN'!I135","v":0},0,"99",109,"DQ",null,{"$f":"IF('Competitor List'!K114=\"Y\",'Competitor List'!C114,\" \")","v":" "},{"$f":"'HEAVY GUN'!G135","v":0},{"$f":"'HEAVY GUN'!H135","v":0},{"$f":"'HEAVY GUN'!I135","v":0},0,"99",109,"DQ",null,{"$f":"'TACTICAL GUN'!B135","v":0},{"$f":"'TACTICAL GUN'!G135","v":0},{"$f":"'TACTICAL GUN'!H135","v":0},{"$f":"'TACTICAL GUN'!I135","v":0},0,"99",109,"DQ"]
[110,"target 1",{"$f":"IF('Competitor List'!J115=\"Y\",'Competitor List'!B115,\" \")","v":" "},{"$f":"'LIGHT GUN'!G136","v":0},{"$f":"'LIGHT GUN'!H136","v":0},{"$f":"'LIGHT GUN'!I136","v":0},0,"99",110,"DQ",null,{"$f":"IF('Competitor List'!K115=\"Y\",'Competitor List'!C115,\" \")","v":" "},{"$f":"'HEAVY GUN'!G136","v":0},{"$f":"'HEAVY GUN'!H136","v":0},{"$f":"'HEAVY GUN'!I136","v":0},0,"99",110,"DQ",null,{"$f":"'TACTICAL GUN'!B136","v":0},{"$f":"'TACTICAL GUN'!G136","v":0},{"$f":"'TACTICAL GUN'!H136","v":0},{"$f":"'TACTICAL GUN'!I136","v":0},0,"99",110,"DQ"]
[111,"target 1",{"$f":"IF('Competitor List'!J116=\"Y\",'Competitor List'!B116,\" \")","v":" "},{"$f":"'LIGHT GUN'!G137","v":0},{"$f":"'LIGHT GUN'!H137","v":0},{"$f":"'LIGHT GUN'!I137","v":0},0,"99",111,"DQ",null,{"$f":"IF('Competitor List'!K116=\"Y\",'Competitor List'!C116,\" \")","v":" "},{"$f":"'HEAVY GUN'!G137","v":0},{"$f":"'HEAVY GUN'!H137","v":0},{"$f":"'HEAVY GUN'!I137","v":0},0,"99",111,"DQ",null,{"$f":"'TACTICAL GUN'!B137","v":0},{"$f":"'TACTICAL GUN'!G137","v":0},{"$f":"'TACTICAL GUN'!H137","v":0},{"$f":"'TACTICAL GUN'!I137","v":0},0,"99",111,"DQ"]
[112,"target 1",{"$f":"IF('Competitor List'!J117=\"Y\",'Competitor List'!B117,\" \")","v":" "},{"$f":"'LIGHT GUN'!G138","v":0},{"$f":"'LIGHT GUN'!H138","v":0},{"$f":"'LIGHT GUN'!I138","v":0},0,"99",112,"DQ",null,{"$f":"IF('Competitor List'!K117=\"Y\",'Competitor List'!C117,\" \")","v":" "},{"$f":"'HEAVY GUN'!G138","v":0},{"$f":"'HEAVY GUN'!H138","v":0},{"$f":"'HEAVY GUN'!I138","v":0},0,"99",112,"DQ",null,{"$f":"'TACTICAL GUN'!B138","v":0},{"$f":"'TACTICAL GUN'!G138","v":0},{"$f":"'TACTICAL GUN'!H138","v":0},{"$f":"'TACTICAL GUN'!I138","v":0},0,"99",112,"DQ"]
[113,"target 1",{"$f":"IF('Competitor List'!J118=\"Y\",'Competitor List'!B118,\" \")","v":" "},{"$f":"'LIGHT GUN'!G139","v":0},{"$f":"'LIGHT GUN'!H139","v":0},{"$f":"'LIGHT GUN'!I139","v":0},0,"99",113,"DQ",null,{"$f":"IF('Competitor List'!K118=\"Y\",'Competitor List'!C118,\" \")","v":" "},{"$f":"'HEAVY GUN'!G139","v":0},{"$f":"'HEAVY GUN'!H139","v":0},{"$f":"'HEAVY GUN'!I139","v":0},0,"99",113,"DQ",null,{"$f":"'TACTICAL GUN'!B139","v":0},{"$f":"'TACTICAL GUN'!G139","v":0},{"$f":"'TACTICAL GUN'!H139","v":0},{"$f":"'TACTICAL GUN'!I139","v":0},0,"99",113,"DQ"]
[114,"target 1",{"$f":"IF('Competitor List'!J119=\"Y\",'Competitor List'!B119,\" \")","v":" "},{"$f":"'LIGHT GUN'!G140","v":0},{"$f":"'LIGHT GUN'!H140","v":0},{"$f":"'LIGHT GUN'!I140","v":0},0,"99",114,"DQ",null,{"$f":"IF('Competitor List'!K119=\"Y\",'Competitor List'!C119,\" \")","v":" "},{"$f":"'HEAVY GUN'!G140","v":0},{"$f":"'HEAVY GUN'!H140","v":0},{"$f":"'HEAVY GUN'!I140","v":0},0,"99",114,"DQ",null,{"$f":"'TACTICAL GUN'!B140","v":0},{"$f":"'TACTICAL GUN'!G140","v":0},{"$f":"'TACTICAL GUN'!H140","v":0},{"$f":"'TACTICAL GUN'!I140","v":0},0,"99",114,"DQ"]
[115,"target 1",{"$f":"IF('Competitor List'!J120=\"Y\",'Competitor List'!B120,\" \")","v":" "},{"$f":"'LIGHT GUN'!G141","v":0},{"$f":"'LIGHT GUN'!H141","v":0},{"$f":"'LIGHT GUN'!I141","v":0},0,"99",115,"DQ",null,{"$f":"IF('Competitor List'!K120=\"Y\",'Competitor List'!C120,\" \")","v":" "},{"$f":"'HEAVY GUN'!G141","v":0},{"$f":"'HEAVY GUN'!H141","v":0},{"$f":"'HEAVY GUN'!I141","v":0},0,"99",115,"DQ",null,{"$f":"'TACTICAL GUN'!B141","v":0},{"$f":"'TACTICAL GUN'!G141","v":0},{"$f":"'TACTICAL GUN'!H141","v":0},{"$f":"'TACTICAL GUN'!I141","v":0},0,"99",115,"DQ"]
[116,"target 1",{"$f":"IF('Competitor List'!J121=\"Y\",'Competitor List'!B121,\" \")","v":" "},{"$f":"'LIGHT GUN'!G142","v":0},{"$f":"'LIGHT GUN'!H142","v":0},{"$f":"'LIGHT GUN'!I142","v":0},0,"99",116,"DQ",null,{"$f":"IF('Competitor List'!K121=\"Y\",'Competitor List'!C121,\" \")","v":" "},{"$f":"'HEAVY GUN'!G142","v":0},{"$f":"'HEAVY GUN'!H142","v":0},{"$f":"'HEAVY GUN'!I142","v":0},0,"99",116,"DQ",null,{"$f":"'TACTICAL GUN'!B142","v":0},{"$f":"'TACTICAL GUN'!G142","v":0},{"$f":"'TACTICAL GUN'!H142","v":0},{"$f":"'TACTICAL GUN'!I142","v":0},0,"99",116,"DQ"]
[117,"target 1",{"$f":"IF('Competitor List'!J122=\"Y\",'Competitor List'!B122,\" \")","v":" "},{"$f":"'LIGHT GUN'!G143","v":0},{"$f":"'LIGHT GUN'!H143","v":0},{"$f":"'LIGHT GUN'!I143","v":0},0,"99",117,"DQ",null,{"$f":"IF('Competitor List'!K122=\"Y\",'Competitor List'!C122,\" \")","v":" "},{"$f":"'HEAVY GUN'!G143","v":0},{"$f":"'HEAVY GUN'!H143","v":0},{"$f":"'HEAVY GUN'!I143","v":0},0,"99",117,"DQ",null,{"$f":"'TACTICAL GUN'!B143","v":0},{"$f":"'TACTICAL GUN'!G143","v":0},{"$f":"'TACTICAL GUN'!H143","v":0},{"$f":"'TACTICAL GUN'!I143","v":0},0,"99",117,"DQ"]
[118,"target 1",{"$f":"IF('Competitor List'!J123=\"Y\",'Competitor List'!B123,\" \")","v":" "},{"$f":"'LIGHT GUN'!G144","v":0},{"$f":"'LIGHT GUN'!H144","v":0},{"$f":"'LIGHT GUN'!I144","v":0},0,"99",118,"DQ",null,{"$f":"IF('Competitor List'!K123=\"Y\",'Competitor List'!C123,\" \")","v":" "},{"$f":"'HEAVY GUN'!G144","v":0},{"$f":"'HEAVY GUN'!H144","v":0},{"$f":"'HEAVY GUN'!I144","v":0},0,"99",118,"DQ",null,{"$f":"'TACTICAL GUN'!B144","v":0},{"$f":"'TACTICAL GUN'!G144","v":0},{"$f":"'TACTICAL GUN'!H144","v":0},{"$f":"'TACTICAL GUN'!I144","v":0},0,"99",118,"DQ"]
[119,"target 1",{"$f":"IF('Competitor List'!J124=\"Y\",'Competitor List'!B124,\" \")","v":" "},{"$f":"'LIGHT GUN'!G145","v":0},{"$f":"'LIGHT GUN'!H145","v":0},{"$f":"'LIGHT GUN'!I145","v":0},0,"99",119,"DQ",null,{"$f":"IF('Competitor List'!K124=\"Y\",'Competitor List'!C124,\" \")","v":" "},{"$f":"'HEAVY GUN'!G145","v":0},{"$f":"'HEAVY GUN'!H145","v":0},{"$f":"'HEAVY GUN'!I145","v":0},0,"99",119,"DQ",null,{"$f":"'TACTICAL GUN'!B145","v":0},{"$f":"'TACTICAL GUN'!G145","v":0},{"$f":"'TACTICAL GUN'!H145","v":0},{"$f":"'TACTICAL GUN'!I145","v":0},0,"99",119,"DQ"]
[120,"target 1",{"$f":"IF('Competitor List'!J125=\"Y\",'Competitor List'!B125,\" \")","v":" "},{"$f":"'LIGHT GUN'!G146","v":0},{"$f":"'LIGHT GUN'!H146","v":0},{"$f":"'LIGHT GUN'!I146","v":0},0,"99",120,"DQ",null,{"$f":"IF('Competitor List'!K125=\"Y\",'Competitor List'!C125,\" \")","v":" "},{"$f":"'HEAVY GUN'!G146","v":0},{"$f":"'HEAVY GUN'!H146","v":0},{"$f":"'HEAVY GUN'!I146","v":0},0,"99",120,"DQ",null,{"$f":"'TACTICAL GUN'!B146","v":0},{"$f":"'TACTICAL GUN'!G146","v":0},{"$f":"'TACTICAL GUN'!H146","v":0},{"$f":"'TACTICAL GUN'!I146","v":0},0,"99",120,"DQ"]
[121,"target 1",{"$f":"IF('Competitor List'!J126=\"Y\",'Competitor List'!B126,\" \")","v":" "},{"$f":"'LIGHT GUN'!G147","v":0},{"$f":"'LIGHT GUN'!H147","v":0},{"$f":"'LIGHT GUN'!I147","v":0},0,"99",121,"DQ",null,{"$f":"IF('Competitor List'!K126=\"Y\",'Competitor List'!C126,\" \")","v":" "},{"$f":"'HEAVY GUN'!G147","v":0},{"$f":"'HEAVY GUN'!H147","v":0},{"$f":"'HEAVY GUN'!I147","v":0},0,"99",121,"DQ",null,{"$f":"'TACTICAL GUN'!B147","v":0},{"$f":"'TACTICAL GUN'!G147","v":0},{"$f":"'TACTICAL GUN'!H147","v":0},{"$f":"'TACTICAL GUN'!I147","v":0},0,"99",121,"DQ"]
[122,"target 1",{"$f":"IF('Competitor List'!J127=\"Y\",'Competitor List'!B127,\" \")","v":" "},{"$f":"'LIGHT GUN'!G148","v":0},{"$f":"'LIGHT GUN'!H148","v":0},{"$f":"'LIGHT GUN'!I148","v":0},0,"99",122,"DQ",null,{"$f":"IF('Competitor List'!K127=\"Y\",'Competitor List'!C127,\" \")","v":" "},{"$f":"'HEAVY GUN'!G148","v":0},{"$f":"'HEAVY GUN'!H148","v":0},{"$f":"'HEAVY GUN'!I148","v":0},0,"99",122,"DQ",null,{"$f":"'TACTICAL GUN'!B148","v":0},{"$f":"'TACTICAL GUN'!G148","v":0},{"$f":"'TACTICAL GUN'!H148","v":0},{"$f":"'TACTICAL GUN'!I148","v":0},0,"99",122,"DQ"]
[123,"target 1",{"$f":"IF('Competitor List'!J128=\"Y\",'Competitor List'!B128,\" \")","v":" "},{"$f":"'LIGHT GUN'!G149","v":0},{"$f":"'LIGHT GUN'!H149","v":0},{"$f":"'LIGHT GUN'!I149","v":0},0,"99",123,"DQ",null,{"$f":"IF('Competitor List'!K128=\"Y\",'Competitor List'!C128,\" \")","v":" "},{"$f":"'HEAVY GUN'!G149","v":0},{"$f":"'HEAVY GUN'!H149","v":0},{"$f":"'HEAVY GUN'!I149","v":0},0,"99",123,"DQ",null,{"$f":"'TACTICAL GUN'!B149","v":0},{"$f":"'TACTICAL GUN'!G149","v":0},{"$f":"'TACTICAL GUN'!H149","v":0},{"$f":"'TACTICAL GUN'!I149","v":0},0,"99",123,"DQ"]
[124,"target 1",{"$f":"IF('Competitor List'!J129=\"Y\",'Competitor List'!B129,\" \")","v":" "},{"$f":"'LIGHT GUN'!G150","v":0},{"$f":"'LIGHT GUN'!H150","v":0},{"$f":"'LIGHT GUN'!I150","v":0},0,"99",124,"DQ",null,{"$f":"IF('Competitor List'!K129=\"Y\",'Competitor List'!C129,\" \")","v":" "},{"$f":"'HEAVY GUN'!G150","v":0},{"$f":"'HEAVY GUN'!H150","v":0},{"$f":"'HEAVY GUN'!I150","v":0},0,"99",124,"DQ",null,{"$f":"'TACTICAL GUN'!B150","v":0},{"$f":"'TACTICAL GUN'!G150","v":0},{"$f":"'TACTICAL GUN'!H150","v":0},{"$f":"'TACTICAL GUN'!I150","v":0},0,"99",124,"DQ"]
[125,"target 1",{"$f":"IF('Competitor List'!J130=\"Y\",'Competitor List'!B130,\" \")","v":" "},{"$f":"'LIGHT GUN'!G151","v":0},{"$f":"'LIGHT GUN'!H151","v":0},{"$f":"'LIGHT GUN'!I151","v":0},0,"99",125,"DQ",null,{"$f":"IF('Competitor List'!K130=\"Y\",'Competitor List'!C130,\" \")","v":" "},{"$f":"'HEAVY GUN'!G151","v":0},{"$f":"'HEAVY GUN'!H151","v":0},{"$f":"'HEAVY GUN'!I151","v":0},0,"99",125,"DQ",null,{"$f":"'TACTICAL GUN'!B151","v":0},{"$f":"'TACTICAL GUN'!G151","v":0},{"$f":"'TACTICAL GUN'!H151","v":0},{"$f":"'TACTICAL GUN'!I151","v":0},0,"99",125,"DQ"]
[126,"target 1",{"$f":"IF('Competitor List'!J131=\"Y\",'Competitor List'!B131,\" \")","v":" "},{"$f":"'LIGHT GUN'!G152","v":0},{"$f":"'LIGHT GUN'!H152","v":0},{"$f":"'LIGHT GUN'!I152","v":0},0,"99",126,"DQ",null,{"$f":"IF('Competitor List'!K131=\"Y\",'Competitor List'!C131,\" \")","v":" "},{"$f":"'HEAVY GUN'!G152","v":0},{"$f":"'HEAVY GUN'!H152","v":0},{"$f":"'HEAVY GUN'!I152","v":0},0,"99",126,"DQ",null,{"$f":"'TACTICAL GUN'!B152","v":0},{"$f":"'TACTICAL GUN'!G152","v":0},{"$f":"'TACTICAL GUN'!H152","v":0},{"$f":"'TACTICAL GUN'!I152","v":0},0,"99",126,"DQ"]
[127,"target 1",{"$f":"IF('Competitor List'!J132=\"Y\",'Competitor List'!B132,\" \")","v":" "},{"$f":"'LIGHT GUN'!G153","v":0},{"$f":"'LIGHT GUN'!H153","v":0},{"$f":"'LIGHT GUN'!I153","v":0},0,"99",127,"DQ",null,{"$f":"IF('Competitor List'!K132=\"Y\",'Competitor List'!C132,\" \")","v":" "},{"$f":"'HEAVY GUN'!G153","v":0},{"$f":"'HEAVY GUN'!H153","v":0},{"$f":"'HEAVY GUN'!I153","v":0},0,"99",127,"DQ",null,{"$f":"'TACTICAL GUN'!B153","v":0},{"$f":"'TACTICAL GUN'!G153","v":0},{"$f":"'TACTICAL GUN'!H153","v":0},{"$f":"'TACTICAL GUN'!I153","v":0},0,"99",127,"DQ"]
[128,"target 1",{"$f":"IF('Competitor List'!J133=\"Y\",'Competitor List'!B133,\" \")","v":" "},{"$f":"'LIGHT GUN'!G154","v":0},{"$f":"'LIGHT GUN'!H154","v":0},{"$f":"'LIGHT GUN'!I154","v":0},0,"99",128,"DQ",null,{"$f":"IF('Competitor List'!K133=\"Y\",'Competitor List'!C133,\" \")","v":" "},{"$f":"'HEAVY GUN'!G154","v":0},{"$f":"'HEAVY GUN'!H154","v":0},{"$f":"'HEAVY GUN'!I154","v":0},0,"99",128,"DQ",null,{"$f":"'TACTICAL GUN'!B154","v":0},{"$f":"'TACTICAL GUN'!G154","v":0},{"$f":"'TACTICAL GUN'!H154","v":0},{"$f":"'TACTICAL GUN'!I154","v":0},0,"99",128,"DQ"]
[129,"target 1",{"$f":"IF('Competitor List'!J134=\"Y\",'Competitor List'!B134,\" \")","v":" "},{"$f":"'LIGHT GUN'!G155","v":0},{"$f":"'LIGHT GUN'!H155","v":0},{"$f":"'LIGHT GUN'!I155","v":0},0,"99",129,"DQ",null,{"$f":"IF('Competitor List'!K134=\"Y\",'Competitor List'!C134,\" \")","v":" "},{"$f":"'HEAVY GUN'!G155","v":0},{"$f":"'HEAVY GUN'!H155","v":0},{"$f":"'HEAVY GUN'!I155","v":0},0,"99",129,"DQ",null,{"$f":"'TACTICAL GUN'!B155","v":0},{"$f":"'TACTICAL GUN'!G155","v":0},{"$f":"'TACTICAL GUN'!H155","v":0},{"$f":"'TACTICAL GUN'!I155","v":0},0,"99",129,"DQ"]
[130,"target 1",{"$f":"IF('Competitor List'!J135=\"Y\",'Competitor List'!B135,\" \")","v":" "},{"$f":"'LIGHT GUN'!G156","v":0},{"$f":"'LIGHT GUN'!H156","v":0},{"$f":"'LIGHT GUN'!I156","v":0},{"$f":"IF(ISNUMBER(F136),SUM(F136),\"99\")","v":0},{"$f":"IF(G136=0,\"99\",G136)","v":"99"},{"$f":" IF(AND(ISNUMBER(D136)),RANK(D136,$D$7:$D$606,0)+SUMPRODUCT(($D$7:$D$606=D136)*($F$7:$F$606<F136))+SUMPRODUCT(($D$7:$D$606=D136)*($F$7:$F$606=F136)*($E$7:$E$606>E136))+SUMPRODUCT(($D$7:$D$606=D136)*($F$7:$F$606=F136)*($E$7:$E$606=E136)*($A$7:$A$606<A136)),\"DQ\")","v":130},{"$f":" IF(AND(ISNUMBER(H136)),RANK(H136,$H$7:$H$606,1)+SUMPRODUCT(($H$7:$H$606=H136)*($D$7:$D$606>D136))+SUMPRODUCT(($H$7:$H$606=H136)*($D$7:$D$606=D136)*($E$7:$E$606>E136))+SUMPRODUCT(($H$7:$H$606=H136)*($D$7:$D$606=D136)*($E$7:$E$606=E136)*($A$7:$A$606<A136)),\"DQ\")","v":"DQ"},null,{"$f":"IF('Competitor List'!K135=\"Y\",'Competitor List'!C135,\" \")","v":" "},{"$f":"'HEAVY GUN'!G156","v":0},{"$f":"'HEAVY GUN'!H156","v":0},{"$f":"'HEAVY GUN'!I156","v":0},{"$f":"IF(ISNUMBER(O136),SUM(O136),\"99\")","v":0},{"$f":"IF(P136=0,\"99\",P136)","v":"99"},{"$f":" IF(AND(ISNUMBER(M136)),RANK(M136,$M$7:$M$606,0)+SUMPRODUCT(($M$7:$M$606=M136)*($O$7:$O$606<O136))+SUMPRODUCT(($M$7:$M$606=M136)*($O$7:$O$606=O136)*($N$7:$N$606>N136))+SUMPRODUCT(($M$7:$M$606=M136)*($O$7:$O$606=O136)*($N$7:$N$606=N136)*($A$7:$A$606<A136)),\"DQ\")","v":130},{"$f":" IF(AND(Q136>0,ISNUMBER(Q136)),RANK(Q136,$Q$7:$Q$606,1)+SUMPRODUCT(($Q$7:$Q$606=Q136)*($M$7:$M$606>M136))+SUMPRODUCT(($Q$7:$Q$606=Q136)*($M$7:$M$606=M136)*($N$7:$N$606>N136))+SUMPRODUCT(($Q$7:$Q$606=Q136)*($M$7:$M$606=M136)*($N$7:$N$606=N136)*($A$7:$A$606<A136)),\"DQ\")","v":"DQ"},null,{"$f":"'TACTICAL GUN'!B156","v":0},{"$f":"'TACTICAL GUN'!G156","v":0},{"$f":"'TACTICAL GUN'!H156","v":0},{"$f":"'TACTICAL GUN'!I156","v":0},{"$f":"IF(ISNUMBER(X136),SUM(X136),\"99\")","v":0},{"$f":"IF(Y136=0,\"99\",Y136)","v":"99"},{"$f":" IF(AND(ISNUMBER(V136)),RANK(V136,$V$7:$V$606,0)+SUMPRODUCT(($V$7:$V$606=V136)*($X$7:$X$606<X136))+SUMPRODUCT(($V$7:$V$606=V136)*($X$7:$X$606=X136)*($W$7:$W$606>W136))+SUMPRODUCT(($V$7:$V$606=V136)*($X$7:$X$606=X136)*($W$7:$W$606=W136)*($A$7:$A$606<A136)),\"DQ\")","v":130},{"$f":" IF(AND(Z136>0,ISNUMBER(Z136)),RANK(Z136,$Z$7:$Z$606,1)+SUMPRODUCT(($Z$7:$Z$606=Z136)*($V$7:$V$606>V136))+SUMPRODUCT(($Z$7:$Z$606=Z136)*($V$7:$V$606=V136)*($W$7:$W$606>W136))+SUMPRODUCT(($Z$7:$Z$606=Z136)*($V$7:$V$606=V136)*($W$7:$W$606=W136)*($A$7:$A$606<A136)),\"DQ\")","v":"DQ"}]
[131,"target 1",{"$f":"IF('Competitor List'!J136=\"Y\",'Competitor List'!B136,\" \")","v":" "},{"$f":"'LIGHT GUN'!G157","v":0},{"$f":"'LIGHT GUN'!H157","v":0},{"$f":"'LIGHT GUN'!I157","v":0},0,"99",131,"DQ",null,{"$f":"IF('Competitor List'!K136=\"Y\",'Competitor List'!C136,\" \")","v":" "},{"$f":"'HEAVY GUN'!G157","v":0},{"$f":"'HEAVY GUN'!H157","v":0},{"$f":"'HEAVY GUN'!I157","v":0},0,"99",131,"DQ",null,{"$f":"'TACTICAL GUN'!B157","v":0},{"$f":"'TACTICAL GUN'!G157","v":0},{"$f":"'TACTICAL GUN'!H157","v":0},{"$f":"'TACTICAL GUN'!I157","v":0},0,"99",131,"DQ"]
[132,"target 1",{"$f":"IF('Competitor List'!J137=\"Y\",'Competitor List'!B137,\" \")","v":" "},{"$f":"'LIGHT GUN'!G158","v":0},{"$f":"'LIGHT GUN'!H158","v":0},{"$f":"'LIGHT GUN'!I158","v":0},0,"99",132,"DQ",null,{"$f":"IF('Competitor List'!K137=\"Y\",'Competitor List'!C137,\" \")","v":" "},{"$f":"'HEAVY GUN'!G158","v":0},{"$f":"'HEAVY GUN'!H158","v":0},{"$f":"'HEAVY GUN'!I158","v":0},0,"99",132,"DQ",null,{"$f":"'TACTICAL GUN'!B158","v":0},{"$f":"'TACTICAL GUN'!G158","v":0},{"$f":"'TACTICAL GUN'!H158","v":0},{"$f":"'TACTICAL GUN'!I158","v":0},0,"99",132,"DQ"]
[133,"target 1",{"$f":"IF('Competitor List'!J138=\"Y\",'Competitor List'!B138,\" \")","v":" "},{"$f":"'LIGHT GUN'!G159","v":0},{"$f":"'LIGHT GUN'!H159","v":0},{"$f":"'LIGHT GUN'!I159","v":0},0,"99",133,"DQ",null,{"$f":"IF('Competitor List'!K138=\"Y\",'Competitor List'!C138,\" \")","v":" "},{"$f":"'HEAVY GUN'!G159","v":0},{"$f":"'HEAVY GUN'!H159","v":0},{"$f":"'HEAVY GUN'!I159","v":0},0,"99",133,"DQ",null,{"$f":"'TACTICAL GUN'!B159","v":0},{"$f":"'TACTICAL GUN'!G159","v":0},{"$f":"'TACTICAL GUN'!H159","v":0},{"$f":"'TACTICAL GUN'!I159","v":0},0,"99",133,"DQ"]
[134,"target 1",{"$f":"IF('Competitor List'!J139=\"Y\",'Competitor List'!B139,\" \")","v":" "},{"$f":"'LIGHT GUN'!G160","v":0},{"$f":"'LIGHT GUN'!H160","v":0},{"$f":"'LIGHT GUN'!I160","v":0},0,"99",134,"DQ",null,{"$f":"IF('Competitor List'!K139=\"Y\",'Competitor List'!C139,\" \")","v":" "},{"$f":"'HEAVY GUN'!G160","v":0},{"$f":"'HEAVY GUN'!H160","v":0},{"$f":"'HEAVY GUN'!I160","v":0},0,"99",134,"DQ",null,{"$f":"'TACTICAL GUN'!B160","v":0},{"$f":"'TACTICAL GUN'!G160","v":0},{"$f":"'TACTICAL GUN'!H160","v":0},{"$f":"'TACTICAL GUN'!I160","v":0},0,"99",134,"DQ"]
[135,"target 1",{"$f":"IF('Competitor List'!J140=\"Y\",'Competitor List'!B140,\" \")","v":" "},{"$f":"'LIGHT GUN'!G161","v":0},{"$f":"'LIGHT GUN'!H161","v":0},{"$f":"'LIGHT GUN'!I161","v":0},0,"99",135,"DQ",null,{"$f":"IF('Competitor List'!K140=\"Y\",'Competitor List'!C140,\" \")","v":" "},{"$f":"'HEAVY GUN'!G161","v":0},{"$f":"'HEAVY GUN'!H161","v":0},{"$f":"'HEAVY GUN'!I161","v":0},0,"99",135,"DQ",null,{"$f":"'TACTICAL GUN'!B161","v":0},{"$f":"'TACTICAL GUN'!G161","v":0},{"$f":"'TACTICAL GUN'!H161","v":0},{"$f":"'TACTICAL GUN'!I161","v":0},0,"99",135,"DQ"]
[136,"target 1",{"$f":"IF('Competitor List'!J141=\"Y\",'Competitor List'!B141,\" \")","v":" "},{"$f":"'LIGHT GUN'!G162","v":0},{"$f":"'LIGHT GUN'!H162","v":0},{"$f":"'LIGHT GUN'!I162","v":0},0,"99",136,"DQ",null,{"$f":"IF('Competitor List'!K141=\"Y\",'Competitor List'!C141,\" \")","v":" "},{"$f":"'HEAVY GUN'!G162","v":0},{"$f":"'HEAVY GUN'!H162","v":0},{"$f":"'HEAVY GUN'!I162","v":0},0,"99",136,"DQ",null,{"$f":"'TACTICAL GUN'!B162","v":0},{"$f":"'TACTICAL GUN'!G162","v":0},{"$f":"'TACTICAL GUN'!H162","v":0},{"$f":"'TACTICAL GUN'!I162","v":0},0,"99",136,"DQ"]
[137,"target 1",{"$f":"IF('Competitor List'!J142=\"Y\",'Competitor List'!B142,\" \")","v":" "},{"$f":"'LIGHT GUN'!G163","v":0},{"$f":"'LIGHT GUN'!H163","v":0},{"$f":"'LIGHT GUN'!I163","v":0},0,"99",137,"DQ",null,{"$f":"IF('Competitor List'!K142=\"Y\",'Competitor List'!C142,\" \")","v":" "},{"$f":"'HEAVY GUN'!G163","v":0},{"$f":"'HEAVY GUN'!H163","v":0},{"$f":"'HEAVY GUN'!I163","v":0},0,"99",137,"DQ",null,{"$f":"'TACTICAL GUN'!B163","v":0},{"$f":"'TACTICAL GUN'!G163","v":0},{"$f":"'TACTICAL GUN'!H163","v":0},{"$f":"'TACTICAL GUN'!I163","v":0},0,"99",137,"DQ"]
[138,"target 1",{"$f":"IF('Competitor List'!J143=\"Y\",'Competitor List'!B143,\" \")","v":" "},{"$f":"'LIGHT GUN'!G164","v":0},{"$f":"'LIGHT GUN'!H164","v":0},{"$f":"'LIGHT GUN'!I164","v":0},0,"99",138,"DQ",null,{"$f":"IF('Competitor List'!K143=\"Y\",'Competitor List'!C143,\" \")","v":" "},{"$f":"'HEAVY GUN'!G164","v":0},{"$f":"'HEAVY GUN'!H164","v":0},{"$f":"'HEAVY GUN'!I164","v":0},0,"99",138,"DQ",null,{"$f":"'TACTICAL GUN'!B164","v":0},{"$f":"'TACTICAL GUN'!G164","v":0},{"$f":"'TACTICAL GUN'!H164","v":0},{"$f":"'TACTICAL GUN'!I164","v":0},0,"99",138,"DQ"]
[139,"target 1",{"$f":"IF('Competitor List'!J144=\"Y\",'Competitor List'!B144,\" \")","v":" "},{"$f":"'LIGHT GUN'!G165","v":0},{"$f":"'LIGHT GUN'!H165","v":0},{"$f":"'LIGHT GUN'!I165","v":0},0,"99",139,"DQ",null,{"$f":"IF('Competitor List'!K144=\"Y\",'Competitor List'!C144,\" \")","v":" "},{"$f":"'HEAVY GUN'!G165","v":0},{"$f":"'HEAVY GUN'!H165","v":0},{"$f":"'HEAVY GUN'!I165","v":0},0,"99",139,"DQ",null,{"$f":"'TACTICAL GUN'!B165","v":0},{"$f":"'TACTICAL GUN'!G165","v":0},{"$f":"'TACTICAL GUN'!H165","v":0},{"$f":"'TACTICAL GUN'!I165","v":0},0,"99",139,"DQ"]
[140,"target 1",{"$f":"IF('Competitor List'!J145=\"Y\",'Competitor List'!B145,\" \")","v":" "},{"$f":"'LIGHT GUN'!G166","v":0},{"$f":"'LIGHT GUN'!H166","v":0},{"$f":"'LIGHT GUN'!I166","v":0},0,"99",140,"DQ",null,{"$f":"IF('Competitor List'!K145=\"Y\",'Competitor List'!C145,\" \")","v":" "},{"$f":"'HEAVY GUN'!G166","v":0},{"$f":"'HEAVY GUN'!H166","v":0},{"$f":"'HEAVY GUN'!I166","v":0},0,"99",140,"DQ",null,{"$f":"'TACTICAL GUN'!B166","v":0},{"$f":"'TACTICAL GUN'!G166","v":0},{"$f":"'TACTICAL GUN'!H166","v":0},{"$f":"'TACTICAL GUN'!I166","v":0},0,"99",140,"DQ"]
[141,"target 1",{"$f":"IF('Competitor List'!J146=\"Y\",'Competitor List'!B146,\" \")","v":" "},{"$f":"'LIGHT GUN'!G167","v":0},{"$f":"'LIGHT GUN'!H167","v":0},{"$f":"'LIGHT GUN'!I167","v":0},0,"99",141,"DQ",null,{"$f":"IF('Competitor List'!K146=\"Y\",'Competitor List'!C146,\" \")","v":" "},{"$f":"'HEAVY GUN'!G167","v":0},{"$f":"'HEAVY GUN'!H167","v":0},{"$f":"'HEAVY GUN'!I167","v":0},0,"99",141,"DQ",null,{"$f":"'TACTICAL GUN'!B167","v":0},{"$f":"'TACTICAL GUN'!G167","v":0},{"$f":"'TACTICAL GUN'!H167","v":0},{"$f":"'TACTICAL GUN'!I167","v":0},0,"99",141,"DQ"]
[142,"target 1",{"$f":"IF('Competitor List'!J147=\"Y\",'Competitor List'!B147,\" \")","v":" "},{"$f":"'LIGHT GUN'!G168","v":0},{"$f":"'LIGHT GUN'!H168","v":0},{"$f":"'LIGHT GUN'!I168","v":0},0,"99",142,"DQ",null,{"$f":"IF('Competitor List'!K147=\"Y\",'Competitor List'!C147,\" \")","v":" "},{"$f":"'HEAVY GUN'!G168","v":0},{"$f":"'HEAVY GUN'!H168","v":0},{"$f":"'HEAVY GUN'!I168","v":0},0,"99",142,"DQ",null,{"$f":"'TACTICAL GUN'!B168","v":0},{"$f":"'TACTICAL GUN'!G168","v":0},{"$f":"'TACTICAL GUN'!H168","v":0},{"$f":"'TACTICAL GUN'!I168","v":0},0,"99",142,"DQ"]
[143,"target 1",{"$f":"IF('Competitor List'!J148=\"Y\",'Competitor List'!B148,\" \")","v":" "},{"$f":"'LIGHT GUN'!G169","v":0},{"$f":"'LIGHT GUN'!H169","v":0},{"$f":"'LIGHT GUN'!I169","v":0},0,"99",143,"DQ",null,{"$f":"IF('Competitor List'!K148=\"Y\",'Competitor List'!C148,\" \")","v":" "},{"$f":"'HEAVY GUN'!G169","v":0},{"$f":"'HEAVY GUN'!H169","v":0},{"$f":"'HEAVY GUN'!I169","v":0},0,"99",143,"DQ",null,{"$f":"'TACTICAL GUN'!B169","v":0},{"$f":"'TACTICAL GUN'!G169","v":0},{"$f":"'TACTICAL GUN'!H169","v":0},{"$f":"'TACTICAL GUN'!I169","v":0},0,"99",143,"DQ"]
[144,"target 1",{"$f":"IF('Competitor List'!J149=\"Y\",'Competitor List'!B149,\" \")","v":" "},{"$f":"'LIGHT GUN'!G170","v":0},{"$f":"'LIGHT GUN'!H170","v":0},{"$f":"'LIGHT GUN'!I170","v":0},0,"99",144,"DQ",null,{"$f":"IF('Competitor List'!K149=\"Y\",'Competitor List'!C149,\" \")","v":" "},{"$f":"'HEAVY GUN'!G170","v":0},{"$f":"'HEAVY GUN'!H170","v":0},{"$f":"'HEAVY GUN'!I170","v":0},0,"99",144,"DQ",null,{"$f":"'TACTICAL GUN'!B170","v":0},{"$f":"'TACTICAL GUN'!G170","v":0},{"$f":"'TACTICAL GUN'!H170","v":0},{"$f":"'TACTICAL GUN'!I170","v":0},0,"99",144,"DQ"]
[145,"target 1",{"$f":"IF('Competitor List'!J150=\"Y\",'Competitor List'!B150,\" \")","v":" "},{"$f":"'LIGHT GUN'!G171","v":0},{"$f":"'LIGHT GUN'!H171","v":0},{"$f":"'LIGHT GUN'!I171","v":0},0,"99",145,"DQ",null,{"$f":"IF('Competitor List'!K150=\"Y\",'Competitor List'!C150,\" \")","v":" "},{"$f":"'HEAVY GUN'!G171","v":0},{"$f":"'HEAVY GUN'!H171","v":0},{"$f":"'HEAVY GUN'!I171","v":0},0,"99",145,"DQ",null,{"$f":"'TACTICAL GUN'!B171","v":0},{"$f":"'TACTICAL GUN'!G171","v":0},{"$f":"'TACTICAL GUN'!H171","v":0},{"$f":"'TACTICAL GUN'!I171","v":0},0,"99",145,"DQ"]
[146,"target 1",{"$f":"IF('Competitor List'!J151=\"Y\",'Competitor List'!B151,\" \")","v":" "},{"$f":"'LIGHT GUN'!G172","v":0},{"$f":"'LIGHT GUN'!H172","v":0},{"$f":"'LIGHT GUN'!I172","v":0},0,"99",146,"DQ",null,{"$f":"IF('Competitor List'!K151=\"Y\",'Competitor List'!C151,\" \")","v":" "},{"$f":"'HEAVY GUN'!G172","v":0},{"$f":"'HEAVY GUN'!H172","v":0},{"$f":"'HEAVY GUN'!I172","v":0},0,"99",146,"DQ",null,{"$f":"'TACTICAL GUN'!B172","v":0},{"$f":"'TACTICAL GUN'!G172","v":0},{"$f":"'TACTICAL GUN'!H172","v":0},{"$f":"'TACTICAL GUN'!I172","v":0},0,"99",146,"DQ"]
[147,"target 1",{"$f":"IF('Competitor List'!J152=\"Y\",'Competitor List'!B152,\" \")","v":" "},{"$f":"'LIGHT GUN'!G173","v":0},{"$f":"'LIGHT GUN'!H173","v":0},{"$f":"'LIGHT GUN'!I173","v":0},0,"99",147,"DQ",null,{"$f":"IF('Competitor List'!K152=\"Y\",'Competitor List'!C152,\" \")","v":" "},{"$f":"'HEAVY GUN'!G173","v":0},{"$f":"'HEAVY GUN'!H173","v":0},{"$f":"'HEAVY GUN'!I173","v":0},0,"99",147,"DQ",null,{"$f":"'TACTICAL GUN'!B173","v":0},{"$f":"'TACTICAL GUN'!G173","v":0},{"$f":"'TACTICAL GUN'!H173","v":0},{"$f":"'TACTICAL GUN'!I173","v":0},0,"99",147,"DQ"]
[148,"target 1",{"$f":"IF('Competitor List'!J153=\"Y\",'Competitor List'!B153,\" \")","v":" "},{"$f":"'LIGHT GUN'!G174","v":0},{"$f":"'LIGHT GUN'!H174","v":0},{"$f":"'LIGHT GUN'!I174","v":0},0,"99",148,"DQ",null,{"$f":"IF('Competitor List'!K153=\"Y\",'Competitor List'!C153,\" \")","v":" "},{"$f":"'HEAVY GUN'!G174","v":0},{"$f":"'HEAVY GUN'!H174","v":0},{"$f":"'HEAVY GUN'!I174","v":0},0,"99",148,"DQ",null,{"$f":"'TACTICAL GUN'!B174","v":0},{"$f":"'TACTICAL GUN'!G174","v":0},{"$f":"'TACTICAL GUN'!H174","v":0},{"$f":"'TACTICAL GUN'!I174","v":0},0,"99",148,"DQ"]
[149,"target 1",{"$f":"IF('Competitor List'!J154=\"Y\",'Competitor List'!B154,\" \")","v":" "},{"$f":"'LIGHT GUN'!G175","v":0},{"$f":"'LIGHT GUN'!H175","v":0},{"$f":"'LIGHT GUN'!I175","v":0},0,"99",149,"DQ",null,{"$f":"IF('Competitor List'!K154=\"Y\",'Competitor List'!C154,\" \")","v":" "},{"$f":"'HEAVY GUN'!G175","v":0},{"$f":"'HEAVY GUN'!H175","v":0},{"$f":"'HEAVY GUN'!I175","v":0},0,"99",149,"DQ",null,{"$f":"'TACTICAL GUN'!B175","v":0},{"$f":"'TACTICAL GUN'!G175","v":0},{"$f":"'TACTICAL GUN'!H175","v":0},{"$f":"'TACTICAL GUN'!I175","v":0},0,"99",149,"DQ"]
[150,"target 1",{"$f":"IF('Competitor List'!J155=\"Y\",'Competitor List'!B155,\" \")","v":" "},{"$f":"'LIGHT GUN'!G176","v":0},{"$f":"'LIGHT GUN'!H176","v":0},{"$f":"'LIGHT GUN'!I176","v":0},0,"99",150,"DQ",null,{"$f":"IF('Competitor List'!K155=\"Y\",'Competitor List'!C155,\" \")","v":" "},{"$f":"'HEAVY GUN'!G176","v":0},{"$f":"'HEAVY GUN'!H176","v":0},{"$f":"'HEAVY GUN'!I176","v":0},0,"99",150,"DQ",null,{"$f":"'TACTICAL GUN'!B176","v":0},{"$f":"'TACTICAL GUN'!G176","v":0},{"$f":"'TACTICAL GUN'!H176","v":0},{"$f":"'TACTICAL GUN'!I176","v":0},0,"99",150,"DQ"]
[151,"target 2",{"$f":"IF('Competitor List'!J6=\"Y\",'Competitor List'!B6,\" \")","v":" "},{"$f":"'LIGHT GUN'!J27","v":0},{"$f":"'LIGHT GUN'!K27","v":0},{"$f":"'LIGHT GUN'!L27","v":0},0,"99",151,"DQ",null,{"$f":"IF('Competitor List'!K6=\"Y\",'Competitor List'!C6,\" \")","v":" "},{"$f":"'HEAVY GUN'!J27","v":0},{"$f":"'HEAVY GUN'!K27","v":0},{"$f":"'HEAVY GUN'!L27","v":0},0,"99",151,"DQ",null,{"$f":"'TACTICAL GUN'!B27","v":0},{"$f":"'TACTICAL GUN'!J27","v":0},{"$f":"'TACTICAL GUN'!K27","v":0},{"$f":"'TACTICAL GUN'!L27","v":0},0,"99",{"$f":" IF(AND(ISNUMBER(V157)),RANK(V157,$V$7:$V$606,0)+SUMPRODUCT(($V$7:$V$606=V157)*($X$7:$X$606<X157))+SUMPRODUCT(($V$7:$V$606=V157)*($X$7:$X$606=X157)*($W$7:$W$606>W157))+SUMPRODUCT(($V$7:$V$606=V157)*($X$7:$X$606=X157)*($W$7:$W$606=W157)*($A$7:$A$606<A157)),\"DQ\")","v":151},{"$f":" IF(AND(Z157>0,ISNUMBER(Z157)),RANK(Z157,$Z$7:$Z$606,1)+SUMPRODUCT(($Z$7:$Z$606=Z157)*($V$7:$V$606>V157))+SUMPRODUCT(($Z$7:$Z$606=Z157)*($V$7:$V$606=V157)*($W$7:$W$606>W157))+SUMPRODUCT(($Z$7:$Z$606=Z157)*($V$7:$V$606=V157)*($W$7:$W$606=W157)*($A$7:$A$606<A157)),\"DQ\")","v":"DQ"}]
[152,"target 2",{"$f":"IF('Competitor List'!J7=\"Y\",'Competitor List'!B7,\" \")","v":" "},{"$f":"'LIGHT GUN'!J28","v":0},{"$f":"'LIGHT GUN'!K28","v":0},{"$f":"'LIGHT GUN'!L28","v":0},0,"99",152,"DQ",null,{"$f":"IF('Competitor List'!K7=\"Y\",'Competitor List'!C7,\" \")","v":" "},{"$f":"'HEAVY GUN'!J28","v":0},{"$f":"'HEAVY GUN'!K28","v":0},{"$f":"'HEAVY GUN'!L28","v":0},0,"99",152,"DQ",null,{"$f":"'TACTICAL GUN'!B28","v":0},{"$f":"'TACTICAL GUN'!J28","v":0},{"$f":"'TACTICAL GUN'!K28","v":0},{"$f":"'TACTICAL GUN'!L28","v":0},0,"99",{"$f":" IF(AND(ISNUMBER(V158)),RANK(V158,$V$7:$V$606,0)+SUMPRODUCT(($V$7:$V$606=V158)*($X$7:$X$606<X158))+SUMPRODUCT(($V$7:$V$606=V158)*($X$7:$X$606=X158)*($W$7:$W$606>W158))+SUMPRODUCT(($V$7:$V$606=V158)*($X$7:$X$606=X158)*($W$7:$W$606=W158)*($A$7:$A$606<A158)),\"DQ\")","v":152},{"$f":" IF(AND(Z158>0,ISNUMBER(Z158)),RANK(Z158,$Z$7:$Z$606,1)+SUMPRODUCT(($Z$7:$Z$606=Z158)*($V$7:$V$606>V158))+SUMPRODUCT(($Z$7:$Z$606=Z158)*($V$7:$V$606=V158)*($W$7:$W$606>W158))+SUMPRODUCT(($Z$7:$Z$606=Z158)*($V$7:$V$606=V158)*($W$7:$W$606=W158)*($A$7:$A$606<A158)),\"DQ\")","v":"DQ"}]
[153,"target 2",{"$f":"IF('Competitor List'!J8=\"Y\",'Competitor List'!B8,\" \")","v":" "},{"$f":"'LIGHT GUN'!J29","v":0},{"$f":"'LIGHT GUN'!K29","v":0},{"$f":"'LIGHT GUN'!L29","v":0},0,"99",153,"DQ",null,{"$f":"IF('Competitor List'!K8=\"Y\",'Competitor List'!C8,\" \")","v":" "},{"$f":"'HEAVY GUN'!J29","v":0},{"$f":"'HEAVY GUN'!K29","v":0},{"$f":"'HEAVY GUN'!L29","v":0},0,"99",153,"DQ",null,{"$f":"'TACTICAL GUN'!B29","v":0},{"$f":"'TACTICAL GUN'!J29","v":0},{"$f":"'TACTICAL GUN'!K29","v":0},{"$f":"'TACTICAL GUN'!L29","v":0},0,"99",153,"DQ"]
[154,"target 2",{"$f":"IF('Competitor List'!J9=\"Y\",'Competitor List'!B9,\" \")","v":" "},{"$f":"'LIGHT GUN'!J30","v":0},{"$f":"'LIGHT GUN'!K30","v":0},{"$f":"'LIGHT GUN'!L30","v":0},0,"99",154,"DQ",null,{"$f":"IF('Competitor List'!K9=\"Y\",'Competitor List'!C9,\" \")","v":" "},{"$f":"'HEAVY GUN'!J30","v":0},{"$f":"'HEAVY GUN'!K30","v":0},{"$f":"'HEAVY GUN'!L30","v":0},0,"99",154,"DQ",null,{"$f":"'TACTICAL GUN'!B30","v":0},{"$f":"'TACTICAL GUN'!J30","v":0},{"$f":"'TACTICAL GUN'!K30","v":0},{"$f":"'TACTICAL GUN'!L30","v":0},0,"99",154,"DQ"]
[155,"target 2",{"$f":"IF('Competitor List'!J10=\"Y\",'Competitor List'!B10,\" \")","v":" "},{"$f":"'LIGHT GUN'!J31","v":0},{"$f":"'LIGHT GUN'!K31","v":0},{"$f":"'LIGHT GUN'!L31","v":0},0,"99",155,"DQ",null,{"$f":"IF('Competitor List'!K10=\"Y\",'Competitor List'!C10,\" \")","v":" "},{"$f":"'HEAVY GUN'!J31","v":0},{"$f":"'HEAVY GUN'!K31","v":0},{"$f":"'HEAVY GUN'!L31","v":0},0,"99",155,"DQ",null,{"$f":"'TACTICAL GUN'!B31","v":0},{"$f":"'TACTICAL GUN'!J31","v":0},{"$f":"'TACTICAL GUN'!K31","v":0},{"$f":"'TACTICAL GUN'!L31","v":0},0,"99",155,"DQ"]
[156,"target 2",{"$f":"IF('Competitor List'!J11=\"Y\",'Competitor List'!B11,\" \")","v":" "},{"$f":"'LIGHT GUN'!J32","v":0},{"$f":"'LIGHT GUN'!K32","v":0},{"$f":"'LIGHT GUN'!L32","v":0},0,"99",156,"DQ",null,{"$f":"IF('Competitor List'!K11=\"Y\",'Competitor List'!C11,\" \")","v":" "},{"$f":"'HEAVY GUN'!J32","v":0},{"$f":"'HEAVY GUN'!K32","v":0},{"$f":"'HEAVY GUN'!L32","v":0},0,"99",156,"DQ",null,{"$f":"'TACTICAL GUN'!B32","v":0},{"$f":"'TACTICAL GUN'!J32","v":0},{"$f":"'TACTICAL GUN'!K32","v":0},{"$f":"'TACTICAL GUN'!L32","v":0},0,"99",156,"DQ"]
[157,"target 2",{"$f":"IF('Competitor List'!J12=\"Y\",'Competitor List'!B12,\" \")","v":" "},{"$f":"'LIGHT GUN'!J33","v":0},{"$f":"'LIGHT GUN'!K33","v":0},{"$f":"'LIGHT GUN'!L33","v":0},0,"99",157,"DQ",null,{"$f":"IF('Competitor List'!K12=\"Y\",'Competitor List'!C12,\" \")","v":" "},{"$f":"'HEAVY GUN'!J33","v":0},{"$f":"'HEAVY GUN'!K33","v":0},{"$f":"'HEAVY GUN'!L33","v":0},0,"99",157,"DQ",null,{"$f":"'TACTICAL GUN'!B33","v":0},{"$f":"'TACTICAL GUN'!J33","v":0},{"$f":"'TACTICAL GUN'!K33","v":0},{"$f":"'TACTICAL GUN'!L33","v":0},0,"99",157,"DQ"]
[158,"target 2",{"$f":"IF('Competitor List'!J13=\"Y\",'Competitor List'!B13,\" \")","v":" "},{"$f":"'LIGHT GUN'!J34","v":0},{"$f":"'LIGHT GUN'!K34","v":0},{"$f":"'LIGHT GUN'!L34","v":0},0,"99",158,"DQ",null,{"$f":"IF('Competitor List'!K13=\"Y\",'Competitor List'!C13,\" \")","v":" "},{"$f":"'HEAVY GUN'!J34","v":0},{"$f":"'HEAVY GUN'!K34","v":0},{"$f":"'HEAVY GUN'!L34","v":0},0,"99",158,"DQ",null,{"$f":"'TACTICAL GUN'!B34","v":0},{"$f":"'TACTICAL GUN'!J34","v":0},{"$f":"'TACTICAL GUN'!K34","v":0},{"$f":"'TACTICAL GUN'!L34","v":0},0,"99",158,"DQ"]
[159,"target 2",{"$f":"IF('Competitor List'!J14=\"Y\",'Competitor List'!B14,\" \")","v":" "},{"$f":"'LIGHT GUN'!J35","v":0},{"$f":"'LIGHT GUN'!K35","v":0},{"$f":"'LIGHT GUN'!L35","v":0},0,"99",159,"DQ",null,{"$f":"IF('Competitor List'!K14=\"Y\",'Competitor List'!C14,\" \")","v":" "},{"$f":"'HEAVY GUN'!J35","v":0},{"$f":"'HEAVY GUN'!K35","v":0},{"$f":"'HEAVY GUN'!L35","v":0},0,"99",159,"DQ",null,{"$f":"'TACTICAL GUN'!B35","v":0},{"$f":"'TACTICAL GUN'!J35","v":0},{"$f":"'TACTICAL GUN'!K35","v":0},{"$f":"'TACTICAL GUN'!L35","v":0},0,"99",159,"DQ"]
[160,"target 2",{"$f":"IF('Competitor List'!J15=\"Y\",'Competitor List'!B15,\" \")","v":" "},{"$f":"'LIGHT GUN'!J36","v":0},{"$f":"'LIGHT GUN'!K36","v":0},{"$f":"'LIGHT GUN'!L36","v":0},0,"99",160,"DQ",null,{"$f":"IF('Competitor List'!K15=\"Y\",'Competitor List'!C15,\" \")","v":" "},{"$f":"'HEAVY GUN'!J36","v":0},{"$f":"'HEAVY GUN'!K36","v":0},{"$f":"'HEAVY GUN'!L36","v":0},0,"99",160,"DQ",null,{"$f":"'TACTICAL GUN'!B36","v":0},{"$f":"'TACTICAL GUN'!J36","v":0},{"$f":"'TACTICAL GUN'!K36","v":0},{"$f":"'TACTICAL GUN'!L36","v":0},0,"99",160,"DQ"]
[161,"target 2",{"$f":"IF('Competitor List'!J16=\"Y\",'Competitor List'!B16,\" \")","v":" "},{"$f":"'LIGHT GUN'!J37","v":0},{"$f":"'LIGHT GUN'!K37","v":0},{"$f":"'LIGHT GUN'!L37","v":0},0,"99",161,"DQ",null,{"$f":"IF('Competitor List'!K16=\"Y\",'Competitor List'!C16,\" \")","v":" "},{"$f":"'HEAVY GUN'!J37","v":0},{"$f":"'HEAVY GUN'!K37","v":0},{"$f":"'HEAVY GUN'!L37","v":0},0,"99",161,"DQ",null,{"$f":"'TACTICAL GUN'!B37","v":0},{"$f":"'TACTICAL GUN'!J37","v":0},{"$f":"'TACTICAL GUN'!K37","v":0},{"$f":"'TACTICAL GUN'!L37","v":0},0,"99",161,"DQ"]
[162,"target 2",{"$f":"IF('Competitor List'!J17=\"Y\",'Competitor List'!B17,\" \")","v":" "},{"$f":"'LIGHT GUN'!J38","v":0},{"$f":"'LIGHT GUN'!K38","v":0},{"$f":"'LIGHT GUN'!L38","v":0},0,"99",162,"DQ",null,{"$f":"IF('Competitor List'!K17=\"Y\",'Competitor List'!C17,\" \")","v":" "},{"$f":"'HEAVY GUN'!J38","v":0},{"$f":"'HEAVY GUN'!K38","v":0},{"$f":"'HEAVY GUN'!L38","v":0},0,"99",162,"DQ",null,{"$f":"'TACTICAL GUN'!B38","v":0},{"$f":"'TACTICAL GUN'!J38","v":0},{"$f":"'TACTICAL GUN'!K38","v":0},{"$f":"'TACTICAL GUN'!L38","v":0},0,"99",162,"DQ"]
[163,"target 2",{"$f":"IF('Competitor List'!J18=\"Y\",'Competitor List'!B18,\" \")","v":" "},{"$f":"'LIGHT GUN'!J39","v":0},{"$f":"'LIGHT GUN'!K39","v":0},{"$f":"'LIGHT GUN'!L39","v":0},0,"99",163,"DQ",null,{"$f":"IF('Competitor List'!K18=\"Y\",'Competitor List'!C18,\" \")","v":" "},{"$f":"'HEAVY GUN'!J39","v":0},{"$f":"'HEAVY GUN'!K39","v":0},{"$f":"'HEAVY GUN'!L39","v":0},0,"99",163,"DQ",null,{"$f":"'TACTICAL GUN'!B39","v":0},{"$f":"'TACTICAL GUN'!J39","v":0},{"$f":"'TACTICAL GUN'!K39","v":0},{"$f":"'TACTICAL GUN'!L39","v":0},0,"99",163,"DQ"]
[164,"target 2",{"$f":"IF('Competitor List'!J19=\"Y\",'Competitor List'!B19,\" \")","v":" "},{"$f":"'LIGHT GUN'!J40","v":0},{"$f":"'LIGHT GUN'!K40","v":0},{"$f":"'LIGHT GUN'!L40","v":0},0,"99",164,"DQ",null,{"$f":"IF('Competitor List'!K19=\"Y\",'Competitor List'!C19,\" \")","v":" "},{"$f":"'HEAVY GUN'!J40","v":0},{"$f":"'HEAVY GUN'!K40","v":0},{"$f":"'HEAVY GUN'!L40","v":0},0,"99",164,"DQ",null,{"$f":"'TACTICAL GUN'!B40","v":0},{"$f":"'TACTICAL GUN'!J40","v":0},{"$f":"'TACTICAL GUN'!K40","v":0},{"$f":"'TACTICAL GUN'!L40","v":0},0,"99",164,"DQ"]
[165,"target 2",{"$f":"IF('Competitor List'!J20=\"Y\",'Competitor List'!B20,\" \")","v":" "},{"$f":"'LIGHT GUN'!J41","v":0},{"$f":"'LIGHT GUN'!K41","v":0},{"$f":"'LIGHT GUN'!L41","v":0},0,"99",165,"DQ",null,{"$f":"IF('Competitor List'!K20=\"Y\",'Competitor List'!C20,\" \")","v":" "},{"$f":"'HEAVY GUN'!J41","v":0},{"$f":"'HEAVY GUN'!K41","v":0},{"$f":"'HEAVY GUN'!L41","v":0},0,"99",165,"DQ",null,{"$f":"'TACTICAL GUN'!B41","v":0},{"$f":"'TACTICAL GUN'!J41","v":0},{"$f":"'TACTICAL GUN'!K41","v":0},{"$f":"'TACTICAL GUN'!L41","v":0},0,"99",165,"DQ"]
[166,"target 2",{"$f":"IF('Competitor List'!J21=\"Y\",'Competitor List'!B21,\" \")","v":" "},{"$f":"'LIGHT GUN'!J42","v":0},{"$f":"'LIGHT GUN'!K42","v":0},{"$f":"'LIGHT GUN'!L42","v":0},0,"99",166,"DQ",null,{"$f":"IF('Competitor List'!K21=\"Y\",'Competitor List'!C21,\" \")","v":" "},{"$f":"'HEAVY GUN'!J42","v":0},{"$f":"'HEAVY GUN'!K42","v":0},{"$f":"'HEAVY GUN'!L42","v":0},0,"99",166,"DQ",null,{"$f":"'TACTICAL GUN'!B42","v":0},{"$f":"'TACTICAL GUN'!J42","v":0},{"$f":"'TACTICAL GUN'!K42","v":0},{"$f":"'TACTICAL GUN'!L42","v":0},0,"99",166,"DQ"]
[167,"target 2",{"$f":"IF('Competitor List'!J22=\"Y\",'Competitor List'!B22,\" \")","v":" "},{"$f":"'LIGHT GUN'!J43","v":0},{"$f":"'LIGHT GUN'!K43","v":0},{"$f":"'LIGHT GUN'!L43","v":0},0,"99",167,"DQ",null,{"$f":"IF('Competitor List'!K22=\"Y\",'Competitor List'!C22,\" \")","v":" "},{"$f":"'HEAVY GUN'!J43","v":0},{"$f":"'HEAVY GUN'!K43","v":0},{"$f":"'HEAVY GUN'!L43","v":0},0,"99",167,"DQ",null,{"$f":"'TACTICAL GUN'!B43","v":0},{"$f":"'TACTICAL GUN'!J43","v":0},{"$f":"'TACTICAL GUN'!K43","v":0},{"$f":"'TACTICAL GUN'!L43","v":0},0,"99",167,"DQ"]
[168,"target 2",{"$f":"IF('Competitor List'!J23=\"Y\",'Competitor List'!B23,\" \")","v":" "},{"$f":"'LIGHT GUN'!J44","v":0},{"$f":"'LIGHT GUN'!K44","v":0},{"$f":"'LIGHT GUN'!L44","v":0},0,"99",168,"DQ",null,{"$f":"IF('Competitor List'!K23=\"Y\",'Competitor List'!C23,\" \")","v":" "},{"$f":"'HEAVY GUN'!J44","v":0},{"$f":"'HEAVY GUN'!K44","v":0},{"$f":"'HEAVY GUN'!L44","v":0},0,"99",168,"DQ",null,{"$f":"'TACTICAL GUN'!B44","v":0},{"$f":"'TACTICAL GUN'!J44","v":0},{"$f":"'TACTICAL GUN'!K44","v":0},{"$f":"'TACTICAL GUN'!L44","v":0},0,"99",168,"DQ"]
[169,"target 2",{"$f":"IF('Competitor List'!J24=\"Y\",'Competitor List'!B24,\" \")","v":" "},{"$f":"'LIGHT GUN'!J45","v":0},{"$f":"'LIGHT GUN'!K45","v":0},{"$f":"'LIGHT GUN'!L45","v":0},0,"99",169,"DQ",null,{"$f":"IF('Competitor List'!K24=\"Y\",'Competitor List'!C24,\" \")","v":" "},{"$f":"'HEAVY GUN'!J45","v":0},{"$f":"'HEAVY GUN'!K45","v":0},{"$f":"'HEAVY GUN'!L45","v":0},0,"99",169,"DQ",null,{"$f":"'TACTICAL GUN'!B45","v":0},{"$f":"'TACTICAL GUN'!J45","v":0},{"$f":"'TACTICAL GUN'!K45","v":0},{"$f":"'TACTICAL GUN'!L45","v":0},0,"99",169,"DQ"]
[170,"target 2",{"$f":"IF('Competitor List'!J25=\"Y\",'Competitor List'!B25,\" \")","v":" "},{"$f":"'LIGHT GUN'!J46","v":0},{"$f":"'LIGHT GUN'!K46","v":0},{"$f":"'LIGHT GUN'!L46","v":0},0,"99",170,"DQ",null,{"$f":"IF('Competitor List'!K25=\"Y\",'Competitor List'!C25,\" \")","v":" "},{"$f":"'HEAVY GUN'!J46","v":0},{"$f":"'HEAVY GUN'!K46","v":0},{"$f":"'HEAVY GUN'!L46","v":0},0,"99",170,"DQ",null,{"$f":"'TACTICAL GUN'!B46","v":0},{"$f":"'TACTICAL GUN'!J46","v":0},{"$f":"'TACTICAL GUN'!K46","v":0},{"$f":"'TACTICAL GUN'!L46","v":0},0,"99",170,"DQ"]
[171,"target 2",{"$f":"IF('Competitor List'!J26=\"Y\",'Competitor List'!B26,\" \")","v":" "},{"$f":"'LIGHT GUN'!J47","v":0},{"$f":"'LIGHT GUN'!K47","v":0},{"$f":"'LIGHT GUN'!L47","v":0},0,"99",171,"DQ",null,{"$f":"IF('Competitor List'!K26=\"Y\",'Competitor List'!C26,\" \")","v":" "},{"$f":"'HEAVY GUN'!J47","v":0},{"$f":"'HEAVY GUN'!K47","v":0},{"$f":"'HEAVY GUN'!L47","v":0},0,"99",171,"DQ",null,{"$f":"'TACTICAL GUN'!B47","v":0},{"$f":"'TACTICAL GUN'!J47","v":0},{"$f":"'TACTICAL GUN'!K47","v":0},{"$f":"'TACTICAL GUN'!L47","v":0},0,"99",171,"DQ"]
[172,"target 2",{"$f":"IF('Competitor List'!J27=\"Y\",'Competitor List'!B27,\" \")","v":" "},{"$f":"'LIGHT GUN'!J48","v":0},{"$f":"'LIGHT GUN'!K48","v":0},{"$f":"'LIGHT GUN'!L48","v":0},0,"99",172,"DQ",null,{"$f":"IF('Competitor List'!K27=\"Y\",'Competitor List'!C27,\" \")","v":" "},{"$f":"'HEAVY GUN'!J48","v":0},{"$f":"'HEAVY GUN'!K48","v":0},{"$f":"'HEAVY GUN'!L48","v":0},0,"99",172,"DQ",null,{"$f":"'TACTICAL GUN'!B48","v":0},{"$f":"'TACTICAL GUN'!J48","v":0},{"$f":"'TACTICAL GUN'!K48","v":0},{"$f":"'TACTICAL GUN'!L48","v":0},0,"99",172,"DQ"]
[173,"target 2",{"$f":"IF('Competitor List'!J28=\"Y\",'Competitor List'!B28,\" \")","v":" "},{"$f":"'LIGHT GUN'!J49","v":0},{"$f":"'LIGHT GUN'!K49","v":0},{"$f":"'LIGHT GUN'!L49","v":0},0,"99",173,"DQ",null,{"$f":"IF('Competitor List'!K28=\"Y\",'Competitor List'!C28,\" \")","v":" "},{"$f":"'HEAVY GUN'!J49","v":0},{"$f":"'HEAVY GUN'!K49","v":0},{"$f":"'HEAVY GUN'!L49","v":0},0,"99",173,"DQ",null,{"$f":"'TACTICAL GUN'!B49","v":0},{"$f":"'TACTICAL GUN'!J49","v":0},{"$f":"'TACTICAL GUN'!K49","v":0},{"$f":"'TACTICAL GUN'!L49","v":0},0,"99",173,"DQ"]
[174,"target 2",{"$f":"IF('Competitor List'!J29=\"Y\",'Competitor List'!B29,\" \")","v":" "},{"$f":"'LIGHT GUN'!J50","v":0},{"$f":"'LIGHT GUN'!K50","v":0},{"$f":"'LIGHT GUN'!L50","v":0},0,"99",174,"DQ",null,{"$f":"IF('Competitor List'!K29=\"Y\",'Competitor List'!C29,\" \")","v":" "},{"$f":"'HEAVY GUN'!J50","v":0},{"$f":"'HEAVY GUN'!K50","v":0},{"$f":"'HEAVY GUN'!L50","v":0},0,"99",174,"DQ",null,{"$f":"'TACTICAL GUN'!B50","v":0},{"$f":"'TACTICAL GUN'!J50","v":0},{"$f":"'TACTICAL GUN'!K50","v":0},{"$f":"'TACTICAL GUN'!L50","v":0},0,"99",174,"DQ"]
[175,"target 2",{"$f":"IF('Competitor List'!J30=\"Y\",'Competitor List'!B30,\" \")","v":" "},{"$f":"'LIGHT GUN'!J51","v":0},{"$f":"'LIGHT GUN'!K51","v":0},{"$f":"'LIGHT GUN'!L51","v":0},0,"99",175,"DQ",null,{"$f":"IF('Competitor List'!K30=\"Y\",'Competitor List'!C30,\" \")","v":" "},{"$f":"'HEAVY GUN'!J51","v":0},{"$f":"'HEAVY GUN'!K51","v":0},{"$f":"'HEAVY GUN'!L51","v":0},0,"99",175,"DQ",null,{"$f":"'TACTICAL GUN'!B51","v":0},{"$f":"'TACTICAL GUN'!J51","v":0},{"$f":"'TACTICAL GUN'!K51","v":0},{"$f":"'TACTICAL GUN'!L51","v":0},0,"99",175,"DQ"]
[176,"target 2",{"$f":"IF('Competitor List'!J31=\"Y\",'Competitor List'!B31,\" \")","v":" "},{"$f":"'LIGHT GUN'!J52","v":0},{"$f":"'LIGHT GUN'!K52","v":0},{"$f":"'LIGHT GUN'!L52","v":0},0,"99",176,"DQ",null,{"$f":"IF('Competitor List'!K31=\"Y\",'Competitor List'!C31,\" \")","v":" "},{"$f":"'HEAVY GUN'!J52","v":0},{"$f":"'HEAVY GUN'!K52","v":0},{"$f":"'HEAVY GUN'!L52","v":0},0,"99",176,"DQ",null,{"$f":"'TACTICAL GUN'!B52","v":0},{"$f":"'TACTICAL GUN'!J52","v":0},{"$f":"'TACTICAL GUN'!K52","v":0},{"$f":"'TACTICAL GUN'!L52","v":0},0,"99",176,"DQ"]
[177,"target 2",{"$f":"IF('Competitor List'!J32=\"Y\",'Competitor List'!B32,\" \")","v":" "},{"$f":"'LIGHT GUN'!J53","v":0},{"$f":"'LIGHT GUN'!K53","v":0},{"$f":"'LIGHT GUN'!L53","v":0},0,"99",177,"DQ",null,{"$f":"IF('Competitor List'!K32=\"Y\",'Competitor List'!C32,\" \")","v":" "},{"$f":"'HEAVY GUN'!J53","v":0},{"$f":"'HEAVY GUN'!K53","v":0},{"$f":"'HEAVY GUN'!L53","v":0},0,"99",177,"DQ",null,{"$f":"'TACTICAL GUN'!B53","v":0},{"$f":"'TACTICAL GUN'!J53","v":0},{"$f":"'TACTICAL GUN'!K53","v":0},{"$f":"'TACTICAL GUN'!L53","v":0},0,"99",177,"DQ"]
[178,"target 2",{"$f":"IF('Competitor List'!J33=\"Y\",'Competitor List'!B33,\" \")","v":" "},{"$f":"'LIGHT GUN'!J54","v":0},{"$f":"'LIGHT GUN'!K54","v":0},{"$f":"'LIGHT GUN'!L54","v":0},0,"99",178,"DQ",null,{"$f":"IF('Competitor List'!K33=\"Y\",'Competitor List'!C33,\" \")","v":" "},{"$f":"'HEAVY GUN'!J54","v":0},{"$f":"'HEAVY GUN'!K54","v":0},{"$f":"'HEAVY GUN'!L54","v":0},0,"99",178,"DQ",null,{"$f":"'TACTICAL GUN'!B54","v":0},{"$f":"'TACTICAL GUN'!J54","v":0},{"$f":"'TACTICAL GUN'!K54","v":0},{"$f":"'TACTICAL GUN'!L54","v":0},0,"99",178,"DQ"]
[179,"target 2",{"$f":"IF('Competitor List'!J34=\"Y\",'Competitor List'!B34,\" \")","v":" "},{"$f":"'LIGHT GUN'!J55","v":0},{"$f":"'LIGHT GUN'!K55","v":0},{"$f":"'LIGHT GUN'!L55","v":0},0,"99",179,"DQ",null,{"$f":"IF('Competitor List'!K34=\"Y\",'Competitor List'!C34,\" \")","v":" "},{"$f":"'HEAVY GUN'!J55","v":0},{"$f":"'HEAVY GUN'!K55","v":0},{"$f":"'HEAVY GUN'!L55","v":0},0,"99",179,"DQ",null,{"$f":"'TACTICAL GUN'!B55","v":0},{"$f":"'TACTICAL GUN'!J55","v":0},{"$f":"'TACTICAL GUN'!K55","v":0},{"$f":"'TACTICAL GUN'!L55","v":0},0,"99",179,"DQ"]
[180,"target 2",{"$f":"IF('Competitor List'!J35=\"Y\",'Competitor List'!B35,\" \")","v":" "},{"$f":"'LIGHT GUN'!J56","v":0},{"$f":"'LIGHT GUN'!K56","v":0},{"$f":"'LIGHT GUN'!L56","v":0},0,"99",180,"DQ",null,{"$f":"IF('Competitor List'!K35=\"Y\",'Competitor List'!C35,\" \")","v":" "},{"$f":"'HEAVY GUN'!J56","v":0},{"$f":"'HEAVY GUN'!K56","v":0},{"$f":"'HEAVY GUN'!L56","v":0},0,"99",180,"DQ",null,{"$f":"'TACTICAL GUN'!B56","v":0},{"$f":"'TACTICAL GUN'!J56","v":0},{"$f":"'TACTICAL GUN'!K56","v":0},{"$f":"'TACTICAL GUN'!L56","v":0},0,"99",180,"DQ"]
[181,"target 2",{"$f":"IF('Competitor List'!J36=\"Y\",'Competitor List'!B36,\" \")","v":" "},{"$f":"'LIGHT GUN'!J57","v":0},{"$f":"'LIGHT GUN'!K57","v":0},{"$f":"'LIGHT GUN'!L57","v":0},0,"99",181,"DQ",null,{"$f":"IF('Competitor List'!K36=\"Y\",'Competitor List'!C36,\" \")","v":" "},{"$f":"'HEAVY GUN'!J57","v":0},{"$f":"'HEAVY GUN'!K57","v":0},{"$f":"'HEAVY GUN'!L57","v":0},0,"99",181,"DQ",null,{"$f":"'TACTICAL GUN'!B57","v":0},{"$f":"'TACTICAL GUN'!J57","v":0},{"$f":"'TACTICAL GUN'!K57","v":0},{"$f":"'TACTICAL GUN'!L57","v":0},0,"99",181,"DQ"]
[182,"target 2",{"$f":"IF('Competitor List'!J37=\"Y\",'Competitor List'!B37,\" \")","v":" "},{"$f":"'LIGHT GUN'!J58","v":0},{"$f":"'LIGHT GUN'!K58","v":0},{"$f":"'LIGHT GUN'!L58","v":0},0,"99",182,"DQ",null,{"$f":"IF('Competitor List'!K37=\"Y\",'Competitor List'!C37,\" \")","v":" "},{"$f":"'HEAVY GUN'!J58","v":0},{"$f":"'HEAVY GUN'!K58","v":0},{"$f":"'HEAVY GUN'!L58","v":0},0,"99",182,"DQ",null,{"$f":"'TACTICAL GUN'!B58","v":0},{"$f":"'TACTICAL GUN'!J58","v":0},{"$f":"'TACTICAL GUN'!K58","v":0},{"$f":"'TACTICAL GUN'!L58","v":0},0,"99",182,"DQ"]
[183,"target 2",{"$f":"IF('Competitor List'!J38=\"Y\",'Competitor List'!B38,\" \")","v":" "},{"$f":"'LIGHT GUN'!J59","v":0},{"$f":"'LIGHT GUN'!K59","v":0},{"$f":"'LIGHT GUN'!L59","v":0},0,"99",183,"DQ",null,{"$f":"IF('Competitor List'!K38=\"Y\",'Competitor List'!C38,\" \")","v":" "},{"$f":"'HEAVY GUN'!J59","v":0},{"$f":"'HEAVY GUN'!K59","v":0},{"$f":"'HEAVY GUN'!L59","v":0},0,"99",183,"DQ",null,{"$f":"'TACTICAL GUN'!B59","v":0},{"$f":"'TACTICAL GUN'!J59","v":0},{"$f":"'TACTICAL GUN'!K59","v":0},{"$f":"'TACTICAL GUN'!L59","v":0},0,"99",183,"DQ"]
[184,"target 2",{"$f":"IF('Competitor List'!J39=\"Y\",'Competitor List'!B39,\" \")","v":" "},{"$f":"'LIGHT GUN'!J60","v":0},{"$f":"'LIGHT GUN'!K60","v":0},{"$f":"'LIGHT GUN'!L60","v":0},0,"99",184,"DQ",null,{"$f":"IF('Competitor List'!K39=\"Y\",'Competitor List'!C39,\" \")","v":" "},{"$f":"'HEAVY GUN'!J60","v":0},{"$f":"'HEAVY GUN'!K60","v":0},{"$f":"'HEAVY GUN'!L60","v":0},0,"99",184,"DQ",null,{"$f":"'TACTICAL GUN'!B60","v":0},{"$f":"'TACTICAL GUN'!J60","v":0},{"$f":"'TACTICAL GUN'!K60","v":0},{"$f":"'TACTICAL GUN'!L60","v":0},0,"99",184,"DQ"]
[185,"target 2",{"$f":"IF('Competitor List'!J40=\"Y\",'Competitor List'!B40,\" \")","v":" "},{"$f":"'LIGHT GUN'!J61","v":0},{"$f":"'LIGHT GUN'!K61","v":0},{"$f":"'LIGHT GUN'!L61","v":0},0,"99",185,"DQ",null,{"$f":"IF('Competitor List'!K40=\"Y\",'Competitor List'!C40,\" \")","v":" "},{"$f":"'HEAVY GUN'!J61","v":0},{"$f":"'HEAVY GUN'!K61","v":0},{"$f":"'HEAVY GUN'!L61","v":0},0,"99",185,"DQ",null,{"$f":"'TACTICAL GUN'!B61","v":0},{"$f":"'TACTICAL GUN'!J61","v":0},{"$f":"'TACTICAL GUN'!K61","v":0},{"$f":"'TACTICAL GUN'!L61","v":0},0,"99",185,"DQ"]
[186,"target 2",{"$f":"IF('Competitor List'!J41=\"Y\",'Competitor List'!B41,\" \")","v":" "},{"$f":"'LIGHT GUN'!J62","v":0},{"$f":"'LIGHT GUN'!K62","v":0},{"$f":"'LIGHT GUN'!L62","v":0},0,"99",186,"DQ",null,{"$f":"IF('Competitor List'!K41=\"Y\",'Competitor List'!C41,\" \")","v":" "},{"$f":"'HEAVY GUN'!J62","v":0},{"$f":"'HEAVY GUN'!K62","v":0},{"$f":"'HEAVY GUN'!L62","v":0},0,"99",186,"DQ",null,{"$f":"'TACTICAL GUN'!B62","v":0},{"$f":"'TACTICAL GUN'!J62","v":0},{"$f":"'TACTICAL GUN'!K62","v":0},{"$f":"'TACTICAL GUN'!L62","v":0},0,"99",186,"DQ"]
[187,"target 2",{"$f":"IF('Competitor List'!J42=\"Y\",'Competitor List'!B42,\" \")","v":" "},{"$f":"'LIGHT GUN'!J63","v":0},{"$f":"'LIGHT GUN'!K63","v":0},{"$f":"'LIGHT GUN'!L63","v":0},0,"99",187,"DQ",null,{"$f":"IF('Competitor List'!K42=\"Y\",'Competitor List'!C42,\" \")","v":" "},{"$f":"'HEAVY GUN'!J63","v":0},{"$f":"'HEAVY GUN'!K63","v":0},{"$f":"'HEAVY GUN'!L63","v":0},0,"99",187,"DQ",null,{"$f":"'TACTICAL GUN'!B63","v":0},{"$f":"'TACTICAL GUN'!J63","v":0},{"$f":"'TACTICAL GUN'!K63","v":0},{"$f":"'TACTICAL GUN'!L63","v":0},0,"99",187,"DQ"]
[188,"target 2",{"$f":"IF('Competitor List'!J43=\"Y\",'Competitor List'!B43,\" \")","v":" "},{"$f":"'LIGHT GUN'!J64","v":0},{"$f":"'LIGHT GUN'!K64","v":0},{"$f":"'LIGHT GUN'!L64","v":0},0,"99",188,"DQ",null,{"$f":"IF('Competitor List'!K43=\"Y\",'Competitor List'!C43,\" \")","v":" "},{"$f":"'HEAVY GUN'!J64","v":0},{"$f":"'HEAVY GUN'!K64","v":0},{"$f":"'HEAVY GUN'!L64","v":0},0,"99",188,"DQ",null,{"$f":"'TACTICAL GUN'!B64","v":0},{"$f":"'TACTICAL GUN'!J64","v":0},{"$f":"'TACTICAL GUN'!K64","v":0},{"$f":"'TACTICAL GUN'!L64","v":0},0,"99",188,"DQ"]
[189,"target 2",{"$f":"IF('Competitor List'!J44=\"Y\",'Competitor List'!B44,\" \")","v":" "},{"$f":"'LIGHT GUN'!J65","v":0},{"$f":"'LIGHT GUN'!K65","v":0},{"$f":"'LIGHT GUN'!L65","v":0},0,"99",189,"DQ",null,{"$f":"IF('Competitor List'!K44=\"Y\",'Competitor List'!C44,\" \")","v":" "},{"$f":"'HEAVY GUN'!J65","v":0},{"$f":"'HEAVY GUN'!K65","v":0},{"$f":"'HEAVY GUN'!L65","v":0},0,"99",189,"DQ",null,{"$f":"'TACTICAL GUN'!B65","v":0},{"$f":"'TACTICAL GUN'!J65","v":0},{"$f":"'TACTICAL GUN'!K65","v":0},{"$f":"'TACTICAL GUN'!L65","v":0},0,"99",189,"DQ"]
[190,"target 2",{"$f":"IF('Competitor List'!J45=\"Y\",'Competitor List'!B45,\" \")","v":" "},{"$f":"'LIGHT GUN'!J66","v":0},{"$f":"'LIGHT GUN'!K66","v":0},{"$f":"'LIGHT GUN'!L66","v":0},0,"99",190,"DQ",null,{"$f":"IF('Competitor List'!K45=\"Y\",'Competitor List'!C45,\" \")","v":" "},{"$f":"'HEAVY GUN'!J66","v":0},{"$f":"'HEAVY GUN'!K66","v":0},{"$f":"'HEAVY GUN'!L66","v":0},0,"99",190,"DQ",null,{"$f":"'TACTICAL GUN'!B66","v":0},{"$f":"'TACTICAL GUN'!J66","v":0},{"$f":"'TACTICAL GUN'!K66","v":0},{"$f":"'TACTICAL GUN'!L66","v":0},0,"99",190,"DQ"]
[191,"target 2",{"$f":"IF('Competitor List'!J46=\"Y\",'Competitor List'!B46,\" \")","v":" "},{"$f":"'LIGHT GUN'!J67","v":0},{"$f":"'LIGHT GUN'!K67","v":0},{"$f":"'LIGHT GUN'!L67","v":0},0,"99",191,"DQ",null,{"$f":"IF('Competitor List'!K46=\"Y\",'Competitor List'!C46,\" \")","v":" "},{"$f":"'HEAVY GUN'!J67","v":0},{"$f":"'HEAVY GUN'!K67","v":0},{"$f":"'HEAVY GUN'!L67","v":0},0,"99",191,"DQ",null,{"$f":"'TACTICAL GUN'!B67","v":0},{"$f":"'TACTICAL GUN'!J67","v":0},{"$f":"'TACTICAL GUN'!K67","v":0},{"$f":"'TACTICAL GUN'!L67","v":0},0,"99",191,"DQ"]
[192,"target 2",{"$f":"IF('Competitor List'!J47=\"Y\",'Competitor List'!B47,\" \")","v":" "},{"$f":"'LIGHT GUN'!J68","v":0},{"$f":"'LIGHT GUN'!K68","v":0},{"$f":"'LIGHT GUN'!L68","v":0},0,"99",192,"DQ",null,{"$f":"IF('Competitor List'!K47=\"Y\",'Competitor List'!C47,\" \")","v":" "},{"$f":"'HEAVY GUN'!J68","v":0},{"$f":"'HEAVY GUN'!K68","v":0},{"$f":"'HEAVY GUN'!L68","v":0},0,"99",192,"DQ",null,{"$f":"'TACTICAL GUN'!B68","v":0},{"$f":"'TACTICAL GUN'!J68","v":0},{"$f":"'TACTICAL GUN'!K68","v":0},{"$f":"'TACTICAL GUN'!L68","v":0},0,"99",192,"DQ"]
[193,"target 2",{"$f":"IF('Competitor List'!J48=\"Y\",'Competitor List'!B48,\" \")","v":" "},{"$f":"'LIGHT GUN'!J69","v":0},{"$f":"'LIGHT GUN'!K69","v":0},{"$f":"'LIGHT GUN'!L69","v":0},0,"99",193,"DQ",null,{"$f":"IF('Competitor List'!K48=\"Y\",'Competitor List'!C48,\" \")","v":" "},{"$f":"'HEAVY GUN'!J69","v":0},{"$f":"'HEAVY GUN'!K69","v":0},{"$f":"'HEAVY GUN'!L69","v":0},0,"99",193,"DQ",null,{"$f":"'TACTICAL GUN'!B69","v":0},{"$f":"'TACTICAL GUN'!J69","v":0},{"$f":"'TACTICAL GUN'!K69","v":0},{"$f":"'TACTICAL GUN'!L69","v":0},0,"99",193,"DQ"]
[194,"target 2",{"$f":"IF('Competitor List'!J49=\"Y\",'Competitor List'!B49,\" \")","v":" "},{"$f":"'LIGHT GUN'!J70","v":0},{"$f":"'LIGHT GUN'!K70","v":0},{"$f":"'LIGHT GUN'!L70","v":0},{"$f":"IF(ISNUMBER(F200),SUM(F200),\"99\")","v":0},{"$f":"IF(G200=0,\"99\",G200)","v":"99"},{"$f":" IF(AND(ISNUMBER(D200)),RANK(D200,$D$7:$D$606,0)+SUMPRODUCT(($D$7:$D$606=D200)*($F$7:$F$606<F200))+SUMPRODUCT(($D$7:$D$606=D200)*($F$7:$F$606=F200)*($E$7:$E$606>E200))+SUMPRODUCT(($D$7:$D$606=D200)*($F$7:$F$606=F200)*($E$7:$E$606=E200)*($A$7:$A$606<A200)),\"DQ\")","v":194},{"$f":" IF(AND(ISNUMBER(H200)),RANK(H200,$H$7:$H$606,1)+SUMPRODUCT(($H$7:$H$606=H200)*($D$7:$D$606>D200))+SUMPRODUCT(($H$7:$H$606=H200)*($D$7:$D$606=D200)*($E$7:$E$606>E200))+SUMPRODUCT(($H$7:$H$606=H200)*($D$7:$D$606=D200)*($E$7:$E$606=E200)*($A$7:$A$606<A200)),\"DQ\")","v":"DQ"},null,{"$f":"IF('Competitor List'!K49=\"Y\",'Competitor List'!C49,\" \")","v":" "},{"$f":"'HEAVY GUN'!J70","v":0},{"$f":"'HEAVY GUN'!K70","v":0},{"$f":"'HEAVY GUN'!L70","v":0},{"$f":"IF(ISNUMBER(O200),SUM(O200),\"99\")","v":0},{"$f":"IF(P200=0,\"99\",P200)","v":"99"},{"$f":" IF(AND(ISNUMBER(M200)),RANK(M200,$M$7:$M$606,0)+SUMPRODUCT(($M$7:$M$606=M200)*($O$7:$O$606<O200))+SUMPRODUCT(($M$7:$M$606=M200)*($O$7:$O$606=O200)*($N$7:$N$606>N200))+SUMPRODUCT(($M$7:$M$606=M200)*($O$7:$O$606=O200)*($N$7:$N$606=N200)*($A$7:$A$606<A200)),\"DQ\")","v":194},{"$f":" IF(AND(Q200>0,ISNUMBER(Q200)),RANK(Q200,$Q$7:$Q$606,1)+SUMPRODUCT(($Q$7:$Q$606=Q200)*($M$7:$M$606>M200))+SUMPRODUCT(($Q$7:$Q$606=Q200)*($M$7:$M$606=M200)*($N$7:$N$606>N200))+SUMPRODUCT(($Q$7:$Q$606=Q200)*($M$7:$M$606=M200)*($N$7:$N$606=N200)*($A$7:$A$606<A200)),\"DQ\")","v":"DQ"},null,{"$f":"'TACTICAL GUN'!B70","v":0},{"$f":"'TACTICAL GUN'!J70","v":0},{"$f":"'TACTICAL GUN'!K70","v":0},{"$f":"'TACTICAL GUN'!L70","v":0},{"$f":"IF(ISNUMBER(X200),SUM(X200),\"99\")","v":0},{"$f":"IF(Y200=0,\"99\",Y200)","v":"99"},194,"DQ"]
[195,"target 2",{"$f":"IF('Competitor List'!J50=\"Y\",'Competitor List'!B50,\" \")","v":" "},{"$f":"'LIGHT GUN'!J71","v":0},{"$f":"'LIGHT GUN'!K71","v":0},{"$f":"'LIGHT GUN'!L71","v":0},0,"99",195,"DQ",null,{"$f":"IF('Competitor List'!K50=\"Y\",'Competitor List'!C50,\" \")","v":" "},{"$f":"'HEAVY GUN'!J71","v":0},{"$f":"'HEAVY GUN'!K71","v":0},{"$f":"'HEAVY GUN'!L71","v":0},0,"99",195,"DQ",null,{"$f":"'TACTICAL GUN'!B71","v":0},{"$f":"'TACTICAL GUN'!J71","v":0},{"$f":"'TACTICAL GUN'!K71","v":0},{"$f":"'TACTICAL GUN'!L71","v":0},0,"99",195,"DQ"]
[196,"target 2",{"$f":"IF('Competitor List'!J51=\"Y\",'Competitor List'!B51,\" \")","v":" "},{"$f":"'LIGHT GUN'!J72","v":0},{"$f":"'LIGHT GUN'!K72","v":0},{"$f":"'LIGHT GUN'!L72","v":0},0,"99",196,"DQ",null,{"$f":"IF('Competitor List'!K51=\"Y\",'Competitor List'!C51,\" \")","v":" "},{"$f":"'HEAVY GUN'!J72","v":0},{"$f":"'HEAVY GUN'!K72","v":0},{"$f":"'HEAVY GUN'!L72","v":0},0,"99",196,"DQ",null,{"$f":"'TACTICAL GUN'!B72","v":0},{"$f":"'TACTICAL GUN'!J72","v":0},{"$f":"'TACTICAL GUN'!K72","v":0},{"$f":"'TACTICAL GUN'!L72","v":0},0,"99",196,"DQ"]
[197,"target 2",{"$f":"IF('Competitor List'!J52=\"Y\",'Competitor List'!B52,\" \")","v":" "},{"$f":"'LIGHT GUN'!J73","v":0},{"$f":"'LIGHT GUN'!K73","v":0},{"$f":"'LIGHT GUN'!L73","v":0},0,"99",197,"DQ",null,{"$f":"IF('Competitor List'!K52=\"Y\",'Competitor List'!C52,\" \")","v":" "},{"$f":"'HEAVY GUN'!J73","v":0},{"$f":"'HEAVY GUN'!K73","v":0},{"$f":"'HEAVY GUN'!L73","v":0},0,"99",197,"DQ",null,{"$f":"'TACTICAL GUN'!B73","v":0},{"$f":"'TACTICAL GUN'!J73","v":0},{"$f":"'TACTICAL GUN'!K73","v":0},{"$f":"'TACTICAL GUN'!L73","v":0},0,"99",197,"DQ"]
[198,"target 2",{"$f":"IF('Competitor List'!J53=\"Y\",'Competitor List'!B53,\" \")","v":" "},{"$f":"'LIGHT GUN'!J74","v":0},{"$f":"'LIGHT GUN'!K74","v":0},{"$f":"'LIGHT GUN'!L74","v":0},0,"99",198,"DQ",null,{"$f":"IF('Competitor List'!K53=\"Y\",'Competitor List'!C53,\" \")","v":" "},{"$f":"'HEAVY GUN'!J74","v":0},{"$f":"'HEAVY GUN'!K74","v":0},{"$f":"'HEAVY GUN'!L74","v":0},0,"99",198,"DQ",null,{"$f":"'TACTICAL GUN'!B74","v":0},{"$f":"'TACTICAL GUN'!J74","v":0},{"$f":"'TACTICAL GUN'!K74","v":0},{"$f":"'TACTICAL GUN'!L74","v":0},0,"99",198,"DQ"]
[199,"target 2",{"$f":"IF('Competitor List'!J54=\"Y\",'Competitor List'!B54,\" \")","v":" "},{"$f":"'LIGHT GUN'!J75","v":0},{"$f":"'LIGHT GUN'!K75","v":0},{"$f":"'LIGHT GUN'!L75","v":0},0,"99",199,"DQ",null,{"$f":"IF('Competitor List'!K54=\"Y\",'Competitor List'!C54,\" \")","v":" "},{"$f":"'HEAVY GUN'!J75","v":0},{"$f":"'HEAVY GUN'!K75","v":0},{"$f":"'HEAVY GUN'!L75","v":0},0,"99",199,"DQ",null,{"$f":"'TACTICAL GUN'!B75","v":0},{"$f":"'TACTICAL GUN'!J75","v":0},{"$f":"'TACTICAL GUN'!K75","v":0},{"$f":"'TACTICAL GUN'!L75","v":0},0,"99",199,"DQ"]
[200,"target 2",{"$f":"IF('Competitor List'!J55=\"Y\",'Competitor List'!B55,\" \")","v":" "},{"$f":"'LIGHT GUN'!J76","v":0},{"$f":"'LIGHT GUN'!K76","v":0},{"$f":"'LIGHT GUN'!L76","v":0},0,"99",200,"DQ",null,{"$f":"IF('Competitor List'!K55=\"Y\",'Competitor List'!C55,\" \")","v":" "},{"$f":"'HEAVY GUN'!J76","v":0},{"$f":"'HEAVY GUN'!K76","v":0},{"$f":"'HEAVY GUN'!L76","v":0},0,"99",200,"DQ",null,{"$f":"'TACTICAL GUN'!B76","v":0},{"$f":"'TACTICAL GUN'!J76","v":0},{"$f":"'TACTICAL GUN'!K76","v":0},{"$f":"'TACTICAL GUN'!L76","v":0},0,"99",200,"DQ"]
[201,"target 2",{"$f":"IF('Competitor List'!J56=\"Y\",'Competitor List'!B56,\" \")","v":" "},{"$f":"'LIGHT GUN'!J77","v":0},{"$f":"'LIGHT GUN'!K77","v":0},{"$f":"'LIGHT GUN'!L77","v":0},0,"99",201,"DQ",null,{"$f":"IF('Competitor List'!K56=\"Y\",'Competitor List'!C56,\" \")","v":" "},{"$f":"'HEAVY GUN'!J77","v":0},{"$f":"'HEAVY GUN'!K77","v":0},{"$f":"'HEAVY GUN'!L77","v":0},0,"99",201,"DQ",null,{"$f":"'TACTICAL GUN'!B77","v":0},{"$f":"'TACTICAL GUN'!J77","v":0},{"$f":"'TACTICAL GUN'!K77","v":0},{"$f":"'TACTICAL GUN'!L77","v":0},0,"99",201,"DQ"]
[202,"target 2",{"$f":"IF('Competitor List'!J57=\"Y\",'Competitor List'!B57,\" \")","v":" "},{"$f":"'LIGHT GUN'!J78","v":0},{"$f":"'LIGHT GUN'!K78","v":0},{"$f":"'LIGHT GUN'!L78","v":0},0,"99",202,"DQ",null,{"$f":"IF('Competitor List'!K57=\"Y\",'Competitor List'!C57,\" \")","v":" "},{"$f":"'HEAVY GUN'!J78","v":0},{"$f":"'HEAVY GUN'!K78","v":0},{"$f":"'HEAVY GUN'!L78","v":0},0,"99",202,"DQ",null,{"$f":"'TACTICAL GUN'!B78","v":0},{"$f":"'TACTICAL GUN'!J78","v":0},{"$f":"'TACTICAL GUN'!K78","v":0},{"$f":"'TACTICAL GUN'!L78","v":0},0,"99",202,"DQ"]
[203,"target 2",{"$f":"IF('Competitor List'!J58=\"Y\",'Competitor List'!B58,\" \")","v":" "},{"$f":"'LIGHT GUN'!J79","v":0},{"$f":"'LIGHT GUN'!K79","v":0},{"$f":"'LIGHT GUN'!L79","v":0},0,"99",203,"DQ",null,{"$f":"IF('Competitor List'!K58=\"Y\",'Competitor List'!C58,\" \")","v":" "},{"$f":"'HEAVY GUN'!J79","v":0},{"$f":"'HEAVY GUN'!K79","v":0},{"$f":"'HEAVY GUN'!L79","v":0},0,"99",203,"DQ",null,{"$f":"'TACTICAL GUN'!B79","v":0},{"$f":"'TACTICAL GUN'!J79","v":0},{"$f":"'TACTICAL GUN'!K79","v":0},{"$f":"'TACTICAL GUN'!L79","v":0},0,"99",203,"DQ"]
[204,"target 2",{"$f":"IF('Competitor List'!J59=\"Y\",'Competitor List'!B59,\" \")","v":" "},{"$f":"'LIGHT GUN'!J80","v":0},{"$f":"'LIGHT GUN'!K80","v":0},{"$f":"'LIGHT GUN'!L80","v":0},0,"99",204,"DQ",null,{"$f":"IF('Competitor List'!K59=\"Y\",'Competitor List'!C59,\" \")","v":" "},{"$f":"'HEAVY GUN'!J80","v":0},{"$f":"'HEAVY GUN'!K80","v":0},{"$f":"'HEAVY GUN'!L80","v":0},0,"99",204,"DQ",null,{"$f":"'TACTICAL GUN'!B80","v":0},{"$f":"'TACTICAL GUN'!J80","v":0},{"$f":"'TACTICAL GUN'!K80","v":0},{"$f":"'TACTICAL GUN'!L80","v":0},0,"99",204,"DQ"]
[205,"target 2",{"$f":"IF('Competitor List'!J60=\"Y\",'Competitor List'!B60,\" \")","v":" "},{"$f":"'LIGHT GUN'!J81","v":0},{"$f":"'LIGHT GUN'!K81","v":0},{"$f":"'LIGHT GUN'!L81","v":0},0,"99",205,"DQ",null,{"$f":"IF('Competitor List'!K60=\"Y\",'Competitor List'!C60,\" \")","v":" "},{"$f":"'HEAVY GUN'!J81","v":0},{"$f":"'HEAVY GUN'!K81","v":0},{"$f":"'HEAVY GUN'!L81","v":0},0,"99",205,"DQ",null,{"$f":"'TACTICAL GUN'!B81","v":0},{"$f":"'TACTICAL GUN'!J81","v":0},{"$f":"'TACTICAL GUN'!K81","v":0},{"$f":"'TACTICAL GUN'!L81","v":0},0,"99",205,"DQ"]
[206,"target 2",{"$f":"IF('Competitor List'!J61=\"Y\",'Competitor List'!B61,\" \")","v":" "},{"$f":"'LIGHT GUN'!J82","v":0},{"$f":"'LIGHT GUN'!K82","v":0},{"$f":"'LIGHT GUN'!L82","v":0},0,"99",206,"DQ",null,{"$f":"IF('Competitor List'!K61=\"Y\",'Competitor List'!C61,\" \")","v":" "},{"$f":"'HEAVY GUN'!J82","v":0},{"$f":"'HEAVY GUN'!K82","v":0},{"$f":"'HEAVY GUN'!L82","v":0},0,"99",206,"DQ",null,{"$f":"'TACTICAL GUN'!B82","v":0},{"$f":"'TACTICAL GUN'!J82","v":0},{"$f":"'TACTICAL GUN'!K82","v":0},{"$f":"'TACTICAL GUN'!L82","v":0},0,"99",206,"DQ"]
[207,"target 2",{"$f":"IF('Competitor List'!J62=\"Y\",'Competitor List'!B62,\" \")","v":" "},{"$f":"'LIGHT GUN'!J83","v":0},{"$f":"'LIGHT GUN'!K83","v":0},{"$f":"'LIGHT GUN'!L83","v":0},0,"99",207,"DQ",null,{"$f":"IF('Competitor List'!K62=\"Y\",'Competitor List'!C62,\" \")","v":" "},{"$f":"'HEAVY GUN'!J83","v":0},{"$f":"'HEAVY GUN'!K83","v":0},{"$f":"'HEAVY GUN'!L83","v":0},0,"99",207,"DQ",null,{"$f":"'TACTICAL GUN'!B83","v":0},{"$f":"'TACTICAL GUN'!J83","v":0},{"$f":"'TACTICAL GUN'!K83","v":0},{"$f":"'TACTICAL GUN'!L83","v":0},0,"99",207,"DQ"]
[208,"target 2",{"$f":"IF('Competitor List'!J63=\"Y\",'Competitor List'!B63,\" \")","v":" "},{"$f":"'LIGHT GUN'!J84","v":0},{"$f":"'LIGHT GUN'!K84","v":0},{"$f":"'LIGHT GUN'!L84","v":0},0,"99",208,"DQ",null,{"$f":"IF('Competitor List'!K63=\"Y\",'Competitor List'!C63,\" \")","v":" "},{"$f":"'HEAVY GUN'!J84","v":0},{"$f":"'HEAVY GUN'!K84","v":0},{"$f":"'HEAVY GUN'!L84","v":0},0,"99",208,"DQ",null,{"$f":"'TACTICAL GUN'!B84","v":0},{"$f":"'TACTICAL GUN'!J84","v":0},{"$f":"'TACTICAL GUN'!K84","v":0},{"$f":"'TACTICAL GUN'!L84","v":0},0,"99",208,"DQ"]
[209,"target 2",{"$f":"IF('Competitor List'!J64=\"Y\",'Competitor List'!B64,\" \")","v":" "},{"$f":"'LIGHT GUN'!J85","v":0},{"$f":"'LIGHT GUN'!K85","v":0},{"$f":"'LIGHT GUN'!L85","v":0},0,"99",209,"DQ",null,{"$f":"IF('Competitor List'!K64=\"Y\",'Competitor List'!C64,\" \")","v":" "},{"$f":"'HEAVY GUN'!J85","v":0},{"$f":"'HEAVY GUN'!K85","v":0},{"$f":"'HEAVY GUN'!L85","v":0},0,"99",209,"DQ",null,{"$f":"'TACTICAL GUN'!B85","v":0},{"$f":"'TACTICAL GUN'!J85","v":0},{"$f":"'TACTICAL GUN'!K85","v":0},{"$f":"'TACTICAL GUN'!L85","v":0},0,"99",209,"DQ"]
[210,"target 2",{"$f":"IF('Competitor List'!J65=\"Y\",'Competitor List'!B65,\" \")","v":" "},{"$f":"'LIGHT GUN'!J86","v":0},{"$f":"'LIGHT GUN'!K86","v":0},{"$f":"'LIGHT GUN'!L86","v":0},0,"99",210,"DQ",null,{"$f":"IF('Competitor List'!K65=\"Y\",'Competitor List'!C65,\" \")","v":" "},{"$f":"'HEAVY GUN'!J86","v":0},{"$f":"'HEAVY GUN'!K86","v":0},{"$f":"'HEAVY GUN'!L86","v":0},0,"99",210,"DQ",null,{"$f":"'TACTICAL GUN'!B86","v":0},{"$f":"'TACTICAL GUN'!J86","v":0},{"$f":"'TACTICAL GUN'!K86","v":0},{"$f":"'TACTICAL GUN'!L86","v":0},0,"99",210,"DQ"]
[211,"target 2",{"$f":"IF('Competitor List'!J66=\"Y\",'Competitor List'!B66,\" \")","v":" "},{"$f":"'LIGHT GUN'!J87","v":0},{"$f":"'LIGHT GUN'!K87","v":0},{"$f":"'LIGHT GUN'!L87","v":0},0,"99",211,"DQ",null,{"$f":"IF('Competitor List'!K66=\"Y\",'Competitor List'!C66,\" \")","v":" "},{"$f":"'HEAVY GUN'!J87","v":0},{"$f":"'HEAVY GUN'!K87","v":0},{"$f":"'HEAVY GUN'!L87","v":0},0,"99",211,"DQ",null,{"$f":"'TACTICAL GUN'!B87","v":0},{"$f":"'TACTICAL GUN'!J87","v":0},{"$f":"'TACTICAL GUN'!K87","v":0},{"$f":"'TACTICAL GUN'!L87","v":0},0,"99",211,"DQ"]
[212,"target 2",{"$f":"IF('Competitor List'!J67=\"Y\",'Competitor List'!B67,\" \")","v":" "},{"$f":"'LIGHT GUN'!J88","v":0},{"$f":"'LIGHT GUN'!K88","v":0},{"$f":"'LIGHT GUN'!L88","v":0},0,"99",212,"DQ",null,{"$f":"IF('Competitor List'!K67=\"Y\",'Competitor List'!C67,\" \")","v":" "},{"$f":"'HEAVY GUN'!J88","v":0},{"$f":"'HEAVY GUN'!K88","v":0},{"$f":"'HEAVY GUN'!L88","v":0},0,"99",212,"DQ",null,{"$f":"'TACTICAL GUN'!B88","v":0},{"$f":"'TACTICAL GUN'!J88","v":0},{"$f":"'TACTICAL GUN'!K88","v":0},{"$f":"'TACTICAL GUN'!L88","v":0},0,"99",212,"DQ"]
[213,"target 2",{"$f":"IF('Competitor List'!J68=\"Y\",'Competitor List'!B68,\" \")","v":" "},{"$f":"'LIGHT GUN'!J89","v":0},{"$f":"'LIGHT GUN'!K89","v":0},{"$f":"'LIGHT GUN'!L89","v":0},0,"99",213,"DQ",null,{"$f":"IF('Competitor List'!K68=\"Y\",'Competitor List'!C68,\" \")","v":" "},{"$f":"'HEAVY GUN'!J89","v":0},{"$f":"'HEAVY GUN'!K89","v":0},{"$f":"'HEAVY GUN'!L89","v":0},0,"99",213,"DQ",null,{"$f":"'TACTICAL GUN'!B89","v":0},{"$f":"'TACTICAL GUN'!J89","v":0},{"$f":"'TACTICAL GUN'!K89","v":0},{"$f":"'TACTICAL GUN'!L89","v":0},0,"99",213,"DQ"]
[214,"target 2",{"$f":"IF('Competitor List'!J69=\"Y\",'Competitor List'!B69,\" \")","v":" "},{"$f":"'LIGHT GUN'!J90","v":0},{"$f":"'LIGHT GUN'!K90","v":0},{"$f":"'LIGHT GUN'!L90","v":0},0,"99",214,"DQ",null,{"$f":"IF('Competitor List'!K69=\"Y\",'Competitor List'!C69,\" \")","v":" "},{"$f":"'HEAVY GUN'!J90","v":0},{"$f":"'HEAVY GUN'!K90","v":0},{"$f":"'HEAVY GUN'!L90","v":0},0,"99",214,"DQ",null,{"$f":"'TACTICAL GUN'!B90","v":0},{"$f":"'TACTICAL GUN'!J90","v":0},{"$f":"'TACTICAL GUN'!K90","v":0},{"$f":"'TACTICAL GUN'!L90","v":0},0,"99",214,"DQ"]
[215,"target 2",{"$f":"IF('Competitor List'!J70=\"Y\",'Competitor List'!B70,\" \")","v":" "},{"$f":"'LIGHT GUN'!J91","v":0},{"$f":"'LIGHT GUN'!K91","v":0},{"$f":"'LIGHT GUN'!L91","v":0},0,"99",215,"DQ",null,{"$f":"IF('Competitor List'!K70=\"Y\",'Competitor List'!C70,\" \")","v":" "},{"$f":"'HEAVY GUN'!J91","v":0},{"$f":"'HEAVY GUN'!K91","v":0},{"$f":"'HEAVY GUN'!L91","v":0},0,"99",215,"DQ",null,{"$f":"'TACTICAL GUN'!B91","v":0},{"$f":"'TACTICAL GUN'!J91","v":0},{"$f":"'TACTICAL GUN'!K91","v":0},{"$f":"'TACTICAL GUN'!L91","v":0},0,"99",215,"DQ"]
[216,"target 2",{"$f":"IF('Competitor List'!J71=\"Y\",'Competitor List'!B71,\" \")","v":" "},{"$f":"'LIGHT GUN'!J92","v":0},{"$f":"'LIGHT GUN'!K92","v":0},{"$f":"'LIGHT GUN'!L92","v":0},0,"99",216,"DQ",null,{"$f":"IF('Competitor List'!K71=\"Y\",'Competitor List'!C71,\" \")","v":" "},{"$f":"'HEAVY GUN'!J92","v":0},{"$f":"'HEAVY GUN'!K92","v":0},{"$f":"'HEAVY GUN'!L92","v":0},0,"99",216,"DQ",null,{"$f":"'TACTICAL GUN'!B92","v":0},{"$f":"'TACTICAL GUN'!J92","v":0},{"$f":"'TACTICAL GUN'!K92","v":0},{"$f":"'TACTICAL GUN'!L92","v":0},0,"99",{"$f":" IF(AND(ISNUMBER(V222)),RANK(V222,$V$7:$V$606,0)+SUMPRODUCT(($V$7:$V$606=V222)*($X$7:$X$606<X222))+SUMPRODUCT(($V$7:$V$606=V222)*($X$7:$X$606=X222)*($W$7:$W$606>W222))+SUMPRODUCT(($V$7:$V$606=V222)*($X$7:$X$606=X222)*($W$7:$W$606=W222)*($A$7:$A$606<A222)),\"DQ\")","v":216},{"$f":" IF(AND(Z222>0,ISNUMBER(Z222)),RANK(Z222,$Z$7:$Z$606,1)+SUMPRODUCT(($Z$7:$Z$606=Z222)*($V$7:$V$606>V222))+SUMPRODUCT(($Z$7:$Z$606=Z222)*($V$7:$V$606=V222)*($W$7:$W$606>W222))+SUMPRODUCT(($Z$7:$Z$606=Z222)*($V$7:$V$606=V222)*($W$7:$W$606=W222)*($A$7:$A$606<A222)),\"DQ\")","v":"DQ"}]
[217,"target 2",{"$f":"IF('Competitor List'!J72=\"Y\",'Competitor List'!B72,\" \")","v":" "},{"$f":"'LIGHT GUN'!J93","v":0},{"$f":"'LIGHT GUN'!K93","v":0},{"$f":"'LIGHT GUN'!L93","v":0},0,"99",217,"DQ",null,{"$f":"IF('Competitor List'!K72=\"Y\",'Competitor List'!C72,\" \")","v":" "},{"$f":"'HEAVY GUN'!J93","v":0},{"$f":"'HEAVY GUN'!K93","v":0},{"$f":"'HEAVY GUN'!L93","v":0},0,"99",217,"DQ",null,{"$f":"'TACTICAL GUN'!B93","v":0},{"$f":"'TACTICAL GUN'!J93","v":0},{"$f":"'TACTICAL GUN'!K93","v":0},{"$f":"'TACTICAL GUN'!L93","v":0},0,"99",217,"DQ"]
[218,"target 2",{"$f":"IF('Competitor List'!J73=\"Y\",'Competitor List'!B73,\" \")","v":" "},{"$f":"'LIGHT GUN'!J94","v":0},{"$f":"'LIGHT GUN'!K94","v":0},{"$f":"'LIGHT GUN'!L94","v":0},0,"99",218,"DQ",null,{"$f":"IF('Competitor List'!K73=\"Y\",'Competitor List'!C73,\" \")","v":" "},{"$f":"'HEAVY GUN'!J94","v":0},{"$f":"'HEAVY GUN'!K94","v":0},{"$f":"'HEAVY GUN'!L94","v":0},0,"99",218,"DQ",null,{"$f":"'TACTICAL GUN'!B94","v":0},{"$f":"'TACTICAL GUN'!J94","v":0},{"$f":"'TACTICAL GUN'!K94","v":0},{"$f":"'TACTICAL GUN'!L94","v":0},0,"99",218,"DQ"]
[219,"target 2",{"$f":"IF('Competitor List'!J74=\"Y\",'Competitor List'!B74,\" \")","v":" "},{"$f":"'LIGHT GUN'!J95","v":0},{"$f":"'LIGHT GUN'!K95","v":0},{"$f":"'LIGHT GUN'!L95","v":0},0,"99",219,"DQ",null,{"$f":"IF('Competitor List'!K74=\"Y\",'Competitor List'!C74,\" \")","v":" "},{"$f":"'HEAVY GUN'!J95","v":0},{"$f":"'HEAVY GUN'!K95","v":0},{"$f":"'HEAVY GUN'!L95","v":0},0,"99",219,"DQ",null,{"$f":"'TACTICAL GUN'!B95","v":0},{"$f":"'TACTICAL GUN'!J95","v":0},{"$f":"'TACTICAL GUN'!K95","v":0},{"$f":"'TACTICAL GUN'!L95","v":0},0,"99",219,"DQ"]
[220,"target 2",{"$f":"IF('Competitor List'!J75=\"Y\",'Competitor List'!B75,\" \")","v":" "},{"$f":"'LIGHT GUN'!J96","v":0},{"$f":"'LIGHT GUN'!K96","v":0},{"$f":"'LIGHT GUN'!L96","v":0},0,"99",220,"DQ",null,{"$f":"IF('Competitor List'!K75=\"Y\",'Competitor List'!C75,\" \")","v":" "},{"$f":"'HEAVY GUN'!J96","v":0},{"$f":"'HEAVY GUN'!K96","v":0},{"$f":"'HEAVY GUN'!L96","v":0},0,"99",220,"DQ",null,{"$f":"'TACTICAL GUN'!B96","v":0},{"$f":"'TACTICAL GUN'!J96","v":0},{"$f":"'TACTICAL GUN'!K96","v":0},{"$f":"'TACTICAL GUN'!L96","v":0},0,"99",220,"DQ"]
[221,"target 2",{"$f":"IF('Competitor List'!J76=\"Y\",'Competitor List'!B76,\" \")","v":" "},{"$f":"'LIGHT GUN'!J97","v":0},{"$f":"'LIGHT GUN'!K97","v":0},{"$f":"'LIGHT GUN'!L97","v":0},0,"99",221,"DQ",null,{"$f":"IF('Competitor List'!K76=\"Y\",'Competitor List'!C76,\" \")","v":" "},{"$f":"'HEAVY GUN'!J97","v":0},{"$f":"'HEAVY GUN'!K97","v":0},{"$f":"'HEAVY GUN'!L97","v":0},0,"99",221,"DQ",null,{"$f":"'TACTICAL GUN'!B97","v":0},{"$f":"'TACTICAL GUN'!J97","v":0},{"$f":"'TACTICAL GUN'!K97","v":0},{"$f":"'TACTICAL GUN'!L97","v":0},0,"99",221,"DQ"]
[222,"target 2",{"$f":"IF('Competitor List'!J77=\"Y\",'Competitor List'!B77,\" \")","v":" "},{"$f":"'LIGHT GUN'!J98","v":0},{"$f":"'LIGHT GUN'!K98","v":0},{"$f":"'LIGHT GUN'!L98","v":0},0,"99",222,"DQ",null,{"$f":"IF('Competitor List'!K77=\"Y\",'Competitor List'!C77,\" \")","v":" "},{"$f":"'HEAVY GUN'!J98","v":0},{"$f":"'HEAVY GUN'!K98","v":0},{"$f":"'HEAVY GUN'!L98","v":0},0,"99",222,"DQ",null,{"$f":"'TACTICAL GUN'!B98","v":0},{"$f":"'TACTICAL GUN'!J98","v":0},{"$f":"'TACTICAL GUN'!K98","v":0},{"$f":"'TACTICAL GUN'!L98","v":0},0,"99",222,"DQ"]
[223,"target 2",{"$f":"IF('Competitor List'!J78=\"Y\",'Competitor List'!B78,\" \")","v":" "},{"$f":"'LIGHT GUN'!J99","v":0},{"$f":"'LIGHT GUN'!K99","v":0},{"$f":"'LIGHT GUN'!L99","v":0},0,"99",223,"DQ",null,{"$f":"IF('Competitor List'!K78=\"Y\",'Competitor List'!C78,\" \")","v":" "},{"$f":"'HEAVY GUN'!J99","v":0},{"$f":"'HEAVY GUN'!K99","v":0},{"$f":"'HEAVY GUN'!L99","v":0},0,"99",223,"DQ",null,{"$f":"'TACTICAL GUN'!B99","v":0},{"$f":"'TACTICAL GUN'!J99","v":0},{"$f":"'TACTICAL GUN'!K99","v":0},{"$f":"'TACTICAL GUN'!L99","v":0},0,"99",223,"DQ"]
[224,"target 2",{"$f":"IF('Competitor List'!J79=\"Y\",'Competitor List'!B79,\" \")","v":" "},{"$f":"'LIGHT GUN'!J100","v":0},{"$f":"'LIGHT GUN'!K100","v":0},{"$f":"'LIGHT GUN'!L100","v":0},0,"99",224,"DQ",null,{"$f":"IF('Competitor List'!K79=\"Y\",'Competitor List'!C79,\" \")","v":" "},{"$f":"'HEAVY GUN'!J100","v":0},{"$f":"'HEAVY GUN'!K100","v":0},{"$f":"'HEAVY GUN'!L100","v":0},0,"99",224,"DQ",null,{"$f":"'TACTICAL GUN'!B100","v":0},{"$f":"'TACTICAL GUN'!J100","v":0},{"$f":"'TACTICAL GUN'!K100","v":0},{"$f":"'TACTICAL GUN'!L100","v":0},0,"99",224,"DQ"]
[225,"target 2",{"$f":"IF('Competitor List'!J80=\"Y\",'Competitor List'!B80,\" \")","v":" "},{"$f":"'LIGHT GUN'!J101","v":0},{"$f":"'LIGHT GUN'!K101","v":0},{"$f":"'LIGHT GUN'!L101","v":0},0,"99",225,"DQ",null,{"$f":"IF('Competitor List'!K80=\"Y\",'Competitor List'!C80,\" \")","v":" "},{"$f":"'HEAVY GUN'!J101","v":0},{"$f":"'HEAVY GUN'!K101","v":0},{"$f":"'HEAVY GUN'!L101","v":0},0,"99",225,"DQ",null,{"$f":"'TACTICAL GUN'!B101","v":0},{"$f":"'TACTICAL GUN'!J101","v":0},{"$f":"'TACTICAL GUN'!K101","v":0},{"$f":"'TACTICAL GUN'!L101","v":0},0,"99",225,"DQ"]
[226,"target 2",{"$f":"IF('Competitor List'!J81=\"Y\",'Competitor List'!B81,\" \")","v":" "},{"$f":"'LIGHT GUN'!J102","v":0},{"$f":"'LIGHT GUN'!K102","v":0},{"$f":"'LIGHT GUN'!L102","v":0},0,"99",226,"DQ",null,{"$f":"IF('Competitor List'!K81=\"Y\",'Competitor List'!C81,\" \")","v":" "},{"$f":"'HEAVY GUN'!J102","v":0},{"$f":"'HEAVY GUN'!K102","v":0},{"$f":"'HEAVY GUN'!L102","v":0},0,"99",226,"DQ",null,{"$f":"'TACTICAL GUN'!B102","v":0},{"$f":"'TACTICAL GUN'!J102","v":0},{"$f":"'TACTICAL GUN'!K102","v":0},{"$f":"'TACTICAL GUN'!L102","v":0},0,"99",226,"DQ"]
[227,"target 2",{"$f":"IF('Competitor List'!J82=\"Y\",'Competitor List'!B82,\" \")","v":" "},{"$f":"'LIGHT GUN'!J103","v":0},{"$f":"'LIGHT GUN'!K103","v":0},{"$f":"'LIGHT GUN'!L103","v":0},0,"99",227,"DQ",null,{"$f":"IF('Competitor List'!K82=\"Y\",'Competitor List'!C82,\" \")","v":" "},{"$f":"'HEAVY GUN'!J103","v":0},{"$f":"'HEAVY GUN'!K103","v":0},{"$f":"'HEAVY GUN'!L103","v":0},0,"99",227,"DQ",null,{"$f":"'TACTICAL GUN'!B103","v":0},{"$f":"'TACTICAL GUN'!J103","v":0},{"$f":"'TACTICAL GUN'!K103","v":0},{"$f":"'TACTICAL GUN'!L103","v":0},0,"99",227,"DQ"]
[228,"target 2",{"$f":"IF('Competitor List'!J83=\"Y\",'Competitor List'!B83,\" \")","v":" "},{"$f":"'LIGHT GUN'!J104","v":0},{"$f":"'LIGHT GUN'!K104","v":0},{"$f":"'LIGHT GUN'!L104","v":0},0,"99",228,"DQ",null,{"$f":"IF('Competitor List'!K83=\"Y\",'Competitor List'!C83,\" \")","v":" "},{"$f":"'HEAVY GUN'!J104","v":0},{"$f":"'HEAVY GUN'!K104","v":0},{"$f":"'HEAVY GUN'!L104","v":0},0,"99",228,"DQ",null,{"$f":"'TACTICAL GUN'!B104","v":0},{"$f":"'TACTICAL GUN'!J104","v":0},{"$f":"'TACTICAL GUN'!K104","v":0},{"$f":"'TACTICAL GUN'!L104","v":0},0,"99",228,"DQ"]
[229,"target 2",{"$f":"IF('Competitor List'!J84=\"Y\",'Competitor List'!B84,\" \")","v":" "},{"$f":"'LIGHT GUN'!J105","v":0},{"$f":"'LIGHT GUN'!K105","v":0},{"$f":"'LIGHT GUN'!L105","v":0},0,"99",229,"DQ",null,{"$f":"IF('Competitor List'!K84=\"Y\",'Competitor List'!C84,\" \")","v":" "},{"$f":"'HEAVY GUN'!J105","v":0},{"$f":"'HEAVY GUN'!K105","v":0},{"$f":"'HEAVY GUN'!L105","v":0},0,"99",229,"DQ",null,{"$f":"'TACTICAL GUN'!B105","v":0},{"$f":"'TACTICAL GUN'!J105","v":0},{"$f":"'TACTICAL GUN'!K105","v":0},{"$f":"'TACTICAL GUN'!L105","v":0},0,"99",229,"DQ"]
[230,"target 2",{"$f":"IF('Competitor List'!J85=\"Y\",'Competitor List'!B85,\" \")","v":" "},{"$f":"'LIGHT GUN'!J106","v":0},{"$f":"'LIGHT GUN'!K106","v":0},{"$f":"'LIGHT GUN'!L106","v":0},0,"99",230,"DQ",null,{"$f":"IF('Competitor List'!K85=\"Y\",'Competitor List'!C85,\" \")","v":" "},{"$f":"'HEAVY GUN'!J106","v":0},{"$f":"'HEAVY GUN'!K106","v":0},{"$f":"'HEAVY GUN'!L106","v":0},0,"99",230,"DQ",null,{"$f":"'TACTICAL GUN'!B106","v":0},{"$f":"'TACTICAL GUN'!J106","v":0},{"$f":"'TACTICAL GUN'!K106","v":0},{"$f":"'TACTICAL GUN'!L106","v":0},0,"99",230,"DQ"]
[231,"target 2",{"$f":"IF('Competitor List'!J86=\"Y\",'Competitor List'!B86,\" \")","v":" "},{"$f":"'LIGHT GUN'!J107","v":0},{"$f":"'LIGHT GUN'!K107","v":0},{"$f":"'LIGHT GUN'!L107","v":0},0,"99",231,"DQ",null,{"$f":"IF('Competitor List'!K86=\"Y\",'Competitor List'!C86,\" \")","v":" "},{"$f":"'HEAVY GUN'!J107","v":0},{"$f":"'HEAVY GUN'!K107","v":0},{"$f":"'HEAVY GUN'!L107","v":0},0,"99",231,"DQ",null,{"$f":"'TACTICAL GUN'!B107","v":0},{"$f":"'TACTICAL GUN'!J107","v":0},{"$f":"'TACTICAL GUN'!K107","v":0},{"$f":"'TACTICAL GUN'!L107","v":0},0,"99",231,"DQ"]
[232,"target 2",{"$f":"IF('Competitor List'!J87=\"Y\",'Competitor List'!B87,\" \")","v":" "},{"$f":"'LIGHT GUN'!J108","v":0},{"$f":"'LIGHT GUN'!K108","v":0},{"$f":"'LIGHT GUN'!L108","v":0},0,"99",232,"DQ",null,{"$f":"IF('Competitor List'!K87=\"Y\",'Competitor List'!C87,\" \")","v":" "},{"$f":"'HEAVY GUN'!J108","v":0},{"$f":"'HEAVY GUN'!K108","v":0},{"$f":"'HEAVY GUN'!L108","v":0},0,"99",232,"DQ",null,{"$f":"'TACTICAL GUN'!B108","v":0},{"$f":"'TACTICAL GUN'!J108","v":0},{"$f":"'TACTICAL GUN'!K108","v":0},{"$f":"'TACTICAL GUN'!L108","v":0},0,"99",232,"DQ"]
[233,"target 2",{"$f":"IF('Competitor List'!J88=\"Y\",'Competitor List'!B88,\" \")","v":" "},{"$f":"'LIGHT GUN'!J109","v":0},{"$f":"'LIGHT GUN'!K109","v":0},{"$f":"'LIGHT GUN'!L109","v":0},0,"99",233,"DQ",null,{"$f":"IF('Competitor List'!K88=\"Y\",'Competitor List'!C88,\" \")","v":" "},{"$f":"'HEAVY GUN'!J109","v":0},{"$f":"'HEAVY GUN'!K109","v":0},{"$f":"'HEAVY GUN'!L109","v":0},0,"99",233,"DQ",null,{"$f":"'TACTICAL GUN'!B109","v":0},{"$f":"'TACTICAL GUN'!J109","v":0},{"$f":"'TACTICAL GUN'!K109","v":0},{"$f":"'TACTICAL GUN'!L109","v":0},0,"99",233,"DQ"]
[234,"target 2",{"$f":"IF('Competitor List'!J89=\"Y\",'Competitor List'!B89,\" \")","v":" "},{"$f":"'LIGHT GUN'!J110","v":0},{"$f":"'LIGHT GUN'!K110","v":0},{"$f":"'LIGHT GUN'!L110","v":0},0,"99",234,"DQ",null,{"$f":"IF('Competitor List'!K89=\"Y\",'Competitor List'!C89,\" \")","v":" "},{"$f":"'HEAVY GUN'!J110","v":0},{"$f":"'HEAVY GUN'!K110","v":0},{"$f":"'HEAVY GUN'!L110","v":0},0,"99",234,"DQ",null,{"$f":"'TACTICAL GUN'!B110","v":0},{"$f":"'TACTICAL GUN'!J110","v":0},{"$f":"'TACTICAL GUN'!K110","v":0},{"$f":"'TACTICAL GUN'!L110","v":0},0,"99",234,"DQ"]
[235,"target 2",{"$f":"IF('Competitor List'!J90=\"Y\",'Competitor List'!B90,\" \")","v":" "},{"$f":"'LIGHT GUN'!J111","v":0},{"$f":"'LIGHT GUN'!K111","v":0},{"$f":"'LIGHT GUN'!L111","v":0},0,"99",235,"DQ",null,{"$f":"IF('Competitor List'!K90=\"Y\",'Competitor List'!C90,\" \")","v":" "},{"$f":"'HEAVY GUN'!J111","v":0},{"$f":"'HEAVY GUN'!K111","v":0},{"$f":"'HEAVY GUN'!L111","v":0},0,"99",235,"DQ",null,{"$f":"'TACTICAL GUN'!B111","v":0},{"$f":"'TACTICAL GUN'!J111","v":0},{"$f":"'TACTICAL GUN'!K111","v":0},{"$f":"'TACTICAL GUN'!L111","v":0},0,"99",235,"DQ"]
[236,"target 2",{"$f":"IF('Competitor List'!J91=\"Y\",'Competitor List'!B91,\" \")","v":" "},{"$f":"'LIGHT GUN'!J112","v":0},{"$f":"'LIGHT GUN'!K112","v":0},{"$f":"'LIGHT GUN'!L112","v":0},0,"99",236,"DQ",null,{"$f":"IF('Competitor List'!K91=\"Y\",'Competitor List'!C91,\" \")","v":" "},{"$f":"'HEAVY GUN'!J112","v":0},{"$f":"'HEAVY GUN'!K112","v":0},{"$f":"'HEAVY GUN'!L112","v":0},0,"99",236,"DQ",null,{"$f":"'TACTICAL GUN'!B112","v":0},{"$f":"'TACTICAL GUN'!J112","v":0},{"$f":"'TACTICAL GUN'!K112","v":0},{"$f":"'TACTICAL GUN'!L112","v":0},0,"99",236,"DQ"]
[237,"target 2",{"$f":"IF('Competitor List'!J92=\"Y\",'Competitor List'!B92,\" \")","v":" "},{"$f":"'LIGHT GUN'!J113","v":0},{"$f":"'LIGHT GUN'!K113","v":0},{"$f":"'LIGHT GUN'!L113","v":0},0,"99",237,"DQ",null,{"$f":"IF('Competitor List'!K92=\"Y\",'Competitor List'!C92,\" \")","v":" "},{"$f":"'HEAVY GUN'!J113","v":0},{"$f":"'HEAVY GUN'!K113","v":0},{"$f":"'HEAVY GUN'!L113","v":0},0,"99",237,"DQ",null,{"$f":"'TACTICAL GUN'!B113","v":0},{"$f":"'TACTICAL GUN'!J113","v":0},{"$f":"'TACTICAL GUN'!K113","v":0},{"$f":"'TACTICAL GUN'!L113","v":0},0,"99",237,"DQ"]
[238,"target 2",{"$f":"IF('Competitor List'!J93=\"Y\",'Competitor List'!B93,\" \")","v":" "},{"$f":"'LIGHT GUN'!J114","v":0},{"$f":"'LIGHT GUN'!K114","v":0},{"$f":"'LIGHT GUN'!L114","v":0},0,"99",238,"DQ",null,{"$f":"IF('Competitor List'!K93=\"Y\",'Competitor List'!C93,\" \")","v":" "},{"$f":"'HEAVY GUN'!J114","v":0},{"$f":"'HEAVY GUN'!K114","v":0},{"$f":"'HEAVY GUN'!L114","v":0},0,"99",238,"DQ",null,{"$f":"'TACTICAL GUN'!B114","v":0},{"$f":"'TACTICAL GUN'!J114","v":0},{"$f":"'TACTICAL GUN'!K114","v":0},{"$f":"'TACTICAL GUN'!L114","v":0},0,"99",238,"DQ"]
[239,"target 2",{"$f":"IF('Competitor List'!J94=\"Y\",'Competitor List'!B94,\" \")","v":" "},{"$f":"'LIGHT GUN'!J115","v":0},{"$f":"'LIGHT GUN'!K115","v":0},{"$f":"'LIGHT GUN'!L115","v":0},0,"99",239,"DQ",null,{"$f":"IF('Competitor List'!K94=\"Y\",'Competitor List'!C94,\" \")","v":" "},{"$f":"'HEAVY GUN'!J115","v":0},{"$f":"'HEAVY GUN'!K115","v":0},{"$f":"'HEAVY GUN'!L115","v":0},0,"99",239,"DQ",null,{"$f":"'TACTICAL GUN'!B115","v":0},{"$f":"'TACTICAL GUN'!J115","v":0},{"$f":"'TACTICAL GUN'!K115","v":0},{"$f":"'TACTICAL GUN'!L115","v":0},0,"99",239,"DQ"]
[240,"target 2",{"$f":"IF('Competitor List'!J95=\"Y\",'Competitor List'!B95,\" \")","v":" "},{"$f":"'LIGHT GUN'!J116","v":0},{"$f":"'LIGHT GUN'!K116","v":0},{"$f":"'LIGHT GUN'!L116","v":0},0,"99",240,"DQ",null,{"$f":"IF('Competitor List'!K95=\"Y\",'Competitor List'!C95,\" \")","v":" "},{"$f":"'HEAVY GUN'!J116","v":0},{"$f":"'HEAVY GUN'!K116","v":0},{"$f":"'HEAVY GUN'!L116","v":0},0,"99",240,"DQ",null,{"$f":"'TACTICAL GUN'!B116","v":0},{"$f":"'TACTICAL GUN'!J116","v":0},{"$f":"'TACTICAL GUN'!K116","v":0},{"$f":"'TACTICAL GUN'!L116","v":0},0,"99",240,"DQ"]
[241,"target 2",{"$f":"IF('Competitor List'!J96=\"Y\",'Competitor List'!B96,\" \")","v":" "},{"$f":"'LIGHT GUN'!J117","v":0},{"$f":"'LIGHT GUN'!K117","v":0},{"$f":"'LIGHT GUN'!L117","v":0},0,"99",241,"DQ",null,{"$f":"IF('Competitor List'!K96=\"Y\",'Competitor List'!C96,\" \")","v":" "},{"$f":"'HEAVY GUN'!J117","v":0},{"$f":"'HEAVY GUN'!K117","v":0},{"$f":"'HEAVY GUN'!L117","v":0},0,"99",241,"DQ",null,{"$f":"'TACTICAL GUN'!B117","v":0},{"$f":"'TACTICAL GUN'!J117","v":0},{"$f":"'TACTICAL GUN'!K117","v":0},{"$f":"'TACTICAL GUN'!L117","v":0},0,"99",241,"DQ"]
[242,"target 2",{"$f":"IF('Competitor List'!J97=\"Y\",'Competitor List'!B97,\" \")","v":" "},{"$f":"'LIGHT GUN'!J118","v":0},{"$f":"'LIGHT GUN'!K118","v":0},{"$f":"'LIGHT GUN'!L118","v":0},0,"99",242,"DQ",null,{"$f":"IF('Competitor List'!K97=\"Y\",'Competitor List'!C97,\" \")","v":" "},{"$f":"'HEAVY GUN'!J118","v":0},{"$f":"'HEAVY GUN'!K118","v":0},{"$f":"'HEAVY GUN'!L118","v":0},0,"99",242,"DQ",null,{"$f":"'TACTICAL GUN'!B118","v":0},{"$f":"'TACTICAL GUN'!J118","v":0},{"$f":"'TACTICAL GUN'!K118","v":0},{"$f":"'TACTICAL GUN'!L118","v":0},0,"99",242,"DQ"]
[243,"target 2",{"$f":"IF('Competitor List'!J98=\"Y\",'Competitor List'!B98,\" \")","v":" "},{"$f":"'LIGHT GUN'!J119","v":0},{"$f":"'LIGHT GUN'!K119","v":0},{"$f":"'LIGHT GUN'!L119","v":0},0,"99",243,"DQ",null,{"$f":"IF('Competitor List'!K98=\"Y\",'Competitor List'!C98,\" \")","v":" "},{"$f":"'HEAVY GUN'!J119","v":0},{"$f":"'HEAVY GUN'!K119","v":0},{"$f":"'HEAVY GUN'!L119","v":0},0,"99",243,"DQ",null,{"$f":"'TACTICAL GUN'!B119","v":0},{"$f":"'TACTICAL GUN'!J119","v":0},{"$f":"'TACTICAL GUN'!K119","v":0},{"$f":"'TACTICAL GUN'!L119","v":0},0,"99",243,"DQ"]
[244,"target 2",{"$f":"IF('Competitor List'!J99=\"Y\",'Competitor List'!B99,\" \")","v":" "},{"$f":"'LIGHT GUN'!J120","v":0},{"$f":"'LIGHT GUN'!K120","v":0},{"$f":"'LIGHT GUN'!L120","v":0},0,"99",244,"DQ",null,{"$f":"IF('Competitor List'!K99=\"Y\",'Competitor List'!C99,\" \")","v":" "},{"$f":"'HEAVY GUN'!J120","v":0},{"$f":"'HEAVY GUN'!K120","v":0},{"$f":"'HEAVY GUN'!L120","v":0},0,"99",244,"DQ",null,{"$f":"'TACTICAL GUN'!B120","v":0},{"$f":"'TACTICAL GUN'!J120","v":0},{"$f":"'TACTICAL GUN'!K120","v":0},{"$f":"'TACTICAL GUN'!L120","v":0},0,"99",244,"DQ"]
[245,"target 2",{"$f":"IF('Competitor List'!J100=\"Y\",'Competitor List'!B100,\" \")","v":" "},{"$f":"'LIGHT GUN'!J121","v":0},{"$f":"'LIGHT GUN'!K121","v":0},{"$f":"'LIGHT GUN'!L121","v":0},0,"99",245,"DQ",null,{"$f":"IF('Competitor List'!K100=\"Y\",'Competitor List'!C100,\" \")","v":" "},{"$f":"'HEAVY GUN'!J121","v":0},{"$f":"'HEAVY GUN'!K121","v":0},{"$f":"'HEAVY GUN'!L121","v":0},0,"99",245,"DQ",null,{"$f":"'TACTICAL GUN'!B121","v":0},{"$f":"'TACTICAL GUN'!J121","v":0},{"$f":"'TACTICAL GUN'!K121","v":0},{"$f":"'TACTICAL GUN'!L121","v":0},0,"99",245,"DQ"]
[246,"target 2",{"$f":"IF('Competitor List'!J101=\"Y\",'Competitor List'!B101,\" \")","v":" "},{"$f":"'LIGHT GUN'!J122","v":0},{"$f":"'LIGHT GUN'!K122","v":0},{"$f":"'LIGHT GUN'!L122","v":0},0,"99",246,"DQ",null,{"$f":"IF('Competitor List'!K101=\"Y\",'Competitor List'!C101,\" \")","v":" "},{"$f":"'HEAVY GUN'!J122","v":0},{"$f":"'HEAVY GUN'!K122","v":0},{"$f":"'HEAVY GUN'!L122","v":0},0,"99",246,"DQ",null,{"$f":"'TACTICAL GUN'!B122","v":0},{"$f":"'TACTICAL GUN'!J122","v":0},{"$f":"'TACTICAL GUN'!K122","v":0},{"$f":"'TACTICAL GUN'!L122","v":0},0,"99",246,"DQ"]
[247,"target 2",{"$f":"IF('Competitor List'!J102=\"Y\",'Competitor List'!B102,\" \")","v":" "},{"$f":"'LIGHT GUN'!J123","v":0},{"$f":"'LIGHT GUN'!K123","v":0},{"$f":"'LIGHT GUN'!L123","v":0},0,"99",247,"DQ",null,{"$f":"IF('Competitor List'!K102=\"Y\",'Competitor List'!C102,\" \")","v":" "},{"$f":"'HEAVY GUN'!J123","v":0},{"$f":"'HEAVY GUN'!K123","v":0},{"$f":"'HEAVY GUN'!L123","v":0},0,"99",247,"DQ",null,{"$f":"'TACTICAL GUN'!B123","v":0},{"$f":"'TACTICAL GUN'!J123","v":0},{"$f":"'TACTICAL GUN'!K123","v":0},{"$f":"'TACTICAL GUN'!L123","v":0},0,"99",247,"DQ"]
[248,"target 2",{"$f":"IF('Competitor List'!J103=\"Y\",'Competitor List'!B103,\" \")","v":" "},{"$f":"'LIGHT GUN'!J124","v":0},{"$f":"'LIGHT GUN'!K124","v":0},{"$f":"'LIGHT GUN'!L124","v":0},0,"99",248,"DQ",null,{"$f":"IF('Competitor List'!K103=\"Y\",'Competitor List'!C103,\" \")","v":" "},{"$f":"'HEAVY GUN'!J124","v":0},{"$f":"'HEAVY GUN'!K124","v":0},{"$f":"'HEAVY GUN'!L124","v":0},0,"99",248,"DQ",null,{"$f":"'TACTICAL GUN'!B124","v":0},{"$f":"'TACTICAL GUN'!J124","v":0},{"$f":"'TACTICAL GUN'!K124","v":0},{"$f":"'TACTICAL GUN'!L124","v":0},0,"99",248,"DQ"]
[249,"target 2",{"$f":"IF('Competitor List'!J104=\"Y\",'Competitor List'!B104,\" \")","v":" "},{"$f":"'LIGHT GUN'!J125","v":0},{"$f":"'LIGHT GUN'!K125","v":0},{"$f":"'LIGHT GUN'!L125","v":0},0,"99",249,"DQ",null,{"$f":"IF('Competitor List'!K104=\"Y\",'Competitor List'!C104,\" \")","v":" "},{"$f":"'HEAVY GUN'!J125","v":0},{"$f":"'HEAVY GUN'!K125","v":0},{"$f":"'HEAVY GUN'!L125","v":0},0,"99",249,"DQ",null,{"$f":"'TACTICAL GUN'!B125","v":0},{"$f":"'TACTICAL GUN'!J125","v":0},{"$f":"'TACTICAL GUN'!K125","v":0},{"$f":"'TACTICAL GUN'!L125","v":0},0,"99",249,"DQ"]
[250,"target 2",{"$f":"IF('Competitor List'!J105=\"Y\",'Competitor List'!B105,\" \")","v":" "},{"$f":"'LIGHT GUN'!J126","v":0},{"$f":"'LIGHT GUN'!K126","v":0},{"$f":"'LIGHT GUN'!L126","v":0},0,"99",250,"DQ",null,{"$f":"IF('Competitor List'!K105=\"Y\",'Competitor List'!C105,\" \")","v":" "},{"$f":"'HEAVY GUN'!J126","v":0},{"$f":"'HEAVY GUN'!K126","v":0},{"$f":"'HEAVY GUN'!L126","v":0},0,"99",250,"DQ",null,{"$f":"'TACTICAL GUN'!B126","v":0},{"$f":"'TACTICAL GUN'!J126","v":0},{"$f":"'TACTICAL GUN'!K126","v":0},{"$f":"'TACTICAL GUN'!L126","v":0},0,"99",250,"DQ"]
[251,"target 2",{"$f":"IF('Competitor List'!J106=\"Y\",'Competitor List'!B106,\" \")","v":" "},{"$f":"'LIGHT GUN'!J127","v":0},{"$f":"'LIGHT GUN'!K127","v":0},{"$f":"'LIGHT GUN'!L127","v":0},0,"99",251,"DQ",null,{"$f":"IF('Competitor List'!K106=\"Y\",'Competitor List'!C106,\" \")","v":" "},{"$f":"'HEAVY GUN'!J127","v":0},{"$f":"'HEAVY GUN'!K127","v":0},{"$f":"'HEAVY GUN'!L127","v":0},0,"99",251,"DQ",null,{"$f":"'TACTICAL GUN'!B127","v":0},{"$f":"'TACTICAL GUN'!J127","v":0},{"$f":"'TACTICAL GUN'!K127","v":0},{"$f":"'TACTICAL GUN'!L127","v":0},0,"99",251,"DQ"]
[252,"target 2",{"$f":"IF('Competitor List'!J107=\"Y\",'Competitor List'!B107,\" \")","v":" "},{"$f":"'LIGHT GUN'!J128","v":0},{"$f":"'LIGHT GUN'!K128","v":0},{"$f":"'LIGHT GUN'!L128","v":0},0,"99",252,"DQ",null,{"$f":"IF('Competitor List'!K107=\"Y\",'Competitor List'!C107,\" \")","v":" "},{"$f":"'HEAVY GUN'!J128","v":0},{"$f":"'HEAVY GUN'!K128","v":0},{"$f":"'HEAVY GUN'!L128","v":0},0,"99",252,"DQ",null,{"$f":"'TACTICAL GUN'!B128","v":0},{"$f":"'TACTICAL GUN'!J128","v":0},{"$f":"'TACTICAL GUN'!K128","v":0},{"$f":"'TACTICAL GUN'!L128","v":0},0,"99",252,"DQ"]
[253,"target 2",{"$f":"IF('Competitor List'!J108=\"Y\",'Competitor List'!B108,\" \")","v":" "},{"$f":"'LIGHT GUN'!J129","v":0},{"$f":"'LIGHT GUN'!K129","v":0},{"$f":"'LIGHT GUN'!L129","v":0},0,"99",253,"DQ",null,{"$f":"IF('Competitor List'!K108=\"Y\",'Competitor List'!C108,\" \")","v":" "},{"$f":"'HEAVY GUN'!J129","v":0},{"$f":"'HEAVY GUN'!K129","v":0},{"$f":"'HEAVY GUN'!L129","v":0},0,"99",253,"DQ",null,{"$f":"'TACTICAL GUN'!B129","v":0},{"$f":"'TACTICAL GUN'!J129","v":0},{"$f":"'TACTICAL GUN'!K129","v":0},{"$f":"'TACTICAL GUN'!L129","v":0},0,"99",253,"DQ"]
[254,"target 2",{"$f":"IF('Competitor List'!J109=\"Y\",'Competitor List'!B109,\" \")","v":" "},{"$f":"'LIGHT GUN'!J130","v":0},{"$f":"'LIGHT GUN'!K130","v":0},{"$f":"'LIGHT GUN'!L130","v":0},0,"99",254,"DQ",null,{"$f":"IF('Competitor List'!K109=\"Y\",'Competitor List'!C109,\" \")","v":" "},{"$f":"'HEAVY GUN'!J130","v":0},{"$f":"'HEAVY GUN'!K130","v":0},{"$f":"'HEAVY GUN'!L130","v":0},0,"99",254,"DQ",null,{"$f":"'TACTICAL GUN'!B130","v":0},{"$f":"'TACTICAL GUN'!J130","v":0},{"$f":"'TACTICAL GUN'!K130","v":0},{"$f":"'TACTICAL GUN'!L130","v":0},0,"99",254,"DQ"]
[255,"target 2",{"$f":"IF('Competitor List'!J110=\"Y\",'Competitor List'!B110,\" \")","v":" "},{"$f":"'LIGHT GUN'!J131","v":0},{"$f":"'LIGHT GUN'!K131","v":0},{"$f":"'LIGHT GUN'!L131","v":0},0,"99",255,"DQ",null,{"$f":"IF('Competitor List'!K110=\"Y\",'Competitor List'!C110,\" \")","v":" "},{"$f":"'HEAVY GUN'!J131","v":0},{"$f":"'HEAVY GUN'!K131","v":0},{"$f":"'HEAVY GUN'!L131","v":0},0,"99",255,"DQ",null,{"$f":"'TACTICAL GUN'!B131","v":0},{"$f":"'TACTICAL GUN'!J131","v":0},{"$f":"'TACTICAL GUN'!K131","v":0},{"$f":"'TACTICAL GUN'!L131","v":0},0,"99",255,"DQ"]
[256,"target 2",{"$f":"IF('Competitor List'!J111=\"Y\",'Competitor List'!B111,\" \")","v":" "},{"$f":"'LIGHT GUN'!J132","v":0},{"$f":"'LIGHT GUN'!K132","v":0},{"$f":"'LIGHT GUN'!L132","v":0},0,"99",256,"DQ",null,{"$f":"IF('Competitor List'!K111=\"Y\",'Competitor List'!C111,\" \")","v":" "},{"$f":"'HEAVY GUN'!J132","v":0},{"$f":"'HEAVY GUN'!K132","v":0},{"$f":"'HEAVY GUN'!L132","v":0},0,"99",256,"DQ",null,{"$f":"'TACTICAL GUN'!B132","v":0},{"$f":"'TACTICAL GUN'!J132","v":0},{"$f":"'TACTICAL GUN'!K132","v":0},{"$f":"'TACTICAL GUN'!L132","v":0},0,"99",256,"DQ"]
[257,"target 2",{"$f":"IF('Competitor List'!J112=\"Y\",'Competitor List'!B112,\" \")","v":" "},{"$f":"'LIGHT GUN'!J133","v":0},{"$f":"'LIGHT GUN'!K133","v":0},{"$f":"'LIGHT GUN'!L133","v":0},0,"99",257,"DQ",null,{"$f":"IF('Competitor List'!K112=\"Y\",'Competitor List'!C112,\" \")","v":" "},{"$f":"'HEAVY GUN'!J133","v":0},{"$f":"'HEAVY GUN'!K133","v":0},{"$f":"'HEAVY GUN'!L133","v":0},0,"99",257,"DQ",null,{"$f":"'TACTICAL GUN'!B133","v":0},{"$f":"'TACTICAL GUN'!J133","v":0},{"$f":"'TACTICAL GUN'!K133","v":0},{"$f":"'TACTICAL GUN'!L133","v":0},0,"99",257,"DQ"]
[258,"target 2",{"$f":"IF('Competitor List'!J113=\"Y\",'Competitor List'!B113,\" \")","v":" "},{"$f":"'LIGHT GUN'!J134","v":0},{"$f":"'LIGHT GUN'!K134","v":0},{"$f":"'LIGHT GUN'!L134","v":0},{"$f":"IF(ISNUMBER(F264),SUM(F264),\"99\")","v":0},{"$f":"IF(G264=0,\"99\",G264)","v":"99"},{"$f":" IF(AND(ISNUMBER(D264)),RANK(D264,$D$7:$D$606,0)+SUMPRODUCT(($D$7:$D$606=D264)*($F$7:$F$606<F264))+SUMPRODUCT(($D$7:$D$606=D264)*($F$7:$F$606=F264)*($E$7:$E$606>E264))+SUMPRODUCT(($D$7:$D$606=D264)*($F$7:$F$606=F264)*($E$7:$E$606=E264)*($A$7:$A$606<A264)),\"DQ\")","v":258},{"$f":" IF(AND(ISNUMBER(H264)),RANK(H264,$H$7:$H$606,1)+SUMPRODUCT(($H$7:$H$606=H264)*($D$7:$D$606>D264))+SUMPRODUCT(($H$7:$H$606=H264)*($D$7:$D$606=D264)*($E$7:$E$606>E264))+SUMPRODUCT(($H$7:$H$606=H264)*($D$7:$D$606=D264)*($E$7:$E$606=E264)*($A$7:$A$606<A264)),\"DQ\")","v":"DQ"},null,{"$f":"IF('Competitor List'!K113=\"Y\",'Competitor List'!C113,\" \")","v":" "},{"$f":"'HEAVY GUN'!J134","v":0},{"$f":"'HEAVY GUN'!K134","v":0},{"$f":"'HEAVY GUN'!L134","v":0},{"$f":"IF(ISNUMBER(O264),SUM(O264),\"99\")","v":0},{"$f":"IF(P264=0,\"99\",P264)","v":"99"},{"$f":" IF(AND(ISNUMBER(M264)),RANK(M264,$M$7:$M$606,0)+SUMPRODUCT(($M$7:$M$606=M264)*($O$7:$O$606<O264))+SUMPRODUCT(($M$7:$M$606=M264)*($O$7:$O$606=O264)*($N$7:$N$606>N264))+SUMPRODUCT(($M$7:$M$606=M264)*($O$7:$O$606=O264)*($N$7:$N$606=N264)*($A$7:$A$606<A264)),\"DQ\")","v":258},{"$f":" IF(AND(Q264>0,ISNUMBER(Q264)),RANK(Q264,$Q$7:$Q$606,1)+SUMPRODUCT(($Q$7:$Q$606=Q264)*($M$7:$M$606>M264))+SUMPRODUCT(($Q$7:$Q$606=Q264)*($M$7:$M$606=M264)*($N$7:$N$606>N264))+SUMPRODUCT(($Q$7:$Q$606=Q264)*($M$7:$M$606=M264)*($N$7:$N$606=N264)*($A$7:$A$606<A264)),\"DQ\")","v":"DQ"},null,{"$f":"'TACTICAL GUN'!B134","v":0},{"$f":"'TACTICAL GUN'!J134","v":0},{"$f":"'TACTICAL GUN'!K134","v":0},{"$f":"'TACTICAL GUN'!L134","v":0},{"$f":"IF(ISNUMBER(X264),SUM(X264),\"99\")","v":0},{"$f":"IF(Y264=0,\"99\",Y264)","v":"99"},258,"DQ"]
[259,"target 2",{"$f":"IF('Competitor List'!J114=\"Y\",'Competitor List'!B114,\" \")","v":" "},{"$f":"'LIGHT GUN'!J135","v":0},{"$f":"'LIGHT GUN'!K135","v":0},{"$f":"'LIGHT GUN'!L135","v":0},0,"99",259,"DQ",null,{"$f":"IF('Competitor List'!K114=\"Y\",'Competitor List'!C114,\" \")","v":" "},{"$f":"'HEAVY GUN'!J135","v":0},{"$f":"'HEAVY GUN'!K135","v":0},{"$f":"'HEAVY GUN'!L135","v":0},0,"99",259,"DQ",null,{"$f":"'TACTICAL GUN'!B135","v":0},{"$f":"'TACTICAL GUN'!J135","v":0},{"$f":"'TACTICAL GUN'!K135","v":0},{"$f":"'TACTICAL GUN'!L135","v":0},0,"99",259,"DQ"]
[260,"target 2",{"$f":"IF('Competitor List'!J115=\"Y\",'Competitor List'!B115,\" \")","v":" "},{"$f":"'LIGHT GUN'!J136","v":0},{"$f":"'LIGHT GUN'!K136","v":0},{"$f":"'LIGHT GUN'!L136","v":0},0,"99",260,"DQ",null,{"$f":"IF('Competitor List'!K115=\"Y\",'Competitor List'!C115,\" \")","v":" "},{"$f":"'HEAVY GUN'!J136","v":0},{"$f":"'HEAVY GUN'!K136","v":0},{"$f":"'HEAVY GUN'!L136","v":0},0,"99",260,"DQ",null,{"$f":"'TACTICAL GUN'!B136","v":0},{"$f":"'TACTICAL GUN'!J136","v":0},{"$f":"'TACTICAL GUN'!K136","v":0},{"$f":"'TACTICAL GUN'!L136","v":0},0,"99",260,"DQ"]
[261,"target 2",{"$f":"IF('Competitor List'!J116=\"Y\",'Competitor List'!B116,\" \")","v":" "},{"$f":"'LIGHT GUN'!J137","v":0},{"$f":"'LIGHT GUN'!K137","v":0},{"$f":"'LIGHT GUN'!L137","v":0},0,"99",261,"DQ",null,{"$f":"IF('Competitor List'!K116=\"Y\",'Competitor List'!C116,\" \")","v":" "},{"$f":"'HEAVY GUN'!J137","v":0},{"$f":"'HEAVY GUN'!K137","v":0},{"$f":"'HEAVY GUN'!L137","v":0},0,"99",261,"DQ",null,{"$f":"'TACTICAL GUN'!B137","v":0},{"$f":"'TACTICAL GUN'!J137","v":0},{"$f":"'TACTICAL GUN'!K137","v":0},{"$f":"'TACTICAL GUN'!L137","v":0},0,"99",261,"DQ"]
[262,"target 2",{"$f":"IF('Competitor List'!J117=\"Y\",'Competitor List'!B117,\" \")","v":" "},{"$f":"'LIGHT GUN'!J138","v":0},{"$f":"'LIGHT GUN'!K138","v":0},{"$f":"'LIGHT GUN'!L138","v":0},0,"99",262,"DQ",null,{"$f":"IF('Competitor List'!K117=\"Y\",'Competitor List'!C117,\" \")","v":" "},{"$f":"'HEAVY GUN'!J138","v":0},{"$f":"'HEAVY GUN'!K138","v":0},{"$f":"'HEAVY GUN'!L138","v":0},0,"99",262,"DQ",null,{"$f":"'TACTICAL GUN'!B138","v":0},{"$f":"'TACTICAL GUN'!J138","v":0},{"$f":"'TACTICAL GUN'!K138","v":0},{"$f":"'TACTICAL GUN'!L138","v":0},0,"99",262,"DQ"]
[263,"target 2",{"$f":"IF('Competitor List'!J118=\"Y\",'Competitor List'!B118,\" \")","v":" "},{"$f":"'LIGHT GUN'!J139","v":0},{"$f":"'LIGHT GUN'!K139","v":0},{"$f":"'LIGHT GUN'!L139","v":0},0,"99",263,"DQ",null,{"$f":"IF('Competitor List'!K118=\"Y\",'Competitor List'!C118,\" \")","v":" "},{"$f":"'HEAVY GUN'!J139","v":0},{"$f":"'HEAVY GUN'!K139","v":0},{"$f":"'HEAVY GUN'!L139","v":0},0,"99",263,"DQ",null,{"$f":"'TACTICAL GUN'!B139","v":0},{"$f":"'TACTICAL GUN'!J139","v":0},{"$f":"'TACTICAL GUN'!K139","v":0},{"$f":"'TACTICAL GUN'!L139","v":0},0,"99",263,"DQ"]
[264,"target 2",{"$f":"IF('Competitor List'!J119=\"Y\",'Competitor List'!B119,\" \")","v":" "},{"$f":"'LIGHT GUN'!J140","v":0},{"$f":"'LIGHT GUN'!K140","v":0},{"$f":"'LIGHT GUN'!L140","v":0},0,"99",264,"DQ",null,{"$f":"IF('Competitor List'!K119=\"Y\",'Competitor List'!C119,\" \")","v":" "},{"$f":"'HEAVY GUN'!J140","v":0},{"$f":"'HEAVY GUN'!K140","v":0},{"$f":"'HEAVY GUN'!L140","v":0},0,"99",264,"DQ",null,{"$f":"'TACTICAL GUN'!B140","v":0},{"$f":"'TACTICAL GUN'!J140","v":0},{"$f":"'TACTICAL GUN'!K140","v":0},{"$f":"'TACTICAL GUN'!L140","v":0},0,"99",264,"DQ"]
[265,"target 2",{"$f":"IF('Competitor List'!J120=\"Y\",'Competitor List'!B120,\" \")","v":" "},{"$f":"'LIGHT GUN'!J141","v":0},{"$f":"'LIGHT GUN'!K141","v":0},{"$f":"'LIGHT GUN'!L141","v":0},0,"99",265,"DQ",null,{"$f":"IF('Competitor List'!K120=\"Y\",'Competitor List'!C120,\" \")","v":" "},{"$f":"'HEAVY GUN'!J141","v":0},{"$f":"'HEAVY GUN'!K141","v":0},{"$f":"'HEAVY GUN'!L141","v":0},0,"99",265,"DQ",null,{"$f":"'TACTICAL GUN'!B141","v":0},{"$f":"'TACTICAL GUN'!J141","v":0},{"$f":"'TACTICAL GUN'!K141","v":0},{"$f":"'TACTICAL GUN'!L141","v":0},0,"99",265,"DQ"]
[266,"target 2",{"$f":"IF('Competitor List'!J121=\"Y\",'Competitor List'!B121,\" \")","v":" "},{"$f":"'LIGHT GUN'!J142","v":0},{"$f":"'LIGHT GUN'!K142","v":0},{"$f":"'LIGHT GUN'!L142","v":0},0,"99",266,"DQ",null,{"$f":"IF('Competitor List'!K121=\"Y\",'Competitor List'!C121,\" \")","v":" "},{"$f":"'HEAVY GUN'!J142","v":0},{"$f":"'HEAVY GUN'!K142","v":0},{"$f":"'HEAVY GUN'!L142","v":0},0,"99",266,"DQ",null,{"$f":"'TACTICAL GUN'!B142","v":0},{"$f":"'TACTICAL GUN'!J142","v":0},{"$f":"'TACTICAL GUN'!K142","v":0},{"$f":"'TACTICAL GUN'!L142","v":0},0,"99",266,"DQ"]
[267,"target 2",{"$f":"IF('Competitor List'!J122=\"Y\",'Competitor List'!B122,\" \")","v":" "},{"$f":"'LIGHT GUN'!J143","v":0},{"$f":"'LIGHT GUN'!K143","v":0},{"$f":"'LIGHT GUN'!L143","v":0},0,"99",267,"DQ",null,{"$f":"IF('Competitor List'!K122=\"Y\",'Competitor List'!C122,\" \")","v":" "},{"$f":"'HEAVY GUN'!J143","v":0},{"$f":"'HEAVY GUN'!K143","v":0},{"$f":"'HEAVY GUN'!L143","v":0},0,"99",267,"DQ",null,{"$f":"'TACTICAL GUN'!B143","v":0},{"$f":"'TACTICAL GUN'!J143","v":0},{"$f":"'TACTICAL GUN'!K143","v":0},{"$f":"'TACTICAL GUN'!L143","v":0},0,"99",267,"DQ"]
[268,"target 2",{"$f":"IF('Competitor List'!J123=\"Y\",'Competitor List'!B123,\" \")","v":" "},{"$f":"'LIGHT GUN'!J144","v":0},{"$f":"'LIGHT GUN'!K144","v":0},{"$f":"'LIGHT GUN'!L144","v":0},0,"99",268,"DQ",null,{"$f":"IF('Competitor List'!K123=\"Y\",'Competitor List'!C123,\" \")","v":" "},{"$f":"'HEAVY GUN'!J144","v":0},{"$f":"'HEAVY GUN'!K144","v":0},{"$f":"'HEAVY GUN'!L144","v":0},0,"99",268,"DQ",null,{"$f":"'TACTICAL GUN'!B144","v":0},{"$f":"'TACTICAL GUN'!J144","v":0},{"$f":"'TACTICAL GUN'!K144","v":0},{"$f":"'TACTICAL GUN'!L144","v":0},0,"99",268,"DQ"]
[269,"target 2",{"$f":"IF('Competitor List'!J124=\"Y\",'Competitor List'!B124,\" \")","v":" "},{"$f":"'LIGHT GUN'!J145","v":0},{"$f":"'LIGHT GUN'!K145","v":0},{"$f":"'LIGHT GUN'!L145","v":0},0,"99",269,"DQ",null,{"$f":"IF('Competitor List'!K124=\"Y\",'Competitor List'!C124,\" \")","v":" "},{"$f":"'HEAVY GUN'!J145","v":0},{"$f":"'HEAVY GUN'!K145","v":0},{"$f":"'HEAVY GUN'!L145","v":0},0,"99",269,"DQ",null,{"$f":"'TACTICAL GUN'!B145","v":0},{"$f":"'TACTICAL GUN'!J145","v":0},{"$f":"'TACTICAL GUN'!K145","v":0},{"$f":"'TACTICAL GUN'!L145","v":0},0,"99",269,"DQ"]
[270,"target 2",{"$f":"IF('Competitor List'!J125=\"Y\",'Competitor List'!B125,\" \")","v":" "},{"$f":"'LIGHT GUN'!J146","v":0},{"$f":"'LIGHT GUN'!K146","v":0},{"$f":"'LIGHT GUN'!L146","v":0},0,"99",270,"DQ",null,{"$f":"IF('Competitor List'!K125=\"Y\",'Competitor List'!C125,\" \")","v":" "},{"$f":"'HEAVY GUN'!J146","v":0},{"$f":"'HEAVY GUN'!K146","v":0},{"$f":"'HEAVY GUN'!L146","v":0},0,"99",270,"DQ",null,{"$f":"'TACTICAL GUN'!B146","v":0},{"$f":"'TACTICAL GUN'!J146","v":0},{"$f":"'TACTICAL GUN'!K146","v":0},{"$f":"'TACTICAL GUN'!L146","v":0},0,"99",270,"DQ"]
[271,"target 2",{"$f":"IF('Competitor List'!J126=\"Y\",'Competitor List'!B126,\" \")","v":" "},{"$f":"'LIGHT GUN'!J147","v":0},{"$f":"'LIGHT GUN'!K147","v":0},{"$f":"'LIGHT GUN'!L147","v":0},0,"99",271,"DQ",null,{"$f":"IF('Competitor List'!K126=\"Y\",'Competitor List'!C126,\" \")","v":" "},{"$f":"'HEAVY GUN'!J147","v":0},{"$f":"'HEAVY GUN'!K147","v":0},{"$f":"'HEAVY GUN'!L147","v":0},0,"99",271,"DQ",null,{"$f":"'TACTICAL GUN'!B147","v":0},{"$f":"'TACTICAL GUN'!J147","v":0},{"$f":"'TACTICAL GUN'!K147","v":0},{"$f":"'TACTICAL GUN'!L147","v":0},0,"99",271,"DQ"]
[272,"target 2",{"$f":"IF('Competitor List'!J127=\"Y\",'Competitor List'!B127,\" \")","v":" "},{"$f":"'LIGHT GUN'!J148","v":0},{"$f":"'LIGHT GUN'!K148","v":0},{"$f":"'LIGHT GUN'!L148","v":0},0,"99",272,"DQ",null,{"$f":"IF('Competitor List'!K127=\"Y\",'Competitor List'!C127,\" \")","v":" "},{"$f":"'HEAVY GUN'!J148","v":0},{"$f":"'HEAVY GUN'!K148","v":0},{"$f":"'HEAVY GUN'!L148","v":0},0,"99",272,"DQ",null,{"$f":"'TACTICAL GUN'!B148","v":0},{"$f":"'TACTICAL GUN'!J148","v":0},{"$f":"'TACTICAL GUN'!K148","v":0},{"$f":"'TACTICAL GUN'!L148","v":0},0,"99",272,"DQ"]
[273,"target 2",{"$f":"IF('Competitor List'!J128=\"Y\",'Competitor List'!B128,\" \")","v":" "},{"$f":"'LIGHT GUN'!J149","v":0},{"$f":"'LIGHT GUN'!K149","v":0},{"$f":"'LIGHT GUN'!L149","v":0},0,"99",273,"DQ",null,{"$f":"IF('Competitor List'!K128=\"Y\",'Competitor List'!C128,\" \")","v":" "},{"$f":"'HEAVY GUN'!J149","v":0},{"$f":"'HEAVY GUN'!K149","v":0},{"$f":"'HEAVY GUN'!L149","v":0},0,"99",273,"DQ",null,{"$f":"'TACTICAL GUN'!B149","v":0},{"$f":"'TACTICAL GUN'!J149","v":0},{"$f":"'TACTICAL GUN'!K149","v":0},{"$f":"'TACTICAL GUN'!L149","v":0},0,"99",273,"DQ"]
[274,"target 2",{"$f":"IF('Competitor List'!J129=\"Y\",'Competitor List'!B129,\" \")","v":" "},{"$f":"'LIGHT GUN'!J150","v":0},{"$f":"'LIGHT GUN'!K150","v":0},{"$f":"'LIGHT GUN'!L150","v":0},0,"99",274,"DQ",null,{"$f":"IF('Competitor List'!K129=\"Y\",'Competitor List'!C129,\" \")","v":" "},{"$f":"'HEAVY GUN'!J150","v":0},{"$f":"'HEAVY GUN'!K150","v":0},{"$f":"'HEAVY GUN'!L150","v":0},0,"99",274,"DQ",null,{"$f":"'TACTICAL GUN'!B150","v":0},{"$f":"'TACTICAL GUN'!J150","v":0},{"$f":"'TACTICAL GUN'!K150","v":0},{"$f":"'TACTICAL GUN'!L150","v":0},0,"99",274,"DQ"]
[275,"target 2",{"$f":"IF('Competitor List'!J130=\"Y\",'Competitor List'!B130,\" \")","v":" "},{"$f":"'LIGHT GUN'!J151","v":0},{"$f":"'LIGHT GUN'!K151","v":0},{"$f":"'LIGHT GUN'!L151","v":0},0,"99",275,"DQ",null,{"$f":"IF('Competitor List'!K130=\"Y\",'Competitor List'!C130,\" \")","v":" "},{"$f":"'HEAVY GUN'!J151","v":0},{"$f":"'HEAVY GUN'!K151","v":0},{"$f":"'HEAVY GUN'!L151","v":0},0,"99",275,"DQ",null,{"$f":"'TACTICAL GUN'!B151","v":0},{"$f":"'TACTICAL GUN'!J151","v":0},{"$f":"'TACTICAL GUN'!K151","v":0},{"$f":"'TACTICAL GUN'!L151","v":0},0,"99",275,"DQ"]
[276,"target 2",{"$f":"IF('Competitor List'!J131=\"Y\",'Competitor List'!B131,\" \")","v":" "},{"$f":"'LIGHT GUN'!J152","v":0},{"$f":"'LIGHT GUN'!K152","v":0},{"$f":"'LIGHT GUN'!L152","v":0},0,"99",276,"DQ",null,{"$f":"IF('Competitor List'!K131=\"Y\",'Competitor List'!C131,\" \")","v":" "},{"$f":"'HEAVY GUN'!J152","v":0},{"$f":"'HEAVY GUN'!K152","v":0},{"$f":"'HEAVY GUN'!L152","v":0},0,"99",276,"DQ",null,{"$f":"'TACTICAL GUN'!B152","v":0},{"$f":"'TACTICAL GUN'!J152","v":0},{"$f":"'TACTICAL GUN'!K152","v":0},{"$f":"'TACTICAL GUN'!L152","v":0},0,"99",276,"DQ"]
[277,"target 2",{"$f":"IF('Competitor List'!J132=\"Y\",'Competitor List'!B132,\" \")","v":" "},{"$f":"'LIGHT GUN'!J153","v":0},{"$f":"'LIGHT GUN'!K153","v":0},{"$f":"'LIGHT GUN'!L153","v":0},0,"99",277,"DQ",null,{"$f":"IF('Competitor List'!K132=\"Y\",'Competitor List'!C132,\" \")","v":" "},{"$f":"'HEAVY GUN'!J153","v":0},{"$f":"'HEAVY GUN'!K153","v":0},{"$f":"'HEAVY GUN'!L153","v":0},0,"99",277,"DQ",null,{"$f":"'TACTICAL GUN'!B153","v":0},{"$f":"'TACTICAL GUN'!J153","v":0},{"$f":"'TACTICAL GUN'!K153","v":0},{"$f":"'TACTICAL GUN'!L153","v":0},0,"99",277,"DQ"]
[278,"target 2",{"$f":"IF('Competitor List'!J133=\"Y\",'Competitor List'!B133,\" \")","v":" "},{"$f":"'LIGHT GUN'!J154","v":0},{"$f":"'LIGHT GUN'!K154","v":0},{"$f":"'LIGHT GUN'!L154","v":0},0,"99",278,"DQ",null,{"$f":"IF('Competitor List'!K133=\"Y\",'Competitor List'!C133,\" \")","v":" "},{"$f":"'HEAVY GUN'!J154","v":0},{"$f":"'HEAVY GUN'!K154","v":0},{"$f":"'HEAVY GUN'!L154","v":0},0,"99",278,"DQ",null,{"$f":"'TACTICAL GUN'!B154","v":0},{"$f":"'TACTICAL GUN'!J154","v":0},{"$f":"'TACTICAL GUN'!K154","v":0},{"$f":"'TACTICAL GUN'!L154","v":0},0,"99",278,"DQ"]
[279,"target 2",{"$f":"IF('Competitor List'!J134=\"Y\",'Competitor List'!B134,\" \")","v":" "},{"$f":"'LIGHT GUN'!J155","v":0},{"$f":"'LIGHT GUN'!K155","v":0},{"$f":"'LIGHT GUN'!L155","v":0},0,"99",279,"DQ",null,{"$f":"IF('Competitor List'!K134=\"Y\",'Competitor List'!C134,\" \")","v":" "},{"$f":"'HEAVY GUN'!J155","v":0},{"$f":"'HEAVY GUN'!K155","v":0},{"$f":"'HEAVY GUN'!L155","v":0},0,"99",279,"DQ",null,{"$f":"'TACTICAL GUN'!B155","v":0},{"$f":"'TACTICAL GUN'!J155","v":0},{"$f":"'TACTICAL GUN'!K155","v":0},{"$f":"'TACTICAL GUN'!L155","v":0},0,"99",279,"DQ"]
[280,"target 2",{"$f":"IF('Competitor List'!J135=\"Y\",'Competitor List'!B135,\" \")","v":" "},{"$f":"'LIGHT GUN'!J156","v":0},{"$f":"'LIGHT GUN'!K156","v":0},{"$f":"'LIGHT GUN'!L156","v":0},0,"99",280,"DQ",null,{"$f":"IF('Competitor List'!K135=\"Y\",'Competitor List'!C135,\" \")","v":" "},{"$f":"'HEAVY GUN'!J156","v":0},{"$f":"'HEAVY GUN'!K156","v":0},{"$f":"'HEAVY GUN'!L156","v":0},0,"99",280,"DQ",null,{"$f":"'TACTICAL GUN'!B156","v":0},{"$f":"'TACTICAL GUN'!J156","v":0},{"$f":"'TACTICAL GUN'!K156","v":0},{"$f":"'TACTICAL GUN'!L156","v":0},0,"99",{"$f":" IF(AND(ISNUMBER(V286)),RANK(V286,$V$7:$V$606,0)+SUMPRODUCT(($V$7:$V$606=V286)*($X$7:$X$606<X286))+SUMPRODUCT(($V$7:$V$606=V286)*($X$7:$X$606=X286)*($W$7:$W$606>W286))+SUMPRODUCT(($V$7:$V$606=V286)*($X$7:$X$606=X286)*($W$7:$W$606=W286)*($A$7:$A$606<A286)),\"DQ\")","v":280},{"$f":" IF(AND(Z286>0,ISNUMBER(Z286)),RANK(Z286,$Z$7:$Z$606,1)+SUMPRODUCT(($Z$7:$Z$606=Z286)*($V$7:$V$606>V286))+SUMPRODUCT(($Z$7:$Z$606=Z286)*($V$7:$V$606=V286)*($W$7:$W$606>W286))+SUMPRODUCT(($Z$7:$Z$606=Z286)*($V$7:$V$606=V286)*($W$7:$W$606=W286)*($A$7:$A$606<A286)),\"DQ\")","v":"DQ"}]
[281,"target 2",{"$f":"IF('Competitor List'!J136=\"Y\",'Competitor List'!B136,\" \")","v":" "},{"$f":"'LIGHT GUN'!J157","v":0},{"$f":"'LIGHT GUN'!K157","v":0},{"$f":"'LIGHT GUN'!L157","v":0},0,"99",281,"DQ",null,{"$f":"IF('Competitor List'!K136=\"Y\",'Competitor List'!C136,\" \")","v":" "},{"$f":"'HEAVY GUN'!J157","v":0},{"$f":"'HEAVY GUN'!K157","v":0},{"$f":"'HEAVY GUN'!L157","v":0},0,"99",281,"DQ",null,{"$f":"'TACTICAL GUN'!B157","v":0},{"$f":"'TACTICAL GUN'!J157","v":0},{"$f":"'TACTICAL GUN'!K157","v":0},{"$f":"'TACTICAL GUN'!L157","v":0},0,"99",281,"DQ"]
[282,"target 2",{"$f":"IF('Competitor List'!J137=\"Y\",'Competitor List'!B137,\" \")","v":" "},{"$f":"'LIGHT GUN'!J158","v":0},{"$f":"'LIGHT GUN'!K158","v":0},{"$f":"'LIGHT GUN'!L158","v":0},0,"99",282,"DQ",null,{"$f":"IF('Competitor List'!K137=\"Y\",'Competitor List'!C137,\" \")","v":" "},{"$f":"'HEAVY GUN'!J158","v":0},{"$f":"'HEAVY GUN'!K158","v":0},{"$f":"'HEAVY GUN'!L158","v":0},0,"99",282,"DQ",null,{"$f":"'TACTICAL GUN'!B158","v":0},{"$f":"'TACTICAL GUN'!J158","v":0},{"$f":"'TACTICAL GUN'!K158","v":0},{"$f":"'TACTICAL GUN'!L158","v":0},0,"99",282,"DQ"]
[283,"target 2",{"$f":"IF('Competitor List'!J138=\"Y\",'Competitor List'!B138,\" \")","v":" "},{"$f":"'LIGHT GUN'!J159","v":0},{"$f":"'LIGHT GUN'!K159","v":0},{"$f":"'LIGHT GUN'!L159","v":0},0,"99",283,"DQ",null,{"$f":"IF('Competitor List'!K138=\"Y\",'Competitor List'!C138,\" \")","v":" "},{"$f":"'HEAVY GUN'!J159","v":0},{"$f":"'HEAVY GUN'!K159","v":0},{"$f":"'HEAVY GUN'!L159","v":0},0,"99",283,"DQ",null,{"$f":"'TACTICAL GUN'!B159","v":0},{"$f":"'TACTICAL GUN'!J159","v":0},{"$f":"'TACTICAL GUN'!K159","v":0},{"$f":"'TACTICAL GUN'!L159","v":0},0,"99",283,"DQ"]
[284,"target 2",{"$f":"IF('Competitor List'!J139=\"Y\",'Competitor List'!B139,\" \")","v":" "},{"$f":"'LIGHT GUN'!J160","v":0},{"$f":"'LIGHT GUN'!K160","v":0},{"$f":"'LIGHT GUN'!L160","v":0},0,"99",284,"DQ",null,{"$f":"IF('Competitor List'!K139=\"Y\",'Competitor List'!C139,\" \")","v":" "},{"$f":"'HEAVY GUN'!J160","v":0},{"$f":"'HEAVY GUN'!K160","v":0},{"$f":"'HEAVY GUN'!L160","v":0},0,"99",284,"DQ",null,{"$f":"'TACTICAL GUN'!B160","v":0},{"$f":"'TACTICAL GUN'!J160","v":0},{"$f":"'TACTICAL GUN'!K160","v":0},{"$f":"'TACTICAL GUN'!L160","v":0},0,"99",284,"DQ"]
[285,"target 2",{"$f":"IF('Competitor List'!J140=\"Y\",'Competitor List'!B140,\" \")","v":" "},{"$f":"'LIGHT GUN'!J161","v":0},{"$f":"'LIGHT GUN'!K161","v":0},{"$f":"'LIGHT GUN'!L161","v":0},0,"99",285,"DQ",null,{"$f":"IF('Competitor List'!K140=\"Y\",'Competitor List'!C140,\" \")","v":" "},{"$f":"'HEAVY GUN'!J161","v":0},{"$f":"'HEAVY GUN'!K161","v":0},{"$f":"'HEAVY GUN'!L161","v":0},0,"99",285,"DQ",null,{"$f":"'TACTICAL GUN'!B161","v":0},{"$f":"'TACTICAL GUN'!J161","v":0},{"$f":"'TACTICAL GUN'!K161","v":0},{"$f":"'TACTICAL GUN'!L161","v":0},0,"99",285,"DQ"]
[286,"target 2",{"$f":"IF('Competitor List'!J141=\"Y\",'Competitor List'!B141,\" \")","v":" "},{"$f":"'LIGHT GUN'!J162","v":0},{"$f":"'LIGHT GUN'!K162","v":0},{"$f":"'LIGHT GUN'!L162","v":0},0,"99",286,"DQ",null,{"$f":"IF('Competitor List'!K141=\"Y\",'Competitor List'!C141,\" \")","v":" "},{"$f":"'HEAVY GUN'!J162","v":0},{"$f":"'HEAVY GUN'!K162","v":0},{"$f":"'HEAVY GUN'!L162","v":0},0,"99",286,"DQ",null,{"$f":"'TACTICAL GUN'!B162","v":0},{"$f":"'TACTICAL GUN'!J162","v":0},{"$f":"'TACTICAL GUN'!K162","v":0},{"$f":"'TACTICAL GUN'!L162","v":0},0,"99",286,"DQ"]
[287,"target 2",{"$f":"IF('Competitor List'!J142=\"Y\",'Competitor List'!B142,\" \")","v":" "},{"$f":"'LIGHT GUN'!J163","v":0},{"$f":"'LIGHT GUN'!K163","v":0},{"$f":"'LIGHT GUN'!L163","v":0},0,"99",287,"DQ",null,{"$f":"IF('Competitor List'!K142=\"Y\",'Competitor List'!C142,\" \")","v":" "},{"$f":"'HEAVY GUN'!J163","v":0},{"$f":"'HEAVY GUN'!K163","v":0},{"$f":"'HEAVY GUN'!L163","v":0},0,"99",287,"DQ",null,{"$f":"'TACTICAL GUN'!B163","v":0},{"$f":"'TACTICAL GUN'!J163","v":0},{"$f":"'TACTICAL GUN'!K163","v":0},{"$f":"'TACTICAL GUN'!L163","v":0},0,"99",287,"DQ"]
[288,"target 2",{"$f":"IF('Competitor List'!J143=\"Y\",'Competitor List'!B143,\" \")","v":" "},{"$f":"'LIGHT GUN'!J164","v":0},{"$f":"'LIGHT GUN'!K164","v":0},{"$f":"'LIGHT GUN'!L164","v":0},0,"99",288,"DQ",null,{"$f":"IF('Competitor List'!K143=\"Y\",'Competitor List'!C143,\" \")","v":" "},{"$f":"'HEAVY GUN'!J164","v":0},{"$f":"'HEAVY GUN'!K164","v":0},{"$f":"'HEAVY GUN'!L164","v":0},0,"99",288,"DQ",null,{"$f":"'TACTICAL GUN'!B164","v":0},{"$f":"'TACTICAL GUN'!J164","v":0},{"$f":"'TACTICAL GUN'!K164","v":0},{"$f":"'TACTICAL GUN'!L164","v":0},0,"99",288,"DQ"]
[289,"target 2",{"$f":"IF('Competitor List'!J144=\"Y\",'Competitor List'!B144,\" \")","v":" "},{"$f":"'LIGHT GUN'!J165","v":0},{"$f":"'LIGHT GUN'!K165","v":0},{"$f":"'LIGHT GUN'!L165","v":0},0,"99",289,"DQ",null,{"$f":"IF('Competitor List'!K144=\"Y\",'Competitor List'!C144,\" \")","v":" "},{"$f":"'HEAVY GUN'!J165","v":0},{"$f":"'HEAVY GUN'!K165","v":0},{"$f":"'HEAVY GUN'!L165","v":0},0,"99",289,"DQ",null,{"$f":"'TACTICAL GUN'!B165","v":0},{"$f":"'TACTICAL GUN'!J165","v":0},{"$f":"'TACTICAL GUN'!K165","v":0},{"$f":"'TACTICAL GUN'!L165","v":0},0,"99",289,"DQ"]
[290,"target 2",{"$f":"IF('Competitor List'!J145=\"Y\",'Competitor List'!B145,\" \")","v":" "},{"$f":"'LIGHT GUN'!J166","v":0},{"$f":"'LIGHT GUN'!K166","v":0},{"$f":"'LIGHT GUN'!L166","v":0},0,"99",290,"DQ",null,{"$f":"IF('Competitor List'!K145=\"Y\",'Competitor List'!C145,\" \")","v":" "},{"$f":"'HEAVY GUN'!J166","v":0},{"$f":"'HEAVY GUN'!K166","v":0},{"$f":"'HEAVY GUN'!L166","v":0},0,"99",290,"DQ",null,{"$f":"'TACTICAL GUN'!B166","v":0},{"$f":"'TACTICAL GUN'!J166","v":0},{"$f":"'TACTICAL GUN'!K166","v":0},{"$f":"'TACTICAL GUN'!L166","v":0},0,"99",290,"DQ"]
[291,"target 2",{"$f":"IF('Competitor List'!J146=\"Y\",'Competitor List'!B146,\" \")","v":" "},{"$f":"'LIGHT GUN'!J167","v":0},{"$f":"'LIGHT GUN'!K167","v":0},{"$f":"'LIGHT GUN'!L167","v":0},0,"99",291,"DQ",null,{"$f":"IF('Competitor List'!K146=\"Y\",'Competitor List'!C146,\" \")","v":" "},{"$f":"'HEAVY GUN'!J167","v":0},{"$f":"'HEAVY GUN'!K167","v":0},{"$f":"'HEAVY GUN'!L167","v":0},0,"99",291,"DQ",null,{"$f":"'TACTICAL GUN'!B167","v":0},{"$f":"'TACTICAL GUN'!J167","v":0},{"$f":"'TACTICAL GUN'!K167","v":0},{"$f":"'TACTICAL GUN'!L167","v":0},0,"99",291,"DQ"]
[292,"target 2",{"$f":"IF('Competitor List'!J147=\"Y\",'Competitor List'!B147,\" \")","v":" "},{"$f":"'LIGHT GUN'!J168","v":0},{"$f":"'LIGHT GUN'!K168","v":0},{"$f":"'LIGHT GUN'!L168","v":0},0,"99",292,"DQ",null,{"$f":"IF('Competitor List'!K147=\"Y\",'Competitor List'!C147,\" \")","v":" "},{"$f":"'HEAVY GUN'!J168","v":0},{"$f":"'HEAVY GUN'!K168","v":0},{"$f":"'HEAVY GUN'!L168","v":0},0,"99",292,"DQ",null,{"$f":"'TACTICAL GUN'!B168","v":0},{"$f":"'TACTICAL GUN'!J168","v":0},{"$f":"'TACTICAL GUN'!K168","v":0},{"$f":"'TACTICAL GUN'!L168","v":0},0,"99",292,"DQ"]
[293,"target 2",{"$f":"IF('Competitor List'!J148=\"Y\",'Competitor List'!B148,\" \")","v":" "},{"$f":"'LIGHT GUN'!J169","v":0},{"$f":"'LIGHT GUN'!K169","v":0},{"$f":"'LIGHT GUN'!L169","v":0},0,"99",293,"DQ",null,{"$f":"IF('Competitor List'!K148=\"Y\",'Competitor List'!C148,\" \")","v":" "},{"$f":"'HEAVY GUN'!J169","v":0},{"$f":"'HEAVY GUN'!K169","v":0},{"$f":"'HEAVY GUN'!L169","v":0},0,"99",293,"DQ",null,{"$f":"'TACTICAL GUN'!B169","v":0},{"$f":"'TACTICAL GUN'!J169","v":0},{"$f":"'TACTICAL GUN'!K169","v":0},{"$f":"'TACTICAL GUN'!L169","v":0},0,"99",293,"DQ"]
[294,"target 2",{"$f":"IF('Competitor List'!J149=\"Y\",'Competitor List'!B149,\" \")","v":" "},{"$f":"'LIGHT GUN'!J170","v":0},{"$f":"'LIGHT GUN'!K170","v":0},{"$f":"'LIGHT GUN'!L170","v":0},0,"99",294,"DQ",null,{"$f":"IF('Competitor List'!K149=\"Y\",'Competitor List'!C149,\" \")","v":" "},{"$f":"'HEAVY GUN'!J170","v":0},{"$f":"'HEAVY GUN'!K170","v":0},{"$f":"'HEAVY GUN'!L170","v":0},0,"99",294,"DQ",null,{"$f":"'TACTICAL GUN'!B170","v":0},{"$f":"'TACTICAL GUN'!J170","v":0},{"$f":"'TACTICAL GUN'!K170","v":0},{"$f":"'TACTICAL GUN'!L170","v":0},0,"99",294,"DQ"]
[295,"target 2",{"$f":"IF('Competitor List'!J150=\"Y\",'Competitor List'!B150,\" \")","v":" "},{"$f":"'LIGHT GUN'!J171","v":0},{"$f":"'LIGHT GUN'!K171","v":0},{"$f":"'LIGHT GUN'!L171","v":0},0,"99",295,"DQ",null,{"$f":"IF('Competitor List'!K150=\"Y\",'Competitor List'!C150,\" \")","v":" "},{"$f":"'HEAVY GUN'!J171","v":0},{"$f":"'HEAVY GUN'!K171","v":0},{"$f":"'HEAVY GUN'!L171","v":0},0,"99",295,"DQ",null,{"$f":"'TACTICAL GUN'!B171","v":0},{"$f":"'TACTICAL GUN'!J171","v":0},{"$f":"'TACTICAL GUN'!K171","v":0},{"$f":"'TACTICAL GUN'!L171","v":0},0,"99",295,"DQ"]
[296,"target 2",{"$f":"IF('Competitor List'!J151=\"Y\",'Competitor List'!B151,\" \")","v":" "},{"$f":"'LIGHT GUN'!J172","v":0},{"$f":"'LIGHT GUN'!K172","v":0},{"$f":"'LIGHT GUN'!L172","v":0},0,"99",296,"DQ",null,{"$f":"IF('Competitor List'!K151=\"Y\",'Competitor List'!C151,\" \")","v":" "},{"$f":"'HEAVY GUN'!J172","v":0},{"$f":"'HEAVY GUN'!K172","v":0},{"$f":"'HEAVY GUN'!L172","v":0},0,"99",296,"DQ",null,{"$f":"'TACTICAL GUN'!B172","v":0},{"$f":"'TACTICAL GUN'!J172","v":0},{"$f":"'TACTICAL GUN'!K172","v":0},{"$f":"'TACTICAL GUN'!L172","v":0},0,"99",296,"DQ"]
[297,"target 2",{"$f":"IF('Competitor List'!J152=\"Y\",'Competitor List'!B152,\" \")","v":" "},{"$f":"'LIGHT GUN'!J173","v":0},{"$f":"'LIGHT GUN'!K173","v":0},{"$f":"'LIGHT GUN'!L173","v":0},0,"99",297,"DQ",null,{"$f":"IF('Competitor List'!K152=\"Y\",'Competitor List'!C152,\" \")","v":" "},{"$f":"'HEAVY GUN'!J173","v":0},{"$f":"'HEAVY GUN'!K173","v":0},{"$f":"'HEAVY GUN'!L173","v":0},0,"99",297,"DQ",null,{"$f":"'TACTICAL GUN'!B173","v":0},{"$f":"'TACTICAL GUN'!J173","v":0},{"$f":"'TACTICAL GUN'!K173","v":0},{"$f":"'TACTICAL GUN'!L173","v":0},0,"99",297,"DQ"]
[298,"target 2",{"$f":"IF('Competitor List'!J153=\"Y\",'Competitor List'!B153,\" \")","v":" "},{"$f":"'LIGHT GUN'!J174","v":0},{"$f":"'LIGHT GUN'!K174","v":0},{"$f":"'LIGHT GUN'!L174","v":0},0,"99",298,"DQ",null,{"$f":"IF('Competitor List'!K153=\"Y\",'Competitor List'!C153,\" \")","v":" "},{"$f":"'HEAVY GUN'!J174","v":0},{"$f":"'HEAVY GUN'!K174","v":0},{"$f":"'HEAVY GUN'!L174","v":0},0,"99",298,"DQ",null,{"$f":"'TACTICAL GUN'!B174","v":0},{"$f":"'TACTICAL GUN'!J174","v":0},{"$f":"'TACTICAL GUN'!K174","v":0},{"$f":"'TACTICAL GUN'!L174","v":0},0,"99",298,"DQ"]
[299,"target 2",{"$f":"IF('Competitor List'!J154=\"Y\",'Competitor List'!B154,\" \")","v":" "},{"$f":"'LIGHT GUN'!J175","v":0},{"$f":"'LIGHT GUN'!K175","v":0},{"$f":"'LIGHT GUN'!L175","v":0},0,"99",299,"DQ",null,{"$f":"IF('Competitor List'!K154=\"Y\",'Competitor List'!C154,\" \")","v":" "},{"$f":"'HEAVY GUN'!J175","v":0},{"$f":"'HEAVY GUN'!K175","v":0},{"$f":"'HEAVY GUN'!L175","v":0},0,"99",299,"DQ",null,{"$f":"'TACTICAL GUN'!B175","v":0},{"$f":"'TACTICAL GUN'!J175","v":0},{"$f":"'TACTICAL GUN'!K175","v":0},{"$f":"'TACTICAL GUN'!L175","v":0},0,"99",299,"DQ"]
[300,"target 2",{"$f":"IF('Competitor List'!J155=\"Y\",'Competitor List'!B155,\" \")","v":" "},{"$f":"'LIGHT GUN'!J176","v":0},{"$f":"'LIGHT GUN'!K176","v":0},{"$f":"'LIGHT GUN'!L176","v":0},0,"99",300,"DQ",null,{"$f":"IF('Competitor List'!K155=\"Y\",'Competitor List'!C155,\" \")","v":" "},{"$f":"'HEAVY GUN'!J176","v":0},{"$f":"'HEAVY GUN'!K176","v":0},{"$f":"'HEAVY GUN'!L176","v":0},0,"99",300,"DQ",null,{"$f":"'TACTICAL GUN'!B176","v":0},{"$f":"'TACTICAL GUN'!J176","v":0},{"$f":"'TACTICAL GUN'!K176","v":0},{"$f":"'TACTICAL GUN'!L176","v":0},0,"99",300,"DQ"]
[301,"target 3",{"$f":"IF('Competitor List'!J6=\"Y\",'Competitor List'!B6,\" \")","v":" "},{"$f":"'LIGHT GUN'!M27","v":0},{"$f":"'LIGHT GUN'!N27","v":0},{"$f":"'LIGHT GUN'!O27","v":0},0,"99",301,"DQ",null,{"$f":"IF('Competitor List'!K6=\"Y\",'Competitor List'!C6,\" \")","v":" "},{"$f":"'HEAVY GUN'!M27","v":0},{"$f":"'HEAVY GUN'!N27","v":0},{"$f":"'HEAVY GUN'!O27","v":0},0,"99",301,"DQ",null,{"$f":"'TACTICAL GUN'!B27","v":0},{"$f":"'TACTICAL GUN'!M27","v":0},{"$f":"'TACTICAL GUN'!N27","v":0},{"$f":"'TACTICAL GUN'!O27","v":0},0,"99",{"$f":" IF(AND(ISNUMBER(V307)),RANK(V307,$V$7:$V$606,0)+SUMPRODUCT(($V$7:$V$606=V307)*($X$7:$X$606<X307))+SUMPRODUCT(($V$7:$V$606=V307)*($X$7:$X$606=X307)*($W$7:$W$606>W307))+SUMPRODUCT(($V$7:$V$606=V307)*($X$7:$X$606=X307)*($W$7:$W$606=W307)*($A$7:$A$606<A307)),\"DQ\")","v":301},{"$f":" IF(AND(Z307>0,ISNUMBER(Z307)),RANK(Z307,$Z$7:$Z$606,1)+SUMPRODUCT(($Z$7:$Z$606=Z307)*($V$7:$V$606>V307))+SUMPRODUCT(($Z$7:$Z$606=Z307)*($V$7:$V$606=V307)*($W$7:$W$606>W307))+SUMPRODUCT(($Z$7:$Z$606=Z307)*($V$7:$V$606=V307)*($W$7:$W$606=W307)*($A$7:$A$606<A307)),\"DQ\")","v":"DQ"}]
[302,"target 3",{"$f":"IF('Competitor List'!J7=\"Y\",'Competitor List'!B7,\" \")","v":" "},{"$f":"'LIGHT GUN'!M28","v":0},{"$f":"'LIGHT GUN'!N28","v":0},{"$f":"'LIGHT GUN'!O28","v":0},0,"99",302,"DQ",null,{"$f":"IF('Competitor List'!K7=\"Y\",'Competitor List'!C7,\" \")","v":" "},{"$f":"'HEAVY GUN'!M28","v":0},{"$f":"'HEAVY GUN'!N28","v":0},{"$f":"'HEAVY GUN'!O28","v":0},0,"99",302,"DQ",null,{"$f":"'TACTICAL GUN'!B28","v":0},{"$f":"'TACTICAL GUN'!M28","v":0},{"$f":"'TACTICAL GUN'!N28","v":0},{"$f":"'TACTICAL GUN'!O28","v":0},0,"99",{"$f":" IF(AND(ISNUMBER(V308)),RANK(V308,$V$7:$V$606,0)+SUMPRODUCT(($V$7:$V$606=V308)*($X$7:$X$606<X308))+SUMPRODUCT(($V$7:$V$606=V308)*($X$7:$X$606=X308)*($W$7:$W$606>W308))+SUMPRODUCT(($V$7:$V$606=V308)*($X$7:$X$606=X308)*($W$7:$W$606=W308)*($A$7:$A$606<A308)),\"DQ\")","v":302},{"$f":" IF(AND(Z308>0,ISNUMBER(Z308)),RANK(Z308,$Z$7:$Z$606,1)+SUMPRODUCT(($Z$7:$Z$606=Z308)*($V$7:$V$606>V308))+SUMPRODUCT(($Z$7:$Z$606=Z308)*($V$7:$V$606=V308)*($W$7:$W$606>W308))+SUMPRODUCT(($Z$7:$Z$606=Z308)*($V$7:$V$606=V308)*($W$7:$W$606=W308)*($A$7:$A$606<A308)),\"DQ\")","v":"DQ"}]
[303,"target 3",{"$f":"IF('Competitor List'!J8=\"Y\",'Competitor List'!B8,\" \")","v":" "},{"$f":"'LIGHT GUN'!M29","v":0},{"$f":"'LIGHT GUN'!N29","v":0},{"$f":"'LIGHT GUN'!O29","v":0},0,"99",303,"DQ",null,{"$f":"IF('Competitor List'!K8=\"Y\",'Competitor List'!C8,\" \")","v":" "},{"$f":"'HEAVY GUN'!M29","v":0},{"$f":"'HEAVY GUN'!N29","v":0},{"$f":"'HEAVY GUN'!O29","v":0},0,"99",303,"DQ",null,{"$f":"'TACTICAL GUN'!B29","v":0},{"$f":"'TACTICAL GUN'!M29","v":0},{"$f":"'TACTICAL GUN'!N29","v":0},{"$f":"'TACTICAL GUN'!O29","v":0},0,"99",303,"DQ"]
[304,"target 3",{"$f":"IF('Competitor List'!J9=\"Y\",'Competitor List'!B9,\" \")","v":" "},{"$f":"'LIGHT GUN'!M30","v":0},{"$f":"'LIGHT GUN'!N30","v":0},{"$f":"'LIGHT GUN'!O30","v":0},0,"99",304,"DQ",null,{"$f":"IF('Competitor List'!K9=\"Y\",'Competitor List'!C9,\" \")","v":" "},{"$f":"'HEAVY GUN'!M30","v":0},{"$f":"'HEAVY GUN'!N30","v":0},{"$f":"'HEAVY GUN'!O30","v":0},0,"99",304,"DQ",null,{"$f":"'TACTICAL GUN'!B30","v":0},{"$f":"'TACTICAL GUN'!M30","v":0},{"$f":"'TACTICAL GUN'!N30","v":0},{"$f":"'TACTICAL GUN'!O30","v":0},0,"99",304,"DQ"]
[305,"target 3",{"$f":"IF('Competitor List'!J10=\"Y\",'Competitor List'!B10,\" \")","v":" "},{"$f":"'LIGHT GUN'!M31","v":0},{"$f":"'LIGHT GUN'!N31","v":0},{"$f":"'LIGHT GUN'!O31","v":0},0,"99",305,"DQ",null,{"$f":"IF('Competitor List'!K10=\"Y\",'Competitor List'!C10,\" \")","v":" "},{"$f":"'HEAVY GUN'!M31","v":0},{"$f":"'HEAVY GUN'!N31","v":0},{"$f":"'HEAVY GUN'!O31","v":0},0,"99",305,"DQ",null,{"$f":"'TACTICAL GUN'!B31","v":0},{"$f":"'TACTICAL GUN'!M31","v":0},{"$f":"'TACTICAL GUN'!N31","v":0},{"$f":"'TACTICAL GUN'!O31","v":0},0,"99",305,"DQ"]
[306,"target 3",{"$f":"IF('Competitor List'!J11=\"Y\",'Competitor List'!B11,\" \")","v":" "},{"$f":"'LIGHT GUN'!M32","v":0},{"$f":"'LIGHT GUN'!N32","v":0},{"$f":"'LIGHT GUN'!O32","v":0},0,"99",306,"DQ",null,{"$f":"IF('Competitor List'!K11=\"Y\",'Competitor List'!C11,\" \")","v":" "},{"$f":"'HEAVY GUN'!M32","v":0},{"$f":"'HEAVY GUN'!N32","v":0},{"$f":"'HEAVY GUN'!O32","v":0},0,"99",306,"DQ",null,{"$f":"'TACTICAL GUN'!B32","v":0},{"$f":"'TACTICAL GUN'!M32","v":0},{"$f":"'TACTICAL GUN'!N32","v":0},{"$f":"'TACTICAL GUN'!O32","v":0},0,"99",306,"DQ"]
[307,"target 3",{"$f":"IF('Competitor List'!J12=\"Y\",'Competitor List'!B12,\" \")","v":" "},{"$f":"'LIGHT GUN'!M33","v":0},{"$f":"'LIGHT GUN'!N33","v":0},{"$f":"'LIGHT GUN'!O33","v":0},0,"99",307,"DQ",null,{"$f":"IF('Competitor List'!K12=\"Y\",'Competitor List'!C12,\" \")","v":" "},{"$f":"'HEAVY GUN'!M33","v":0},{"$f":"'HEAVY GUN'!N33","v":0},{"$f":"'HEAVY GUN'!O33","v":0},0,"99",307,"DQ",null,{"$f":"'TACTICAL GUN'!B33","v":0},{"$f":"'TACTICAL GUN'!M33","v":0},{"$f":"'TACTICAL GUN'!N33","v":0},{"$f":"'TACTICAL GUN'!O33","v":0},0,"99",307,"DQ"]
[308,"target 3",{"$f":"IF('Competitor List'!J13=\"Y\",'Competitor List'!B13,\" \")","v":" "},{"$f":"'LIGHT GUN'!M34","v":0},{"$f":"'LIGHT GUN'!N34","v":0},{"$f":"'LIGHT GUN'!O34","v":0},0,"99",308,"DQ",null,{"$f":"IF('Competitor List'!K13=\"Y\",'Competitor List'!C13,\" \")","v":" "},{"$f":"'HEAVY GUN'!M34","v":0},{"$f":"'HEAVY GUN'!N34","v":0},{"$f":"'HEAVY GUN'!O34","v":0},0,"99",308,"DQ",null,{"$f":"'TACTICAL GUN'!B34","v":0},{"$f":"'TACTICAL GUN'!M34","v":0},{"$f":"'TACTICAL GUN'!N34","v":0},{"$f":"'TACTICAL GUN'!O34","v":0},0,"99",308,"DQ"]
[309,"target 3",{"$f":"IF('Competitor List'!J14=\"Y\",'Competitor List'!B14,\" \")","v":" "},{"$f":"'LIGHT GUN'!M35","v":0},{"$f":"'LIGHT GUN'!N35","v":0},{"$f":"'LIGHT GUN'!O35","v":0},0,"99",309,"DQ",null,{"$f":"IF('Competitor List'!K14=\"Y\",'Competitor List'!C14,\" \")","v":" "},{"$f":"'HEAVY GUN'!M35","v":0},{"$f":"'HEAVY GUN'!N35","v":0},{"$f":"'HEAVY GUN'!O35","v":0},0,"99",309,"DQ",null,{"$f":"'TACTICAL GUN'!B35","v":0},{"$f":"'TACTICAL GUN'!M35","v":0},{"$f":"'TACTICAL GUN'!N35","v":0},{"$f":"'TACTICAL GUN'!O35","v":0},0,"99",309,"DQ"]
[310,"target 3",{"$f":"IF('Competitor List'!J15=\"Y\",'Competitor List'!B15,\" \")","v":" "},{"$f":"'LIGHT GUN'!M36","v":0},{"$f":"'LIGHT GUN'!N36","v":0},{"$f":"'LIGHT GUN'!O36","v":0},0,"99",310,"DQ",null,{"$f":"IF('Competitor List'!K15=\"Y\",'Competitor List'!C15,\" \")","v":" "},{"$f":"'HEAVY GUN'!M36","v":0},{"$f":"'HEAVY GUN'!N36","v":0},{"$f":"'HEAVY GUN'!O36","v":0},0,"99",310,"DQ",null,{"$f":"'TACTICAL GUN'!B36","v":0},{"$f":"'TACTICAL GUN'!M36","v":0},{"$f":"'TACTICAL GUN'!N36","v":0},{"$f":"'TACTICAL GUN'!O36","v":0},0,"99",310,"DQ"]
[311,"target 3",{"$f":"IF('Competitor List'!J16=\"Y\",'Competitor List'!B16,\" \")","v":" "},{"$f":"'LIGHT GUN'!M37","v":0},{"$f":"'LIGHT GUN'!N37","v":0},{"$f":"'LIGHT GUN'!O37","v":0},0,"99",311,"DQ",null,{"$f":"IF('Competitor List'!K16=\"Y\",'Competitor List'!C16,\" \")","v":" "},{"$f":"'HEAVY GUN'!M37","v":0},{"$f":"'HEAVY GUN'!N37","v":0},{"$f":"'HEAVY GUN'!O37","v":0},0,"99",311,"DQ",null,{"$f":"'TACTICAL GUN'!B37","v":0},{"$f":"'TACTICAL GUN'!M37","v":0},{"$f":"'TACTICAL GUN'!N37","v":0},{"$f":"'TACTICAL GUN'!O37","v":0},0,"99",311,"DQ"]
[312,"target 3",{"$f":"IF('Competitor List'!J17=\"Y\",'Competitor List'!B17,\" \")","v":" "},{"$f":"'LIGHT GUN'!M38","v":0},{"$f":"'LIGHT GUN'!N38","v":0},{"$f":"'LIGHT GUN'!O38","v":0},0,"99",312,"DQ",null,{"$f":"IF('Competitor List'!K17=\"Y\",'Competitor List'!C17,\" \")","v":" "},{"$f":"'HEAVY GUN'!M38","v":0},{"$f":"'HEAVY GUN'!N38","v":0},{"$f":"'HEAVY GUN'!O38","v":0},0,"99",312,"DQ",null,{"$f":"'TACTICAL GUN'!B38","v":0},{"$f":"'TACTICAL GUN'!M38","v":0},{"$f":"'TACTICAL GUN'!N38","v":0},{"$f":"'TACTICAL GUN'!O38","v":0},0,"99",312,"DQ"]
[313,"target 3",{"$f":"IF('Competitor List'!J18=\"Y\",'Competitor List'!B18,\" \")","v":" "},{"$f":"'LIGHT GUN'!M39","v":0},{"$f":"'LIGHT GUN'!N39","v":0},{"$f":"'LIGHT GUN'!O39","v":0},0,"99",313,"DQ",null,{"$f":"IF('Competitor List'!K18=\"Y\",'Competitor List'!C18,\" \")","v":" "},{"$f":"'HEAVY GUN'!M39","v":0},{"$f":"'HEAVY GUN'!N39","v":0},{"$f":"'HEAVY GUN'!O39","v":0},0,"99",313,"DQ",null,{"$f":"'TACTICAL GUN'!B39","v":0},{"$f":"'TACTICAL GUN'!M39","v":0},{"$f":"'TACTICAL GUN'!N39","v":0},{"$f":"'TACTICAL GUN'!O39","v":0},0,"99",313,"DQ"]
[314,"target 3",{"$f":"IF('Competitor List'!J19=\"Y\",'Competitor List'!B19,\" \")","v":" "},{"$f":"'LIGHT GUN'!M40","v":0},{"$f":"'LIGHT GUN'!N40","v":0},{"$f":"'LIGHT GUN'!O40","v":0},0,"99",314,"DQ",null,{"$f":"IF('Competitor List'!K19=\"Y\",'Competitor List'!C19,\" \")","v":" "},{"$f":"'HEAVY GUN'!M40","v":0},{"$f":"'HEAVY GUN'!N40","v":0},{"$f":"'HEAVY GUN'!O40","v":0},0,"99",314,"DQ",null,{"$f":"'TACTICAL GUN'!B40","v":0},{"$f":"'TACTICAL GUN'!M40","v":0},{"$f":"'TACTICAL GUN'!N40","v":0},{"$f":"'TACTICAL GUN'!O40","v":0},0,"99",314,"DQ"]
[315,"target 3",{"$f":"IF('Competitor List'!J20=\"Y\",'Competitor List'!B20,\" \")","v":" "},{"$f":"'LIGHT GUN'!M41","v":0},{"$f":"'LIGHT GUN'!N41","v":0},{"$f":"'LIGHT GUN'!O41","v":0},0,"99",315,"DQ",null,{"$f":"IF('Competitor List'!K20=\"Y\",'Competitor List'!C20,\" \")","v":" "},{"$f":"'HEAVY GUN'!M41","v":0},{"$f":"'HEAVY GUN'!N41","v":0},{"$f":"'HEAVY GUN'!O41","v":0},0,"99",315,"DQ",null,{"$f":"'TACTICAL GUN'!B41","v":0},{"$f":"'TACTICAL GUN'!M41","v":0},{"$f":"'TACTICAL GUN'!N41","v":0},{"$f":"'TACTICAL GUN'!O41","v":0},0,"99",315,"DQ"]
[316,"target 3",{"$f":"IF('Competitor List'!J21=\"Y\",'Competitor List'!B21,\" \")","v":" "},{"$f":"'LIGHT GUN'!M42","v":0},{"$f":"'LIGHT GUN'!N42","v":0},{"$f":"'LIGHT GUN'!O42","v":0},0,"99",316,"DQ",null,{"$f":"IF('Competitor List'!K21=\"Y\",'Competitor List'!C21,\" \")","v":" "},{"$f":"'HEAVY GUN'!M42","v":0},{"$f":"'HEAVY GUN'!N42","v":0},{"$f":"'HEAVY GUN'!O42","v":0},0,"99",316,"DQ",null,{"$f":"'TACTICAL GUN'!B42","v":0},{"$f":"'TACTICAL GUN'!M42","v":0},{"$f":"'TACTICAL GUN'!N42","v":0},{"$f":"'TACTICAL GUN'!O42","v":0},0,"99",316,"DQ"]
[317,"target 3",{"$f":"IF('Competitor List'!J22=\"Y\",'Competitor List'!B22,\" \")","v":" "},{"$f":"'LIGHT GUN'!M43","v":0},{"$f":"'LIGHT GUN'!N43","v":0},{"$f":"'LIGHT GUN'!O43","v":0},0,"99",317,"DQ",null,{"$f":"IF('Competitor List'!K22=\"Y\",'Competitor List'!C22,\" \")","v":" "},{"$f":"'HEAVY GUN'!M43","v":0},{"$f":"'HEAVY GUN'!N43","v":0},{"$f":"'HEAVY GUN'!O43","v":0},0,"99",317,"DQ",null,{"$f":"'TACTICAL GUN'!B43","v":0},{"$f":"'TACTICAL GUN'!M43","v":0},{"$f":"'TACTICAL GUN'!N43","v":0},{"$f":"'TACTICAL GUN'!O43","v":0},0,"99",317,"DQ"]
[318,"target 3",{"$f":"IF('Competitor List'!J23=\"Y\",'Competitor List'!B23,\" \")","v":" "},{"$f":"'LIGHT GUN'!M44","v":0},{"$f":"'LIGHT GUN'!N44","v":0},{"$f":"'LIGHT GUN'!O44","v":0},0,"99",318,"DQ",null,{"$f":"IF('Competitor List'!K23=\"Y\",'Competitor List'!C23,\" \")","v":" "},{"$f":"'HEAVY GUN'!M44","v":0},{"$f":"'HEAVY GUN'!N44","v":0},{"$f":"'HEAVY GUN'!O44","v":0},0,"99",318,"DQ",null,{"$f":"'TACTICAL GUN'!B44","v":0},{"$f":"'TACTICAL GUN'!M44","v":0},{"$f":"'TACTICAL GUN'!N44","v":0},{"$f":"'TACTICAL GUN'!O44","v":0},0,"99",318,"DQ"]
[319,"target 3",{"$f":"IF('Competitor List'!J24=\"Y\",'Competitor List'!B24,\" \")","v":" "},{"$f":"'LIGHT GUN'!M45","v":0},{"$f":"'LIGHT GUN'!N45","v":0},{"$f":"'LIGHT GUN'!O45","v":0},0,"99",319,"DQ",null,{"$f":"IF('Competitor List'!K24=\"Y\",'Competitor List'!C24,\" \")","v":" "},{"$f":"'HEAVY GUN'!M45","v":0},{"$f":"'HEAVY GUN'!N45","v":0},{"$f":"'HEAVY GUN'!O45","v":0},0,"99",319,"DQ",null,{"$f":"'TACTICAL GUN'!B45","v":0},{"$f":"'TACTICAL GUN'!M45","v":0},{"$f":"'TACTICAL GUN'!N45","v":0},{"$f":"'TACTICAL GUN'!O45","v":0},0,"99",319,"DQ"]
[320,"target 3",{"$f":"IF('Competitor List'!J25=\"Y\",'Competitor List'!B25,\" \")","v":" "},{"$f":"'LIGHT GUN'!M46","v":0},{"$f":"'LIGHT GUN'!N46","v":0},{"$f":"'LIGHT GUN'!O46","v":0},0,"99",320,"DQ",null,{"$f":"IF('Competitor List'!K25=\"Y\",'Competitor List'!C25,\" \")","v":" "},{"$f":"'HEAVY GUN'!M46","v":0},{"$f":"'HEAVY GUN'!N46","v":0},{"$f":"'HEAVY GUN'!O46","v":0},0,"99",320,"DQ",null,{"$f":"'TACTICAL GUN'!B46","v":0},{"$f":"'TACTICAL GUN'!M46","v":0},{"$f":"'TACTICAL GUN'!N46","v":0},{"$f":"'TACTICAL GUN'!O46","v":0},0,"99",320,"DQ"]
[321,"target 3",{"$f":"IF('Competitor List'!J26=\"Y\",'Competitor List'!B26,\" \")","v":" "},{"$f":"'LIGHT GUN'!M47","v":0},{"$f":"'LIGHT GUN'!N47","v":0},{"$f":"'LIGHT GUN'!O47","v":0},0,"99",321,"DQ",null,{"$f":"IF('Competitor List'!K26=\"Y\",'Competitor List'!C26,\" \")","v":" "},{"$f":"'HEAVY GUN'!M47","v":0},{"$f":"'HEAVY GUN'!N47","v":0},{"$f":"'HEAVY GUN'!O47","v":0},0,"99",321,"DQ",null,{"$f":"'TACTICAL GUN'!B47","v":0},{"$f":"'TACTICAL GUN'!M47","v":0},{"$f":"'TACTICAL GUN'!N47","v":0},{"$f":"'TACTICAL GUN'!O47","v":0},0,"99",321,"DQ"]
[322,"target 3",{"$f":"IF('Competitor List'!J27=\"Y\",'Competitor List'!B27,\" \")","v":" "},{"$f":"'LIGHT GUN'!M48","v":0},{"$f":"'LIGHT GUN'!N48","v":0},{"$f":"'LIGHT GUN'!O48","v":0},{"$f":"IF(ISNUMBER(F328),SUM(F328),\"99\")","v":0},{"$f":"IF(G328=0,\"99\",G328)","v":"99"},{"$f":" IF(AND(ISNUMBER(D328)),RANK(D328,$D$7:$D$606,0)+SUMPRODUCT(($D$7:$D$606=D328)*($F$7:$F$606<F328))+SUMPRODUCT(($D$7:$D$606=D328)*($F$7:$F$606=F328)*($E$7:$E$606>E328))+SUMPRODUCT(($D$7:$D$606=D328)*($F$7:$F$606=F328)*($E$7:$E$606=E328)*($A$7:$A$606<A328)),\"DQ\")","v":322},{"$f":" IF(AND(ISNUMBER(H328)),RANK(H328,$H$7:$H$606,1)+SUMPRODUCT(($H$7:$H$606=H328)*($D$7:$D$606>D328))+SUMPRODUCT(($H$7:$H$606=H328)*($D$7:$D$606=D328)*($E$7:$E$606>E328))+SUMPRODUCT(($H$7:$H$606=H328)*($D$7:$D$606=D328)*($E$7:$E$606=E328)*($A$7:$A$606<A328)),\"DQ\")","v":"DQ"},null,{"$f":"IF('Competitor List'!K27=\"Y\",'Competitor List'!C27,\" \")","v":" "},{"$f":"'HEAVY GUN'!M48","v":0},{"$f":"'HEAVY GUN'!N48","v":0},{"$f":"'HEAVY GUN'!O48","v":0},{"$f":"IF(ISNUMBER(O328),SUM(O328),\"99\")","v":0},{"$f":"IF(P328=0,\"99\",P328)","v":"99"},{"$f":" IF(AND(ISNUMBER(M328)),RANK(M328,$M$7:$M$606,0)+SUMPRODUCT(($M$7:$M$606=M328)*($O$7:$O$606<O328))+SUMPRODUCT(($M$7:$M$606=M328)*($O$7:$O$606=O328)*($N$7:$N$606>N328))+SUMPRODUCT(($M$7:$M$606=M328)*($O$7:$O$606=O328)*($N$7:$N$606=N328)*($A$7:$A$606<A328)),\"DQ\")","v":322},{"$f":" IF(AND(Q328>0,ISNUMBER(Q328)),RANK(Q328,$Q$7:$Q$606,1)+SUMPRODUCT(($Q$7:$Q$606=Q328)*($M$7:$M$606>M328))+SUMPRODUCT(($Q$7:$Q$606=Q328)*($M$7:$M$606=M328)*($N$7:$N$606>N328))+SUMPRODUCT(($Q$7:$Q$606=Q328)*($M$7:$M$606=M328)*($N$7:$N$606=N328)*($A$7:$A$606<A328)),\"DQ\")","v":"DQ"},null,{"$f":"'TACTICAL GUN'!B48","v":0},{"$f":"'TACTICAL GUN'!M48","v":0},{"$f":"'TACTICAL GUN'!N48","v":0},{"$f":"'TACTICAL GUN'!O48","v":0},{"$f":"IF(ISNUMBER(X328),SUM(X328),\"99\")","v":0},{"$f":"IF(Y328=0,\"99\",Y328)","v":"99"},322,"DQ"]
[323,"target 3",{"$f":"IF('Competitor List'!J28=\"Y\",'Competitor List'!B28,\" \")","v":" "},{"$f":"'LIGHT GUN'!M49","v":0},{"$f":"'LIGHT GUN'!N49","v":0},{"$f":"'LIGHT GUN'!O49","v":0},0,"99",323,"DQ",null,{"$f":"IF('Competitor List'!K28=\"Y\",'Competitor List'!C28,\" \")","v":" "},{"$f":"'HEAVY GUN'!M49","v":0},{"$f":"'HEAVY GUN'!N49","v":0},{"$f":"'HEAVY GUN'!O49","v":0},0,"99",323,"DQ",null,{"$f":"'TACTICAL GUN'!B49","v":0},{"$f":"'TACTICAL GUN'!M49","v":0},{"$f":"'TACTICAL GUN'!N49","v":0},{"$f":"'TACTICAL GUN'!O49","v":0},0,"99",323,"DQ"]
[324,"target 3",{"$f":"IF('Competitor List'!J29=\"Y\",'Competitor List'!B29,\" \")","v":" "},{"$f":"'LIGHT GUN'!M50","v":0},{"$f":"'LIGHT GUN'!N50","v":0},{"$f":"'LIGHT GUN'!O50","v":0},0,"99",324,"DQ",null,{"$f":"IF('Competitor List'!K29=\"Y\",'Competitor List'!C29,\" \")","v":" "},{"$f":"'HEAVY GUN'!M50","v":0},{"$f":"'HEAVY GUN'!N50","v":0},{"$f":"'HEAVY GUN'!O50","v":0},0,"99",324,"DQ",null,{"$f":"'TACTICAL GUN'!B50","v":0},{"$f":"'TACTICAL GUN'!M50","v":0},{"$f":"'TACTICAL GUN'!N50","v":0},{"$f":"'TACTICAL GUN'!O50","v":0},0,"99",324,"DQ"]
[325,"target 3",{"$f":"IF('Competitor List'!J30=\"Y\",'Competitor List'!B30,\" \")","v":" "},{"$f":"'LIGHT GUN'!M51","v":0},{"$f":"'LIGHT GUN'!N51","v":0},{"$f":"'LIGHT GUN'!O51","v":0},0,"99",325,"DQ",null,{"$f":"IF('Competitor List'!K30=\"Y\",'Competitor List'!C30,\" \")","v":" "},{"$f":"'HEAVY GUN'!M51","v":0},{"$f":"'HEAVY GUN'!N51","v":0},{"$f":"'HEAVY GUN'!O51","v":0},0,"99",325,"DQ",null,{"$f":"'TACTICAL GUN'!B51","v":0},{"$f":"'TACTICAL GUN'!M51","v":0},{"$f":"'TACTICAL GUN'!N51","v":0},{"$f":"'TACTICAL GUN'!O51","v":0},0,"99",325,"DQ"]
[326,"target 3",{"$f":"IF('Competitor List'!J31=\"Y\",'Competitor List'!B31,\" \")","v":" "},{"$f":"'LIGHT GUN'!M52","v":0},{"$f":"'LIGHT GUN'!N52","v":0},{"$f":"'LIGHT GUN'!O52","v":0},0,"99",326,"DQ",null,{"$f":"IF('Competitor List'!K31=\"Y\",'Competitor List'!C31,\" \")","v":" "},{"$f":"'HEAVY GUN'!M52","v":0},{"$f":"'HEAVY GUN'!N52","v":0},{"$f":"'HEAVY GUN'!O52","v":0},0,"99",326,"DQ",null,{"$f":"'TACTICAL GUN'!B52","v":0},{"$f":"'TACTICAL GUN'!M52","v":0},{"$f":"'TACTICAL GUN'!N52","v":0},{"$f":"'TACTICAL GUN'!O52","v":0},0,"99",326,"DQ"]
[327,"target 3",{"$f":"IF('Competitor List'!J32=\"Y\",'Competitor List'!B32,\" \")","v":" "},{"$f":"'LIGHT GUN'!M53","v":0},{"$f":"'LIGHT GUN'!N53","v":0},{"$f":"'LIGHT GUN'!O53","v":0},0,"99",327,"DQ",null,{"$f":"IF('Competitor List'!K32=\"Y\",'Competitor List'!C32,\" \")","v":" "},{"$f":"'HEAVY GUN'!M53","v":0},{"$f":"'HEAVY GUN'!N53","v":0},{"$f":"'HEAVY GUN'!O53","v":0},0,"99",327,"DQ",null,{"$f":"'TACTICAL GUN'!B53","v":0},{"$f":"'TACTICAL GUN'!M53","v":0},{"$f":"'TACTICAL GUN'!N53","v":0},{"$f":"'TACTICAL GUN'!O53","v":0},0,"99",327,"DQ"]
[328,"target 3",{"$f":"IF('Competitor List'!J33=\"Y\",'Competitor List'!B33,\" \")","v":" "},{"$f":"'LIGHT GUN'!M54","v":0},{"$f":"'LIGHT GUN'!N54","v":0},{"$f":"'LIGHT GUN'!O54","v":0},0,"99",328,"DQ",null,{"$f":"IF('Competitor List'!K33=\"Y\",'Competitor List'!C33,\" \")","v":" "},{"$f":"'HEAVY GUN'!M54","v":0},{"$f":"'HEAVY GUN'!N54","v":0},{"$f":"'HEAVY GUN'!O54","v":0},0,"99",328,"DQ",null,{"$f":"'TACTICAL GUN'!B54","v":0},{"$f":"'TACTICAL GUN'!M54","v":0},{"$f":"'TACTICAL GUN'!N54","v":0},{"$f":"'TACTICAL GUN'!O54","v":0},0,"99",328,"DQ"]
[329,"target 3",{"$f":"IF('Competitor List'!J34=\"Y\",'Competitor List'!B34,\" \")","v":" "},{"$f":"'LIGHT GUN'!M55","v":0},{"$f":"'LIGHT GUN'!N55","v":0},{"$f":"'LIGHT GUN'!O55","v":0},0,"99",329,"DQ",null,{"$f":"IF('Competitor List'!K34=\"Y\",'Competitor List'!C34,\" \")","v":" "},{"$f":"'HEAVY GUN'!M55","v":0},{"$f":"'HEAVY GUN'!N55","v":0},{"$f":"'HEAVY GUN'!O55","v":0},0,"99",329,"DQ",null,{"$f":"'TACTICAL GUN'!B55","v":0},{"$f":"'TACTICAL GUN'!M55","v":0},{"$f":"'TACTICAL GUN'!N55","v":0},{"$f":"'TACTICAL GUN'!O55","v":0},0,"99",329,"DQ"]
[330,"target 3",{"$f":"IF('Competitor List'!J35=\"Y\",'Competitor List'!B35,\" \")","v":" "},{"$f":"'LIGHT GUN'!M56","v":0},{"$f":"'LIGHT GUN'!N56","v":0},{"$f":"'LIGHT GUN'!O56","v":0},0,"99",330,"DQ",null,{"$f":"IF('Competitor List'!K35=\"Y\",'Competitor List'!C35,\" \")","v":" "},{"$f":"'HEAVY GUN'!M56","v":0},{"$f":"'HEAVY GUN'!N56","v":0},{"$f":"'HEAVY GUN'!O56","v":0},0,"99",330,"DQ",null,{"$f":"'TACTICAL GUN'!B56","v":0},{"$f":"'TACTICAL GUN'!M56","v":0},{"$f":"'TACTICAL GUN'!N56","v":0},{"$f":"'TACTICAL GUN'!O56","v":0},0,"99",330,"DQ"]
[331,"target 3",{"$f":"IF('Competitor List'!J36=\"Y\",'Competitor List'!B36,\" \")","v":" "},{"$f":"'LIGHT GUN'!M57","v":0},{"$f":"'LIGHT GUN'!N57","v":0},{"$f":"'LIGHT GUN'!O57","v":0},0,"99",331,"DQ",null,{"$f":"IF('Competitor List'!K36=\"Y\",'Competitor List'!C36,\" \")","v":" "},{"$f":"'HEAVY GUN'!M57","v":0},{"$f":"'HEAVY GUN'!N57","v":0},{"$f":"'HEAVY GUN'!O57","v":0},0,"99",331,"DQ",null,{"$f":"'TACTICAL GUN'!B57","v":0},{"$f":"'TACTICAL GUN'!M57","v":0},{"$f":"'TACTICAL GUN'!N57","v":0},{"$f":"'TACTICAL GUN'!O57","v":0},0,"99",331,"DQ"]
[332,"target 3",{"$f":"IF('Competitor List'!J37=\"Y\",'Competitor List'!B37,\" \")","v":" "},{"$f":"'LIGHT GUN'!M58","v":0},{"$f":"'LIGHT GUN'!N58","v":0},{"$f":"'LIGHT GUN'!O58","v":0},0,"99",332,"DQ",null,{"$f":"IF('Competitor List'!K37=\"Y\",'Competitor List'!C37,\" \")","v":" "},{"$f":"'HEAVY GUN'!M58","v":0},{"$f":"'HEAVY GUN'!N58","v":0},{"$f":"'HEAVY GUN'!O58","v":0},0,"99",332,"DQ",null,{"$f":"'TACTICAL GUN'!B58","v":0},{"$f":"'TACTICAL GUN'!M58","v":0},{"$f":"'TACTICAL GUN'!N58","v":0},{"$f":"'TACTICAL GUN'!O58","v":0},0,"99",332,"DQ"]
[333,"target 3",{"$f":"IF('Competitor List'!J38=\"Y\",'Competitor List'!B38,\" \")","v":" "},{"$f":"'LIGHT GUN'!M59","v":0},{"$f":"'LIGHT GUN'!N59","v":0},{"$f":"'LIGHT GUN'!O59","v":0},0,"99",333,"DQ",null,{"$f":"IF('Competitor List'!K38=\"Y\",'Competitor List'!C38,\" \")","v":" "},{"$f":"'HEAVY GUN'!M59","v":0},{"$f":"'HEAVY GUN'!N59","v":0},{"$f":"'HEAVY GUN'!O59","v":0},0,"99",333,"DQ",null,{"$f":"'TACTICAL GUN'!B59","v":0},{"$f":"'TACTICAL GUN'!M59","v":0},{"$f":"'TACTICAL GUN'!N59","v":0},{"$f":"'TACTICAL GUN'!O59","v":0},0,"99",333,"DQ"]
[334,"target 3",{"$f":"IF('Competitor List'!J39=\"Y\",'Competitor List'!B39,\" \")","v":" "},{"$f":"'LIGHT GUN'!M60","v":0},{"$f":"'LIGHT GUN'!N60","v":0},{"$f":"'LIGHT GUN'!O60","v":0},0,"99",334,"DQ",null,{"$f":"IF('Competitor List'!K39=\"Y\",'Competitor List'!C39,\" \")","v":" "},{"$f":"'HEAVY GUN'!M60","v":0},{"$f":"'HEAVY GUN'!N60","v":0},{"$f":"'HEAVY GUN'!O60","v":0},0,"99",334,"DQ",null,{"$f":"'TACTICAL GUN'!B60","v":0},{"$f":"'TACTICAL GUN'!M60","v":0},{"$f":"'TACTICAL GUN'!N60","v":0},{"$f":"'TACTICAL GUN'!O60","v":0},0,"99",334,"DQ"]
[335,"target 3",{"$f":"IF('Competitor List'!J40=\"Y\",'Competitor List'!B40,\" \")","v":" "},{"$f":"'LIGHT GUN'!M61","v":0},{"$f":"'LIGHT GUN'!N61","v":0},{"$f":"'LIGHT GUN'!O61","v":0},0,"99",335,"DQ",null,{"$f":"IF('Competitor List'!K40=\"Y\",'Competitor List'!C40,\" \")","v":" "},{"$f":"'HEAVY GUN'!M61","v":0},{"$f":"'HEAVY GUN'!N61","v":0},{"$f":"'HEAVY GUN'!O61","v":0},0,"99",335,"DQ",null,{"$f":"'TACTICAL GUN'!B61","v":0},{"$f":"'TACTICAL GUN'!M61","v":0},{"$f":"'TACTICAL GUN'!N61","v":0},{"$f":"'TACTICAL GUN'!O61","v":0},0,"99",335,"DQ"]
[336,"target 3",{"$f":"IF('Competitor List'!J41=\"Y\",'Competitor List'!B41,\" \")","v":" "},{"$f":"'LIGHT GUN'!M62","v":0},{"$f":"'LIGHT GUN'!N62","v":0},{"$f":"'LIGHT GUN'!O62","v":0},0,"99",336,"DQ",null,{"$f":"IF('Competitor List'!K41=\"Y\",'Competitor List'!C41,\" \")","v":" "},{"$f":"'HEAVY GUN'!M62","v":0},{"$f":"'HEAVY GUN'!N62","v":0},{"$f":"'HEAVY GUN'!O62","v":0},0,"99",336,"DQ",null,{"$f":"'TACTICAL GUN'!B62","v":0},{"$f":"'TACTICAL GUN'!M62","v":0},{"$f":"'TACTICAL GUN'!N62","v":0},{"$f":"'TACTICAL GUN'!O62","v":0},0,"99",336,"DQ"]
[337,"target 3",{"$f":"IF('Competitor List'!J42=\"Y\",'Competitor List'!B42,\" \")","v":" "},{"$f":"'LIGHT GUN'!M63","v":0},{"$f":"'LIGHT GUN'!N63","v":0},{"$f":"'LIGHT GUN'!O63","v":0},0,"99",337,"DQ",null,{"$f":"IF('Competitor List'!K42=\"Y\",'Competitor List'!C42,\" \")","v":" "},{"$f":"'HEAVY GUN'!M63","v":0},{"$f":"'HEAVY GUN'!N63","v":0},{"$f":"'HEAVY GUN'!O63","v":0},0,"99",337,"DQ",null,{"$f":"'TACTICAL GUN'!B63","v":0},{"$f":"'TACTICAL GUN'!M63","v":0},{"$f":"'TACTICAL GUN'!N63","v":0},{"$f":"'TACTICAL GUN'!O63","v":0},0,"99",337,"DQ"]
[338,"target 3",{"$f":"IF('Competitor List'!J43=\"Y\",'Competitor List'!B43,\" \")","v":" "},{"$f":"'LIGHT GUN'!M64","v":0},{"$f":"'LIGHT GUN'!N64","v":0},{"$f":"'LIGHT GUN'!O64","v":0},0,"99",338,"DQ",null,{"$f":"IF('Competitor List'!K43=\"Y\",'Competitor List'!C43,\" \")","v":" "},{"$f":"'HEAVY GUN'!M64","v":0},{"$f":"'HEAVY GUN'!N64","v":0},{"$f":"'HEAVY GUN'!O64","v":0},0,"99",338,"DQ",null,{"$f":"'TACTICAL GUN'!B64","v":0},{"$f":"'TACTICAL GUN'!M64","v":0},{"$f":"'TACTICAL GUN'!N64","v":0},{"$f":"'TACTICAL GUN'!O64","v":0},0,"99",338,"DQ"]
[339,"target 3",{"$f":"IF('Competitor List'!J44=\"Y\",'Competitor List'!B44,\" \")","v":" "},{"$f":"'LIGHT GUN'!M65","v":0},{"$f":"'LIGHT GUN'!N65","v":0},{"$f":"'LIGHT GUN'!O65","v":0},0,"99",339,"DQ",null,{"$f":"IF('Competitor List'!K44=\"Y\",'Competitor List'!C44,\" \")","v":" "},{"$f":"'HEAVY GUN'!M65","v":0},{"$f":"'HEAVY GUN'!N65","v":0},{"$f":"'HEAVY GUN'!O65","v":0},0,"99",339,"DQ",null,{"$f":"'TACTICAL GUN'!B65","v":0},{"$f":"'TACTICAL GUN'!M65","v":0},{"$f":"'TACTICAL GUN'!N65","v":0},{"$f":"'TACTICAL GUN'!O65","v":0},0,"99",339,"DQ"]
[340,"target 3",{"$f":"IF('Competitor List'!J45=\"Y\",'Competitor List'!B45,\" \")","v":" "},{"$f":"'LIGHT GUN'!M66","v":0},{"$f":"'LIGHT GUN'!N66","v":0},{"$f":"'LIGHT GUN'!O66","v":0},0,"99",340,"DQ",null,{"$f":"IF('Competitor List'!K45=\"Y\",'Competitor List'!C45,\" \")","v":" "},{"$f":"'HEAVY GUN'!M66","v":0},{"$f":"'HEAVY GUN'!N66","v":0},{"$f":"'HEAVY GUN'!O66","v":0},0,"99",340,"DQ",null,{"$f":"'TACTICAL GUN'!B66","v":0},{"$f":"'TACTICAL GUN'!M66","v":0},{"$f":"'TACTICAL GUN'!N66","v":0},{"$f":"'TACTICAL GUN'!O66","v":0},0,"99",340,"DQ"]
[341,"target 3",{"$f":"IF('Competitor List'!J46=\"Y\",'Competitor List'!B46,\" \")","v":" "},{"$f":"'LIGHT GUN'!M67","v":0},{"$f":"'LIGHT GUN'!N67","v":0},{"$f":"'LIGHT GUN'!O67","v":0},0,"99",341,"DQ",null,{"$f":"IF('Competitor List'!K46=\"Y\",'Competitor List'!C46,\" \")","v":" "},{"$f":"'HEAVY GUN'!M67","v":0},{"$f":"'HEAVY GUN'!N67","v":0},{"$f":"'HEAVY GUN'!O67","v":0},0,"99",341,"DQ",null,{"$f":"'TACTICAL GUN'!B67","v":0},{"$f":"'TACTICAL GUN'!M67","v":0},{"$f":"'TACTICAL GUN'!N67","v":0},{"$f":"'TACTICAL GUN'!O67","v":0},0,"99",341,"DQ"]
[342,"target 3",{"$f":"IF('Competitor List'!J47=\"Y\",'Competitor List'!B47,\" \")","v":" "},{"$f":"'LIGHT GUN'!M68","v":0},{"$f":"'LIGHT GUN'!N68","v":0},{"$f":"'LIGHT GUN'!O68","v":0},0,"99",342,"DQ",null,{"$f":"IF('Competitor List'!K47=\"Y\",'Competitor List'!C47,\" \")","v":" "},{"$f":"'HEAVY GUN'!M68","v":0},{"$f":"'HEAVY GUN'!N68","v":0},{"$f":"'HEAVY GUN'!O68","v":0},0,"99",342,"DQ",null,{"$f":"'TACTICAL GUN'!B68","v":0},{"$f":"'TACTICAL GUN'!M68","v":0},{"$f":"'TACTICAL GUN'!N68","v":0},{"$f":"'TACTICAL GUN'!O68","v":0},0,"99",342,"DQ"]
[343,"target 3",{"$f":"IF('Competitor List'!J48=\"Y\",'Competitor List'!B48,\" \")","v":" "},{"$f":"'LIGHT GUN'!M69","v":0},{"$f":"'LIGHT GUN'!N69","v":0},{"$f":"'LIGHT GUN'!O69","v":0},0,"99",343,"DQ",null,{"$f":"IF('Competitor List'!K48=\"Y\",'Competitor List'!C48,\" \")","v":" "},{"$f":"'HEAVY GUN'!M69","v":0},{"$f":"'HEAVY GUN'!N69","v":0},{"$f":"'HEAVY GUN'!O69","v":0},0,"99",343,"DQ",null,{"$f":"'TACTICAL GUN'!B69","v":0},{"$f":"'TACTICAL GUN'!M69","v":0},{"$f":"'TACTICAL GUN'!N69","v":0},{"$f":"'TACTICAL GUN'!O69","v":0},0,"99",343,"DQ"]
[344,"target 3",{"$f":"IF('Competitor List'!J49=\"Y\",'Competitor List'!B49,\" \")","v":" "},{"$f":"'LIGHT GUN'!M70","v":0},{"$f":"'LIGHT GUN'!N70","v":0},{"$f":"'LIGHT GUN'!O70","v":0},0,"99",344,"DQ",null,{"$f":"IF('Competitor List'!K49=\"Y\",'Competitor List'!C49,\" \")","v":" "},{"$f":"'HEAVY GUN'!M70","v":0},{"$f":"'HEAVY GUN'!N70","v":0},{"$f":"'HEAVY GUN'!O70","v":0},0,"99",344,"DQ",null,{"$f":"'TACTICAL GUN'!B70","v":0},{"$f":"'TACTICAL GUN'!M70","v":0},{"$f":"'TACTICAL GUN'!N70","v":0},{"$f":"'TACTICAL GUN'!O70","v":0},0,"99",344,"DQ"]
[345,"target 3",{"$f":"IF('Competitor List'!J50=\"Y\",'Competitor List'!B50,\" \")","v":" "},{"$f":"'LIGHT GUN'!M71","v":0},{"$f":"'LIGHT GUN'!N71","v":0},{"$f":"'LIGHT GUN'!O71","v":0},0,"99",345,"DQ",null,{"$f":"IF('Competitor List'!K50=\"Y\",'Competitor List'!C50,\" \")","v":" "},{"$f":"'HEAVY GUN'!M71","v":0},{"$f":"'HEAVY GUN'!N71","v":0},{"$f":"'HEAVY GUN'!O71","v":0},0,"99",345,"DQ",null,{"$f":"'TACTICAL GUN'!B71","v":0},{"$f":"'TACTICAL GUN'!M71","v":0},{"$f":"'TACTICAL GUN'!N71","v":0},{"$f":"'TACTICAL GUN'!O71","v":0},0,"99",345,"DQ"]
[346,"target 3",{"$f":"IF('Competitor List'!J51=\"Y\",'Competitor List'!B51,\" \")","v":" "},{"$f":"'LIGHT GUN'!M72","v":0},{"$f":"'LIGHT GUN'!N72","v":0},{"$f":"'LIGHT GUN'!O72","v":0},0,"99",346,"DQ",null,{"$f":"IF('Competitor List'!K51=\"Y\",'Competitor List'!C51,\" \")","v":" "},{"$f":"'HEAVY GUN'!M72","v":0},{"$f":"'HEAVY GUN'!N72","v":0},{"$f":"'HEAVY GUN'!O72","v":0},0,"99",346,"DQ",null,{"$f":"'TACTICAL GUN'!B72","v":0},{"$f":"'TACTICAL GUN'!M72","v":0},{"$f":"'TACTICAL GUN'!N72","v":0},{"$f":"'TACTICAL GUN'!O72","v":0},0,"99",346,"DQ"]
[347,"target 3",{"$f":"IF('Competitor List'!J52=\"Y\",'Competitor List'!B52,\" \")","v":" "},{"$f":"'LIGHT GUN'!M73","v":0},{"$f":"'LIGHT GUN'!N73","v":0},{"$f":"'LIGHT GUN'!O73","v":0},0,"99",347,"DQ",null,{"$f":"IF('Competitor List'!K52=\"Y\",'Competitor List'!C52,\" \")","v":" "},{"$f":"'HEAVY GUN'!M73","v":0},{"$f":"'HEAVY GUN'!N73","v":0},{"$f":"'HEAVY GUN'!O73","v":0},0,"99",347,"DQ",null,{"$f":"'TACTICAL GUN'!B73","v":0},{"$f":"'TACTICAL GUN'!M73","v":0},{"$f":"'TACTICAL GUN'!N73","v":0},{"$f":"'TACTICAL GUN'!O73","v":0},0,"99",347,"DQ"]
[348,"target 3",{"$f":"IF('Competitor List'!J53=\"Y\",'Competitor List'!B53,\" \")","v":" "},{"$f":"'LIGHT GUN'!M74","v":0},{"$f":"'LIGHT GUN'!N74","v":0},{"$f":"'LIGHT GUN'!O74","v":0},0,"99",348,"DQ",null,{"$f":"IF('Competitor List'!K53=\"Y\",'Competitor List'!C53,\" \")","v":" "},{"$f":"'HEAVY GUN'!M74","v":0},{"$f":"'HEAVY GUN'!N74","v":0},{"$f":"'HEAVY GUN'!O74","v":0},0,"99",348,"DQ",null,{"$f":"'TACTICAL GUN'!B74","v":0},{"$f":"'TACTICAL GUN'!M74","v":0},{"$f":"'TACTICAL GUN'!N74","v":0},{"$f":"'TACTICAL GUN'!O74","v":0},0,"99",348,"DQ"]
[349,"target 3",{"$f":"IF('Competitor List'!J54=\"Y\",'Competitor List'!B54,\" \")","v":" "},{"$f":"'LIGHT GUN'!M75","v":0},{"$f":"'LIGHT GUN'!N75","v":0},{"$f":"'LIGHT GUN'!O75","v":0},0,"99",349,"DQ",null,{"$f":"IF('Competitor List'!K54=\"Y\",'Competitor List'!C54,\" \")","v":" "},{"$f":"'HEAVY GUN'!M75","v":0},{"$f":"'HEAVY GUN'!N75","v":0},{"$f":"'HEAVY GUN'!O75","v":0},0,"99",349,"DQ",null,{"$f":"'TACTICAL GUN'!B75","v":0},{"$f":"'TACTICAL GUN'!M75","v":0},{"$f":"'TACTICAL GUN'!N75","v":0},{"$f":"'TACTICAL GUN'!O75","v":0},0,"99",349,"DQ"]
[350,"target 3",{"$f":"IF('Competitor List'!J55=\"Y\",'Competitor List'!B55,\" \")","v":" "},{"$f":"'LIGHT GUN'!M76","v":0},{"$f":"'LIGHT GUN'!N76","v":0},{"$f":"'LIGHT GUN'!O76","v":0},0,"99",350,"DQ",null,{"$f":"IF('Competitor List'!K55=\"Y\",'Competitor List'!C55,\" \")","v":" "},{"$f":"'HEAVY GUN'!M76","v":0},{"$f":"'HEAVY GUN'!N76","v":0},{"$f":"'HEAVY GUN'!O76","v":0},0,"99",350,"DQ",null,{"$f":"'TACTICAL GUN'!B76","v":0},{"$f":"'TACTICAL GUN'!M76","v":0},{"$f":"'TACTICAL GUN'!N76","v":0},{"$f":"'TACTICAL GUN'!O76","v":0},0,"99",350,"DQ"]
[351,"target 3",{"$f":"IF('Competitor List'!J56=\"Y\",'Competitor List'!B56,\" \")","v":" "},{"$f":"'LIGHT GUN'!M77","v":0},{"$f":"'LIGHT GUN'!N77","v":0},{"$f":"'LIGHT GUN'!O77","v":0},0,"99",351,"DQ",null,{"$f":"IF('Competitor List'!K56=\"Y\",'Competitor List'!C56,\" \")","v":" "},{"$f":"'HEAVY GUN'!M77","v":0},{"$f":"'HEAVY GUN'!N77","v":0},{"$f":"'HEAVY GUN'!O77","v":0},0,"99",351,"DQ",null,{"$f":"'TACTICAL GUN'!B77","v":0},{"$f":"'TACTICAL GUN'!M77","v":0},{"$f":"'TACTICAL GUN'!N77","v":0},{"$f":"'TACTICAL GUN'!O77","v":0},0,"99",351,"DQ"]
[352,"target 3",{"$f":"IF('Competitor List'!J57=\"Y\",'Competitor List'!B57,\" \")","v":" "},{"$f":"'LIGHT GUN'!M78","v":0},{"$f":"'LIGHT GUN'!N78","v":0},{"$f":"'LIGHT GUN'!O78","v":0},0,"99",352,"DQ",null,{"$f":"IF('Competitor List'!K57=\"Y\",'Competitor List'!C57,\" \")","v":" "},{"$f":"'HEAVY GUN'!M78","v":0},{"$f":"'HEAVY GUN'!N78","v":0},{"$f":"'HEAVY GUN'!O78","v":0},0,"99",352,"DQ",null,{"$f":"'TACTICAL GUN'!B78","v":0},{"$f":"'TACTICAL GUN'!M78","v":0},{"$f":"'TACTICAL GUN'!N78","v":0},{"$f":"'TACTICAL GUN'!O78","v":0},0,"99",352,"DQ"]
[353,"target 3",{"$f":"IF('Competitor List'!J58=\"Y\",'Competitor List'!B58,\" \")","v":" "},{"$f":"'LIGHT GUN'!M79","v":0},{"$f":"'LIGHT GUN'!N79","v":0},{"$f":"'LIGHT GUN'!O79","v":0},0,"99",353,"DQ",null,{"$f":"IF('Competitor List'!K58=\"Y\",'Competitor List'!C58,\" \")","v":" "},{"$f":"'HEAVY GUN'!M79","v":0},{"$f":"'HEAVY GUN'!N79","v":0},{"$f":"'HEAVY GUN'!O79","v":0},0,"99",353,"DQ",null,{"$f":"'TACTICAL GUN'!B79","v":0},{"$f":"'TACTICAL GUN'!M79","v":0},{"$f":"'TACTICAL GUN'!N79","v":0},{"$f":"'TACTICAL GUN'!O79","v":0},0,"99",353,"DQ"]
[354,"target 3",{"$f":"IF('Competitor List'!J59=\"Y\",'Competitor List'!B59,\" \")","v":" "},{"$f":"'LIGHT GUN'!M80","v":0},{"$f":"'LIGHT GUN'!N80","v":0},{"$f":"'LIGHT GUN'!O80","v":0},0,"99",354,"DQ",null,{"$f":"IF('Competitor List'!K59=\"Y\",'Competitor List'!C59,\" \")","v":" "},{"$f":"'HEAVY GUN'!M80","v":0},{"$f":"'HEAVY GUN'!N80","v":0},{"$f":"'HEAVY GUN'!O80","v":0},0,"99",354,"DQ",null,{"$f":"'TACTICAL GUN'!B80","v":0},{"$f":"'TACTICAL GUN'!M80","v":0},{"$f":"'TACTICAL GUN'!N80","v":0},{"$f":"'TACTICAL GUN'!O80","v":0},0,"99",354,"DQ"]
[355,"target 3",{"$f":"IF('Competitor List'!J60=\"Y\",'Competitor List'!B60,\" \")","v":" "},{"$f":"'LIGHT GUN'!M81","v":0},{"$f":"'LIGHT GUN'!N81","v":0},{"$f":"'LIGHT GUN'!O81","v":0},0,"99",355,"DQ",null,{"$f":"IF('Competitor List'!K60=\"Y\",'Competitor List'!C60,\" \")","v":" "},{"$f":"'HEAVY GUN'!M81","v":0},{"$f":"'HEAVY GUN'!N81","v":0},{"$f":"'HEAVY GUN'!O81","v":0},0,"99",355,"DQ",null,{"$f":"'TACTICAL GUN'!B81","v":0},{"$f":"'TACTICAL GUN'!M81","v":0},{"$f":"'TACTICAL GUN'!N81","v":0},{"$f":"'TACTICAL GUN'!O81","v":0},0,"99",355,"DQ"]
[356,"target 3",{"$f":"IF('Competitor List'!J61=\"Y\",'Competitor List'!B61,\" \")","v":" "},{"$f":"'LIGHT GUN'!M82","v":0},{"$f":"'LIGHT GUN'!N82","v":0},{"$f":"'LIGHT GUN'!O82","v":0},0,"99",356,"DQ",null,{"$f":"IF('Competitor List'!K61=\"Y\",'Competitor List'!C61,\" \")","v":" "},{"$f":"'HEAVY GUN'!M82","v":0},{"$f":"'HEAVY GUN'!N82","v":0},{"$f":"'HEAVY GUN'!O82","v":0},0,"99",356,"DQ",null,{"$f":"'TACTICAL GUN'!B82","v":0},{"$f":"'TACTICAL GUN'!M82","v":0},{"$f":"'TACTICAL GUN'!N82","v":0},{"$f":"'TACTICAL GUN'!O82","v":0},0,"99",356,"DQ"]
[357,"target 3",{"$f":"IF('Competitor List'!J62=\"Y\",'Competitor List'!B62,\" \")","v":" "},{"$f":"'LIGHT GUN'!M83","v":0},{"$f":"'LIGHT GUN'!N83","v":0},{"$f":"'LIGHT GUN'!O83","v":0},0,"99",357,"DQ",null,{"$f":"IF('Competitor List'!K62=\"Y\",'Competitor List'!C62,\" \")","v":" "},{"$f":"'HEAVY GUN'!M83","v":0},{"$f":"'HEAVY GUN'!N83","v":0},{"$f":"'HEAVY GUN'!O83","v":0},0,"99",357,"DQ",null,{"$f":"'TACTICAL GUN'!B83","v":0},{"$f":"'TACTICAL GUN'!M83","v":0},{"$f":"'TACTICAL GUN'!N83","v":0},{"$f":"'TACTICAL GUN'!O83","v":0},0,"99",357,"DQ"]
[358,"target 3",{"$f":"IF('Competitor List'!J63=\"Y\",'Competitor List'!B63,\" \")","v":" "},{"$f":"'LIGHT GUN'!M84","v":0},{"$f":"'LIGHT GUN'!N84","v":0},{"$f":"'LIGHT GUN'!O84","v":0},0,"99",358,"DQ",null,{"$f":"IF('Competitor List'!K63=\"Y\",'Competitor List'!C63,\" \")","v":" "},{"$f":"'HEAVY GUN'!M84","v":0},{"$f":"'HEAVY GUN'!N84","v":0},{"$f":"'HEAVY GUN'!O84","v":0},0,"99",358,"DQ",null,{"$f":"'TACTICAL GUN'!B84","v":0},{"$f":"'TACTICAL GUN'!M84","v":0},{"$f":"'TACTICAL GUN'!N84","v":0},{"$f":"'TACTICAL GUN'!O84","v":0},0,"99",358,"DQ"]
[359,"target 3",{"$f":"IF('Competitor List'!J64=\"Y\",'Competitor List'!B64,\" \")","v":" "},{"$f":"'LIGHT GUN'!M85","v":0},{"$f":"'LIGHT GUN'!N85","v":0},{"$f":"'LIGHT GUN'!O85","v":0},0,"99",359,"DQ",null,{"$f":"IF('Competitor List'!K64=\"Y\",'Competitor List'!C64,\" \")","v":" "},{"$f":"'HEAVY GUN'!M85","v":0},{"$f":"'HEAVY GUN'!N85","v":0},{"$f":"'HEAVY GUN'!O85","v":0},0,"99",359,"DQ",null,{"$f":"'TACTICAL GUN'!B85","v":0},{"$f":"'TACTICAL GUN'!M85","v":0},{"$f":"'TACTICAL GUN'!N85","v":0},{"$f":"'TACTICAL GUN'!O85","v":0},0,"99",359,"DQ"]
[360,"target 3",{"$f":"IF('Competitor List'!J65=\"Y\",'Competitor List'!B65,\" \")","v":" "},{"$f":"'LIGHT GUN'!M86","v":0},{"$f":"'LIGHT GUN'!N86","v":0},{"$f":"'LIGHT GUN'!O86","v":0},0,"99",360,"DQ",null,{"$f":"IF('Competitor List'!K65=\"Y\",'Competitor List'!C65,\" \")","v":" "},{"$f":"'HEAVY GUN'!M86","v":0},{"$f":"'HEAVY GUN'!N86","v":0},{"$f":"'HEAVY GUN'!O86","v":0},0,"99",360,"DQ",null,{"$f":"'TACTICAL GUN'!B86","v":0},{"$f":"'TACTICAL GUN'!M86","v":0},{"$f":"'TACTICAL GUN'!N86","v":0},{"$f":"'TACTICAL GUN'!O86","v":0},0,"99",360,"DQ"]
[361,"target 3",{"$f":"IF('Competitor List'!J66=\"Y\",'Competitor List'!B66,\" \")","v":" "},{"$f":"'LIGHT GUN'!M87","v":0},{"$f":"'LIGHT GUN'!N87","v":0},{"$f":"'LIGHT GUN'!O87","v":0},0,"99",361,"DQ",null,{"$f":"IF('Competitor List'!K66=\"Y\",'Competitor List'!C66,\" \")","v":" "},{"$f":"'HEAVY GUN'!M87","v":0},{"$f":"'HEAVY GUN'!N87","v":0},{"$f":"'HEAVY GUN'!O87","v":0},0,"99",361,"DQ",null,{"$f":"'TACTICAL GUN'!B87","v":0},{"$f":"'TACTICAL GUN'!M87","v":0},{"$f":"'TACTICAL GUN'!N87","v":0},{"$f":"'TACTICAL GUN'!O87","v":0},0,"99",361,"DQ"]
[362,"target 3",{"$f":"IF('Competitor List'!J67=\"Y\",'Competitor List'!B67,\" \")","v":" "},{"$f":"'LIGHT GUN'!M88","v":0},{"$f":"'LIGHT GUN'!N88","v":0},{"$f":"'LIGHT GUN'!O88","v":0},0,"99",362,"DQ",null,{"$f":"IF('Competitor List'!K67=\"Y\",'Competitor List'!C67,\" \")","v":" "},{"$f":"'HEAVY GUN'!M88","v":0},{"$f":"'HEAVY GUN'!N88","v":0},{"$f":"'HEAVY GUN'!O88","v":0},0,"99",362,"DQ",null,{"$f":"'TACTICAL GUN'!B88","v":0},{"$f":"'TACTICAL GUN'!M88","v":0},{"$f":"'TACTICAL GUN'!N88","v":0},{"$f":"'TACTICAL GUN'!O88","v":0},0,"99",362,"DQ"]
[363,"target 3",{"$f":"IF('Competitor List'!J68=\"Y\",'Competitor List'!B68,\" \")","v":" "},{"$f":"'LIGHT GUN'!M89","v":0},{"$f":"'LIGHT GUN'!N89","v":0},{"$f":"'LIGHT GUN'!O89","v":0},0,"99",363,"DQ",null,{"$f":"IF('Competitor List'!K68=\"Y\",'Competitor List'!C68,\" \")","v":" "},{"$f":"'HEAVY GUN'!M89","v":0},{"$f":"'HEAVY GUN'!N89","v":0},{"$f":"'HEAVY GUN'!O89","v":0},0,"99",363,"DQ",null,{"$f":"'TACTICAL GUN'!B89","v":0},{"$f":"'TACTICAL GUN'!M89","v":0},{"$f":"'TACTICAL GUN'!N89","v":0},{"$f":"'TACTICAL GUN'!O89","v":0},0,"99",363,"DQ"]
[364,"target 3",{"$f":"IF('Competitor List'!J69=\"Y\",'Competitor List'!B69,\" \")","v":" "},{"$f":"'LIGHT GUN'!M90","v":0},{"$f":"'LIGHT GUN'!N90","v":0},{"$f":"'LIGHT GUN'!O90","v":0},0,"99",364,"DQ",null,{"$f":"IF('Competitor List'!K69=\"Y\",'Competitor List'!C69,\" \")","v":" "},{"$f":"'HEAVY GUN'!M90","v":0},{"$f":"'HEAVY GUN'!N90","v":0},{"$f":"'HEAVY GUN'!O90","v":0},0,"99",364,"DQ",null,{"$f":"'TACTICAL GUN'!B90","v":0},{"$f":"'TACTICAL GUN'!M90","v":0},{"$f":"'TACTICAL GUN'!N90","v":0},{"$f":"'TACTICAL GUN'!O90","v":0},0,"99",364,"DQ"]
[365,"target 3",{"$f":"IF('Competitor List'!J70=\"Y\",'Competitor List'!B70,\" \")","v":" "},{"$f":"'LIGHT GUN'!M91","v":0},{"$f":"'LIGHT GUN'!N91","v":0},{"$f":"'LIGHT GUN'!O91","v":0},0,"99",365,"DQ",null,{"$f":"IF('Competitor List'!K70=\"Y\",'Competitor List'!C70,\" \")","v":" "},{"$f":"'HEAVY GUN'!M91","v":0},{"$f":"'HEAVY GUN'!N91","v":0},{"$f":"'HEAVY GUN'!O91","v":0},0,"99",365,"DQ",null,{"$f":"'TACTICAL GUN'!B91","v":0},{"$f":"'TACTICAL GUN'!M91","v":0},{"$f":"'TACTICAL GUN'!N91","v":0},{"$f":"'TACTICAL GUN'!O91","v":0},0,"99",365,"DQ"]
[366,"target 3",{"$f":"IF('Competitor List'!J71=\"Y\",'Competitor List'!B71,\" \")","v":" "},{"$f":"'LIGHT GUN'!M92","v":0},{"$f":"'LIGHT GUN'!N92","v":0},{"$f":"'LIGHT GUN'!O92","v":0},0,"99",366,"DQ",null,{"$f":"IF('Competitor List'!K71=\"Y\",'Competitor List'!C71,\" \")","v":" "},{"$f":"'HEAVY GUN'!M92","v":0},{"$f":"'HEAVY GUN'!N92","v":0},{"$f":"'HEAVY GUN'!O92","v":0},0,"99",366,"DQ",null,{"$f":"'TACTICAL GUN'!B92","v":0},{"$f":"'TACTICAL GUN'!M92","v":0},{"$f":"'TACTICAL GUN'!N92","v":0},{"$f":"'TACTICAL GUN'!O92","v":0},0,"99",{"$f":" IF(AND(ISNUMBER(V372)),RANK(V372,$V$7:$V$606,0)+SUMPRODUCT(($V$7:$V$606=V372)*($X$7:$X$606<X372))+SUMPRODUCT(($V$7:$V$606=V372)*($X$7:$X$606=X372)*($W$7:$W$606>W372))+SUMPRODUCT(($V$7:$V$606=V372)*($X$7:$X$606=X372)*($W$7:$W$606=W372)*($A$7:$A$606<A372)),\"DQ\")","v":366},{"$f":" IF(AND(Z372>0,ISNUMBER(Z372)),RANK(Z372,$Z$7:$Z$606,1)+SUMPRODUCT(($Z$7:$Z$606=Z372)*($V$7:$V$606>V372))+SUMPRODUCT(($Z$7:$Z$606=Z372)*($V$7:$V$606=V372)*($W$7:$W$606>W372))+SUMPRODUCT(($Z$7:$Z$606=Z372)*($V$7:$V$606=V372)*($W$7:$W$606=W372)*($A$7:$A$606<A372)),\"DQ\")","v":"DQ"}]
[367,"target 3",{"$f":"IF('Competitor List'!J72=\"Y\",'Competitor List'!B72,\" \")","v":" "},{"$f":"'LIGHT GUN'!M93","v":0},{"$f":"'LIGHT GUN'!N93","v":0},{"$f":"'LIGHT GUN'!O93","v":0},0,"99",367,"DQ",null,{"$f":"IF('Competitor List'!K72=\"Y\",'Competitor List'!C72,\" \")","v":" "},{"$f":"'HEAVY GUN'!M93","v":0},{"$f":"'HEAVY GUN'!N93","v":0},{"$f":"'HEAVY GUN'!O93","v":0},0,"99",367,"DQ",null,{"$f":"'TACTICAL GUN'!B93","v":0},{"$f":"'TACTICAL GUN'!M93","v":0},{"$f":"'TACTICAL GUN'!N93","v":0},{"$f":"'TACTICAL GUN'!O93","v":0},0,"99",367,"DQ"]
[368,"target 3",{"$f":"IF('Competitor List'!J73=\"Y\",'Competitor List'!B73,\" \")","v":" "},{"$f":"'LIGHT GUN'!M94","v":0},{"$f":"'LIGHT GUN'!N94","v":0},{"$f":"'LIGHT GUN'!O94","v":0},0,"99",368,"DQ",null,{"$f":"IF('Competitor List'!K73=\"Y\",'Competitor List'!C73,\" \")","v":" "},{"$f":"'HEAVY GUN'!M94","v":0},{"$f":"'HEAVY GUN'!N94","v":0},{"$f":"'HEAVY GUN'!O94","v":0},0,"99",368,"DQ",null,{"$f":"'TACTICAL GUN'!B94","v":0},{"$f":"'TACTICAL GUN'!M94","v":0},{"$f":"'TACTICAL GUN'!N94","v":0},{"$f":"'TACTICAL GUN'!O94","v":0},0,"99",368,"DQ"]
[369,"target 3",{"$f":"IF('Competitor List'!J74=\"Y\",'Competitor List'!B74,\" \")","v":" "},{"$f":"'LIGHT GUN'!M95","v":0},{"$f":"'LIGHT GUN'!N95","v":0},{"$f":"'LIGHT GUN'!O95","v":0},0,"99",369,"DQ",null,{"$f":"IF('Competitor List'!K74=\"Y\",'Competitor List'!C74,\" \")","v":" "},{"$f":"'HEAVY GUN'!M95","v":0},{"$f":"'HEAVY GUN'!N95","v":0},{"$f":"'HEAVY GUN'!O95","v":0},0,"99",369,"DQ",null,{"$f":"'TACTICAL GUN'!B95","v":0},{"$f":"'TACTICAL GUN'!M95","v":0},{"$f":"'TACTICAL GUN'!N95","v":0},{"$f":"'TACTICAL GUN'!O95","v":0},0,"99",369,"DQ"]
[370,"target 3",{"$f":"IF('Competitor List'!J75=\"Y\",'Competitor List'!B75,\" \")","v":" "},{"$f":"'LIGHT GUN'!M96","v":0},{"$f":"'LIGHT GUN'!N96","v":0},{"$f":"'LIGHT GUN'!O96","v":0},0,"99",370,"DQ",null,{"$f":"IF('Competitor List'!K75=\"Y\",'Competitor List'!C75,\" \")","v":" "},{"$f":"'HEAVY GUN'!M96","v":0},{"$f":"'HEAVY GUN'!N96","v":0},{"$f":"'HEAVY GUN'!O96","v":0},0,"99",370,"DQ",null,{"$f":"'TACTICAL GUN'!B96","v":0},{"$f":"'TACTICAL GUN'!M96","v":0},{"$f":"'TACTICAL GUN'!N96","v":0},{"$f":"'TACTICAL GUN'!O96","v":0},0,"99",370,"DQ"]
[371,"target 3",{"$f":"IF('Competitor List'!J76=\"Y\",'Competitor List'!B76,\" \")","v":" "},{"$f":"'LIGHT GUN'!M97","v":0},{"$f":"'LIGHT GUN'!N97","v":0},{"$f":"'LIGHT GUN'!O97","v":0},0,"99",371,"DQ",null,{"$f":"IF('Competitor List'!K76=\"Y\",'Competitor List'!C76,\" \")","v":" "},{"$f":"'HEAVY GUN'!M97","v":0},{"$f":"'HEAVY GUN'!N97","v":0},{"$f":"'HEAVY GUN'!O97","v":0},0,"99",371,"DQ",null,{"$f":"'TACTICAL GUN'!B97","v":0},{"$f":"'TACTICAL GUN'!M97","v":0},{"$f":"'TACTICAL GUN'!N97","v":0},{"$f":"'TACTICAL GUN'!O97","v":0},0,"99",371,"DQ"]
[372,"target 3",{"$f":"IF('Competitor List'!J77=\"Y\",'Competitor List'!B77,\" \")","v":" "},{"$f":"'LIGHT GUN'!M98","v":0},{"$f":"'LIGHT GUN'!N98","v":0},{"$f":"'LIGHT GUN'!O98","v":0},0,"99",372,"DQ",null,{"$f":"IF('Competitor List'!K77=\"Y\",'Competitor List'!C77,\" \")","v":" "},{"$f":"'HEAVY GUN'!M98","v":0},{"$f":"'HEAVY GUN'!N98","v":0},{"$f":"'HEAVY GUN'!O98","v":0},0,"99",372,"DQ",null,{"$f":"'TACTICAL GUN'!B98","v":0},{"$f":"'TACTICAL GUN'!M98","v":0},{"$f":"'TACTICAL GUN'!N98","v":0},{"$f":"'TACTICAL GUN'!O98","v":0},0,"99",372,"DQ"]
[373,"target 3",{"$f":"IF('Competitor List'!J78=\"Y\",'Competitor List'!B78,\" \")","v":" "},{"$f":"'LIGHT GUN'!M99","v":0},{"$f":"'LIGHT GUN'!N99","v":0},{"$f":"'LIGHT GUN'!O99","v":0},0,"99",373,"DQ",null,{"$f":"IF('Competitor List'!K78=\"Y\",'Competitor List'!C78,\" \")","v":" "},{"$f":"'HEAVY GUN'!M99","v":0},{"$f":"'HEAVY GUN'!N99","v":0},{"$f":"'HEAVY GUN'!O99","v":0},0,"99",373,"DQ",null,{"$f":"'TACTICAL GUN'!B99","v":0},{"$f":"'TACTICAL GUN'!M99","v":0},{"$f":"'TACTICAL GUN'!N99","v":0},{"$f":"'TACTICAL GUN'!O99","v":0},0,"99",373,"DQ"]
[374,"target 3",{"$f":"IF('Competitor List'!J79=\"Y\",'Competitor List'!B79,\" \")","v":" "},{"$f":"'LIGHT GUN'!M100","v":0},{"$f":"'LIGHT GUN'!N100","v":0},{"$f":"'LIGHT GUN'!O100","v":0},0,"99",374,"DQ",null,{"$f":"IF('Competitor List'!K79=\"Y\",'Competitor List'!C79,\" \")","v":" "},{"$f":"'HEAVY GUN'!M100","v":0},{"$f":"'HEAVY GUN'!N100","v":0},{"$f":"'HEAVY GUN'!O100","v":0},0,"99",374,"DQ",null,{"$f":"'TACTICAL GUN'!B100","v":0},{"$f":"'TACTICAL GUN'!M100","v":0},{"$f":"'TACTICAL GUN'!N100","v":0},{"$f":"'TACTICAL GUN'!O100","v":0},0,"99",374,"DQ"]
[375,"target 3",{"$f":"IF('Competitor List'!J80=\"Y\",'Competitor List'!B80,\" \")","v":" "},{"$f":"'LIGHT GUN'!M101","v":0},{"$f":"'LIGHT GUN'!N101","v":0},{"$f":"'LIGHT GUN'!O101","v":0},0,"99",375,"DQ",null,{"$f":"IF('Competitor List'!K80=\"Y\",'Competitor List'!C80,\" \")","v":" "},{"$f":"'HEAVY GUN'!M101","v":0},{"$f":"'HEAVY GUN'!N101","v":0},{"$f":"'HEAVY GUN'!O101","v":0},0,"99",375,"DQ",null,{"$f":"'TACTICAL GUN'!B101","v":0},{"$f":"'TACTICAL GUN'!M101","v":0},{"$f":"'TACTICAL GUN'!N101","v":0},{"$f":"'TACTICAL GUN'!O101","v":0},0,"99",375,"DQ"]
[376,"target 3",{"$f":"IF('Competitor List'!J81=\"Y\",'Competitor List'!B81,\" \")","v":" "},{"$f":"'LIGHT GUN'!M102","v":0},{"$f":"'LIGHT GUN'!N102","v":0},{"$f":"'LIGHT GUN'!O102","v":0},0,"99",376,"DQ",null,{"$f":"IF('Competitor List'!K81=\"Y\",'Competitor List'!C81,\" \")","v":" "},{"$f":"'HEAVY GUN'!M102","v":0},{"$f":"'HEAVY GUN'!N102","v":0},{"$f":"'HEAVY GUN'!O102","v":0},0,"99",376,"DQ",null,{"$f":"'TACTICAL GUN'!B102","v":0},{"$f":"'TACTICAL GUN'!M102","v":0},{"$f":"'TACTICAL GUN'!N102","v":0},{"$f":"'TACTICAL GUN'!O102","v":0},0,"99",376,"DQ"]
[377,"target 3",{"$f":"IF('Competitor List'!J82=\"Y\",'Competitor List'!B82,\" \")","v":" "},{"$f":"'LIGHT GUN'!M103","v":0},{"$f":"'LIGHT GUN'!N103","v":0},{"$f":"'LIGHT GUN'!O103","v":0},0,"99",377,"DQ",null,{"$f":"IF('Competitor List'!K82=\"Y\",'Competitor List'!C82,\" \")","v":" "},{"$f":"'HEAVY GUN'!M103","v":0},{"$f":"'HEAVY GUN'!N103","v":0},{"$f":"'HEAVY GUN'!O103","v":0},0,"99",377,"DQ",null,{"$f":"'TACTICAL GUN'!B103","v":0},{"$f":"'TACTICAL GUN'!M103","v":0},{"$f":"'TACTICAL GUN'!N103","v":0},{"$f":"'TACTICAL GUN'!O103","v":0},0,"99",377,"DQ"]
[378,"target 3",{"$f":"IF('Competitor List'!J83=\"Y\",'Competitor List'!B83,\" \")","v":" "},{"$f":"'LIGHT GUN'!M104","v":0},{"$f":"'LIGHT GUN'!N104","v":0},{"$f":"'LIGHT GUN'!O104","v":0},0,"99",378,"DQ",null,{"$f":"IF('Competitor List'!K83=\"Y\",'Competitor List'!C83,\" \")","v":" "},{"$f":"'HEAVY GUN'!M104","v":0},{"$f":"'HEAVY GUN'!N104","v":0},{"$f":"'HEAVY GUN'!O104","v":0},0,"99",378,"DQ",null,{"$f":"'TACTICAL GUN'!B104","v":0},{"$f":"'TACTICAL GUN'!M104","v":0},{"$f":"'TACTICAL GUN'!N104","v":0},{"$f":"'TACTICAL GUN'!O104","v":0},0,"99",378,"DQ"]
[379,"target 3",{"$f":"IF('Competitor List'!J84=\"Y\",'Competitor List'!B84,\" \")","v":" "},{"$f":"'LIGHT GUN'!M105","v":0},{"$f":"'LIGHT GUN'!N105","v":0},{"$f":"'LIGHT GUN'!O105","v":0},0,"99",379,"DQ",null,{"$f":"IF('Competitor List'!K84=\"Y\",'Competitor List'!C84,\" \")","v":" "},{"$f":"'HEAVY GUN'!M105","v":0},{"$f":"'HEAVY GUN'!N105","v":0},{"$f":"'HEAVY GUN'!O105","v":0},0,"99",379,"DQ",null,{"$f":"'TACTICAL GUN'!B105","v":0},{"$f":"'TACTICAL GUN'!M105","v":0},{"$f":"'TACTICAL GUN'!N105","v":0},{"$f":"'TACTICAL GUN'!O105","v":0},0,"99",379,"DQ"]
[380,"target 3",{"$f":"IF('Competitor List'!J85=\"Y\",'Competitor List'!B85,\" \")","v":" "},{"$f":"'LIGHT GUN'!M106","v":0},{"$f":"'LIGHT GUN'!N106","v":0},{"$f":"'LIGHT GUN'!O106","v":0},0,"99",380,"DQ",null,{"$f":"IF('Competitor List'!K85=\"Y\",'Competitor List'!C85,\" \")","v":" "},{"$f":"'HEAVY GUN'!M106","v":0},{"$f":"'HEAVY GUN'!N106","v":0},{"$f":"'HEAVY GUN'!O106","v":0},0,"99",380,"DQ",null,{"$f":"'TACTICAL GUN'!B106","v":0},{"$f":"'TACTICAL GUN'!M106","v":0},{"$f":"'TACTICAL GUN'!N106","v":0},{"$f":"'TACTICAL GUN'!O106","v":0},0,"99",380,"DQ"]
[381,"target 3",{"$f":"IF('Competitor List'!J86=\"Y\",'Competitor List'!B86,\" \")","v":" "},{"$f":"'LIGHT GUN'!M107","v":0},{"$f":"'LIGHT GUN'!N107","v":0},{"$f":"'LIGHT GUN'!O107","v":0},0,"99",381,"DQ",null,{"$f":"IF('Competitor List'!K86=\"Y\",'Competitor List'!C86,\" \")","v":" "},{"$f":"'HEAVY GUN'!M107","v":0},{"$f":"'HEAVY GUN'!N107","v":0},{"$f":"'HEAVY GUN'!O107","v":0},0,"99",381,"DQ",null,{"$f":"'TACTICAL GUN'!B107","v":0},{"$f":"'TACTICAL GUN'!M107","v":0},{"$f":"'TACTICAL GUN'!N107","v":0},{"$f":"'TACTICAL GUN'!O107","v":0},0,"99",381,"DQ"]
[382,"target 3",{"$f":"IF('Competitor List'!J87=\"Y\",'Competitor List'!B87,\" \")","v":" "},{"$f":"'LIGHT GUN'!M108","v":0},{"$f":"'LIGHT GUN'!N108","v":0},{"$f":"'LIGHT GUN'!O108","v":0},0,"99",382,"DQ",null,{"$f":"IF('Competitor List'!K87=\"Y\",'Competitor List'!C87,\" \")","v":" "},{"$f":"'HEAVY GUN'!M108","v":0},{"$f":"'HEAVY GUN'!N108","v":0},{"$f":"'HEAVY GUN'!O108","v":0},0,"99",382,"DQ",null,{"$f":"'TACTICAL GUN'!B108","v":0},{"$f":"'TACTICAL GUN'!M108","v":0},{"$f":"'TACTICAL GUN'!N108","v":0},{"$f":"'TACTICAL GUN'!O108","v":0},0,"99",382,"DQ"]
[383,"target 3",{"$f":"IF('Competitor List'!J88=\"Y\",'Competitor List'!B88,\" \")","v":" "},{"$f":"'LIGHT GUN'!M109","v":0},{"$f":"'LIGHT GUN'!N109","v":0},{"$f":"'LIGHT GUN'!O109","v":0},0,"99",383,"DQ",null,{"$f":"IF('Competitor List'!K88=\"Y\",'Competitor List'!C88,\" \")","v":" "},{"$f":"'HEAVY GUN'!M109","v":0},{"$f":"'HEAVY GUN'!N109","v":0},{"$f":"'HEAVY GUN'!O109","v":0},0,"99",383,"DQ",null,{"$f":"'TACTICAL GUN'!B109","v":0},{"$f":"'TACTICAL GUN'!M109","v":0},{"$f":"'TACTICAL GUN'!N109","v":0},{"$f":"'TACTICAL GUN'!O109","v":0},0,"99",383,"DQ"]
[384,"target 3",{"$f":"IF('Competitor List'!J89=\"Y\",'Competitor List'!B89,\" \")","v":" "},{"$f":"'LIGHT GUN'!M110","v":0},{"$f":"'LIGHT GUN'!N110","v":0},{"$f":"'LIGHT GUN'!O110","v":0},0,"99",384,"DQ",null,{"$f":"IF('Competitor List'!K89=\"Y\",'Competitor List'!C89,\" \")","v":" "},{"$f":"'HEAVY GUN'!M110","v":0},{"$f":"'HEAVY GUN'!N110","v":0},{"$f":"'HEAVY GUN'!O110","v":0},0,"99",384,"DQ",null,{"$f":"'TACTICAL GUN'!B110","v":0},{"$f":"'TACTICAL GUN'!M110","v":0},{"$f":"'TACTICAL GUN'!N110","v":0},{"$f":"'TACTICAL GUN'!O110","v":0},0,"99",384,"DQ"]
[385,"target 3",{"$f":"IF('Competitor List'!J90=\"Y\",'Competitor List'!B90,\" \")","v":" "},{"$f":"'LIGHT GUN'!M111","v":0},{"$f":"'LIGHT GUN'!N111","v":0},{"$f":"'LIGHT GUN'!O111","v":0},0,"99",385,"DQ",null,{"$f":"IF('Competitor List'!K90=\"Y\",'Competitor List'!C90,\" \")","v":" "},{"$f":"'HEAVY GUN'!M111","v":0},{"$f":"'HEAVY GUN'!N111","v":0},{"$f":"'HEAVY GUN'!O111","v":0},0,"99",385,"DQ",null,{"$f":"'TACTICAL GUN'!B111","v":0},{"$f":"'TACTICAL GUN'!M111","v":0},{"$f":"'TACTICAL GUN'!N111","v":0},{"$f":"'TACTICAL GUN'!O111","v":0},0,"99",385,"DQ"]
[386,"target 3",{"$f":"IF('Competitor List'!J91=\"Y\",'Competitor List'!B91,\" \")","v":" "},{"$f":"'LIGHT GUN'!M112","v":0},{"$f":"'LIGHT GUN'!N112","v":0},{"$f":"'LIGHT GUN'!O112","v":0},{"$f":"IF(ISNUMBER(F392),SUM(F392),\"99\")","v":0},{"$f":"IF(G392=0,\"99\",G392)","v":"99"},{"$f":" IF(AND(ISNUMBER(D392)),RANK(D392,$D$7:$D$606,0)+SUMPRODUCT(($D$7:$D$606=D392)*($F$7:$F$606<F392))+SUMPRODUCT(($D$7:$D$606=D392)*($F$7:$F$606=F392)*($E$7:$E$606>E392))+SUMPRODUCT(($D$7:$D$606=D392)*($F$7:$F$606=F392)*($E$7:$E$606=E392)*($A$7:$A$606<A392)),\"DQ\")","v":386},{"$f":" IF(AND(ISNUMBER(H392)),RANK(H392,$H$7:$H$606,1)+SUMPRODUCT(($H$7:$H$606=H392)*($D$7:$D$606>D392))+SUMPRODUCT(($H$7:$H$606=H392)*($D$7:$D$606=D392)*($E$7:$E$606>E392))+SUMPRODUCT(($H$7:$H$606=H392)*($D$7:$D$606=D392)*($E$7:$E$606=E392)*($A$7:$A$606<A392)),\"DQ\")","v":"DQ"},null,{"$f":"IF('Competitor List'!K91=\"Y\",'Competitor List'!C91,\" \")","v":" "},{"$f":"'HEAVY GUN'!M112","v":0},{"$f":"'HEAVY GUN'!N112","v":0},{"$f":"'HEAVY GUN'!O112","v":0},{"$f":"IF(ISNUMBER(O392),SUM(O392),\"99\")","v":0},{"$f":"IF(P392=0,\"99\",P392)","v":"99"},{"$f":" IF(AND(ISNUMBER(M392)),RANK(M392,$M$7:$M$606,0)+SUMPRODUCT(($M$7:$M$606=M392)*($O$7:$O$606<O392))+SUMPRODUCT(($M$7:$M$606=M392)*($O$7:$O$606=O392)*($N$7:$N$606>N392))+SUMPRODUCT(($M$7:$M$606=M392)*($O$7:$O$606=O392)*($N$7:$N$606=N392)*($A$7:$A$606<A392)),\"DQ\")","v":386},{"$f":" IF(AND(Q392>0,ISNUMBER(Q392)),RANK(Q392,$Q$7:$Q$606,1)+SUMPRODUCT(($Q$7:$Q$606=Q392)*($M$7:$M$606>M392))+SUMPRODUCT(($Q$7:$Q$606=Q392)*($M$7:$M$606=M392)*($N$7:$N$606>N392))+SUMPRODUCT(($Q$7:$Q$606=Q392)*($M$7:$M$606=M392)*($N$7:$N$606=N392)*($A$7:$A$606<A392)),\"DQ\")","v":"DQ"},null,{"$f":"'TACTICAL GUN'!B112","v":0},{"$f":"'TACTICAL GUN'!M112","v":0},{"$f":"'TACTICAL GUN'!N112","v":0},{"$f":"'TACTICAL GUN'!O112","v":0},{"$f":"IF(ISNUMBER(X392),SUM(X392),\"99\")","v":0},{"$f":"IF(Y392=0,\"99\",Y392)","v":"99"},386,"DQ"]
[387,"target 3",{"$f":"IF('Competitor List'!J92=\"Y\",'Competitor List'!B92,\" \")","v":" "},{"$f":"'LIGHT GUN'!M113","v":0},{"$f":"'LIGHT GUN'!N113","v":0},{"$f":"'LIGHT GUN'!O113","v":0},0,"99",387,"DQ",null,{"$f":"IF('Competitor List'!K92=\"Y\",'Competitor List'!C92,\" \")","v":" "},{"$f":"'HEAVY GUN'!M113","v":0},{"$f":"'HEAVY GUN'!N113","v":0},{"$f":"'HEAVY GUN'!O113","v":0},0,"99",387,"DQ",null,{"$f":"'TACTICAL GUN'!B113","v":0},{"$f":"'TACTICAL GUN'!M113","v":0},{"$f":"'TACTICAL GUN'!N113","v":0},{"$f":"'TACTICAL GUN'!O113","v":0},0,"99",387,"DQ"]
[388,"target 3",{"$f":"IF('Competitor List'!J93=\"Y\",'Competitor List'!B93,\" \")","v":" "},{"$f":"'LIGHT GUN'!M114","v":0},{"$f":"'LIGHT GUN'!N114","v":0},{"$f":"'LIGHT GUN'!O114","v":0},0,"99",388,"DQ",null,{"$f":"IF('Competitor List'!K93=\"Y\",'Competitor List'!C93,\" \")","v":" "},{"$f":"'HEAVY GUN'!M114","v":0},{"$f":"'HEAVY GUN'!N114","v":0},{"$f":"'HEAVY GUN'!O114","v":0},0,"99",388,"DQ",null,{"$f":"'TACTICAL GUN'!B114","v":0},{"$f":"'TACTICAL GUN'!M114","v":0},{"$f":"'TACTICAL GUN'!N114","v":0},{"$f":"'TACTICAL GUN'!O114","v":0},0,"99",388,"DQ"]
[389,"target 3",{"$f":"IF('Competitor List'!J94=\"Y\",'Competitor List'!B94,\" \")","v":" "},{"$f":"'LIGHT GUN'!M115","v":0},{"$f":"'LIGHT GUN'!N115","v":0},{"$f":"'LIGHT GUN'!O115","v":0},0,"99",389,"DQ",null,{"$f":"IF('Competitor List'!K94=\"Y\",'Competitor List'!C94,\" \")","v":" "},{"$f":"'HEAVY GUN'!M115","v":0},{"$f":"'HEAVY GUN'!N115","v":0},{"$f":"'HEAVY GUN'!O115","v":0},0,"99",389,"DQ",null,{"$f":"'TACTICAL GUN'!B115","v":0},{"$f":"'TACTICAL GUN'!M115","v":0},{"$f":"'TACTICAL GUN'!N115","v":0},{"$f":"'TACTICAL GUN'!O115","v":0},0,"99",389,"DQ"]
[390,"target 3",{"$f":"IF('Competitor List'!J95=\"Y\",'Competitor List'!B95,\" \")","v":" "},{"$f":"'LIGHT GUN'!M116","v":0},{"$f":"'LIGHT GUN'!N116","v":0},{"$f":"'LIGHT GUN'!O116","v":0},0,"99",390,"DQ",null,{"$f":"IF('Competitor List'!K95=\"Y\",'Competitor List'!C95,\" \")","v":" "},{"$f":"'HEAVY GUN'!M116","v":0},{"$f":"'HEAVY GUN'!N116","v":0},{"$f":"'HEAVY GUN'!O116","v":0},0,"99",390,"DQ",null,{"$f":"'TACTICAL GUN'!B116","v":0},{"$f":"'TACTICAL GUN'!M116","v":0},{"$f":"'TACTICAL GUN'!N116","v":0},{"$f":"'TACTICAL GUN'!O116","v":0},0,"99",390,"DQ"]
[391,"target 3",{"$f":"IF('Competitor List'!J96=\"Y\",'Competitor List'!B96,\" \")","v":" "},{"$f":"'LIGHT GUN'!M117","v":0},{"$f":"'LIGHT GUN'!N117","v":0},{"$f":"'LIGHT GUN'!O117","v":0},0,"99",391,"DQ",null,{"$f":"IF('Competitor List'!K96=\"Y\",'Competitor List'!C96,\" \")","v":" "},{"$f":"'HEAVY GUN'!M117","v":0},{"$f":"'HEAVY GUN'!N117","v":0},{"$f":"'HEAVY GUN'!O117","v":0},0,"99",391,"DQ",null,{"$f":"'TACTICAL GUN'!B117","v":0},{"$f":"'TACTICAL GUN'!M117","v":0},{"$f":"'TACTICAL GUN'!N117","v":0},{"$f":"'TACTICAL GUN'!O117","v":0},0,"99",391,"DQ"]
[392,"target 3",{"$f":"IF('Competitor List'!J97=\"Y\",'Competitor List'!B97,\" \")","v":" "},{"$f":"'LIGHT GUN'!M118","v":0},{"$f":"'LIGHT GUN'!N118","v":0},{"$f":"'LIGHT GUN'!O118","v":0},0,"99",392,"DQ",null,{"$f":"IF('Competitor List'!K97=\"Y\",'Competitor List'!C97,\" \")","v":" "},{"$f":"'HEAVY GUN'!M118","v":0},{"$f":"'HEAVY GUN'!N118","v":0},{"$f":"'HEAVY GUN'!O118","v":0},0,"99",392,"DQ",null,{"$f":"'TACTICAL GUN'!B118","v":0},{"$f":"'TACTICAL GUN'!M118","v":0},{"$f":"'TACTICAL GUN'!N118","v":0},{"$f":"'TACTICAL GUN'!O118","v":0},0,"99",392,"DQ"]
[393,"target 3",{"$f":"IF('Competitor List'!J98=\"Y\",'Competitor List'!B98,\" \")","v":" "},{"$f":"'LIGHT GUN'!M119","v":0},{"$f":"'LIGHT GUN'!N119","v":0},{"$f":"'LIGHT GUN'!O119","v":0},0,"99",393,"DQ",null,{"$f":"IF('Competitor List'!K98=\"Y\",'Competitor List'!C98,\" \")","v":" "},{"$f":"'HEAVY GUN'!M119","v":0},{"$f":"'HEAVY GUN'!N119","v":0},{"$f":"'HEAVY GUN'!O119","v":0},0,"99",393,"DQ",null,{"$f":"'TACTICAL GUN'!B119","v":0},{"$f":"'TACTICAL GUN'!M119","v":0},{"$f":"'TACTICAL GUN'!N119","v":0},{"$f":"'TACTICAL GUN'!O119","v":0},0,"99",393,"DQ"]
[394,"target 3",{"$f":"IF('Competitor List'!J99=\"Y\",'Competitor List'!B99,\" \")","v":" "},{"$f":"'LIGHT GUN'!M120","v":0},{"$f":"'LIGHT GUN'!N120","v":0},{"$f":"'LIGHT GUN'!O120","v":0},0,"99",394,"DQ",null,{"$f":"IF('Competitor List'!K99=\"Y\",'Competitor List'!C99,\" \")","v":" "},{"$f":"'HEAVY GUN'!M120","v":0},{"$f":"'HEAVY GUN'!N120","v":0},{"$f":"'HEAVY GUN'!O120","v":0},0,"99",394,"DQ",null,{"$f":"'TACTICAL GUN'!B120","v":0},{"$f":"'TACTICAL GUN'!M120","v":0},{"$f":"'TACTICAL GUN'!N120","v":0},{"$f":"'TACTICAL GUN'!O120","v":0},0,"99",394,"DQ"]
[395,"target 3",{"$f":"IF('Competitor List'!J100=\"Y\",'Competitor List'!B100,\" \")","v":" "},{"$f":"'LIGHT GUN'!M121","v":0},{"$f":"'LIGHT GUN'!N121","v":0},{"$f":"'LIGHT GUN'!O121","v":0},0,"99",395,"DQ",null,{"$f":"IF('Competitor List'!K100=\"Y\",'Competitor List'!C100,\" \")","v":" "},{"$f":"'HEAVY GUN'!M121","v":0},{"$f":"'HEAVY GUN'!N121","v":0},{"$f":"'HEAVY GUN'!O121","v":0},0,"99",395,"DQ",null,{"$f":"'TACTICAL GUN'!B121","v":0},{"$f":"'TACTICAL GUN'!M121","v":0},{"$f":"'TACTICAL GUN'!N121","v":0},{"$f":"'TACTICAL GUN'!O121","v":0},0,"99",395,"DQ"]
[396,"target 3",{"$f":"IF('Competitor List'!J101=\"Y\",'Competitor List'!B101,\" \")","v":" "},{"$f":"'LIGHT GUN'!M122","v":0},{"$f":"'LIGHT GUN'!N122","v":0},{"$f":"'LIGHT GUN'!O122","v":0},0,"99",396,"DQ",null,{"$f":"IF('Competitor List'!K101=\"Y\",'Competitor List'!C101,\" \")","v":" "},{"$f":"'HEAVY GUN'!M122","v":0},{"$f":"'HEAVY GUN'!N122","v":0},{"$f":"'HEAVY GUN'!O122","v":0},0,"99",396,"DQ",null,{"$f":"'TACTICAL GUN'!B122","v":0},{"$f":"'TACTICAL GUN'!M122","v":0},{"$f":"'TACTICAL GUN'!N122","v":0},{"$f":"'TACTICAL GUN'!O122","v":0},0,"99",396,"DQ"]
[397,"target 3",{"$f":"IF('Competitor List'!J102=\"Y\",'Competitor List'!B102,\" \")","v":" "},{"$f":"'LIGHT GUN'!M123","v":0},{"$f":"'LIGHT GUN'!N123","v":0},{"$f":"'LIGHT GUN'!O123","v":0},0,"99",397,"DQ",null,{"$f":"IF('Competitor List'!K102=\"Y\",'Competitor List'!C102,\" \")","v":" "},{"$f":"'HEAVY GUN'!M123","v":0},{"$f":"'HEAVY GUN'!N123","v":0},{"$f":"'HEAVY GUN'!O123","v":0},0,"99",397,"DQ",null,{"$f":"'TACTICAL GUN'!B123","v":0},{"$f":"'TACTICAL GUN'!M123","v":0},{"$f":"'TACTICAL GUN'!N123","v":0},{"$f":"'TACTICAL GUN'!O123","v":0},0,"99",397,"DQ"]
[398,"target 3",{"$f":"IF('Competitor List'!J103=\"Y\",'Competitor List'!B103,\" \")","v":" "},{"$f":"'LIGHT GUN'!M124","v":0},{"$f":"'LIGHT GUN'!N124","v":0},{"$f":"'LIGHT GUN'!O124","v":0},0,"99",398,"DQ",null,{"$f":"IF('Competitor List'!K103=\"Y\",'Competitor List'!C103,\" \")","v":" "},{"$f":"'HEAVY GUN'!M124","v":0},{"$f":"'HEAVY GUN'!N124","v":0},{"$f":"'HEAVY GUN'!O124","v":0},0,"99",398,"DQ",null,{"$f":"'TACTICAL GUN'!B124","v":0},{"$f":"'TACTICAL GUN'!M124","v":0},{"$f":"'TACTICAL GUN'!N124","v":0},{"$f":"'TACTICAL GUN'!O124","v":0},0,"99",398,"DQ"]
[399,"target 3",{"$f":"IF('Competitor List'!J104=\"Y\",'Competitor List'!B104,\" \")","v":" "},{"$f":"'LIGHT GUN'!M125","v":0},{"$f":"'LIGHT GUN'!N125","v":0},{"$f":"'LIGHT GUN'!O125","v":0},0,"99",399,"DQ",null,{"$f":"IF('Competitor List'!K104=\"Y\",'Competitor List'!C104,\" \")","v":" "},{"$f":"'HEAVY GUN'!M125","v":0},{"$f":"'HEAVY GUN'!N125","v":0},{"$f":"'HEAVY GUN'!O125","v":0},0,"99",399,"DQ",null,{"$f":"'TACTICAL GUN'!B125","v":0},{"$f":"'TACTICAL GUN'!M125","v":0},{"$f":"'TACTICAL GUN'!N125","v":0},{"$f":"'TACTICAL GUN'!O125","v":0},0,"99",399,"DQ"]
[400,"target 3",{"$f":"IF('Competitor List'!J105=\"Y\",'Competitor List'!B105,\" \")","v":" "},{"$f":"'LIGHT GUN'!M126","v":0},{"$f":"'LIGHT GUN'!N126","v":0},{"$f":"'LIGHT GUN'!O126","v":0},0,"99",400,"DQ",null,{"$f":"IF('Competitor List'!K105=\"Y\",'Competitor List'!C105,\" \")","v":" "},{"$f":"'HEAVY GUN'!M126","v":0},{"$f":"'HEAVY GUN'!N126","v":0},{"$f":"'HEAVY GUN'!O126","v":0},0,"99",400,"DQ",null,{"$f":"'TACTICAL GUN'!B126","v":0},{"$f":"'TACTICAL GUN'!M126","v":0},{"$f":"'TACTICAL GUN'!N126","v":0},{"$f":"'TACTICAL GUN'!O126","v":0},0,"99",400,"DQ"]
[401,"target 3",{"$f":"IF('Competitor List'!J106=\"Y\",'Competitor List'!B106,\" \")","v":" "},{"$f":"'LIGHT GUN'!M127","v":0},{"$f":"'LIGHT GUN'!N127","v":0},{"$f":"'LIGHT GUN'!O127","v":0},0,"99",401,"DQ",null,{"$f":"IF('Competitor List'!K106=\"Y\",'Competitor List'!C106,\" \")","v":" "},{"$f":"'HEAVY GUN'!M127","v":0},{"$f":"'HEAVY GUN'!N127","v":0},{"$f":"'HEAVY GUN'!O127","v":0},0,"99",401,"DQ",null,{"$f":"'TACTICAL GUN'!B127","v":0},{"$f":"'TACTICAL GUN'!M127","v":0},{"$f":"'TACTICAL GUN'!N127","v":0},{"$f":"'TACTICAL GUN'!O127","v":0},0,"99",401,"DQ"]
[402,"target 3",{"$f":"IF('Competitor List'!J107=\"Y\",'Competitor List'!B107,\" \")","v":" "},{"$f":"'LIGHT GUN'!M128","v":0},{"$f":"'LIGHT GUN'!N128","v":0},{"$f":"'LIGHT GUN'!O128","v":0},0,"99",402,"DQ",null,{"$f":"IF('Competitor List'!K107=\"Y\",'Competitor List'!C107,\" \")","v":" "},{"$f":"'HEAVY GUN'!M128","v":0},{"$f":"'HEAVY GUN'!N128","v":0},{"$f":"'HEAVY GUN'!O128","v":0},0,"99",402,"DQ",null,{"$f":"'TACTICAL GUN'!B128","v":0},{"$f":"'TACTICAL GUN'!M128","v":0},{"$f":"'TACTICAL GUN'!N128","v":0},{"$f":"'TACTICAL GUN'!O128","v":0},0,"99",402,"DQ"]
[403,"target 3",{"$f":"IF('Competitor List'!J108=\"Y\",'Competitor List'!B108,\" \")","v":" "},{"$f":"'LIGHT GUN'!M129","v":0},{"$f":"'LIGHT GUN'!N129","v":0},{"$f":"'LIGHT GUN'!O129","v":0},0,"99",403,"DQ",null,{"$f":"IF('Competitor List'!K108=\"Y\",'Competitor List'!C108,\" \")","v":" "},{"$f":"'HEAVY GUN'!M129","v":0},{"$f":"'HEAVY GUN'!N129","v":0},{"$f":"'HEAVY GUN'!O129","v":0},0,"99",403,"DQ",null,{"$f":"'TACTICAL GUN'!B129","v":0},{"$f":"'TACTICAL GUN'!M129","v":0},{"$f":"'TACTICAL GUN'!N129","v":0},{"$f":"'TACTICAL GUN'!O129","v":0},0,"99",403,"DQ"]
[404,"target 3",{"$f":"IF('Competitor List'!J109=\"Y\",'Competitor List'!B109,\" \")","v":" "},{"$f":"'LIGHT GUN'!M130","v":0},{"$f":"'LIGHT GUN'!N130","v":0},{"$f":"'LIGHT GUN'!O130","v":0},0,"99",404,"DQ",null,{"$f":"IF('Competitor List'!K109=\"Y\",'Competitor List'!C109,\" \")","v":" "},{"$f":"'HEAVY GUN'!M130","v":0},{"$f":"'HEAVY GUN'!N130","v":0},{"$f":"'HEAVY GUN'!O130","v":0},0,"99",404,"DQ",null,{"$f":"'TACTICAL GUN'!B130","v":0},{"$f":"'TACTICAL GUN'!M130","v":0},{"$f":"'TACTICAL GUN'!N130","v":0},{"$f":"'TACTICAL GUN'!O130","v":0},0,"99",404,"DQ"]
[405,"target 3",{"$f":"IF('Competitor List'!J110=\"Y\",'Competitor List'!B110,\" \")","v":" "},{"$f":"'LIGHT GUN'!M131","v":0},{"$f":"'LIGHT GUN'!N131","v":0},{"$f":"'LIGHT GUN'!O131","v":0},0,"99",405,"DQ",null,{"$f":"IF('Competitor List'!K110=\"Y\",'Competitor List'!C110,\" \")","v":" "},{"$f":"'HEAVY GUN'!M131","v":0},{"$f":"'HEAVY GUN'!N131","v":0},{"$f":"'HEAVY GUN'!O131","v":0},0,"99",405,"DQ",null,{"$f":"'TACTICAL GUN'!B131","v":0},{"$f":"'TACTICAL GUN'!M131","v":0},{"$f":"'TACTICAL GUN'!N131","v":0},{"$f":"'TACTICAL GUN'!O131","v":0},0,"99",405,"DQ"]
[406,"target 3",{"$f":"IF('Competitor List'!J111=\"Y\",'Competitor List'!B111,\" \")","v":" "},{"$f":"'LIGHT GUN'!M132","v":0},{"$f":"'LIGHT GUN'!N132","v":0},{"$f":"'LIGHT GUN'!O132","v":0},0,"99",406,"DQ",null,{"$f":"IF('Competitor List'!K111=\"Y\",'Competitor List'!C111,\" \")","v":" "},{"$f":"'HEAVY GUN'!M132","v":0},{"$f":"'HEAVY GUN'!N132","v":0},{"$f":"'HEAVY GUN'!O132","v":0},0,"99",406,"DQ",null,{"$f":"'TACTICAL GUN'!B132","v":0},{"$f":"'TACTICAL GUN'!M132","v":0},{"$f":"'TACTICAL GUN'!N132","v":0},{"$f":"'TACTICAL GUN'!O132","v":0},0,"99",406,"DQ"]
[407,"target 3",{"$f":"IF('Competitor List'!J112=\"Y\",'Competitor List'!B112,\" \")","v":" "},{"$f":"'LIGHT GUN'!M133","v":0},{"$f":"'LIGHT GUN'!N133","v":0},{"$f":"'LIGHT GUN'!O133","v":0},0,"99",407,"DQ",null,{"$f":"IF('Competitor List'!K112=\"Y\",'Competitor List'!C112,\" \")","v":" "},{"$f":"'HEAVY GUN'!M133","v":0},{"$f":"'HEAVY GUN'!N133","v":0},{"$f":"'HEAVY GUN'!O133","v":0},0,"99",407,"DQ",null,{"$f":"'TACTICAL GUN'!B133","v":0},{"$f":"'TACTICAL GUN'!M133","v":0},{"$f":"'TACTICAL GUN'!N133","v":0},{"$f":"'TACTICAL GUN'!O133","v":0},0,"99",407,"DQ"]
[408,"target 3",{"$f":"IF('Competitor List'!J113=\"Y\",'Competitor List'!B113,\" \")","v":" "},{"$f":"'LIGHT GUN'!M134","v":0},{"$f":"'LIGHT GUN'!N134","v":0},{"$f":"'LIGHT GUN'!O134","v":0},0,"99",408,"DQ",null,{"$f":"IF('Competitor List'!K113=\"Y\",'Competitor List'!C113,\" \")","v":" "},{"$f":"'HEAVY GUN'!M134","v":0},{"$f":"'HEAVY GUN'!N134","v":0},{"$f":"'HEAVY GUN'!O134","v":0},0,"99",408,"DQ",null,{"$f":"'TACTICAL GUN'!B134","v":0},{"$f":"'TACTICAL GUN'!M134","v":0},{"$f":"'TACTICAL GUN'!N134","v":0},{"$f":"'TACTICAL GUN'!O134","v":0},0,"99",408,"DQ"]
[409,"target 3",{"$f":"IF('Competitor List'!J114=\"Y\",'Competitor List'!B114,\" \")","v":" "},{"$f":"'LIGHT GUN'!M135","v":0},{"$f":"'LIGHT GUN'!N135","v":0},{"$f":"'LIGHT GUN'!O135","v":0},0,"99",409,"DQ",null,{"$f":"IF('Competitor List'!K114=\"Y\",'Competitor List'!C114,\" \")","v":" "},{"$f":"'HEAVY GUN'!M135","v":0},{"$f":"'HEAVY GUN'!N135","v":0},{"$f":"'HEAVY GUN'!O135","v":0},0,"99",409,"DQ",null,{"$f":"'TACTICAL GUN'!B135","v":0},{"$f":"'TACTICAL GUN'!M135","v":0},{"$f":"'TACTICAL GUN'!N135","v":0},{"$f":"'TACTICAL GUN'!O135","v":0},0,"99",409,"DQ"]
[410,"target 3",{"$f":"IF('Competitor List'!J115=\"Y\",'Competitor List'!B115,\" \")","v":" "},{"$f":"'LIGHT GUN'!M136","v":0},{"$f":"'LIGHT GUN'!N136","v":0},{"$f":"'LIGHT GUN'!O136","v":0},0,"99",410,"DQ",null,{"$f":"IF('Competitor List'!K115=\"Y\",'Competitor List'!C115,\" \")","v":" "},{"$f":"'HEAVY GUN'!M136","v":0},{"$f":"'HEAVY GUN'!N136","v":0},{"$f":"'HEAVY GUN'!O136","v":0},0,"99",410,"DQ",null,{"$f":"'TACTICAL GUN'!B136","v":0},{"$f":"'TACTICAL GUN'!M136","v":0},{"$f":"'TACTICAL GUN'!N136","v":0},{"$f":"'TACTICAL GUN'!O136","v":0},0,"99",410,"DQ"]
[411,"target 3",{"$f":"IF('Competitor List'!J116=\"Y\",'Competitor List'!B116,\" \")","v":" "},{"$f":"'LIGHT GUN'!M137","v":0},{"$f":"'LIGHT GUN'!N137","v":0},{"$f":"'LIGHT GUN'!O137","v":0},0,"99",411,"DQ",null,{"$f":"IF('Competitor List'!K116=\"Y\",'Competitor List'!C116,\" \")","v":" "},{"$f":"'HEAVY GUN'!M137","v":0},{"$f":"'HEAVY GUN'!N137","v":0},{"$f":"'HEAVY GUN'!O137","v":0},0,"99",411,"DQ",null,{"$f":"'TACTICAL GUN'!B137","v":0},{"$f":"'TACTICAL GUN'!M137","v":0},{"$f":"'TACTICAL GUN'!N137","v":0},{"$f":"'TACTICAL GUN'!O137","v":0},0,"99",411,"DQ"]
[412,"target 3",{"$f":"IF('Competitor List'!J117=\"Y\",'Competitor List'!B117,\" \")","v":" "},{"$f":"'LIGHT GUN'!M138","v":0},{"$f":"'LIGHT GUN'!N138","v":0},{"$f":"'LIGHT GUN'!O138","v":0},0,"99",412,"DQ",null,{"$f":"IF('Competitor List'!K117=\"Y\",'Competitor List'!C117,\" \")","v":" "},{"$f":"'HEAVY GUN'!M138","v":0},{"$f":"'HEAVY GUN'!N138","v":0},{"$f":"'HEAVY GUN'!O138","v":0},0,"99",412,"DQ",null,{"$f":"'TACTICAL GUN'!B138","v":0},{"$f":"'TACTICAL GUN'!M138","v":0},{"$f":"'TACTICAL GUN'!N138","v":0},{"$f":"'TACTICAL GUN'!O138","v":0},0,"99",412,"DQ"]
[413,"target 3",{"$f":"IF('Competitor List'!J118=\"Y\",'Competitor List'!B118,\" \")","v":" "},{"$f":"'LIGHT GUN'!M139","v":0},{"$f":"'LIGHT GUN'!N139","v":0},{"$f":"'LIGHT GUN'!O139","v":0},0,"99",413,"DQ",null,{"$f":"IF('Competitor List'!K118=\"Y\",'Competitor List'!C118,\" \")","v":" "},{"$f":"'HEAVY GUN'!M139","v":0},{"$f":"'HEAVY GUN'!N139","v":0},{"$f":"'HEAVY GUN'!O139","v":0},0,"99",413,"DQ",null,{"$f":"'TACTICAL GUN'!B139","v":0},{"$f":"'TACTICAL GUN'!M139","v":0},{"$f":"'TACTICAL GUN'!N139","v":0},{"$f":"'TACTICAL GUN'!O139","v":0},0,"99",413,"DQ"]
[414,"target 3",{"$f":"IF('Competitor List'!J119=\"Y\",'Competitor List'!B119,\" \")","v":" "},{"$f":"'LIGHT GUN'!M140","v":0},{"$f":"'LIGHT GUN'!N140","v":0},{"$f":"'LIGHT GUN'!O140","v":0},0,"99",414,"DQ",null,{"$f":"IF('Competitor List'!K119=\"Y\",'Competitor List'!C119,\" \")","v":" "},{"$f":"'HEAVY GUN'!M140","v":0},{"$f":"'HEAVY GUN'!N140","v":0},{"$f":"'HEAVY GUN'!O140","v":0},0,"99",414,"DQ",null,{"$f":"'TACTICAL GUN'!B140","v":0},{"$f":"'TACTICAL GUN'!M140","v":0},{"$f":"'TACTICAL GUN'!N140","v":0},{"$f":"'TACTICAL GUN'!O140","v":0},0,"99",414,"DQ"]
[415,"target 3",{"$f":"IF('Competitor List'!J120=\"Y\",'Competitor List'!B120,\" \")","v":" "},{"$f":"'LIGHT GUN'!M141","v":0},{"$f":"'LIGHT GUN'!N141","v":0},{"$f":"'LIGHT GUN'!O141","v":0},0,"99",415,"DQ",null,{"$f":"IF('Competitor List'!K120=\"Y\",'Competitor List'!C120,\" \")","v":" "},{"$f":"'HEAVY GUN'!M141","v":0},{"$f":"'HEAVY GUN'!N141","v":0},{"$f":"'HEAVY GUN'!O141","v":0},0,"99",415,"DQ",null,{"$f":"'TACTICAL GUN'!B141","v":0},{"$f":"'TACTICAL GUN'!M141","v":0},{"$f":"'TACTICAL GUN'!N141","v":0},{"$f":"'TACTICAL GUN'!O141","v":0},0,"99",415,"DQ"]
[416,"target 3",{"$f":"IF('Competitor List'!J121=\"Y\",'Competitor List'!B121,\" \")","v":" "},{"$f":"'LIGHT GUN'!M142","v":0},{"$f":"'LIGHT GUN'!N142","v":0},{"$f":"'LIGHT GUN'!O142","v":0},0,"99",416,"DQ",null,{"$f":"IF('Competitor List'!K121=\"Y\",'Competitor List'!C121,\" \")","v":" "},{"$f":"'HEAVY GUN'!M142","v":0},{"$f":"'HEAVY GUN'!N142","v":0},{"$f":"'HEAVY GUN'!O142","v":0},0,"99",416,"DQ",null,{"$f":"'TACTICAL GUN'!B142","v":0},{"$f":"'TACTICAL GUN'!M142","v":0},{"$f":"'TACTICAL GUN'!N142","v":0},{"$f":"'TACTICAL GUN'!O142","v":0},0,"99",416,"DQ"]
[417,"target 3",{"$f":"IF('Competitor List'!J122=\"Y\",'Competitor List'!B122,\" \")","v":" "},{"$f":"'LIGHT GUN'!M143","v":0},{"$f":"'LIGHT GUN'!N143","v":0},{"$f":"'LIGHT GUN'!O143","v":0},0,"99",417,"DQ",null,{"$f":"IF('Competitor List'!K122=\"Y\",'Competitor List'!C122,\" \")","v":" "},{"$f":"'HEAVY GUN'!M143","v":0},{"$f":"'HEAVY GUN'!N143","v":0},{"$f":"'HEAVY GUN'!O143","v":0},0,"99",417,"DQ",null,{"$f":"'TACTICAL GUN'!B143","v":0},{"$f":"'TACTICAL GUN'!M143","v":0},{"$f":"'TACTICAL GUN'!N143","v":0},{"$f":"'TACTICAL GUN'!O143","v":0},0,"99",417,"DQ"]
[418,"target 3",{"$f":"IF('Competitor List'!J123=\"Y\",'Competitor List'!B123,\" \")","v":" "},{"$f":"'LIGHT GUN'!M144","v":0},{"$f":"'LIGHT GUN'!N144","v":0},{"$f":"'LIGHT GUN'!O144","v":0},0,"99",418,"DQ",null,{"$f":"IF('Competitor List'!K123=\"Y\",'Competitor List'!C123,\" \")","v":" "},{"$f":"'HEAVY GUN'!M144","v":0},{"$f":"'HEAVY GUN'!N144","v":0},{"$f":"'HEAVY GUN'!O144","v":0},0,"99",418,"DQ",null,{"$f":"'TACTICAL GUN'!B144","v":0},{"$f":"'TACTICAL GUN'!M144","v":0},{"$f":"'TACTICAL GUN'!N144","v":0},{"$f":"'TACTICAL GUN'!O144","v":0},0,"99",418,"DQ"]
[419,"target 3",{"$f":"IF('Competitor List'!J124=\"Y\",'Competitor List'!B124,\" \")","v":" "},{"$f":"'LIGHT GUN'!M145","v":0},{"$f":"'LIGHT GUN'!N145","v":0},{"$f":"'LIGHT GUN'!O145","v":0},0,"99",419,"DQ",null,{"$f":"IF('Competitor List'!K124=\"Y\",'Competitor List'!C124,\" \")","v":" "},{"$f":"'HEAVY GUN'!M145","v":0},{"$f":"'HEAVY GUN'!N145","v":0},{"$f":"'HEAVY GUN'!O145","v":0},0,"99",419,"DQ",null,{"$f":"'TACTICAL GUN'!B145","v":0},{"$f":"'TACTICAL GUN'!M145","v":0},{"$f":"'TACTICAL GUN'!N145","v":0},{"$f":"'TACTICAL GUN'!O145","v":0},0,"99",419,"DQ"]
[420,"target 3",{"$f":"IF('Competitor List'!J125=\"Y\",'Competitor List'!B125,\" \")","v":" "},{"$f":"'LIGHT GUN'!M146","v":0},{"$f":"'LIGHT GUN'!N146","v":0},{"$f":"'LIGHT GUN'!O146","v":0},0,"99",420,"DQ",null,{"$f":"IF('Competitor List'!K125=\"Y\",'Competitor List'!C125,\" \")","v":" "},{"$f":"'HEAVY GUN'!M146","v":0},{"$f":"'HEAVY GUN'!N146","v":0},{"$f":"'HEAVY GUN'!O146","v":0},0,"99",420,"DQ",null,{"$f":"'TACTICAL GUN'!B146","v":0},{"$f":"'TACTICAL GUN'!M146","v":0},{"$f":"'TACTICAL GUN'!N146","v":0},{"$f":"'TACTICAL GUN'!O146","v":0},0,"99",420,"DQ"]
[421,"target 3",{"$f":"IF('Competitor List'!J126=\"Y\",'Competitor List'!B126,\" \")","v":" "},{"$f":"'LIGHT GUN'!M147","v":0},{"$f":"'LIGHT GUN'!N147","v":0},{"$f":"'LIGHT GUN'!O147","v":0},0,"99",421,"DQ",null,{"$f":"IF('Competitor List'!K126=\"Y\",'Competitor List'!C126,\" \")","v":" "},{"$f":"'HEAVY GUN'!M147","v":0},{"$f":"'HEAVY GUN'!N147","v":0},{"$f":"'HEAVY GUN'!O147","v":0},0,"99",421,"DQ",null,{"$f":"'TACTICAL GUN'!B147","v":0},{"$f":"'TACTICAL GUN'!M147","v":0},{"$f":"'TACTICAL GUN'!N147","v":0},{"$f":"'TACTICAL GUN'!O147","v":0},0,"99",421,"DQ"]
[422,"target 3",{"$f":"IF('Competitor List'!J127=\"Y\",'Competitor List'!B127,\" \")","v":" "},{"$f":"'LIGHT GUN'!M148","v":0},{"$f":"'LIGHT GUN'!N148","v":0},{"$f":"'LIGHT GUN'!O148","v":0},0,"99",422,"DQ",null,{"$f":"IF('Competitor List'!K127=\"Y\",'Competitor List'!C127,\" \")","v":" "},{"$f":"'HEAVY GUN'!M148","v":0},{"$f":"'HEAVY GUN'!N148","v":0},{"$f":"'HEAVY GUN'!O148","v":0},0,"99",422,"DQ",null,{"$f":"'TACTICAL GUN'!B148","v":0},{"$f":"'TACTICAL GUN'!M148","v":0},{"$f":"'TACTICAL GUN'!N148","v":0},{"$f":"'TACTICAL GUN'!O148","v":0},0,"99",422,"DQ"]
[423,"target 3",{"$f":"IF('Competitor List'!J128=\"Y\",'Competitor List'!B128,\" \")","v":" "},{"$f":"'LIGHT GUN'!M149","v":0},{"$f":"'LIGHT GUN'!N149","v":0},{"$f":"'LIGHT GUN'!O149","v":0},0,"99",423,"DQ",null,{"$f":"IF('Competitor List'!K128=\"Y\",'Competitor List'!C128,\" \")","v":" "},{"$f":"'HEAVY GUN'!M149","v":0},{"$f":"'HEAVY GUN'!N149","v":0},{"$f":"'HEAVY GUN'!O149","v":0},0,"99",423,"DQ",null,{"$f":"'TACTICAL GUN'!B149","v":0},{"$f":"'TACTICAL GUN'!M149","v":0},{"$f":"'TACTICAL GUN'!N149","v":0},{"$f":"'TACTICAL GUN'!O149","v":0},0,"99",423,"DQ"]
[424,"target 3",{"$f":"IF('Competitor List'!J129=\"Y\",'Competitor List'!B129,\" \")","v":" "},{"$f":"'LIGHT GUN'!M150","v":0},{"$f":"'LIGHT GUN'!N150","v":0},{"$f":"'LIGHT GUN'!O150","v":0},0,"99",424,"DQ",null,{"$f":"IF('Competitor List'!K129=\"Y\",'Competitor List'!C129,\" \")","v":" "},{"$f":"'HEAVY GUN'!M150","v":0},{"$f":"'HEAVY GUN'!N150","v":0},{"$f":"'HEAVY GUN'!O150","v":0},0,"99",424,"DQ",null,{"$f":"'TACTICAL GUN'!B150","v":0},{"$f":"'TACTICAL GUN'!M150","v":0},{"$f":"'TACTICAL GUN'!N150","v":0},{"$f":"'TACTICAL GUN'!O150","v":0},0,"99",424,"DQ"]
[425,"target 3",{"$f":"IF('Competitor List'!J130=\"Y\",'Competitor List'!B130,\" \")","v":" "},{"$f":"'LIGHT GUN'!M151","v":0},{"$f":"'LIGHT GUN'!N151","v":0},{"$f":"'LIGHT GUN'!O151","v":0},0,"99",425,"DQ",null,{"$f":"IF('Competitor List'!K130=\"Y\",'Competitor List'!C130,\" \")","v":" "},{"$f":"'HEAVY GUN'!M151","v":0},{"$f":"'HEAVY GUN'!N151","v":0},{"$f":"'HEAVY GUN'!O151","v":0},0,"99",425,"DQ",null,{"$f":"'TACTICAL GUN'!B151","v":0},{"$f":"'TACTICAL GUN'!M151","v":0},{"$f":"'TACTICAL GUN'!N151","v":0},{"$f":"'TACTICAL GUN'!O151","v":0},0,"99",425,"DQ"]
[426,"target 3",{"$f":"IF('Competitor List'!J131=\"Y\",'Competitor List'!B131,\" \")","v":" "},{"$f":"'LIGHT GUN'!M152","v":0},{"$f":"'LIGHT GUN'!N152","v":0},{"$f":"'LIGHT GUN'!O152","v":0},0,"99",426,"DQ",null,{"$f":"IF('Competitor List'!K131=\"Y\",'Competitor List'!C131,\" \")","v":" "},{"$f":"'HEAVY GUN'!M152","v":0},{"$f":"'HEAVY GUN'!N152","v":0},{"$f":"'HEAVY GUN'!O152","v":0},0,"99",426,"DQ",null,{"$f":"'TACTICAL GUN'!B152","v":0},{"$f":"'TACTICAL GUN'!M152","v":0},{"$f":"'TACTICAL GUN'!N152","v":0},{"$f":"'TACTICAL GUN'!O152","v":0},0,"99",426,"DQ"]
[427,"target 3",{"$f":"IF('Competitor List'!J132=\"Y\",'Competitor List'!B132,\" \")","v":" "},{"$f":"'LIGHT GUN'!M153","v":0},{"$f":"'LIGHT GUN'!N153","v":0},{"$f":"'LIGHT GUN'!O153","v":0},0,"99",427,"DQ",null,{"$f":"IF('Competitor List'!K132=\"Y\",'Competitor List'!C132,\" \")","v":" "},{"$f":"'HEAVY GUN'!M153","v":0},{"$f":"'HEAVY GUN'!N153","v":0},{"$f":"'HEAVY GUN'!O153","v":0},0,"99",427,"DQ",null,{"$f":"'TACTICAL GUN'!B153","v":0},{"$f":"'TACTICAL GUN'!M153","v":0},{"$f":"'TACTICAL GUN'!N153","v":0},{"$f":"'TACTICAL GUN'!O153","v":0},0,"99",427,"DQ"]
[428,"target 3",{"$f":"IF('Competitor List'!J133=\"Y\",'Competitor List'!B133,\" \")","v":" "},{"$f":"'LIGHT GUN'!M154","v":0},{"$f":"'LIGHT GUN'!N154","v":0},{"$f":"'LIGHT GUN'!O154","v":0},0,"99",428,"DQ",null,{"$f":"IF('Competitor List'!K133=\"Y\",'Competitor List'!C133,\" \")","v":" "},{"$f":"'HEAVY GUN'!M154","v":0},{"$f":"'HEAVY GUN'!N154","v":0},{"$f":"'HEAVY GUN'!O154","v":0},0,"99",428,"DQ",null,{"$f":"'TACTICAL GUN'!B154","v":0},{"$f":"'TACTICAL GUN'!M154","v":0},{"$f":"'TACTICAL GUN'!N154","v":0},{"$f":"'TACTICAL GUN'!O154","v":0},0,"99",428,"DQ"]
[429,"target 3",{"$f":"IF('Competitor List'!J134=\"Y\",'Competitor List'!B134,\" \")","v":" "},{"$f":"'LIGHT GUN'!M155","v":0},{"$f":"'LIGHT GUN'!N155","v":0},{"$f":"'LIGHT GUN'!O155","v":0},0,"99",429,"DQ",null,{"$f":"IF('Competitor List'!K134=\"Y\",'Competitor List'!C134,\" \")","v":" "},{"$f":"'HEAVY GUN'!M155","v":0},{"$f":"'HEAVY GUN'!N155","v":0},{"$f":"'HEAVY GUN'!O155","v":0},0,"99",429,"DQ",null,{"$f":"'TACTICAL GUN'!B155","v":0},{"$f":"'TACTICAL GUN'!M155","v":0},{"$f":"'TACTICAL GUN'!N155","v":0},{"$f":"'TACTICAL GUN'!O155","v":0},0,"99",429,"DQ"]
[430,"target 3",{"$f":"IF('Competitor List'!J135=\"Y\",'Competitor List'!B135,\" \")","v":" "},{"$f":"'LIGHT GUN'!M156","v":0},{"$f":"'LIGHT GUN'!N156","v":0},{"$f":"'LIGHT GUN'!O156","v":0},0,"99",430,"DQ",null,{"$f":"IF('Competitor List'!K135=\"Y\",'Competitor List'!C135,\" \")","v":" "},{"$f":"'HEAVY GUN'!M156","v":0},{"$f":"'HEAVY GUN'!N156","v":0},{"$f":"'HEAVY GUN'!O156","v":0},0,"99",430,"DQ",null,{"$f":"'TACTICAL GUN'!B156","v":0},{"$f":"'TACTICAL GUN'!M156","v":0},{"$f":"'TACTICAL GUN'!N156","v":0},{"$f":"'TACTICAL GUN'!O156","v":0},0,"99",{"$f":" IF(AND(ISNUMBER(V436)),RANK(V436,$V$7:$V$606,0)+SUMPRODUCT(($V$7:$V$606=V436)*($X$7:$X$606<X436))+SUMPRODUCT(($V$7:$V$606=V436)*($X$7:$X$606=X436)*($W$7:$W$606>W436))+SUMPRODUCT(($V$7:$V$606=V436)*($X$7:$X$606=X436)*($W$7:$W$606=W436)*($A$7:$A$606<A436)),\"DQ\")","v":430},{"$f":" IF(AND(Z436>0,ISNUMBER(Z436)),RANK(Z436,$Z$7:$Z$606,1)+SUMPRODUCT(($Z$7:$Z$606=Z436)*($V$7:$V$606>V436))+SUMPRODUCT(($Z$7:$Z$606=Z436)*($V$7:$V$606=V436)*($W$7:$W$606>W436))+SUMPRODUCT(($Z$7:$Z$606=Z436)*($V$7:$V$606=V436)*($W$7:$W$606=W436)*($A$7:$A$606<A436)),\"DQ\")","v":"DQ"}]
[431,"target 3",{"$f":"IF('Competitor List'!J136=\"Y\",'Competitor List'!B136,\" \")","v":" "},{"$f":"'LIGHT GUN'!M157","v":0},{"$f":"'LIGHT GUN'!N157","v":0},{"$f":"'LIGHT GUN'!O157","v":0},0,"99",431,"DQ",null,{"$f":"IF('Competitor List'!K136=\"Y\",'Competitor List'!C136,\" \")","v":" "},{"$f":"'HEAVY GUN'!M157","v":0},{"$f":"'HEAVY GUN'!N157","v":0},{"$f":"'HEAVY GUN'!O157","v":0},0,"99",431,"DQ",null,{"$f":"'TACTICAL GUN'!B157","v":0},{"$f":"'TACTICAL GUN'!M157","v":0},{"$f":"'TACTICAL GUN'!N157","v":0},{"$f":"'TACTICAL GUN'!O157","v":0},0,"99",431,"DQ"]
[432,"target 3",{"$f":"IF('Competitor List'!J137=\"Y\",'Competitor List'!B137,\" \")","v":" "},{"$f":"'LIGHT GUN'!M158","v":0},{"$f":"'LIGHT GUN'!N158","v":0},{"$f":"'LIGHT GUN'!O158","v":0},0,"99",432,"DQ",null,{"$f":"IF('Competitor List'!K137=\"Y\",'Competitor List'!C137,\" \")","v":" "},{"$f":"'HEAVY GUN'!M158","v":0},{"$f":"'HEAVY GUN'!N158","v":0},{"$f":"'HEAVY GUN'!O158","v":0},0,"99",432,"DQ",null,{"$f":"'TACTICAL GUN'!B158","v":0},{"$f":"'TACTICAL GUN'!M158","v":0},{"$f":"'TACTICAL GUN'!N158","v":0},{"$f":"'TACTICAL GUN'!O158","v":0},0,"99",432,"DQ"]
[433,"target 3",{"$f":"IF('Competitor List'!J138=\"Y\",'Competitor List'!B138,\" \")","v":" "},{"$f":"'LIGHT GUN'!M159","v":0},{"$f":"'LIGHT GUN'!N159","v":0},{"$f":"'LIGHT GUN'!O159","v":0},0,"99",433,"DQ",null,{"$f":"IF('Competitor List'!K138=\"Y\",'Competitor List'!C138,\" \")","v":" "},{"$f":"'HEAVY GUN'!M159","v":0},{"$f":"'HEAVY GUN'!N159","v":0},{"$f":"'HEAVY GUN'!O159","v":0},0,"99",433,"DQ",null,{"$f":"'TACTICAL GUN'!B159","v":0},{"$f":"'TACTICAL GUN'!M159","v":0},{"$f":"'TACTICAL GUN'!N159","v":0},{"$f":"'TACTICAL GUN'!O159","v":0},0,"99",433,"DQ"]
[434,"target 3",{"$f":"IF('Competitor List'!J139=\"Y\",'Competitor List'!B139,\" \")","v":" "},{"$f":"'LIGHT GUN'!M160","v":0},{"$f":"'LIGHT GUN'!N160","v":0},{"$f":"'LIGHT GUN'!O160","v":0},0,"99",434,"DQ",null,{"$f":"IF('Competitor List'!K139=\"Y\",'Competitor List'!C139,\" \")","v":" "},{"$f":"'HEAVY GUN'!M160","v":0},{"$f":"'HEAVY GUN'!N160","v":0},{"$f":"'HEAVY GUN'!O160","v":0},0,"99",434,"DQ",null,{"$f":"'TACTICAL GUN'!B160","v":0},{"$f":"'TACTICAL GUN'!M160","v":0},{"$f":"'TACTICAL GUN'!N160","v":0},{"$f":"'TACTICAL GUN'!O160","v":0},0,"99",434,"DQ"]
[435,"target 3",{"$f":"IF('Competitor List'!J140=\"Y\",'Competitor List'!B140,\" \")","v":" "},{"$f":"'LIGHT GUN'!M161","v":0},{"$f":"'LIGHT GUN'!N161","v":0},{"$f":"'LIGHT GUN'!O161","v":0},0,"99",435,"DQ",null,{"$f":"IF('Competitor List'!K140=\"Y\",'Competitor List'!C140,\" \")","v":" "},{"$f":"'HEAVY GUN'!M161","v":0},{"$f":"'HEAVY GUN'!N161","v":0},{"$f":"'HEAVY GUN'!O161","v":0},0,"99",435,"DQ",null,{"$f":"'TACTICAL GUN'!B161","v":0},{"$f":"'TACTICAL GUN'!M161","v":0},{"$f":"'TACTICAL GUN'!N161","v":0},{"$f":"'TACTICAL GUN'!O161","v":0},0,"99",435,"DQ"]
[436,"target 3",{"$f":"IF('Competitor List'!J141=\"Y\",'Competitor List'!B141,\" \")","v":" "},{"$f":"'LIGHT GUN'!M162","v":0},{"$f":"'LIGHT GUN'!N162","v":0},{"$f":"'LIGHT GUN'!O162","v":0},0,"99",436,"DQ",null,{"$f":"IF('Competitor List'!K141=\"Y\",'Competitor List'!C141,\" \")","v":" "},{"$f":"'HEAVY GUN'!M162","v":0},{"$f":"'HEAVY GUN'!N162","v":0},{"$f":"'HEAVY GUN'!O162","v":0},0,"99",436,"DQ",null,{"$f":"'TACTICAL GUN'!B162","v":0},{"$f":"'TACTICAL GUN'!M162","v":0},{"$f":"'TACTICAL GUN'!N162","v":0},{"$f":"'TACTICAL GUN'!O162","v":0},0,"99",436,"DQ"]
[437,"target 3",{"$f":"IF('Competitor List'!J142=\"Y\",'Competitor List'!B142,\" \")","v":" "},{"$f":"'LIGHT GUN'!M163","v":0},{"$f":"'LIGHT GUN'!N163","v":0},{"$f":"'LIGHT GUN'!O163","v":0},0,"99",437,"DQ",null,{"$f":"IF('Competitor List'!K142=\"Y\",'Competitor List'!C142,\" \")","v":" "},{"$f":"'HEAVY GUN'!M163","v":0},{"$f":"'HEAVY GUN'!N163","v":0},{"$f":"'HEAVY GUN'!O163","v":0},0,"99",437,"DQ",null,{"$f":"'TACTICAL GUN'!B163","v":0},{"$f":"'TACTICAL GUN'!M163","v":0},{"$f":"'TACTICAL GUN'!N163","v":0},{"$f":"'TACTICAL GUN'!O163","v":0},0,"99",437,"DQ"]
[438,"target 3",{"$f":"IF('Competitor List'!J143=\"Y\",'Competitor List'!B143,\" \")","v":" "},{"$f":"'LIGHT GUN'!M164","v":0},{"$f":"'LIGHT GUN'!N164","v":0},{"$f":"'LIGHT GUN'!O164","v":0},0,"99",438,"DQ",null,{"$f":"IF('Competitor List'!K143=\"Y\",'Competitor List'!C143,\" \")","v":" "},{"$f":"'HEAVY GUN'!M164","v":0},{"$f":"'HEAVY GUN'!N164","v":0},{"$f":"'HEAVY GUN'!O164","v":0},0,"99",438,"DQ",null,{"$f":"'TACTICAL GUN'!B164","v":0},{"$f":"'TACTICAL GUN'!M164","v":0},{"$f":"'TACTICAL GUN'!N164","v":0},{"$f":"'TACTICAL GUN'!O164","v":0},0,"99",438,"DQ"]
[439,"target 3",{"$f":"IF('Competitor List'!J144=\"Y\",'Competitor List'!B144,\" \")","v":" "},{"$f":"'LIGHT GUN'!M165","v":0},{"$f":"'LIGHT GUN'!N165","v":0},{"$f":"'LIGHT GUN'!O165","v":0},0,"99",439,"DQ",null,{"$f":"IF('Competitor List'!K144=\"Y\",'Competitor List'!C144,\" \")","v":" "},{"$f":"'HEAVY GUN'!M165","v":0},{"$f":"'HEAVY GUN'!N165","v":0},{"$f":"'HEAVY GUN'!O165","v":0},0,"99",439,"DQ",null,{"$f":"'TACTICAL GUN'!B165","v":0},{"$f":"'TACTICAL GUN'!M165","v":0},{"$f":"'TACTICAL GUN'!N165","v":0},{"$f":"'TACTICAL GUN'!O165","v":0},0,"99",439,"DQ"]
[440,"target 3",{"$f":"IF('Competitor List'!J145=\"Y\",'Competitor List'!B145,\" \")","v":" "},{"$f":"'LIGHT GUN'!M166","v":0},{"$f":"'LIGHT GUN'!N166","v":0},{"$f":"'LIGHT GUN'!O166","v":0},0,"99",440,"DQ",null,{"$f":"IF('Competitor List'!K145=\"Y\",'Competitor List'!C145,\" \")","v":" "},{"$f":"'HEAVY GUN'!M166","v":0},{"$f":"'HEAVY GUN'!N166","v":0},{"$f":"'HEAVY GUN'!O166","v":0},0,"99",440,"DQ",null,{"$f":"'TACTICAL GUN'!B166","v":0},{"$f":"'TACTICAL GUN'!M166","v":0},{"$f":"'TACTICAL GUN'!N166","v":0},{"$f":"'TACTICAL GUN'!O166","v":0},0,"99",440,"DQ"]
[441,"target 3",{"$f":"IF('Competitor List'!J146=\"Y\",'Competitor List'!B146,\" \")","v":" "},{"$f":"'LIGHT GUN'!M167","v":0},{"$f":"'LIGHT GUN'!N167","v":0},{"$f":"'LIGHT GUN'!O167","v":0},0,"99",441,"DQ",null,{"$f":"IF('Competitor List'!K146=\"Y\",'Competitor List'!C146,\" \")","v":" "},{"$f":"'HEAVY GUN'!M167","v":0},{"$f":"'HEAVY GUN'!N167","v":0},{"$f":"'HEAVY GUN'!O167","v":0},0,"99",441,"DQ",null,{"$f":"'TACTICAL GUN'!B167","v":0},{"$f":"'TACTICAL GUN'!M167","v":0},{"$f":"'TACTICAL GUN'!N167","v":0},{"$f":"'TACTICAL GUN'!O167","v":0},0,"99",441,"DQ"]
[442,"target 3",{"$f":"IF('Competitor List'!J147=\"Y\",'Competitor List'!B147,\" \")","v":" "},{"$f":"'LIGHT GUN'!M168","v":0},{"$f":"'LIGHT GUN'!N168","v":0},{"$f":"'LIGHT GUN'!O168","v":0},0,"99",442,"DQ",null,{"$f":"IF('Competitor List'!K147=\"Y\",'Competitor List'!C147,\" \")","v":" "},{"$f":"'HEAVY GUN'!M168","v":0},{"$f":"'HEAVY GUN'!N168","v":0},{"$f":"'HEAVY GUN'!O168","v":0},0,"99",442,"DQ",null,{"$f":"'TACTICAL GUN'!B168","v":0},{"$f":"'TACTICAL GUN'!M168","v":0},{"$f":"'TACTICAL GUN'!N168","v":0},{"$f":"'TACTICAL GUN'!O168","v":0},0,"99",442,"DQ"]
[443,"target 3",{"$f":"IF('Competitor List'!J148=\"Y\",'Competitor List'!B148,\" \")","v":" "},{"$f":"'LIGHT GUN'!M169","v":0},{"$f":"'LIGHT GUN'!N169","v":0},{"$f":"'LIGHT GUN'!O169","v":0},0,"99",443,"DQ",null,{"$f":"IF('Competitor List'!K148=\"Y\",'Competitor List'!C148,\" \")","v":" "},{"$f":"'HEAVY GUN'!M169","v":0},{"$f":"'HEAVY GUN'!N169","v":0},{"$f":"'HEAVY GUN'!O169","v":0},0,"99",443,"DQ",null,{"$f":"'TACTICAL GUN'!B169","v":0},{"$f":"'TACTICAL GUN'!M169","v":0},{"$f":"'TACTICAL GUN'!N169","v":0},{"$f":"'TACTICAL GUN'!O169","v":0},0,"99",443,"DQ"]
[444,"target 3",{"$f":"IF('Competitor List'!J149=\"Y\",'Competitor List'!B149,\" \")","v":" "},{"$f":"'LIGHT GUN'!M170","v":0},{"$f":"'LIGHT GUN'!N170","v":0},{"$f":"'LIGHT GUN'!O170","v":0},0,"99",444,"DQ",null,{"$f":"IF('Competitor List'!K149=\"Y\",'Competitor List'!C149,\" \")","v":" "},{"$f":"'HEAVY GUN'!M170","v":0},{"$f":"'HEAVY GUN'!N170","v":0},{"$f":"'HEAVY GUN'!O170","v":0},0,"99",444,"DQ",null,{"$f":"'TACTICAL GUN'!B170","v":0},{"$f":"'TACTICAL GUN'!M170","v":0},{"$f":"'TACTICAL GUN'!N170","v":0},{"$f":"'TACTICAL GUN'!O170","v":0},0,"99",444,"DQ"]
[445,"target 3",{"$f":"IF('Competitor List'!J150=\"Y\",'Competitor List'!B150,\" \")","v":" "},{"$f":"'LIGHT GUN'!M171","v":0},{"$f":"'LIGHT GUN'!N171","v":0},{"$f":"'LIGHT GUN'!O171","v":0},0,"99",445,"DQ",null,{"$f":"IF('Competitor List'!K150=\"Y\",'Competitor List'!C150,\" \")","v":" "},{"$f":"'HEAVY GUN'!M171","v":0},{"$f":"'HEAVY GUN'!N171","v":0},{"$f":"'HEAVY GUN'!O171","v":0},0,"99",445,"DQ",null,{"$f":"'TACTICAL GUN'!B171","v":0},{"$f":"'TACTICAL GUN'!M171","v":0},{"$f":"'TACTICAL GUN'!N171","v":0},{"$f":"'TACTICAL GUN'!O171","v":0},0,"99",445,"DQ"]
[446,"target 3",{"$f":"IF('Competitor List'!J151=\"Y\",'Competitor List'!B151,\" \")","v":" "},{"$f":"'LIGHT GUN'!M172","v":0},{"$f":"'LIGHT GUN'!N172","v":0},{"$f":"'LIGHT GUN'!O172","v":0},0,"99",446,"DQ",null,{"$f":"IF('Competitor List'!K151=\"Y\",'Competitor List'!C151,\" \")","v":" "},{"$f":"'HEAVY GUN'!M172","v":0},{"$f":"'HEAVY GUN'!N172","v":0},{"$f":"'HEAVY GUN'!O172","v":0},0,"99",446,"DQ",null,{"$f":"'TACTICAL GUN'!B172","v":0},{"$f":"'TACTICAL GUN'!M172","v":0},{"$f":"'TACTICAL GUN'!N172","v":0},{"$f":"'TACTICAL GUN'!O172","v":0},0,"99",446,"DQ"]
[447,"target 3",{"$f":"IF('Competitor List'!J152=\"Y\",'Competitor List'!B152,\" \")","v":" "},{"$f":"'LIGHT GUN'!M173","v":0},{"$f":"'LIGHT GUN'!N173","v":0},{"$f":"'LIGHT GUN'!O173","v":0},0,"99",447,"DQ",null,{"$f":"IF('Competitor List'!K152=\"Y\",'Competitor List'!C152,\" \")","v":" "},{"$f":"'HEAVY GUN'!M173","v":0},{"$f":"'HEAVY GUN'!N173","v":0},{"$f":"'HEAVY GUN'!O173","v":0},0,"99",447,"DQ",null,{"$f":"'TACTICAL GUN'!B173","v":0},{"$f":"'TACTICAL GUN'!M173","v":0},{"$f":"'TACTICAL GUN'!N173","v":0},{"$f":"'TACTICAL GUN'!O173","v":0},0,"99",447,"DQ"]
[448,"target 3",{"$f":"IF('Competitor List'!J153=\"Y\",'Competitor List'!B153,\" \")","v":" "},{"$f":"'LIGHT GUN'!M174","v":0},{"$f":"'LIGHT GUN'!N174","v":0},{"$f":"'LIGHT GUN'!O174","v":0},0,"99",448,"DQ",null,{"$f":"IF('Competitor List'!K153=\"Y\",'Competitor List'!C153,\" \")","v":" "},{"$f":"'HEAVY GUN'!M174","v":0},{"$f":"'HEAVY GUN'!N174","v":0},{"$f":"'HEAVY GUN'!O174","v":0},0,"99",448,"DQ",null,{"$f":"'TACTICAL GUN'!B174","v":0},{"$f":"'TACTICAL GUN'!M174","v":0},{"$f":"'TACTICAL GUN'!N174","v":0},{"$f":"'TACTICAL GUN'!O174","v":0},0,"99",448,"DQ"]
[449,"target 3",{"$f":"IF('Competitor List'!J154=\"Y\",'Competitor List'!B154,\" \")","v":" "},{"$f":"'LIGHT GUN'!M175","v":0},{"$f":"'LIGHT GUN'!N175","v":0},{"$f":"'LIGHT GUN'!O175","v":0},0,"99",449,"DQ",null,{"$f":"IF('Competitor List'!K154=\"Y\",'Competitor List'!C154,\" \")","v":" "},{"$f":"'HEAVY GUN'!M175","v":0},{"$f":"'HEAVY GUN'!N175","v":0},{"$f":"'HEAVY GUN'!O175","v":0},0,"99",449,"DQ",null,{"$f":"'TACTICAL GUN'!B175","v":0},{"$f":"'TACTICAL GUN'!M175","v":0},{"$f":"'TACTICAL GUN'!N175","v":0},{"$f":"'TACTICAL GUN'!O175","v":0},0,"99",449,"DQ"]
[450,"target 3",{"$f":"IF('Competitor List'!J155=\"Y\",'Competitor List'!B155,\" \")","v":" "},{"$f":"'LIGHT GUN'!M176","v":0},{"$f":"'LIGHT GUN'!N176","v":0},{"$f":"'LIGHT GUN'!O176","v":0},{"$f":"IF(ISNUMBER(F456),SUM(F456),\"99\")","v":0},{"$f":"IF(G456=0,\"99\",G456)","v":"99"},{"$f":" IF(AND(ISNUMBER(D456)),RANK(D456,$D$7:$D$606,0)+SUMPRODUCT(($D$7:$D$606=D456)*($F$7:$F$606<F456))+SUMPRODUCT(($D$7:$D$606=D456)*($F$7:$F$606=F456)*($E$7:$E$606>E456))+SUMPRODUCT(($D$7:$D$606=D456)*($F$7:$F$606=F456)*($E$7:$E$606=E456)*($A$7:$A$606<A456)),\"DQ\")","v":450},{"$f":" IF(AND(ISNUMBER(H456)),RANK(H456,$H$7:$H$606,1)+SUMPRODUCT(($H$7:$H$606=H456)*($D$7:$D$606>D456))+SUMPRODUCT(($H$7:$H$606=H456)*($D$7:$D$606=D456)*($E$7:$E$606>E456))+SUMPRODUCT(($H$7:$H$606=H456)*($D$7:$D$606=D456)*($E$7:$E$606=E456)*($A$7:$A$606<A456)),\"DQ\")","v":"DQ"},null,{"$f":"IF('Competitor List'!K155=\"Y\",'Competitor List'!C155,\" \")","v":" "},{"$f":"'HEAVY GUN'!M176","v":0},{"$f":"'HEAVY GUN'!N176","v":0},{"$f":"'HEAVY GUN'!O176","v":0},{"$f":"IF(ISNUMBER(O456),SUM(O456),\"99\")","v":0},{"$f":"IF(P456=0,\"99\",P456)","v":"99"},{"$f":" IF(AND(ISNUMBER(M456)),RANK(M456,$M$7:$M$606,0)+SUMPRODUCT(($M$7:$M$606=M456)*($O$7:$O$606<O456))+SUMPRODUCT(($M$7:$M$606=M456)*($O$7:$O$606=O456)*($N$7:$N$606>N456))+SUMPRODUCT(($M$7:$M$606=M456)*($O$7:$O$606=O456)*($N$7:$N$606=N456)*($A$7:$A$606<A456)),\"DQ\")","v":450},{"$f":" IF(AND(Q456>0,ISNUMBER(Q456)),RANK(Q456,$Q$7:$Q$606,1)+SUMPRODUCT(($Q$7:$Q$606=Q456)*($M$7:$M$606>M456))+SUMPRODUCT(($Q$7:$Q$606=Q456)*($M$7:$M$606=M456)*($N$7:$N$606>N456))+SUMPRODUCT(($Q$7:$Q$606=Q456)*($M$7:$M$606=M456)*($N$7:$N$606=N456)*($A$7:$A$606<A456)),\"DQ\")","v":"DQ"},null,{"$f":"'TACTICAL GUN'!B176","v":0},{"$f":"'TACTICAL GUN'!M176","v":0},{"$f":"'TACTICAL GUN'!N176","v":0},{"$f":"'TACTICAL GUN'!O176","v":0},{"$f":"IF(ISNUMBER(X456),SUM(X456),\"99\")","v":0},{"$f":"IF(Y456=0,\"99\",Y456)","v":"99"},450,"DQ"]
[451,"target 4",{"$f":"IF('Competitor List'!J6=\"Y\",'Competitor List'!B6,\" \")","v":" "},{"$f":"'LIGHT GUN'!P27","v":0},{"$f":"'LIGHT GUN'!Q27","v":0},{"$f":"'LIGHT GUN'!R27","v":0},0,"99",451,"DQ",null,{"$f":"IF('Competitor List'!K6=\"Y\",'Competitor List'!C6,\" \")","v":" "},{"$f":"'HEAVY GUN'!P27","v":0},{"$f":"'HEAVY GUN'!Q27","v":0},{"$f":"'HEAVY GUN'!R27","v":0},0,"99",451,"DQ",null,{"$f":"'TACTICAL GUN'!B27","v":0},{"$f":"'TACTICAL GUN'!P27","v":0},{"$f":"'TACTICAL GUN'!Q27","v":0},{"$f":"'TACTICAL GUN'!R27","v":0},0,"99",{"$f":" IF(AND(ISNUMBER(V457)),RANK(V457,$V$7:$V$606,0)+SUMPRODUCT(($V$7:$V$606=V457)*($X$7:$X$606<X457))+SUMPRODUCT(($V$7:$V$606=V457)*($X$7:$X$606=X457)*($W$7:$W$606>W457))+SUMPRODUCT(($V$7:$V$606=V457)*($X$7:$X$606=X457)*($W$7:$W$606=W457)*($A$7:$A$606<A457)),\"DQ\")","v":451},{"$f":" IF(AND(Z457>0,ISNUMBER(Z457)),RANK(Z457,$Z$7:$Z$606,1)+SUMPRODUCT(($Z$7:$Z$606=Z457)*($V$7:$V$606>V457))+SUMPRODUCT(($Z$7:$Z$606=Z457)*($V$7:$V$606=V457)*($W$7:$W$606>W457))+SUMPRODUCT(($Z$7:$Z$606=Z457)*($V$7:$V$606=V457)*($W$7:$W$606=W457)*($A$7:$A$606<A457)),\"DQ\")","v":"DQ"}]
[452,"target 4",{"$f":"IF('Competitor List'!J7=\"Y\",'Competitor List'!B7,\" \")","v":" "},{"$f":"'LIGHT GUN'!P28","v":0},{"$f":"'LIGHT GUN'!Q28","v":0},{"$f":"'LIGHT GUN'!R28","v":0},0,"99",452,"DQ",null,{"$f":"IF('Competitor List'!K7=\"Y\",'Competitor List'!C7,\" \")","v":" "},{"$f":"'HEAVY GUN'!P28","v":0},{"$f":"'HEAVY GUN'!Q28","v":0},{"$f":"'HEAVY GUN'!R28","v":0},0,"99",452,"DQ",null,{"$f":"'TACTICAL GUN'!B28","v":0},{"$f":"'TACTICAL GUN'!P28","v":0},{"$f":"'TACTICAL GUN'!Q28","v":0},{"$f":"'TACTICAL GUN'!R28","v":0},0,"99",{"$f":" IF(AND(ISNUMBER(V458)),RANK(V458,$V$7:$V$606,0)+SUMPRODUCT(($V$7:$V$606=V458)*($X$7:$X$606<X458))+SUMPRODUCT(($V$7:$V$606=V458)*($X$7:$X$606=X458)*($W$7:$W$606>W458))+SUMPRODUCT(($V$7:$V$606=V458)*($X$7:$X$606=X458)*($W$7:$W$606=W458)*($A$7:$A$606<A458)),\"DQ\")","v":452},{"$f":" IF(AND(Z458>0,ISNUMBER(Z458)),RANK(Z458,$Z$7:$Z$606,1)+SUMPRODUCT(($Z$7:$Z$606=Z458)*($V$7:$V$606>V458))+SUMPRODUCT(($Z$7:$Z$606=Z458)*($V$7:$V$606=V458)*($W$7:$W$606>W458))+SUMPRODUCT(($Z$7:$Z$606=Z458)*($V$7:$V$606=V458)*($W$7:$W$606=W458)*($A$7:$A$606<A458)),\"DQ\")","v":"DQ"}]
[453,"target 4",{"$f":"IF('Competitor List'!J8=\"Y\",'Competitor List'!B8,\" \")","v":" "},{"$f":"'LIGHT GUN'!P29","v":0},{"$f":"'LIGHT GUN'!Q29","v":0},{"$f":"'LIGHT GUN'!R29","v":0},0,"99",453,"DQ",null,{"$f":"IF('Competitor List'!K8=\"Y\",'Competitor List'!C8,\" \")","v":" "},{"$f":"'HEAVY GUN'!P29","v":0},{"$f":"'HEAVY GUN'!Q29","v":0},{"$f":"'HEAVY GUN'!R29","v":0},0,"99",453,"DQ",null,{"$f":"'TACTICAL GUN'!B29","v":0},{"$f":"'TACTICAL GUN'!P29","v":0},{"$f":"'TACTICAL GUN'!Q29","v":0},{"$f":"'TACTICAL GUN'!R29","v":0},0,"99",453,"DQ"]
[454,"target 4",{"$f":"IF('Competitor List'!J9=\"Y\",'Competitor List'!B9,\" \")","v":" "},{"$f":"'LIGHT GUN'!P30","v":0},{"$f":"'LIGHT GUN'!Q30","v":0},{"$f":"'LIGHT GUN'!R30","v":0},0,"99",454,"DQ",null,{"$f":"IF('Competitor List'!K9=\"Y\",'Competitor List'!C9,\" \")","v":" "},{"$f":"'HEAVY GUN'!P30","v":0},{"$f":"'HEAVY GUN'!Q30","v":0},{"$f":"'HEAVY GUN'!R30","v":0},0,"99",454,"DQ",null,{"$f":"'TACTICAL GUN'!B30","v":0},{"$f":"'TACTICAL GUN'!P30","v":0},{"$f":"'TACTICAL GUN'!Q30","v":0},{"$f":"'TACTICAL GUN'!R30","v":0},0,"99",454,"DQ"]
[455,"target 4",{"$f":"IF('Competitor List'!J10=\"Y\",'Competitor List'!B10,\" \")","v":" "},{"$f":"'LIGHT GUN'!P31","v":0},{"$f":"'LIGHT GUN'!Q31","v":0},{"$f":"'LIGHT GUN'!R31","v":0},0,"99",455,"DQ",null,{"$f":"IF('Competitor List'!K10=\"Y\",'Competitor List'!C10,\" \")","v":" "},{"$f":"'HEAVY GUN'!P31","v":0},{"$f":"'HEAVY GUN'!Q31","v":0},{"$f":"'HEAVY GUN'!R31","v":0},0,"99",455,"DQ",null,{"$f":"'TACTICAL GUN'!B31","v":0},{"$f":"'TACTICAL GUN'!P31","v":0},{"$f":"'TACTICAL GUN'!Q31","v":0},{"$f":"'TACTICAL GUN'!R31","v":0},0,"99",455,"DQ"]
[456,"target 4",{"$f":"IF('Competitor List'!J11=\"Y\",'Competitor List'!B11,\" \")","v":" "},{"$f":"'LIGHT GUN'!P32","v":0},{"$f":"'LIGHT GUN'!Q32","v":0},{"$f":"'LIGHT GUN'!R32","v":0},0,"99",456,"DQ",null,{"$f":"IF('Competitor List'!K11=\"Y\",'Competitor List'!C11,\" \")","v":" "},{"$f":"'HEAVY GUN'!P32","v":0},{"$f":"'HEAVY GUN'!Q32","v":0},{"$f":"'HEAVY GUN'!R32","v":0},0,"99",456,"DQ",null,{"$f":"'TACTICAL GUN'!B32","v":0},{"$f":"'TACTICAL GUN'!P32","v":0},{"$f":"'TACTICAL GUN'!Q32","v":0},{"$f":"'TACTICAL GUN'!R32","v":0},0,"99",456,"DQ"]
[457,"target 4",{"$f":"IF('Competitor List'!J12=\"Y\",'Competitor List'!B12,\" \")","v":" "},{"$f":"'LIGHT GUN'!P33","v":0},{"$f":"'LIGHT GUN'!Q33","v":0},{"$f":"'LIGHT GUN'!R33","v":0},0,"99",457,"DQ",null,{"$f":"IF('Competitor List'!K12=\"Y\",'Competitor List'!C12,\" \")","v":" "},{"$f":"'HEAVY GUN'!P33","v":0},{"$f":"'HEAVY GUN'!Q33","v":0},{"$f":"'HEAVY GUN'!R33","v":0},0,"99",457,"DQ",null,{"$f":"'TACTICAL GUN'!B33","v":0},{"$f":"'TACTICAL GUN'!P33","v":0},{"$f":"'TACTICAL GUN'!Q33","v":0},{"$f":"'TACTICAL GUN'!R33","v":0},0,"99",457,"DQ"]
[458,"target 4",{"$f":"IF('Competitor List'!J13=\"Y\",'Competitor List'!B13,\" \")","v":" "},{"$f":"'LIGHT GUN'!P34","v":0},{"$f":"'LIGHT GUN'!Q34","v":0},{"$f":"'LIGHT GUN'!R34","v":0},0,"99",458,"DQ",null,{"$f":"IF('Competitor List'!K13=\"Y\",'Competitor List'!C13,\" \")","v":" "},{"$f":"'HEAVY GUN'!P34","v":0},{"$f":"'HEAVY GUN'!Q34","v":0},{"$f":"'HEAVY GUN'!R34","v":0},0,"99",458,"DQ",null,{"$f":"'TACTICAL GUN'!B34","v":0},{"$f":"'TACTICAL GUN'!P34","v":0},{"$f":"'TACTICAL GUN'!Q34","v":0},{"$f":"'TACTICAL GUN'!R34","v":0},0,"99",458,"DQ"]
[459,"target 4",{"$f":"IF('Competitor List'!J14=\"Y\",'Competitor List'!B14,\" \")","v":" "},{"$f":"'LIGHT GUN'!P35","v":0},{"$f":"'LIGHT GUN'!Q35","v":0},{"$f":"'LIGHT GUN'!R35","v":0},0,"99",459,"DQ",null,{"$f":"IF('Competitor List'!K14=\"Y\",'Competitor List'!C14,\" \")","v":" "},{"$f":"'HEAVY GUN'!P35","v":0},{"$f":"'HEAVY GUN'!Q35","v":0},{"$f":"'HEAVY GUN'!R35","v":0},0,"99",459,"DQ",null,{"$f":"'TACTICAL GUN'!B35","v":0},{"$f":"'TACTICAL GUN'!P35","v":0},{"$f":"'TACTICAL GUN'!Q35","v":0},{"$f":"'TACTICAL GUN'!R35","v":0},0,"99",459,"DQ"]
[460,"target 4",{"$f":"IF('Competitor List'!J15=\"Y\",'Competitor List'!B15,\" \")","v":" "},{"$f":"'LIGHT GUN'!P36","v":0},{"$f":"'LIGHT GUN'!Q36","v":0},{"$f":"'LIGHT GUN'!R36","v":0},0,"99",460,"DQ",null,{"$f":"IF('Competitor List'!K15=\"Y\",'Competitor List'!C15,\" \")","v":" "},{"$f":"'HEAVY GUN'!P36","v":0},{"$f":"'HEAVY GUN'!Q36","v":0},{"$f":"'HEAVY GUN'!R36","v":0},0,"99",460,"DQ",null,{"$f":"'TACTICAL GUN'!B36","v":0},{"$f":"'TACTICAL GUN'!P36","v":0},{"$f":"'TACTICAL GUN'!Q36","v":0},{"$f":"'TACTICAL GUN'!R36","v":0},0,"99",460,"DQ"]
[461,"target 4",{"$f":"IF('Competitor List'!J16=\"Y\",'Competitor List'!B16,\" \")","v":" "},{"$f":"'LIGHT GUN'!P37","v":0},{"$f":"'LIGHT GUN'!Q37","v":0},{"$f":"'LIGHT GUN'!R37","v":0},0,"99",461,"DQ",null,{"$f":"IF('Competitor List'!K16=\"Y\",'Competitor List'!C16,\" \")","v":" "},{"$f":"'HEAVY GUN'!P37","v":0},{"$f":"'HEAVY GUN'!Q37","v":0},{"$f":"'HEAVY GUN'!R37","v":0},0,"99",461,"DQ",null,{"$f":"'TACTICAL GUN'!B37","v":0},{"$f":"'TACTICAL GUN'!P37","v":0},{"$f":"'TACTICAL GUN'!Q37","v":0},{"$f":"'TACTICAL GUN'!R37","v":0},0,"99",461,"DQ"]
[462,"target 4",{"$f":"IF('Competitor List'!J17=\"Y\",'Competitor List'!B17,\" \")","v":" "},{"$f":"'LIGHT GUN'!P38","v":0},{"$f":"'LIGHT GUN'!Q38","v":0},{"$f":"'LIGHT GUN'!R38","v":0},0,"99",462,"DQ",null,{"$f":"IF('Competitor List'!K17=\"Y\",'Competitor List'!C17,\" \")","v":" "},{"$f":"'HEAVY GUN'!P38","v":0},{"$f":"'HEAVY GUN'!Q38","v":0},{"$f":"'HEAVY GUN'!R38","v":0},0,"99",462,"DQ",null,{"$f":"'TACTICAL GUN'!B38","v":0},{"$f":"'TACTICAL GUN'!P38","v":0},{"$f":"'TACTICAL GUN'!Q38","v":0},{"$f":"'TACTICAL GUN'!R38","v":0},0,"99",462,"DQ"]
[463,"target 4",{"$f":"IF('Competitor List'!J18=\"Y\",'Competitor List'!B18,\" \")","v":" "},{"$f":"'LIGHT GUN'!P39","v":0},{"$f":"'LIGHT GUN'!Q39","v":0},{"$f":"'LIGHT GUN'!R39","v":0},0,"99",463,"DQ",null,{"$f":"IF('Competitor List'!K18=\"Y\",'Competitor List'!C18,\" \")","v":" "},{"$f":"'HEAVY GUN'!P39","v":0},{"$f":"'HEAVY GUN'!Q39","v":0},{"$f":"'HEAVY GUN'!R39","v":0},0,"99",463,"DQ",null,{"$f":"'TACTICAL GUN'!B39","v":0},{"$f":"'TACTICAL GUN'!P39","v":0},{"$f":"'TACTICAL GUN'!Q39","v":0},{"$f":"'TACTICAL GUN'!R39","v":0},0,"99",463,"DQ"]
[464,"target 4",{"$f":"IF('Competitor List'!J19=\"Y\",'Competitor List'!B19,\" \")","v":" "},{"$f":"'LIGHT GUN'!P40","v":0},{"$f":"'LIGHT GUN'!Q40","v":0},{"$f":"'LIGHT GUN'!R40","v":0},0,"99",464,"DQ",null,{"$f":"IF('Competitor List'!K19=\"Y\",'Competitor List'!C19,\" \")","v":" "},{"$f":"'HEAVY GUN'!P40","v":0},{"$f":"'HEAVY GUN'!Q40","v":0},{"$f":"'HEAVY GUN'!R40","v":0},0,"99",464,"DQ",null,{"$f":"'TACTICAL GUN'!B40","v":0},{"$f":"'TACTICAL GUN'!P40","v":0},{"$f":"'TACTICAL GUN'!Q40","v":0},{"$f":"'TACTICAL GUN'!R40","v":0},0,"99",464,"DQ"]
[465,"target 4",{"$f":"IF('Competitor List'!J20=\"Y\",'Competitor List'!B20,\" \")","v":" "},{"$f":"'LIGHT GUN'!P41","v":0},{"$f":"'LIGHT GUN'!Q41","v":0},{"$f":"'LIGHT GUN'!R41","v":0},0,"99",465,"DQ",null,{"$f":"IF('Competitor List'!K20=\"Y\",'Competitor List'!C20,\" \")","v":" "},{"$f":"'HEAVY GUN'!P41","v":0},{"$f":"'HEAVY GUN'!Q41","v":0},{"$f":"'HEAVY GUN'!R41","v":0},0,"99",465,"DQ",null,{"$f":"'TACTICAL GUN'!B41","v":0},{"$f":"'TACTICAL GUN'!P41","v":0},{"$f":"'TACTICAL GUN'!Q41","v":0},{"$f":"'TACTICAL GUN'!R41","v":0},0,"99",465,"DQ"]
[466,"target 4",{"$f":"IF('Competitor List'!J21=\"Y\",'Competitor List'!B21,\" \")","v":" "},{"$f":"'LIGHT GUN'!P42","v":0},{"$f":"'LIGHT GUN'!Q42","v":0},{"$f":"'LIGHT GUN'!R42","v":0},0,"99",466,"DQ",null,{"$f":"IF('Competitor List'!K21=\"Y\",'Competitor List'!C21,\" \")","v":" "},{"$f":"'HEAVY GUN'!P42","v":0},{"$f":"'HEAVY GUN'!Q42","v":0},{"$f":"'HEAVY GUN'!R42","v":0},0,"99",466,"DQ",null,{"$f":"'TACTICAL GUN'!B42","v":0},{"$f":"'TACTICAL GUN'!P42","v":0},{"$f":"'TACTICAL GUN'!Q42","v":0},{"$f":"'TACTICAL GUN'!R42","v":0},0,"99",466,"DQ"]
[467,"target 4",{"$f":"IF('Competitor List'!J22=\"Y\",'Competitor List'!B22,\" \")","v":" "},{"$f":"'LIGHT GUN'!P43","v":0},{"$f":"'LIGHT GUN'!Q43","v":0},{"$f":"'LIGHT GUN'!R43","v":0},0,"99",467,"DQ",null,{"$f":"IF('Competitor List'!K22=\"Y\",'Competitor List'!C22,\" \")","v":" "},{"$f":"'HEAVY GUN'!P43","v":0},{"$f":"'HEAVY GUN'!Q43","v":0},{"$f":"'HEAVY GUN'!R43","v":0},0,"99",467,"DQ",null,{"$f":"'TACTICAL GUN'!B43","v":0},{"$f":"'TACTICAL GUN'!P43","v":0},{"$f":"'TACTICAL GUN'!Q43","v":0},{"$f":"'TACTICAL GUN'!R43","v":0},0,"99",467,"DQ"]
[468,"target 4",{"$f":"IF('Competitor List'!J23=\"Y\",'Competitor List'!B23,\" \")","v":" "},{"$f":"'LIGHT GUN'!P44","v":0},{"$f":"'LIGHT GUN'!Q44","v":0},{"$f":"'LIGHT GUN'!R44","v":0},0,"99",468,"DQ",null,{"$f":"IF('Competitor List'!K23=\"Y\",'Competitor List'!C23,\" \")","v":" "},{"$f":"'HEAVY GUN'!P44","v":0},{"$f":"'HEAVY GUN'!Q44","v":0},{"$f":"'HEAVY GUN'!R44","v":0},0,"99",468,"DQ",null,{"$f":"'TACTICAL GUN'!B44","v":0},{"$f":"'TACTICAL GUN'!P44","v":0},{"$f":"'TACTICAL GUN'!Q44","v":0},{"$f":"'TACTICAL GUN'!R44","v":0},0,"99",468,"DQ"]
[469,"target 4",{"$f":"IF('Competitor List'!J24=\"Y\",'Competitor List'!B24,\" \")","v":" "},{"$f":"'LIGHT GUN'!P45","v":0},{"$f":"'LIGHT GUN'!Q45","v":0},{"$f":"'LIGHT GUN'!R45","v":0},0,"99",469,"DQ",null,{"$f":"IF('Competitor List'!K24=\"Y\",'Competitor List'!C24,\" \")","v":" "},{"$f":"'HEAVY GUN'!P45","v":0},{"$f":"'HEAVY GUN'!Q45","v":0},{"$f":"'HEAVY GUN'!R45","v":0},0,"99",469,"DQ",null,{"$f":"'TACTICAL GUN'!B45","v":0},{"$f":"'TACTICAL GUN'!P45","v":0},{"$f":"'TACTICAL GUN'!Q45","v":0},{"$f":"'TACTICAL GUN'!R45","v":0},0,"99",469,"DQ"]
[470,"target 4",{"$f":"IF('Competitor List'!J25=\"Y\",'Competitor List'!B25,\" \")","v":" "},{"$f":"'LIGHT GUN'!P46","v":0},{"$f":"'LIGHT GUN'!Q46","v":0},{"$f":"'LIGHT GUN'!R46","v":0},0,"99",470,"DQ",null,{"$f":"IF('Competitor List'!K25=\"Y\",'Competitor List'!C25,\" \")","v":" "},{"$f":"'HEAVY GUN'!P46","v":0},{"$f":"'HEAVY GUN'!Q46","v":0},{"$f":"'HEAVY GUN'!R46","v":0},0,"99",470,"DQ",null,{"$f":"'TACTICAL GUN'!B46","v":0},{"$f":"'TACTICAL GUN'!P46","v":0},{"$f":"'TACTICAL GUN'!Q46","v":0},{"$f":"'TACTICAL GUN'!R46","v":0},0,"99",470,"DQ"]
[471,"target 4",{"$f":"IF('Competitor List'!J26=\"Y\",'Competitor List'!B26,\" \")","v":" "},{"$f":"'LIGHT GUN'!P47","v":0},{"$f":"'LIGHT GUN'!Q47","v":0},{"$f":"'LIGHT GUN'!R47","v":0},0,"99",471,"DQ",null,{"$f":"IF('Competitor List'!K26=\"Y\",'Competitor List'!C26,\" \")","v":" "},{"$f":"'HEAVY GUN'!P47","v":0},{"$f":"'HEAVY GUN'!Q47","v":0},{"$f":"'HEAVY GUN'!R47","v":0},0,"99",471,"DQ",null,{"$f":"'TACTICAL GUN'!B47","v":0},{"$f":"'TACTICAL GUN'!P47","v":0},{"$f":"'TACTICAL GUN'!Q47","v":0},{"$f":"'TACTICAL GUN'!R47","v":0},0,"99",471,"DQ"]
[472,"target 4",{"$f":"IF('Competitor List'!J27=\"Y\",'Competitor List'!B27,\" \")","v":" "},{"$f":"'LIGHT GUN'!P48","v":0},{"$f":"'LIGHT GUN'!Q48","v":0},{"$f":"'LIGHT GUN'!R48","v":0},0,"99",472,"DQ",null,{"$f":"IF('Competitor List'!K27=\"Y\",'Competitor List'!C27,\" \")","v":" "},{"$f":"'HEAVY GUN'!P48","v":0},{"$f":"'HEAVY GUN'!Q48","v":0},{"$f":"'HEAVY GUN'!R48","v":0},0,"99",472,"DQ",null,{"$f":"'TACTICAL GUN'!B48","v":0},{"$f":"'TACTICAL GUN'!P48","v":0},{"$f":"'TACTICAL GUN'!Q48","v":0},{"$f":"'TACTICAL GUN'!R48","v":0},0,"99",472,"DQ"]
[473,"target 4",{"$f":"IF('Competitor List'!J28=\"Y\",'Competitor List'!B28,\" \")","v":" "},{"$f":"'LIGHT GUN'!P49","v":0},{"$f":"'LIGHT GUN'!Q49","v":0},{"$f":"'LIGHT GUN'!R49","v":0},0,"99",473,"DQ",null,{"$f":"IF('Competitor List'!K28=\"Y\",'Competitor List'!C28,\" \")","v":" "},{"$f":"'HEAVY GUN'!P49","v":0},{"$f":"'HEAVY GUN'!Q49","v":0},{"$f":"'HEAVY GUN'!R49","v":0},0,"99",473,"DQ",null,{"$f":"'TACTICAL GUN'!B49","v":0},{"$f":"'TACTICAL GUN'!P49","v":0},{"$f":"'TACTICAL GUN'!Q49","v":0},{"$f":"'TACTICAL GUN'!R49","v":0},0,"99",473,"DQ"]
[474,"target 4",{"$f":"IF('Competitor List'!J29=\"Y\",'Competitor List'!B29,\" \")","v":" "},{"$f":"'LIGHT GUN'!P50","v":0},{"$f":"'LIGHT GUN'!Q50","v":0},{"$f":"'LIGHT GUN'!R50","v":0},0,"99",474,"DQ",null,{"$f":"IF('Competitor List'!K29=\"Y\",'Competitor List'!C29,\" \")","v":" "},{"$f":"'HEAVY GUN'!P50","v":0},{"$f":"'HEAVY GUN'!Q50","v":0},{"$f":"'HEAVY GUN'!R50","v":0},0,"99",474,"DQ",null,{"$f":"'TACTICAL GUN'!B50","v":0},{"$f":"'TACTICAL GUN'!P50","v":0},{"$f":"'TACTICAL GUN'!Q50","v":0},{"$f":"'TACTICAL GUN'!R50","v":0},0,"99",474,"DQ"]
[475,"target 4",{"$f":"IF('Competitor List'!J30=\"Y\",'Competitor List'!B30,\" \")","v":" "},{"$f":"'LIGHT GUN'!P51","v":0},{"$f":"'LIGHT GUN'!Q51","v":0},{"$f":"'LIGHT GUN'!R51","v":0},0,"99",475,"DQ",null,{"$f":"IF('Competitor List'!K30=\"Y\",'Competitor List'!C30,\" \")","v":" "},{"$f":"'HEAVY GUN'!P51","v":0},{"$f":"'HEAVY GUN'!Q51","v":0},{"$f":"'HEAVY GUN'!R51","v":0},0,"99",475,"DQ",null,{"$f":"'TACTICAL GUN'!B51","v":0},{"$f":"'TACTICAL GUN'!P51","v":0},{"$f":"'TACTICAL GUN'!Q51","v":0},{"$f":"'TACTICAL GUN'!R51","v":0},0,"99",475,"DQ"]
[476,"target 4",{"$f":"IF('Competitor List'!J31=\"Y\",'Competitor List'!B31,\" \")","v":" "},{"$f":"'LIGHT GUN'!P52","v":0},{"$f":"'LIGHT GUN'!Q52","v":0},{"$f":"'LIGHT GUN'!R52","v":0},0,"99",476,"DQ",null,{"$f":"IF('Competitor List'!K31=\"Y\",'Competitor List'!C31,\" \")","v":" "},{"$f":"'HEAVY GUN'!P52","v":0},{"$f":"'HEAVY GUN'!Q52","v":0},{"$f":"'HEAVY GUN'!R52","v":0},0,"99",476,"DQ",null,{"$f":"'TACTICAL GUN'!B52","v":0},{"$f":"'TACTICAL GUN'!P52","v":0},{"$f":"'TACTICAL GUN'!Q52","v":0},{"$f":"'TACTICAL GUN'!R52","v":0},0,"99",476,"DQ"]
[477,"target 4",{"$f":"IF('Competitor List'!J32=\"Y\",'Competitor List'!B32,\" \")","v":" "},{"$f":"'LIGHT GUN'!P53","v":0},{"$f":"'LIGHT GUN'!Q53","v":0},{"$f":"'LIGHT GUN'!R53","v":0},0,"99",477,"DQ",null,{"$f":"IF('Competitor List'!K32=\"Y\",'Competitor List'!C32,\" \")","v":" "},{"$f":"'HEAVY GUN'!P53","v":0},{"$f":"'HEAVY GUN'!Q53","v":0},{"$f":"'HEAVY GUN'!R53","v":0},0,"99",477,"DQ",null,{"$f":"'TACTICAL GUN'!B53","v":0},{"$f":"'TACTICAL GUN'!P53","v":0},{"$f":"'TACTICAL GUN'!Q53","v":0},{"$f":"'TACTICAL GUN'!R53","v":0},0,"99",477,"DQ"]
[478,"target 4",{"$f":"IF('Competitor List'!J33=\"Y\",'Competitor List'!B33,\" \")","v":" "},{"$f":"'LIGHT GUN'!P54","v":0},{"$f":"'LIGHT GUN'!Q54","v":0},{"$f":"'LIGHT GUN'!R54","v":0},0,"99",478,"DQ",null,{"$f":"IF('Competitor List'!K33=\"Y\",'Competitor List'!C33,\" \")","v":" "},{"$f":"'HEAVY GUN'!P54","v":0},{"$f":"'HEAVY GUN'!Q54","v":0},{"$f":"'HEAVY GUN'!R54","v":0},0,"99",478,"DQ",null,{"$f":"'TACTICAL GUN'!B54","v":0},{"$f":"'TACTICAL GUN'!P54","v":0},{"$f":"'TACTICAL GUN'!Q54","v":0},{"$f":"'TACTICAL GUN'!R54","v":0},0,"99",478,"DQ"]
[479,"target 4",{"$f":"IF('Competitor List'!J34=\"Y\",'Competitor List'!B34,\" \")","v":" "},{"$f":"'LIGHT GUN'!P55","v":0},{"$f":"'LIGHT GUN'!Q55","v":0},{"$f":"'LIGHT GUN'!R55","v":0},0,"99",479,"DQ",null,{"$f":"IF('Competitor List'!K34=\"Y\",'Competitor List'!C34,\" \")","v":" "},{"$f":"'HEAVY GUN'!P55","v":0},{"$f":"'HEAVY GUN'!Q55","v":0},{"$f":"'HEAVY GUN'!R55","v":0},0,"99",479,"DQ",null,{"$f":"'TACTICAL GUN'!B55","v":0},{"$f":"'TACTICAL GUN'!P55","v":0},{"$f":"'TACTICAL GUN'!Q55","v":0},{"$f":"'TACTICAL GUN'!R55","v":0},0,"99",479,"DQ"]
[480,"target 4",{"$f":"IF('Competitor List'!J35=\"Y\",'Competitor List'!B35,\" \")","v":" "},{"$f":"'LIGHT GUN'!P56","v":0},{"$f":"'LIGHT GUN'!Q56","v":0},{"$f":"'LIGHT GUN'!R56","v":0},0,"99",480,"DQ",null,{"$f":"IF('Competitor List'!K35=\"Y\",'Competitor List'!C35,\" \")","v":" "},{"$f":"'HEAVY GUN'!P56","v":0},{"$f":"'HEAVY GUN'!Q56","v":0},{"$f":"'HEAVY GUN'!R56","v":0},0,"99",480,"DQ",null,{"$f":"'TACTICAL GUN'!B56","v":0},{"$f":"'TACTICAL GUN'!P56","v":0},{"$f":"'TACTICAL GUN'!Q56","v":0},{"$f":"'TACTICAL GUN'!R56","v":0},0,"99",480,"DQ"]
[481,"target 4",{"$f":"IF('Competitor List'!J36=\"Y\",'Competitor List'!B36,\" \")","v":" "},{"$f":"'LIGHT GUN'!P57","v":0},{"$f":"'LIGHT GUN'!Q57","v":0},{"$f":"'LIGHT GUN'!R57","v":0},0,"99",481,"DQ",null,{"$f":"IF('Competitor List'!K36=\"Y\",'Competitor List'!C36,\" \")","v":" "},{"$f":"'HEAVY GUN'!P57","v":0},{"$f":"'HEAVY GUN'!Q57","v":0},{"$f":"'HEAVY GUN'!R57","v":0},0,"99",481,"DQ",null,{"$f":"'TACTICAL GUN'!B57","v":0},{"$f":"'TACTICAL GUN'!P57","v":0},{"$f":"'TACTICAL GUN'!Q57","v":0},{"$f":"'TACTICAL GUN'!R57","v":0},0,"99",481,"DQ"]
[482,"target 4",{"$f":"IF('Competitor List'!J37=\"Y\",'Competitor List'!B37,\" \")","v":" "},{"$f":"'LIGHT GUN'!P58","v":0},{"$f":"'LIGHT GUN'!Q58","v":0},{"$f":"'LIGHT GUN'!R58","v":0},0,"99",482,"DQ",null,{"$f":"IF('Competitor List'!K37=\"Y\",'Competitor List'!C37,\" \")","v":" "},{"$f":"'HEAVY GUN'!P58","v":0},{"$f":"'HEAVY GUN'!Q58","v":0},{"$f":"'HEAVY GUN'!R58","v":0},0,"99",482,"DQ",null,{"$f":"'TACTICAL GUN'!B58","v":0},{"$f":"'TACTICAL GUN'!P58","v":0},{"$f":"'TACTICAL GUN'!Q58","v":0},{"$f":"'TACTICAL GUN'!R58","v":0},0,"99",482,"DQ"]
[483,"target 4",{"$f":"IF('Competitor List'!J38=\"Y\",'Competitor List'!B38,\" \")","v":" "},{"$f":"'LIGHT GUN'!P59","v":0},{"$f":"'LIGHT GUN'!Q59","v":0},{"$f":"'LIGHT GUN'!R59","v":0},0,"99",483,"DQ",null,{"$f":"IF('Competitor List'!K38=\"Y\",'Competitor List'!C38,\" \")","v":" "},{"$f":"'HEAVY GUN'!P59","v":0},{"$f":"'HEAVY GUN'!Q59","v":0},{"$f":"'HEAVY GUN'!R59","v":0},0,"99",483,"DQ",null,{"$f":"'TACTICAL GUN'!B59","v":0},{"$f":"'TACTICAL GUN'!P59","v":0},{"$f":"'TACTICAL GUN'!Q59","v":0},{"$f":"'TACTICAL GUN'!R59","v":0},0,"99",483,"DQ"]
[484,"target 4",{"$f":"IF('Competitor List'!J39=\"Y\",'Competitor List'!B39,\" \")","v":" "},{"$f":"'LIGHT GUN'!P60","v":0},{"$f":"'LIGHT GUN'!Q60","v":0},{"$f":"'LIGHT GUN'!R60","v":0},0,"99",484,"DQ",null,{"$f":"IF('Competitor List'!K39=\"Y\",'Competitor List'!C39,\" \")","v":" "},{"$f":"'HEAVY GUN'!P60","v":0},{"$f":"'HEAVY GUN'!Q60","v":0},{"$f":"'HEAVY GUN'!R60","v":0},0,"99",484,"DQ",null,{"$f":"'TACTICAL GUN'!B60","v":0},{"$f":"'TACTICAL GUN'!P60","v":0},{"$f":"'TACTICAL GUN'!Q60","v":0},{"$f":"'TACTICAL GUN'!R60","v":0},0,"99",484,"DQ"]
[485,"target 4",{"$f":"IF('Competitor List'!J40=\"Y\",'Competitor List'!B40,\" \")","v":" "},{"$f":"'LIGHT GUN'!P61","v":0},{"$f":"'LIGHT GUN'!Q61","v":0},{"$f":"'LIGHT GUN'!R61","v":0},0,"99",485,"DQ",null,{"$f":"IF('Competitor List'!K40=\"Y\",'Competitor List'!C40,\" \")","v":" "},{"$f":"'HEAVY GUN'!P61","v":0},{"$f":"'HEAVY GUN'!Q61","v":0},{"$f":"'HEAVY GUN'!R61","v":0},0,"99",485,"DQ",null,{"$f":"'TACTICAL GUN'!B61","v":0},{"$f":"'TACTICAL GUN'!P61","v":0},{"$f":"'TACTICAL GUN'!Q61","v":0},{"$f":"'TACTICAL GUN'!R61","v":0},0,"99",485,"DQ"]
[486,"target 4",{"$f":"IF('Competitor List'!J41=\"Y\",'Competitor List'!B41,\" \")","v":" "},{"$f":"'LIGHT GUN'!P62","v":0},{"$f":"'LIGHT GUN'!Q62","v":0},{"$f":"'LIGHT GUN'!R62","v":0},0,"99",486,"DQ",null,{"$f":"IF('Competitor List'!K41=\"Y\",'Competitor List'!C41,\" \")","v":" "},{"$f":"'HEAVY GUN'!P62","v":0},{"$f":"'HEAVY GUN'!Q62","v":0},{"$f":"'HEAVY GUN'!R62","v":0},0,"99",486,"DQ",null,{"$f":"'TACTICAL GUN'!B62","v":0},{"$f":"'TACTICAL GUN'!P62","v":0},{"$f":"'TACTICAL GUN'!Q62","v":0},{"$f":"'TACTICAL GUN'!R62","v":0},0,"99",486,"DQ"]
[487,"target 4",{"$f":"IF('Competitor List'!J42=\"Y\",'Competitor List'!B42,\" \")","v":" "},{"$f":"'LIGHT GUN'!P63","v":0},{"$f":"'LIGHT GUN'!Q63","v":0},{"$f":"'LIGHT GUN'!R63","v":0},0,"99",487,"DQ",null,{"$f":"IF('Competitor List'!K42=\"Y\",'Competitor List'!C42,\" \")","v":" "},{"$f":"'HEAVY GUN'!P63","v":0},{"$f":"'HEAVY GUN'!Q63","v":0},{"$f":"'HEAVY GUN'!R63","v":0},0,"99",487,"DQ",null,{"$f":"'TACTICAL GUN'!B63","v":0},{"$f":"'TACTICAL GUN'!P63","v":0},{"$f":"'TACTICAL GUN'!Q63","v":0},{"$f":"'TACTICAL GUN'!R63","v":0},0,"99",487,"DQ"]
[488,"target 4",{"$f":"IF('Competitor List'!J43=\"Y\",'Competitor List'!B43,\" \")","v":" "},{"$f":"'LIGHT GUN'!P64","v":0},{"$f":"'LIGHT GUN'!Q64","v":0},{"$f":"'LIGHT GUN'!R64","v":0},0,"99",488,"DQ",null,{"$f":"IF('Competitor List'!K43=\"Y\",'Competitor List'!C43,\" \")","v":" "},{"$f":"'HEAVY GUN'!P64","v":0},{"$f":"'HEAVY GUN'!Q64","v":0},{"$f":"'HEAVY GUN'!R64","v":0},0,"99",488,"DQ",null,{"$f":"'TACTICAL GUN'!B64","v":0},{"$f":"'TACTICAL GUN'!P64","v":0},{"$f":"'TACTICAL GUN'!Q64","v":0},{"$f":"'TACTICAL GUN'!R64","v":0},0,"99",488,"DQ"]
[489,"target 4",{"$f":"IF('Competitor List'!J44=\"Y\",'Competitor List'!B44,\" \")","v":" "},{"$f":"'LIGHT GUN'!P65","v":0},{"$f":"'LIGHT GUN'!Q65","v":0},{"$f":"'LIGHT GUN'!R65","v":0},0,"99",489,"DQ",null,{"$f":"IF('Competitor List'!K44=\"Y\",'Competitor List'!C44,\" \")","v":" "},{"$f":"'HEAVY GUN'!P65","v":0},{"$f":"'HEAVY GUN'!Q65","v":0},{"$f":"'HEAVY GUN'!R65","v":0},0,"99",489,"DQ",null,{"$f":"'TACTICAL GUN'!B65","v":0},{"$f":"'TACTICAL GUN'!P65","v":0},{"$f":"'TACTICAL GUN'!Q65","v":0},{"$f":"'TACTICAL GUN'!R65","v":0},0,"99",489,"DQ"]
[490,"target 4",{"$f":"IF('Competitor List'!J45=\"Y\",'Competitor List'!B45,\" \")","v":" "},{"$f":"'LIGHT GUN'!P66","v":0},{"$f":"'LIGHT GUN'!Q66","v":0},{"$f":"'LIGHT GUN'!R66","v":0},0,"99",490,"DQ",null,{"$f":"IF('Competitor List'!K45=\"Y\",'Competitor List'!C45,\" \")","v":" "},{"$f":"'HEAVY GUN'!P66","v":0},{"$f":"'HEAVY GUN'!Q66","v":0},{"$f":"'HEAVY GUN'!R66","v":0},0,"99",490,"DQ",null,{"$f":"'TACTICAL GUN'!B66","v":0},{"$f":"'TACTICAL GUN'!P66","v":0},{"$f":"'TACTICAL GUN'!Q66","v":0},{"$f":"'TACTICAL GUN'!R66","v":0},0,"99",490,"DQ"]
[491,"target 4",{"$f":"IF('Competitor List'!J46=\"Y\",'Competitor List'!B46,\" \")","v":" "},{"$f":"'LIGHT GUN'!P67","v":0},{"$f":"'LIGHT GUN'!Q67","v":0},{"$f":"'LIGHT GUN'!R67","v":0},0,"99",491,"DQ",null,{"$f":"IF('Competitor List'!K46=\"Y\",'Competitor List'!C46,\" \")","v":" "},{"$f":"'HEAVY GUN'!P67","v":0},{"$f":"'HEAVY GUN'!Q67","v":0},{"$f":"'HEAVY GUN'!R67","v":0},0,"99",491,"DQ",null,{"$f":"'TACTICAL GUN'!B67","v":0},{"$f":"'TACTICAL GUN'!P67","v":0},{"$f":"'TACTICAL GUN'!Q67","v":0},{"$f":"'TACTICAL GUN'!R67","v":0},0,"99",491,"DQ"]
[492,"target 4",{"$f":"IF('Competitor List'!J47=\"Y\",'Competitor List'!B47,\" \")","v":" "},{"$f":"'LIGHT GUN'!P68","v":0},{"$f":"'LIGHT GUN'!Q68","v":0},{"$f":"'LIGHT GUN'!R68","v":0},0,"99",492,"DQ",null,{"$f":"IF('Competitor List'!K47=\"Y\",'Competitor List'!C47,\" \")","v":" "},{"$f":"'HEAVY GUN'!P68","v":0},{"$f":"'HEAVY GUN'!Q68","v":0},{"$f":"'HEAVY GUN'!R68","v":0},0,"99",492,"DQ",null,{"$f":"'TACTICAL GUN'!B68","v":0},{"$f":"'TACTICAL GUN'!P68","v":0},{"$f":"'TACTICAL GUN'!Q68","v":0},{"$f":"'TACTICAL GUN'!R68","v":0},0,"99",492,"DQ"]
[493,"target 4",{"$f":"IF('Competitor List'!J48=\"Y\",'Competitor List'!B48,\" \")","v":" "},{"$f":"'LIGHT GUN'!P69","v":0},{"$f":"'LIGHT GUN'!Q69","v":0},{"$f":"'LIGHT GUN'!R69","v":0},0,"99",493,"DQ",null,{"$f":"IF('Competitor List'!K48=\"Y\",'Competitor List'!C48,\" \")","v":" "},{"$f":"'HEAVY GUN'!P69","v":0},{"$f":"'HEAVY GUN'!Q69","v":0},{"$f":"'HEAVY GUN'!R69","v":0},0,"99",493,"DQ",null,{"$f":"'TACTICAL GUN'!B69","v":0},{"$f":"'TACTICAL GUN'!P69","v":0},{"$f":"'TACTICAL GUN'!Q69","v":0},{"$f":"'TACTICAL GUN'!R69","v":0},0,"99",493,"DQ"]
[494,"target 4",{"$f":"IF('Competitor List'!J49=\"Y\",'Competitor List'!B49,\" \")","v":" "},{"$f":"'LIGHT GUN'!P70","v":0},{"$f":"'LIGHT GUN'!Q70","v":0},{"$f":"'LIGHT GUN'!R70","v":0},0,"99",494,"DQ",null,{"$f":"IF('Competitor List'!K49=\"Y\",'Competitor List'!C49,\" \")","v":" "},{"$f":"'HEAVY GUN'!P70","v":0},{"$f":"'HEAVY GUN'!Q70","v":0},{"$f":"'HEAVY GUN'!R70","v":0},0,"99",494,"DQ",null,{"$f":"'TACTICAL GUN'!B70","v":0},{"$f":"'TACTICAL GUN'!P70","v":0},{"$f":"'TACTICAL GUN'!Q70","v":0},{"$f":"'TACTICAL GUN'!R70","v":0},0,"99",494,"DQ"]
[495,"target 4",{"$f":"IF('Competitor List'!J50=\"Y\",'Competitor List'!B50,\" \")","v":" "},{"$f":"'LIGHT GUN'!P71","v":0},{"$f":"'LIGHT GUN'!Q71","v":0},{"$f":"'LIGHT GUN'!R71","v":0},0,"99",495,"DQ",null,{"$f":"IF('Competitor List'!K50=\"Y\",'Competitor List'!C50,\" \")","v":" "},{"$f":"'HEAVY GUN'!P71","v":0},{"$f":"'HEAVY GUN'!Q71","v":0},{"$f":"'HEAVY GUN'!R71","v":0},0,"99",495,"DQ",null,{"$f":"'TACTICAL GUN'!B71","v":0},{"$f":"'TACTICAL GUN'!P71","v":0},{"$f":"'TACTICAL GUN'!Q71","v":0},{"$f":"'TACTICAL GUN'!R71","v":0},0,"99",495,"DQ"]
[496,"target 4",{"$f":"IF('Competitor List'!J51=\"Y\",'Competitor List'!B51,\" \")","v":" "},{"$f":"'LIGHT GUN'!P72","v":0},{"$f":"'LIGHT GUN'!Q72","v":0},{"$f":"'LIGHT GUN'!R72","v":0},0,"99",496,"DQ",null,{"$f":"IF('Competitor List'!K51=\"Y\",'Competitor List'!C51,\" \")","v":" "},{"$f":"'HEAVY GUN'!P72","v":0},{"$f":"'HEAVY GUN'!Q72","v":0},{"$f":"'HEAVY GUN'!R72","v":0},0,"99",496,"DQ",null,{"$f":"'TACTICAL GUN'!B72","v":0},{"$f":"'TACTICAL GUN'!P72","v":0},{"$f":"'TACTICAL GUN'!Q72","v":0},{"$f":"'TACTICAL GUN'!R72","v":0},0,"99",496,"DQ"]
[497,"target 4",{"$f":"IF('Competitor List'!J52=\"Y\",'Competitor List'!B52,\" \")","v":" "},{"$f":"'LIGHT GUN'!P73","v":0},{"$f":"'LIGHT GUN'!Q73","v":0},{"$f":"'LIGHT GUN'!R73","v":0},0,"99",497,"DQ",null,{"$f":"IF('Competitor List'!K52=\"Y\",'Competitor List'!C52,\" \")","v":" "},{"$f":"'HEAVY GUN'!P73","v":0},{"$f":"'HEAVY GUN'!Q73","v":0},{"$f":"'HEAVY GUN'!R73","v":0},0,"99",497,"DQ",null,{"$f":"'TACTICAL GUN'!B73","v":0},{"$f":"'TACTICAL GUN'!P73","v":0},{"$f":"'TACTICAL GUN'!Q73","v":0},{"$f":"'TACTICAL GUN'!R73","v":0},0,"99",497,"DQ"]
[498,"target 4",{"$f":"IF('Competitor List'!J53=\"Y\",'Competitor List'!B53,\" \")","v":" "},{"$f":"'LIGHT GUN'!P74","v":0},{"$f":"'LIGHT GUN'!Q74","v":0},{"$f":"'LIGHT GUN'!R74","v":0},0,"99",498,"DQ",null,{"$f":"IF('Competitor List'!K53=\"Y\",'Competitor List'!C53,\" \")","v":" "},{"$f":"'HEAVY GUN'!P74","v":0},{"$f":"'HEAVY GUN'!Q74","v":0},{"$f":"'HEAVY GUN'!R74","v":0},0,"99",498,"DQ",null,{"$f":"'TACTICAL GUN'!B74","v":0},{"$f":"'TACTICAL GUN'!P74","v":0},{"$f":"'TACTICAL GUN'!Q74","v":0},{"$f":"'TACTICAL GUN'!R74","v":0},0,"99",498,"DQ"]
[499,"target 4",{"$f":"IF('Competitor List'!J54=\"Y\",'Competitor List'!B54,\" \")","v":" "},{"$f":"'LIGHT GUN'!P75","v":0},{"$f":"'LIGHT GUN'!Q75","v":0},{"$f":"'LIGHT GUN'!R75","v":0},0,"99",499,"DQ",null,{"$f":"IF('Competitor List'!K54=\"Y\",'Competitor List'!C54,\" \")","v":" "},{"$f":"'HEAVY GUN'!P75","v":0},{"$f":"'HEAVY GUN'!Q75","v":0},{"$f":"'HEAVY GUN'!R75","v":0},0,"99",499,"DQ",null,{"$f":"'TACTICAL GUN'!B75","v":0},{"$f":"'TACTICAL GUN'!P75","v":0},{"$f":"'TACTICAL GUN'!Q75","v":0},{"$f":"'TACTICAL GUN'!R75","v":0},0,"99",499,"DQ"]
[500,"target 4",{"$f":"IF('Competitor List'!J55=\"Y\",'Competitor List'!B55,\" \")","v":" "},{"$f":"'LIGHT GUN'!P76","v":0},{"$f":"'LIGHT GUN'!Q76","v":0},{"$f":"'LIGHT GUN'!R76","v":0},0,"99",500,"DQ",null,{"$f":"IF('Competitor List'!K55=\"Y\",'Competitor List'!C55,\" \")","v":" "},{"$f":"'HEAVY GUN'!P76","v":0},{"$f":"'HEAVY GUN'!Q76","v":0},{"$f":"'HEAVY GUN'!R76","v":0},0,"99",500,"DQ",null,{"$f":"'TACTICAL GUN'!B76","v":0},{"$f":"'TACTICAL GUN'!P76","v":0},{"$f":"'TACTICAL GUN'!Q76","v":0},{"$f":"'TACTICAL GUN'!R76","v":0},0,"99",500,"DQ"]
[501,"target 4",{"$f":"IF('Competitor List'!J56=\"Y\",'Competitor List'!B56,\" \")","v":" "},{"$f":"'LIGHT GUN'!P77","v":0},{"$f":"'LIGHT GUN'!Q77","v":0},{"$f":"'LIGHT GUN'!R77","v":0},0,"99",501,"DQ",null,{"$f":"IF('Competitor List'!K56=\"Y\",'Competitor List'!C56,\" \")","v":" "},{"$f":"'HEAVY GUN'!P77","v":0},{"$f":"'HEAVY GUN'!Q77","v":0},{"$f":"'HEAVY GUN'!R77","v":0},0,"99",501,"DQ",null,{"$f":"'TACTICAL GUN'!B77","v":0},{"$f":"'TACTICAL GUN'!P77","v":0},{"$f":"'TACTICAL GUN'!Q77","v":0},{"$f":"'TACTICAL GUN'!R77","v":0},0,"99",501,"DQ"]
[502,"target 4",{"$f":"IF('Competitor List'!J57=\"Y\",'Competitor List'!B57,\" \")","v":" "},{"$f":"'LIGHT GUN'!P78","v":0},{"$f":"'LIGHT GUN'!Q78","v":0},{"$f":"'LIGHT GUN'!R78","v":0},0,"99",502,"DQ",null,{"$f":"IF('Competitor List'!K57=\"Y\",'Competitor List'!C57,\" \")","v":" "},{"$f":"'HEAVY GUN'!P78","v":0},{"$f":"'HEAVY GUN'!Q78","v":0},{"$f":"'HEAVY GUN'!R78","v":0},0,"99",502,"DQ",null,{"$f":"'TACTICAL GUN'!B78","v":0},{"$f":"'TACTICAL GUN'!P78","v":0},{"$f":"'TACTICAL GUN'!Q78","v":0},{"$f":"'TACTICAL GUN'!R78","v":0},0,"99",502,"DQ"]
[503,"target 4",{"$f":"IF('Competitor List'!J58=\"Y\",'Competitor List'!B58,\" \")","v":" "},{"$f":"'LIGHT GUN'!P79","v":0},{"$f":"'LIGHT GUN'!Q79","v":0},{"$f":"'LIGHT GUN'!R79","v":0},0,"99",503,"DQ",null,{"$f":"IF('Competitor List'!K58=\"Y\",'Competitor List'!C58,\" \")","v":" "},{"$f":"'HEAVY GUN'!P79","v":0},{"$f":"'HEAVY GUN'!Q79","v":0},{"$f":"'HEAVY GUN'!R79","v":0},0,"99",503,"DQ",null,{"$f":"'TACTICAL GUN'!B79","v":0},{"$f":"'TACTICAL GUN'!P79","v":0},{"$f":"'TACTICAL GUN'!Q79","v":0},{"$f":"'TACTICAL GUN'!R79","v":0},0,"99",503,"DQ"]
[504,"target 4",{"$f":"IF('Competitor List'!J59=\"Y\",'Competitor List'!B59,\" \")","v":" "},{"$f":"'LIGHT GUN'!P80","v":0},{"$f":"'LIGHT GUN'!Q80","v":0},{"$f":"'LIGHT GUN'!R80","v":0},0,"99",504,"DQ",null,{"$f":"IF('Competitor List'!K59=\"Y\",'Competitor List'!C59,\" \")","v":" "},{"$f":"'HEAVY GUN'!P80","v":0},{"$f":"'HEAVY GUN'!Q80","v":0},{"$f":"'HEAVY GUN'!R80","v":0},0,"99",504,"DQ",null,{"$f":"'TACTICAL GUN'!B80","v":0},{"$f":"'TACTICAL GUN'!P80","v":0},{"$f":"'TACTICAL GUN'!Q80","v":0},{"$f":"'TACTICAL GUN'!R80","v":0},0,"99",504,"DQ"]
[505,"target 4",{"$f":"IF('Competitor List'!J60=\"Y\",'Competitor List'!B60,\" \")","v":" "},{"$f":"'LIGHT GUN'!P81","v":0},{"$f":"'LIGHT GUN'!Q81","v":0},{"$f":"'LIGHT GUN'!R81","v":0},0,"99",505,"DQ",null,{"$f":"IF('Competitor List'!K60=\"Y\",'Competitor List'!C60,\" \")","v":" "},{"$f":"'HEAVY GUN'!P81","v":0},{"$f":"'HEAVY GUN'!Q81","v":0},{"$f":"'HEAVY GUN'!R81","v":0},0,"99",505,"DQ",null,{"$f":"'TACTICAL GUN'!B81","v":0},{"$f":"'TACTICAL GUN'!P81","v":0},{"$f":"'TACTICAL GUN'!Q81","v":0},{"$f":"'TACTICAL GUN'!R81","v":0},0,"99",505,"DQ"]
[506,"target 4",{"$f":"IF('Competitor List'!J61=\"Y\",'Competitor List'!B61,\" \")","v":" "},{"$f":"'LIGHT GUN'!P82","v":0},{"$f":"'LIGHT GUN'!Q82","v":0},{"$f":"'LIGHT GUN'!R82","v":0},0,"99",506,"DQ",null,{"$f":"IF('Competitor List'!K61=\"Y\",'Competitor List'!C61,\" \")","v":" "},{"$f":"'HEAVY GUN'!P82","v":0},{"$f":"'HEAVY GUN'!Q82","v":0},{"$f":"'HEAVY GUN'!R82","v":0},0,"99",506,"DQ",null,{"$f":"'TACTICAL GUN'!B82","v":0},{"$f":"'TACTICAL GUN'!P82","v":0},{"$f":"'TACTICAL GUN'!Q82","v":0},{"$f":"'TACTICAL GUN'!R82","v":0},0,"99",506,"DQ"]
[507,"target 4",{"$f":"IF('Competitor List'!J62=\"Y\",'Competitor List'!B62,\" \")","v":" "},{"$f":"'LIGHT GUN'!P83","v":0},{"$f":"'LIGHT GUN'!Q83","v":0},{"$f":"'LIGHT GUN'!R83","v":0},0,"99",507,"DQ",null,{"$f":"IF('Competitor List'!K62=\"Y\",'Competitor List'!C62,\" \")","v":" "},{"$f":"'HEAVY GUN'!P83","v":0},{"$f":"'HEAVY GUN'!Q83","v":0},{"$f":"'HEAVY GUN'!R83","v":0},0,"99",507,"DQ",null,{"$f":"'TACTICAL GUN'!B83","v":0},{"$f":"'TACTICAL GUN'!P83","v":0},{"$f":"'TACTICAL GUN'!Q83","v":0},{"$f":"'TACTICAL GUN'!R83","v":0},0,"99",507,"DQ"]
[508,"target 4",{"$f":"IF('Competitor List'!J63=\"Y\",'Competitor List'!B63,\" \")","v":" "},{"$f":"'LIGHT GUN'!P84","v":0},{"$f":"'LIGHT GUN'!Q84","v":0},{"$f":"'LIGHT GUN'!R84","v":0},0,"99",508,"DQ",null,{"$f":"IF('Competitor List'!K63=\"Y\",'Competitor List'!C63,\" \")","v":" "},{"$f":"'HEAVY GUN'!P84","v":0},{"$f":"'HEAVY GUN'!Q84","v":0},{"$f":"'HEAVY GUN'!R84","v":0},0,"99",508,"DQ",null,{"$f":"'TACTICAL GUN'!B84","v":0},{"$f":"'TACTICAL GUN'!P84","v":0},{"$f":"'TACTICAL GUN'!Q84","v":0},{"$f":"'TACTICAL GUN'!R84","v":0},0,"99",508,"DQ"]
[509,"target 4",{"$f":"IF('Competitor List'!J64=\"Y\",'Competitor List'!B64,\" \")","v":" "},{"$f":"'LIGHT GUN'!P85","v":0},{"$f":"'LIGHT GUN'!Q85","v":0},{"$f":"'LIGHT GUN'!R85","v":0},0,"99",509,"DQ",null,{"$f":"IF('Competitor List'!K64=\"Y\",'Competitor List'!C64,\" \")","v":" "},{"$f":"'HEAVY GUN'!P85","v":0},{"$f":"'HEAVY GUN'!Q85","v":0},{"$f":"'HEAVY GUN'!R85","v":0},0,"99",509,"DQ",null,{"$f":"'TACTICAL GUN'!B85","v":0},{"$f":"'TACTICAL GUN'!P85","v":0},{"$f":"'TACTICAL GUN'!Q85","v":0},{"$f":"'TACTICAL GUN'!R85","v":0},0,"99",509,"DQ"]
[510,"target 4",{"$f":"IF('Competitor List'!J65=\"Y\",'Competitor List'!B65,\" \")","v":" "},{"$f":"'LIGHT GUN'!P86","v":0},{"$f":"'LIGHT GUN'!Q86","v":0},{"$f":"'LIGHT GUN'!R86","v":0},0,"99",510,"DQ",null,{"$f":"IF('Competitor List'!K65=\"Y\",'Competitor List'!C65,\" \")","v":" "},{"$f":"'HEAVY GUN'!P86","v":0},{"$f":"'HEAVY GUN'!Q86","v":0},{"$f":"'HEAVY GUN'!R86","v":0},0,"99",510,"DQ",null,{"$f":"'TACTICAL GUN'!B86","v":0},{"$f":"'TACTICAL GUN'!P86","v":0},{"$f":"'TACTICAL GUN'!Q86","v":0},{"$f":"'TACTICAL GUN'!R86","v":0},0,"99",510,"DQ"]
[511,"target 4",{"$f":"IF('Competitor List'!J66=\"Y\",'Competitor List'!B66,\" \")","v":" "},{"$f":"'LIGHT GUN'!P87","v":0},{"$f":"'LIGHT GUN'!Q87","v":0},{"$f":"'LIGHT GUN'!R87","v":0},0,"99",511,"DQ",null,{"$f":"IF('Competitor List'!K66=\"Y\",'Competitor List'!C66,\" \")","v":" "},{"$f":"'HEAVY GUN'!P87","v":0},{"$f":"'HEAVY GUN'!Q87","v":0},{"$f":"'HEAVY GUN'!R87","v":0},0,"99",511,"DQ",null,{"$f":"'TACTICAL GUN'!B87","v":0},{"$f":"'TACTICAL GUN'!P87","v":0},{"$f":"'TACTICAL GUN'!Q87","v":0},{"$f":"'TACTICAL GUN'!R87","v":0},0,"99",511,"DQ"]
[512,"target 4",{"$f":"IF('Competitor List'!J67=\"Y\",'Competitor List'!B67,\" \")","v":" "},{"$f":"'LIGHT GUN'!P88","v":0},{"$f":"'LIGHT GUN'!Q88","v":0},{"$f":"'LIGHT GUN'!R88","v":0},0,"99",512,"DQ",null,{"$f":"IF('Competitor List'!K67=\"Y\",'Competitor List'!C67,\" \")","v":" "},{"$f":"'HEAVY GUN'!P88","v":0},{"$f":"'HEAVY GUN'!Q88","v":0},{"$f":"'HEAVY GUN'!R88","v":0},0,"99",512,"DQ",null,{"$f":"'TACTICAL GUN'!B88","v":0},{"$f":"'TACTICAL GUN'!P88","v":0},{"$f":"'TACTICAL GUN'!Q88","v":0},{"$f":"'TACTICAL GUN'!R88","v":0},0,"99",512,"DQ"]
[513,"target 4",{"$f":"IF('Competitor List'!J68=\"Y\",'Competitor List'!B68,\" \")","v":" "},{"$f":"'LIGHT GUN'!P89","v":0},{"$f":"'LIGHT GUN'!Q89","v":0},{"$f":"'LIGHT GUN'!R89","v":0},0,"99",513,"DQ",null,{"$f":"IF('Competitor List'!K68=\"Y\",'Competitor List'!C68,\" \")","v":" "},{"$f":"'HEAVY GUN'!P89","v":0},{"$f":"'HEAVY GUN'!Q89","v":0},{"$f":"'HEAVY GUN'!R89","v":0},0,"99",513,"DQ",null,{"$f":"'TACTICAL GUN'!B89","v":0},{"$f":"'TACTICAL GUN'!P89","v":0},{"$f":"'TACTICAL GUN'!Q89","v":0},{"$f":"'TACTICAL GUN'!R89","v":0},0,"99",513,"DQ"]
[514,"target 4",{"$f":"IF('Competitor List'!J69=\"Y\",'Competitor List'!B69,\" \")","v":" "},{"$f":"'LIGHT GUN'!P90","v":0},{"$f":"'LIGHT GUN'!Q90","v":0},{"$f":"'LIGHT GUN'!R90","v":0},{"$f":"IF(ISNUMBER(F520),SUM(F520),\"99\")","v":0},{"$f":"IF(G520=0,\"99\",G520)","v":"99"},{"$f":" IF(AND(ISNUMBER(D520)),RANK(D520,$D$7:$D$606,0)+SUMPRODUCT(($D$7:$D$606=D520)*($F$7:$F$606<F520))+SUMPRODUCT(($D$7:$D$606=D520)*($F$7:$F$606=F520)*($E$7:$E$606>E520))+SUMPRODUCT(($D$7:$D$606=D520)*($F$7:$F$606=F520)*($E$7:$E$606=E520)*($A$7:$A$606<A520)),\"DQ\")","v":514},{"$f":" IF(AND(ISNUMBER(H520)),RANK(H520,$H$7:$H$606,1)+SUMPRODUCT(($H$7:$H$606=H520)*($D$7:$D$606>D520))+SUMPRODUCT(($H$7:$H$606=H520)*($D$7:$D$606=D520)*($E$7:$E$606>E520))+SUMPRODUCT(($H$7:$H$606=H520)*($D$7:$D$606=D520)*($E$7:$E$606=E520)*($A$7:$A$606<A520)),\"DQ\")","v":"DQ"},null,{"$f":"IF('Competitor List'!K69=\"Y\",'Competitor List'!C69,\" \")","v":" "},{"$f":"'HEAVY GUN'!P90","v":0},{"$f":"'HEAVY GUN'!Q90","v":0},{"$f":"'HEAVY GUN'!R90","v":0},{"$f":"IF(ISNUMBER(O520),SUM(O520),\"99\")","v":0},{"$f":"IF(P520=0,\"99\",P520)","v":"99"},{"$f":" IF(AND(ISNUMBER(M520)),RANK(M520,$M$7:$M$606,0)+SUMPRODUCT(($M$7:$M$606=M520)*($O$7:$O$606<O520))+SUMPRODUCT(($M$7:$M$606=M520)*($O$7:$O$606=O520)*($N$7:$N$606>N520))+SUMPRODUCT(($M$7:$M$606=M520)*($O$7:$O$606=O520)*($N$7:$N$606=N520)*($A$7:$A$606<A520)),\"DQ\")","v":514},{"$f":" IF(AND(Q520>0,ISNUMBER(Q520)),RANK(Q520,$Q$7:$Q$606,1)+SUMPRODUCT(($Q$7:$Q$606=Q520)*($M$7:$M$606>M520))+SUMPRODUCT(($Q$7:$Q$606=Q520)*($M$7:$M$606=M520)*($N$7:$N$606>N520))+SUMPRODUCT(($Q$7:$Q$606=Q520)*($M$7:$M$606=M520)*($N$7:$N$606=N520)*($A$7:$A$606<A520)),\"DQ\")","v":"DQ"},null,{"$f":"'TACTICAL GUN'!B90","v":0},{"$f":"'TACTICAL GUN'!P90","v":0},{"$f":"'TACTICAL GUN'!Q90","v":0},{"$f":"'TACTICAL GUN'!R90","v":0},{"$f":"IF(ISNUMBER(X520),SUM(X520),\"99\")","v":0},{"$f":"IF(Y520=0,\"99\",Y520)","v":"99"},514,"DQ"]
[515,"target 4",{"$f":"IF('Competitor List'!J70=\"Y\",'Competitor List'!B70,\" \")","v":" "},{"$f":"'LIGHT GUN'!P91","v":0},{"$f":"'LIGHT GUN'!Q91","v":0},{"$f":"'LIGHT GUN'!R91","v":0},0,"99",515,"DQ",null,{"$f":"IF('Competitor List'!K70=\"Y\",'Competitor List'!C70,\" \")","v":" "},{"$f":"'HEAVY GUN'!P91","v":0},{"$f":"'HEAVY GUN'!Q91","v":0},{"$f":"'HEAVY GUN'!R91","v":0},0,"99",515,"DQ",null,{"$f":"'TACTICAL GUN'!B91","v":0},{"$f":"'TACTICAL GUN'!P91","v":0},{"$f":"'TACTICAL GUN'!Q91","v":0},{"$f":"'TACTICAL GUN'!R91","v":0},0,"99",515,"DQ"]
[516,"target 4",{"$f":"IF('Competitor List'!J71=\"Y\",'Competitor List'!B71,\" \")","v":" "},{"$f":"'LIGHT GUN'!P92","v":0},{"$f":"'LIGHT GUN'!Q92","v":0},{"$f":"'LIGHT GUN'!R92","v":0},0,"99",516,"DQ",null,{"$f":"IF('Competitor List'!K71=\"Y\",'Competitor List'!C71,\" \")","v":" "},{"$f":"'HEAVY GUN'!P92","v":0},{"$f":"'HEAVY GUN'!Q92","v":0},{"$f":"'HEAVY GUN'!R92","v":0},0,"99",516,"DQ",null,{"$f":"'TACTICAL GUN'!B92","v":0},{"$f":"'TACTICAL GUN'!P92","v":0},{"$f":"'TACTICAL GUN'!Q92","v":0},{"$f":"'TACTICAL GUN'!R92","v":0},0,"99",{"$f":" IF(AND(ISNUMBER(V522)),RANK(V522,$V$7:$V$606,0)+SUMPRODUCT(($V$7:$V$606=V522)*($X$7:$X$606<X522))+SUMPRODUCT(($V$7:$V$606=V522)*($X$7:$X$606=X522)*($W$7:$W$606>W522))+SUMPRODUCT(($V$7:$V$606=V522)*($X$7:$X$606=X522)*($W$7:$W$606=W522)*($A$7:$A$606<A522)),\"DQ\")","v":516},{"$f":" IF(AND(Z522>0,ISNUMBER(Z522)),RANK(Z522,$Z$7:$Z$606,1)+SUMPRODUCT(($Z$7:$Z$606=Z522)*($V$7:$V$606>V522))+SUMPRODUCT(($Z$7:$Z$606=Z522)*($V$7:$V$606=V522)*($W$7:$W$606>W522))+SUMPRODUCT(($Z$7:$Z$606=Z522)*($V$7:$V$606=V522)*($W$7:$W$606=W522)*($A$7:$A$606<A522)),\"DQ\")","v":"DQ"}]
[517,"target 4",{"$f":"IF('Competitor List'!J72=\"Y\",'Competitor List'!B72,\" \")","v":" "},{"$f":"'LIGHT GUN'!P93","v":0},{"$f":"'LIGHT GUN'!Q93","v":0},{"$f":"'LIGHT GUN'!R93","v":0},0,"99",517,"DQ",null,{"$f":"IF('Competitor List'!K72=\"Y\",'Competitor List'!C72,\" \")","v":" "},{"$f":"'HEAVY GUN'!P93","v":0},{"$f":"'HEAVY GUN'!Q93","v":0},{"$f":"'HEAVY GUN'!R93","v":0},0,"99",517,"DQ",null,{"$f":"'TACTICAL GUN'!B93","v":0},{"$f":"'TACTICAL GUN'!P93","v":0},{"$f":"'TACTICAL GUN'!Q93","v":0},{"$f":"'TACTICAL GUN'!R93","v":0},0,"99",517,"DQ"]
[518,"target 4",{"$f":"IF('Competitor List'!J73=\"Y\",'Competitor List'!B73,\" \")","v":" "},{"$f":"'LIGHT GUN'!P94","v":0},{"$f":"'LIGHT GUN'!Q94","v":0},{"$f":"'LIGHT GUN'!R94","v":0},0,"99",518,"DQ",null,{"$f":"IF('Competitor List'!K73=\"Y\",'Competitor List'!C73,\" \")","v":" "},{"$f":"'HEAVY GUN'!P94","v":0},{"$f":"'HEAVY GUN'!Q94","v":0},{"$f":"'HEAVY GUN'!R94","v":0},0,"99",518,"DQ",null,{"$f":"'TACTICAL GUN'!B94","v":0},{"$f":"'TACTICAL GUN'!P94","v":0},{"$f":"'TACTICAL GUN'!Q94","v":0},{"$f":"'TACTICAL GUN'!R94","v":0},0,"99",518,"DQ"]
[519,"target 4",{"$f":"IF('Competitor List'!J74=\"Y\",'Competitor List'!B74,\" \")","v":" "},{"$f":"'LIGHT GUN'!P95","v":0},{"$f":"'LIGHT GUN'!Q95","v":0},{"$f":"'LIGHT GUN'!R95","v":0},0,"99",519,"DQ",null,{"$f":"IF('Competitor List'!K74=\"Y\",'Competitor List'!C74,\" \")","v":" "},{"$f":"'HEAVY GUN'!P95","v":0},{"$f":"'HEAVY GUN'!Q95","v":0},{"$f":"'HEAVY GUN'!R95","v":0},0,"99",519,"DQ",null,{"$f":"'TACTICAL GUN'!B95","v":0},{"$f":"'TACTICAL GUN'!P95","v":0},{"$f":"'TACTICAL GUN'!Q95","v":0},{"$f":"'TACTICAL GUN'!R95","v":0},0,"99",519,"DQ"]
[520,"target 4",{"$f":"IF('Competitor List'!J75=\"Y\",'Competitor List'!B75,\" \")","v":" "},{"$f":"'LIGHT GUN'!P96","v":0},{"$f":"'LIGHT GUN'!Q96","v":0},{"$f":"'LIGHT GUN'!R96","v":0},0,"99",520,"DQ",null,{"$f":"IF('Competitor List'!K75=\"Y\",'Competitor List'!C75,\" \")","v":" "},{"$f":"'HEAVY GUN'!P96","v":0},{"$f":"'HEAVY GUN'!Q96","v":0},{"$f":"'HEAVY GUN'!R96","v":0},0,"99",520,"DQ",null,{"$f":"'TACTICAL GUN'!B96","v":0},{"$f":"'TACTICAL GUN'!P96","v":0},{"$f":"'TACTICAL GUN'!Q96","v":0},{"$f":"'TACTICAL GUN'!R96","v":0},0,"99",520,"DQ"]
[521,"target 4",{"$f":"IF('Competitor List'!J76=\"Y\",'Competitor List'!B76,\" \")","v":" "},{"$f":"'LIGHT GUN'!P97","v":0},{"$f":"'LIGHT GUN'!Q97","v":0},{"$f":"'LIGHT GUN'!R97","v":0},0,"99",521,"DQ",null,{"$f":"IF('Competitor List'!K76=\"Y\",'Competitor List'!C76,\" \")","v":" "},{"$f":"'HEAVY GUN'!P97","v":0},{"$f":"'HEAVY GUN'!Q97","v":0},{"$f":"'HEAVY GUN'!R97","v":0},0,"99",521,"DQ",null,{"$f":"'TACTICAL GUN'!B97","v":0},{"$f":"'TACTICAL GUN'!P97","v":0},{"$f":"'TACTICAL GUN'!Q97","v":0},{"$f":"'TACTICAL GUN'!R97","v":0},0,"99",521,"DQ"]
[522,"target 4",{"$f":"IF('Competitor List'!J77=\"Y\",'Competitor List'!B77,\" \")","v":" "},{"$f":"'LIGHT GUN'!P98","v":0},{"$f":"'LIGHT GUN'!Q98","v":0},{"$f":"'LIGHT GUN'!R98","v":0},0,"99",522,"DQ",null,{"$f":"IF('Competitor List'!K77=\"Y\",'Competitor List'!C77,\" \")","v":" "},{"$f":"'HEAVY GUN'!P98","v":0},{"$f":"'HEAVY GUN'!Q98","v":0},{"$f":"'HEAVY GUN'!R98","v":0},0,"99",522,"DQ",null,{"$f":"'TACTICAL GUN'!B98","v":0},{"$f":"'TACTICAL GUN'!P98","v":0},{"$f":"'TACTICAL GUN'!Q98","v":0},{"$f":"'TACTICAL GUN'!R98","v":0},0,"99",522,"DQ"]
[523,"target 4",{"$f":"IF('Competitor List'!J78=\"Y\",'Competitor List'!B78,\" \")","v":" "},{"$f":"'LIGHT GUN'!P99","v":0},{"$f":"'LIGHT GUN'!Q99","v":0},{"$f":"'LIGHT GUN'!R99","v":0},0,"99",523,"DQ",null,{"$f":"IF('Competitor List'!K78=\"Y\",'Competitor List'!C78,\" \")","v":" "},{"$f":"'HEAVY GUN'!P99","v":0},{"$f":"'HEAVY GUN'!Q99","v":0},{"$f":"'HEAVY GUN'!R99","v":0},0,"99",523,"DQ",null,{"$f":"'TACTICAL GUN'!B99","v":0},{"$f":"'TACTICAL GUN'!P99","v":0},{"$f":"'TACTICAL GUN'!Q99","v":0},{"$f":"'TACTICAL GUN'!R99","v":0},0,"99",523,"DQ"]
[524,"target 4",{"$f":"IF('Competitor List'!J79=\"Y\",'Competitor List'!B79,\" \")","v":" "},{"$f":"'LIGHT GUN'!P100","v":0},{"$f":"'LIGHT GUN'!Q100","v":0},{"$f":"'LIGHT GUN'!R100","v":0},0,"99",524,"DQ",null,{"$f":"IF('Competitor List'!K79=\"Y\",'Competitor List'!C79,\" \")","v":" "},{"$f":"'HEAVY GUN'!P100","v":0},{"$f":"'HEAVY GUN'!Q100","v":0},{"$f":"'HEAVY GUN'!R100","v":0},0,"99",524,"DQ",null,{"$f":"'TACTICAL GUN'!B100","v":0},{"$f":"'TACTICAL GUN'!P100","v":0},{"$f":"'TACTICAL GUN'!Q100","v":0},{"$f":"'TACTICAL GUN'!R100","v":0},0,"99",524,"DQ"]
[525,"target 4",{"$f":"IF('Competitor List'!J80=\"Y\",'Competitor List'!B80,\" \")","v":" "},{"$f":"'LIGHT GUN'!P101","v":0},{"$f":"'LIGHT GUN'!Q101","v":0},{"$f":"'LIGHT GUN'!R101","v":0},0,"99",525,"DQ",null,{"$f":"IF('Competitor List'!K80=\"Y\",'Competitor List'!C80,\" \")","v":" "},{"$f":"'HEAVY GUN'!P101","v":0},{"$f":"'HEAVY GUN'!Q101","v":0},{"$f":"'HEAVY GUN'!R101","v":0},0,"99",525,"DQ",null,{"$f":"'TACTICAL GUN'!B101","v":0},{"$f":"'TACTICAL GUN'!P101","v":0},{"$f":"'TACTICAL GUN'!Q101","v":0},{"$f":"'TACTICAL GUN'!R101","v":0},0,"99",525,"DQ"]
[526,"target 4",{"$f":"IF('Competitor List'!J81=\"Y\",'Competitor List'!B81,\" \")","v":" "},{"$f":"'LIGHT GUN'!P102","v":0},{"$f":"'LIGHT GUN'!Q102","v":0},{"$f":"'LIGHT GUN'!R102","v":0},0,"99",526,"DQ",null,{"$f":"IF('Competitor List'!K81=\"Y\",'Competitor List'!C81,\" \")","v":" "},{"$f":"'HEAVY GUN'!P102","v":0},{"$f":"'HEAVY GUN'!Q102","v":0},{"$f":"'HEAVY GUN'!R102","v":0},0,"99",526,"DQ",null,{"$f":"'TACTICAL GUN'!B102","v":0},{"$f":"'TACTICAL GUN'!P102","v":0},{"$f":"'TACTICAL GUN'!Q102","v":0},{"$f":"'TACTICAL GUN'!R102","v":0},0,"99",526,"DQ"]
[527,"target 4",{"$f":"IF('Competitor List'!J82=\"Y\",'Competitor List'!B82,\" \")","v":" "},{"$f":"'LIGHT GUN'!P103","v":0},{"$f":"'LIGHT GUN'!Q103","v":0},{"$f":"'LIGHT GUN'!R103","v":0},0,"99",527,"DQ",null,{"$f":"IF('Competitor List'!K82=\"Y\",'Competitor List'!C82,\" \")","v":" "},{"$f":"'HEAVY GUN'!P103","v":0},{"$f":"'HEAVY GUN'!Q103","v":0},{"$f":"'HEAVY GUN'!R103","v":0},0,"99",527,"DQ",null,{"$f":"'TACTICAL GUN'!B103","v":0},{"$f":"'TACTICAL GUN'!P103","v":0},{"$f":"'TACTICAL GUN'!Q103","v":0},{"$f":"'TACTICAL GUN'!R103","v":0},0,"99",527,"DQ"]
[528,"target 4",{"$f":"IF('Competitor List'!J83=\"Y\",'Competitor List'!B83,\" \")","v":" "},{"$f":"'LIGHT GUN'!P104","v":0},{"$f":"'LIGHT GUN'!Q104","v":0},{"$f":"'LIGHT GUN'!R104","v":0},0,"99",528,"DQ",null,{"$f":"IF('Competitor List'!K83=\"Y\",'Competitor List'!C83,\" \")","v":" "},{"$f":"'HEAVY GUN'!P104","v":0},{"$f":"'HEAVY GUN'!Q104","v":0},{"$f":"'HEAVY GUN'!R104","v":0},0,"99",528,"DQ",null,{"$f":"'TACTICAL GUN'!B104","v":0},{"$f":"'TACTICAL GUN'!P104","v":0},{"$f":"'TACTICAL GUN'!Q104","v":0},{"$f":"'TACTICAL GUN'!R104","v":0},0,"99",528,"DQ"]
[529,"target 4",{"$f":"IF('Competitor List'!J84=\"Y\",'Competitor List'!B84,\" \")","v":" "},{"$f":"'LIGHT GUN'!P105","v":0},{"$f":"'LIGHT GUN'!Q105","v":0},{"$f":"'LIGHT GUN'!R105","v":0},0,"99",529,"DQ",null,{"$f":"IF('Competitor List'!K84=\"Y\",'Competitor List'!C84,\" \")","v":" "},{"$f":"'HEAVY GUN'!P105","v":0},{"$f":"'HEAVY GUN'!Q105","v":0},{"$f":"'HEAVY GUN'!R105","v":0},0,"99",529,"DQ",null,{"$f":"'TACTICAL GUN'!B105","v":0},{"$f":"'TACTICAL GUN'!P105","v":0},{"$f":"'TACTICAL GUN'!Q105","v":0},{"$f":"'TACTICAL GUN'!R105","v":0},0,"99",529,"DQ"]
[530,"target 4",{"$f":"IF('Competitor List'!J85=\"Y\",'Competitor List'!B85,\" \")","v":" "},{"$f":"'LIGHT GUN'!P106","v":0},{"$f":"'LIGHT GUN'!Q106","v":0},{"$f":"'LIGHT GUN'!R106","v":0},0,"99",530,"DQ",null,{"$f":"IF('Competitor List'!K85=\"Y\",'Competitor List'!C85,\" \")","v":" "},{"$f":"'HEAVY GUN'!P106","v":0},{"$f":"'HEAVY GUN'!Q106","v":0},{"$f":"'HEAVY GUN'!R106","v":0},0,"99",530,"DQ",null,{"$f":"'TACTICAL GUN'!B106","v":0},{"$f":"'TACTICAL GUN'!P106","v":0},{"$f":"'TACTICAL GUN'!Q106","v":0},{"$f":"'TACTICAL GUN'!R106","v":0},0,"99",530,"DQ"]
[531,"target 4",{"$f":"IF('Competitor List'!J86=\"Y\",'Competitor List'!B86,\" \")","v":" "},{"$f":"'LIGHT GUN'!P107","v":0},{"$f":"'LIGHT GUN'!Q107","v":0},{"$f":"'LIGHT GUN'!R107","v":0},0,"99",531,"DQ",null,{"$f":"IF('Competitor List'!K86=\"Y\",'Competitor List'!C86,\" \")","v":" "},{"$f":"'HEAVY GUN'!P107","v":0},{"$f":"'HEAVY GUN'!Q107","v":0},{"$f":"'HEAVY GUN'!R107","v":0},0,"99",531,"DQ",null,{"$f":"'TACTICAL GUN'!B107","v":0},{"$f":"'TACTICAL GUN'!P107","v":0},{"$f":"'TACTICAL GUN'!Q107","v":0},{"$f":"'TACTICAL GUN'!R107","v":0},0,"99",531,"DQ"]
[532,"target 4",{"$f":"IF('Competitor List'!J87=\"Y\",'Competitor List'!B87,\" \")","v":" "},{"$f":"'LIGHT GUN'!P108","v":0},{"$f":"'LIGHT GUN'!Q108","v":0},{"$f":"'LIGHT GUN'!R108","v":0},0,"99",532,"DQ",null,{"$f":"IF('Competitor List'!K87=\"Y\",'Competitor List'!C87,\" \")","v":" "},{"$f":"'HEAVY GUN'!P108","v":0},{"$f":"'HEAVY GUN'!Q108","v":0},{"$f":"'HEAVY GUN'!R108","v":0},0,"99",532,"DQ",null,{"$f":"'TACTICAL GUN'!B108","v":0},{"$f":"'TACTICAL GUN'!P108","v":0},{"$f":"'TACTICAL GUN'!Q108","v":0},{"$f":"'TACTICAL GUN'!R108","v":0},0,"99",532,"DQ"]
[533,"target 4",{"$f":"IF('Competitor List'!J88=\"Y\",'Competitor List'!B88,\" \")","v":" "},{"$f":"'LIGHT GUN'!P109","v":0},{"$f":"'LIGHT GUN'!Q109","v":0},{"$f":"'LIGHT GUN'!R109","v":0},0,"99",533,"DQ",null,{"$f":"IF('Competitor List'!K88=\"Y\",'Competitor List'!C88,\" \")","v":" "},{"$f":"'HEAVY GUN'!P109","v":0},{"$f":"'HEAVY GUN'!Q109","v":0},{"$f":"'HEAVY GUN'!R109","v":0},0,"99",533,"DQ",null,{"$f":"'TACTICAL GUN'!B109","v":0},{"$f":"'TACTICAL GUN'!P109","v":0},{"$f":"'TACTICAL GUN'!Q109","v":0},{"$f":"'TACTICAL GUN'!R109","v":0},0,"99",533,"DQ"]
[534,"target 4",{"$f":"IF('Competitor List'!J89=\"Y\",'Competitor List'!B89,\" \")","v":" "},{"$f":"'LIGHT GUN'!P110","v":0},{"$f":"'LIGHT GUN'!Q110","v":0},{"$f":"'LIGHT GUN'!R110","v":0},0,"99",534,"DQ",null,{"$f":"IF('Competitor List'!K89=\"Y\",'Competitor List'!C89,\" \")","v":" "},{"$f":"'HEAVY GUN'!P110","v":0},{"$f":"'HEAVY GUN'!Q110","v":0},{"$f":"'HEAVY GUN'!R110","v":0},0,"99",534,"DQ",null,{"$f":"'TACTICAL GUN'!B110","v":0},{"$f":"'TACTICAL GUN'!P110","v":0},{"$f":"'TACTICAL GUN'!Q110","v":0},{"$f":"'TACTICAL GUN'!R110","v":0},0,"99",534,"DQ"]
[535,"target 4",{"$f":"IF('Competitor List'!J90=\"Y\",'Competitor List'!B90,\" \")","v":" "},{"$f":"'LIGHT GUN'!P111","v":0},{"$f":"'LIGHT GUN'!Q111","v":0},{"$f":"'LIGHT GUN'!R111","v":0},0,"99",535,"DQ",null,{"$f":"IF('Competitor List'!K90=\"Y\",'Competitor List'!C90,\" \")","v":" "},{"$f":"'HEAVY GUN'!P111","v":0},{"$f":"'HEAVY GUN'!Q111","v":0},{"$f":"'HEAVY GUN'!R111","v":0},0,"99",535,"DQ",null,{"$f":"'TACTICAL GUN'!B111","v":0},{"$f":"'TACTICAL GUN'!P111","v":0},{"$f":"'TACTICAL GUN'!Q111","v":0},{"$f":"'TACTICAL GUN'!R111","v":0},0,"99",535,"DQ"]
[536,"target 4",{"$f":"IF('Competitor List'!J91=\"Y\",'Competitor List'!B91,\" \")","v":" "},{"$f":"'LIGHT GUN'!P112","v":0},{"$f":"'LIGHT GUN'!Q112","v":0},{"$f":"'LIGHT GUN'!R112","v":0},0,"99",536,"DQ",null,{"$f":"IF('Competitor List'!K91=\"Y\",'Competitor List'!C91,\" \")","v":" "},{"$f":"'HEAVY GUN'!P112","v":0},{"$f":"'HEAVY GUN'!Q112","v":0},{"$f":"'HEAVY GUN'!R112","v":0},0,"99",536,"DQ",null,{"$f":"'TACTICAL GUN'!B112","v":0},{"$f":"'TACTICAL GUN'!P112","v":0},{"$f":"'TACTICAL GUN'!Q112","v":0},{"$f":"'TACTICAL GUN'!R112","v":0},0,"99",536,"DQ"]
[537,"target 4",{"$f":"IF('Competitor List'!J92=\"Y\",'Competitor List'!B92,\" \")","v":" "},{"$f":"'LIGHT GUN'!P113","v":0},{"$f":"'LIGHT GUN'!Q113","v":0},{"$f":"'LIGHT GUN'!R113","v":0},0,"99",537,"DQ",null,{"$f":"IF('Competitor List'!K92=\"Y\",'Competitor List'!C92,\" \")","v":" "},{"$f":"'HEAVY GUN'!P113","v":0},{"$f":"'HEAVY GUN'!Q113","v":0},{"$f":"'HEAVY GUN'!R113","v":0},0,"99",537,"DQ",null,{"$f":"'TACTICAL GUN'!B113","v":0},{"$f":"'TACTICAL GUN'!P113","v":0},{"$f":"'TACTICAL GUN'!Q113","v":0},{"$f":"'TACTICAL GUN'!R113","v":0},0,"99",537,"DQ"]
[538,"target 4",{"$f":"IF('Competitor List'!J93=\"Y\",'Competitor List'!B93,\" \")","v":" "},{"$f":"'LIGHT GUN'!P114","v":0},{"$f":"'LIGHT GUN'!Q114","v":0},{"$f":"'LIGHT GUN'!R114","v":0},0,"99",538,"DQ",null,{"$f":"IF('Competitor List'!K93=\"Y\",'Competitor List'!C93,\" \")","v":" "},{"$f":"'HEAVY GUN'!P114","v":0},{"$f":"'HEAVY GUN'!Q114","v":0},{"$f":"'HEAVY GUN'!R114","v":0},0,"99",538,"DQ",null,{"$f":"'TACTICAL GUN'!B114","v":0},{"$f":"'TACTICAL GUN'!P114","v":0},{"$f":"'TACTICAL GUN'!Q114","v":0},{"$f":"'TACTICAL GUN'!R114","v":0},0,"99",538,"DQ"]
[539,"target 4",{"$f":"IF('Competitor List'!J94=\"Y\",'Competitor List'!B94,\" \")","v":" "},{"$f":"'LIGHT GUN'!P115","v":0},{"$f":"'LIGHT GUN'!Q115","v":0},{"$f":"'LIGHT GUN'!R115","v":0},0,"99",539,"DQ",null,{"$f":"IF('Competitor List'!K94=\"Y\",'Competitor List'!C94,\" \")","v":" "},{"$f":"'HEAVY GUN'!P115","v":0},{"$f":"'HEAVY GUN'!Q115","v":0},{"$f":"'HEAVY GUN'!R115","v":0},0,"99",539,"DQ",null,{"$f":"'TACTICAL GUN'!B115","v":0},{"$f":"'TACTICAL GUN'!P115","v":0},{"$f":"'TACTICAL GUN'!Q115","v":0},{"$f":"'TACTICAL GUN'!R115","v":0},0,"99",539,"DQ"]
[540,"target 4",{"$f":"IF('Competitor List'!J95=\"Y\",'Competitor List'!B95,\" \")","v":" "},{"$f":"'LIGHT GUN'!P116","v":0},{"$f":"'LIGHT GUN'!Q116","v":0},{"$f":"'LIGHT GUN'!R116","v":0},0,"99",540,"DQ",null,{"$f":"IF('Competitor List'!K95=\"Y\",'Competitor List'!C95,\" \")","v":" "},{"$f":"'HEAVY GUN'!P116","v":0},{"$f":"'HEAVY GUN'!Q116","v":0},{"$f":"'HEAVY GUN'!R116","v":0},0,"99",540,"DQ",null,{"$f":"'TACTICAL GUN'!B116","v":0},{"$f":"'TACTICAL GUN'!P116","v":0},{"$f":"'TACTICAL GUN'!Q116","v":0},{"$f":"'TACTICAL GUN'!R116","v":0},0,"99",540,"DQ"]
[541,"target 4",{"$f":"IF('Competitor List'!J96=\"Y\",'Competitor List'!B96,\" \")","v":" "},{"$f":"'LIGHT GUN'!P117","v":0},{"$f":"'LIGHT GUN'!Q117","v":0},{"$f":"'LIGHT GUN'!R117","v":0},0,"99",541,"DQ",null,{"$f":"IF('Competitor List'!K96=\"Y\",'Competitor List'!C96,\" \")","v":" "},{"$f":"'HEAVY GUN'!P117","v":0},{"$f":"'HEAVY GUN'!Q117","v":0},{"$f":"'HEAVY GUN'!R117","v":0},0,"99",541,"DQ",null,{"$f":"'TACTICAL GUN'!B117","v":0},{"$f":"'TACTICAL GUN'!P117","v":0},{"$f":"'TACTICAL GUN'!Q117","v":0},{"$f":"'TACTICAL GUN'!R117","v":0},0,"99",541,"DQ"]
[542,"target 4",{"$f":"IF('Competitor List'!J97=\"Y\",'Competitor List'!B97,\" \")","v":" "},{"$f":"'LIGHT GUN'!P118","v":0},{"$f":"'LIGHT GUN'!Q118","v":0},{"$f":"'LIGHT GUN'!R118","v":0},0,"99",542,"DQ",null,{"$f":"IF('Competitor List'!K97=\"Y\",'Competitor List'!C97,\" \")","v":" "},{"$f":"'HEAVY GUN'!P118","v":0},{"$f":"'HEAVY GUN'!Q118","v":0},{"$f":"'HEAVY GUN'!R118","v":0},0,"99",542,"DQ",null,{"$f":"'TACTICAL GUN'!B118","v":0},{"$f":"'TACTICAL GUN'!P118","v":0},{"$f":"'TACTICAL GUN'!Q118","v":0},{"$f":"'TACTICAL GUN'!R118","v":0},0,"99",542,"DQ"]
[543,"target 4",{"$f":"IF('Competitor List'!J98=\"Y\",'Competitor List'!B98,\" \")","v":" "},{"$f":"'LIGHT GUN'!P119","v":0},{"$f":"'LIGHT GUN'!Q119","v":0},{"$f":"'LIGHT GUN'!R119","v":0},0,"99",543,"DQ",null,{"$f":"IF('Competitor List'!K98=\"Y\",'Competitor List'!C98,\" \")","v":" "},{"$f":"'HEAVY GUN'!P119","v":0},{"$f":"'HEAVY GUN'!Q119","v":0},{"$f":"'HEAVY GUN'!R119","v":0},0,"99",543,"DQ",null,{"$f":"'TACTICAL GUN'!B119","v":0},{"$f":"'TACTICAL GUN'!P119","v":0},{"$f":"'TACTICAL GUN'!Q119","v":0},{"$f":"'TACTICAL GUN'!R119","v":0},0,"99",543,"DQ"]
[544,"target 4",{"$f":"IF('Competitor List'!J99=\"Y\",'Competitor List'!B99,\" \")","v":" "},{"$f":"'LIGHT GUN'!P120","v":0},{"$f":"'LIGHT GUN'!Q120","v":0},{"$f":"'LIGHT GUN'!R120","v":0},0,"99",544,"DQ",null,{"$f":"IF('Competitor List'!K99=\"Y\",'Competitor List'!C99,\" \")","v":" "},{"$f":"'HEAVY GUN'!P120","v":0},{"$f":"'HEAVY GUN'!Q120","v":0},{"$f":"'HEAVY GUN'!R120","v":0},0,"99",544,"DQ",null,{"$f":"'TACTICAL GUN'!B120","v":0},{"$f":"'TACTICAL GUN'!P120","v":0},{"$f":"'TACTICAL GUN'!Q120","v":0},{"$f":"'TACTICAL GUN'!R120","v":0},0,"99",544,"DQ"]
[545,"target 4",{"$f":"IF('Competitor List'!J100=\"Y\",'Competitor List'!B100,\" \")","v":" "},{"$f":"'LIGHT GUN'!P121","v":0},{"$f":"'LIGHT GUN'!Q121","v":0},{"$f":"'LIGHT GUN'!R121","v":0},0,"99",545,"DQ",null,{"$f":"IF('Competitor List'!K100=\"Y\",'Competitor List'!C100,\" \")","v":" "},{"$f":"'HEAVY GUN'!P121","v":0},{"$f":"'HEAVY GUN'!Q121","v":0},{"$f":"'HEAVY GUN'!R121","v":0},0,"99",545,"DQ",null,{"$f":"'TACTICAL GUN'!B121","v":0},{"$f":"'TACTICAL GUN'!P121","v":0},{"$f":"'TACTICAL GUN'!Q121","v":0},{"$f":"'TACTICAL GUN'!R121","v":0},0,"99",545,"DQ"]
[546,"target 4",{"$f":"IF('Competitor List'!J101=\"Y\",'Competitor List'!B101,\" \")","v":" "},{"$f":"'LIGHT GUN'!P122","v":0},{"$f":"'LIGHT GUN'!Q122","v":0},{"$f":"'LIGHT GUN'!R122","v":0},0,"99",546,"DQ",null,{"$f":"IF('Competitor List'!K101=\"Y\",'Competitor List'!C101,\" \")","v":" "},{"$f":"'HEAVY GUN'!P122","v":0},{"$f":"'HEAVY GUN'!Q122","v":0},{"$f":"'HEAVY GUN'!R122","v":0},0,"99",546,"DQ",null,{"$f":"'TACTICAL GUN'!B122","v":0},{"$f":"'TACTICAL GUN'!P122","v":0},{"$f":"'TACTICAL GUN'!Q122","v":0},{"$f":"'TACTICAL GUN'!R122","v":0},0,"99",546,"DQ"]
[547,"target 4",{"$f":"IF('Competitor List'!J102=\"Y\",'Competitor List'!B102,\" \")","v":" "},{"$f":"'LIGHT GUN'!P123","v":0},{"$f":"'LIGHT GUN'!Q123","v":0},{"$f":"'LIGHT GUN'!R123","v":0},0,"99",547,"DQ",null,{"$f":"IF('Competitor List'!K102=\"Y\",'Competitor List'!C102,\" \")","v":" "},{"$f":"'HEAVY GUN'!P123","v":0},{"$f":"'HEAVY GUN'!Q123","v":0},{"$f":"'HEAVY GUN'!R123","v":0},0,"99",547,"DQ",null,{"$f":"'TACTICAL GUN'!B123","v":0},{"$f":"'TACTICAL GUN'!P123","v":0},{"$f":"'TACTICAL GUN'!Q123","v":0},{"$f":"'TACTICAL GUN'!R123","v":0},0,"99",547,"DQ"]
[548,"target 4",{"$f":"IF('Competitor List'!J103=\"Y\",'Competitor List'!B103,\" \")","v":" "},{"$f":"'LIGHT GUN'!P124","v":0},{"$f":"'LIGHT GUN'!Q124","v":0},{"$f":"'LIGHT GUN'!R124","v":0},0,"99",548,"DQ",null,{"$f":"IF('Competitor List'!K103=\"Y\",'Competitor List'!C103,\" \")","v":" "},{"$f":"'HEAVY GUN'!P124","v":0},{"$f":"'HEAVY GUN'!Q124","v":0},{"$f":"'HEAVY GUN'!R124","v":0},0,"99",548,"DQ",null,{"$f":"'TACTICAL GUN'!B124","v":0},{"$f":"'TACTICAL GUN'!P124","v":0},{"$f":"'TACTICAL GUN'!Q124","v":0},{"$f":"'TACTICAL GUN'!R124","v":0},0,"99",548,"DQ"]
[549,"target 4",{"$f":"IF('Competitor List'!J104=\"Y\",'Competitor List'!B104,\" \")","v":" "},{"$f":"'LIGHT GUN'!P125","v":0},{"$f":"'LIGHT GUN'!Q125","v":0},{"$f":"'LIGHT GUN'!R125","v":0},0,"99",549,"DQ",null,{"$f":"IF('Competitor List'!K104=\"Y\",'Competitor List'!C104,\" \")","v":" "},{"$f":"'HEAVY GUN'!P125","v":0},{"$f":"'HEAVY GUN'!Q125","v":0},{"$f":"'HEAVY GUN'!R125","v":0},0,"99",549,"DQ",null,{"$f":"'TACTICAL GUN'!B125","v":0},{"$f":"'TACTICAL GUN'!P125","v":0},{"$f":"'TACTICAL GUN'!Q125","v":0},{"$f":"'TACTICAL GUN'!R125","v":0},0,"99",549,"DQ"]
[550,"target 4",{"$f":"IF('Competitor List'!J105=\"Y\",'Competitor List'!B105,\" \")","v":" "},{"$f":"'LIGHT GUN'!P126","v":0},{"$f":"'LIGHT GUN'!Q126","v":0},{"$f":"'LIGHT GUN'!R126","v":0},0,"99",550,"DQ",null,{"$f":"IF('Competitor List'!K105=\"Y\",'Competitor List'!C105,\" \")","v":" "},{"$f":"'HEAVY GUN'!P126","v":0},{"$f":"'HEAVY GUN'!Q126","v":0},{"$f":"'HEAVY GUN'!R126","v":0},0,"99",550,"DQ",null,{"$f":"'TACTICAL GUN'!B126","v":0},{"$f":"'TACTICAL GUN'!P126","v":0},{"$f":"'TACTICAL GUN'!Q126","v":0},{"$f":"'TACTICAL GUN'!R126","v":0},0,"99",550,"DQ"]
[551,"target 4",{"$f":"IF('Competitor List'!J106=\"Y\",'Competitor List'!B106,\" \")","v":" "},{"$f":"'LIGHT GUN'!P127","v":0},{"$f":"'LIGHT GUN'!Q127","v":0},{"$f":"'LIGHT GUN'!R127","v":0},0,"99",551,"DQ",null,{"$f":"IF('Competitor List'!K106=\"Y\",'Competitor List'!C106,\" \")","v":" "},{"$f":"'HEAVY GUN'!P127","v":0},{"$f":"'HEAVY GUN'!Q127","v":0},{"$f":"'HEAVY GUN'!R127","v":0},0,"99",551,"DQ",null,{"$f":"'TACTICAL GUN'!B127","v":0},{"$f":"'TACTICAL GUN'!P127","v":0},{"$f":"'TACTICAL GUN'!Q127","v":0},{"$f":"'TACTICAL GUN'!R127","v":0},0,"99",551,"DQ"]
[552,"target 4",{"$f":"IF('Competitor List'!J107=\"Y\",'Competitor List'!B107,\" \")","v":" "},{"$f":"'LIGHT GUN'!P128","v":0},{"$f":"'LIGHT GUN'!Q128","v":0},{"$f":"'LIGHT GUN'!R128","v":0},0,"99",552,"DQ",null,{"$f":"IF('Competitor List'!K107=\"Y\",'Competitor List'!C107,\" \")","v":" "},{"$f":"'HEAVY GUN'!P128","v":0},{"$f":"'HEAVY GUN'!Q128","v":0},{"$f":"'HEAVY GUN'!R128","v":0},0,"99",552,"DQ",null,{"$f":"'TACTICAL GUN'!B128","v":0},{"$f":"'TACTICAL GUN'!P128","v":0},{"$f":"'TACTICAL GUN'!Q128","v":0},{"$f":"'TACTICAL GUN'!R128","v":0},0,"99",552,"DQ"]
[553,"target 4",{"$f":"IF('Competitor List'!J108=\"Y\",'Competitor List'!B108,\" \")","v":" "},{"$f":"'LIGHT GUN'!P129","v":0},{"$f":"'LIGHT GUN'!Q129","v":0},{"$f":"'LIGHT GUN'!R129","v":0},0,"99",553,"DQ",null,{"$f":"IF('Competitor List'!K108=\"Y\",'Competitor List'!C108,\" \")","v":" "},{"$f":"'HEAVY GUN'!P129","v":0},{"$f":"'HEAVY GUN'!Q129","v":0},{"$f":"'HEAVY GUN'!R129","v":0},0,"99",553,"DQ",null,{"$f":"'TACTICAL GUN'!B129","v":0},{"$f":"'TACTICAL GUN'!P129","v":0},{"$f":"'TACTICAL GUN'!Q129","v":0},{"$f":"'TACTICAL GUN'!R129","v":0},0,"99",553,"DQ"]
[554,"target 4",{"$f":"IF('Competitor List'!J109=\"Y\",'Competitor List'!B109,\" \")","v":" "},{"$f":"'LIGHT GUN'!P130","v":0},{"$f":"'LIGHT GUN'!Q130","v":0},{"$f":"'LIGHT GUN'!R130","v":0},0,"99",554,"DQ",null,{"$f":"IF('Competitor List'!K109=\"Y\",'Competitor List'!C109,\" \")","v":" "},{"$f":"'HEAVY GUN'!P130","v":0},{"$f":"'HEAVY GUN'!Q130","v":0},{"$f":"'HEAVY GUN'!R130","v":0},0,"99",554,"DQ",null,{"$f":"'TACTICAL GUN'!B130","v":0},{"$f":"'TACTICAL GUN'!P130","v":0},{"$f":"'TACTICAL GUN'!Q130","v":0},{"$f":"'TACTICAL GUN'!R130","v":0},0,"99",554,"DQ"]
[555,"target 4",{"$f":"IF('Competitor List'!J110=\"Y\",'Competitor List'!B110,\" \")","v":" "},{"$f":"'LIGHT GUN'!P131","v":0},{"$f":"'LIGHT GUN'!Q131","v":0},{"$f":"'LIGHT GUN'!R131","v":0},0,"99",555,"DQ",null,{"$f":"IF('Competitor List'!K110=\"Y\",'Competitor List'!C110,\" \")","v":" "},{"$f":"'HEAVY GUN'!P131","v":0},{"$f":"'HEAVY GUN'!Q131","v":0},{"$f":"'HEAVY GUN'!R131","v":0},0,"99",555,"DQ",null,{"$f":"'TACTICAL GUN'!B131","v":0},{"$f":"'TACTICAL GUN'!P131","v":0},{"$f":"'TACTICAL GUN'!Q131","v":0},{"$f":"'TACTICAL GUN'!R131","v":0},0,"99",555,"DQ"]
[556,"target 4",{"$f":"IF('Competitor List'!J111=\"Y\",'Competitor List'!B111,\" \")","v":" "},{"$f":"'LIGHT GUN'!P132","v":0},{"$f":"'LIGHT GUN'!Q132","v":0},{"$f":"'LIGHT GUN'!R132","v":0},0,"99",556,"DQ",null,{"$f":"IF('Competitor List'!K111=\"Y\",'Competitor List'!C111,\" \")","v":" "},{"$f":"'HEAVY GUN'!P132","v":0},{"$f":"'HEAVY GUN'!Q132","v":0},{"$f":"'HEAVY GUN'!R132","v":0},0,"99",556,"DQ",null,{"$f":"'TACTICAL GUN'!B132","v":0},{"$f":"'TACTICAL GUN'!P132","v":0},{"$f":"'TACTICAL GUN'!Q132","v":0},{"$f":"'TACTICAL GUN'!R132","v":0},0,"99",556,"DQ"]
[557,"target 4",{"$f":"IF('Competitor List'!J112=\"Y\",'Competitor List'!B112,\" \")","v":" "},{"$f":"'LIGHT GUN'!P133","v":0},{"$f":"'LIGHT GUN'!Q133","v":0},{"$f":"'LIGHT GUN'!R133","v":0},0,"99",557,"DQ",null,{"$f":"IF('Competitor List'!K112=\"Y\",'Competitor List'!C112,\" \")","v":" "},{"$f":"'HEAVY GUN'!P133","v":0},{"$f":"'HEAVY GUN'!Q133","v":0},{"$f":"'HEAVY GUN'!R133","v":0},0,"99",557,"DQ",null,{"$f":"'TACTICAL GUN'!B133","v":0},{"$f":"'TACTICAL GUN'!P133","v":0},{"$f":"'TACTICAL GUN'!Q133","v":0},{"$f":"'TACTICAL GUN'!R133","v":0},0,"99",557,"DQ"]
[558,"target 4",{"$f":"IF('Competitor List'!J113=\"Y\",'Competitor List'!B113,\" \")","v":" "},{"$f":"'LIGHT GUN'!P134","v":0},{"$f":"'LIGHT GUN'!Q134","v":0},{"$f":"'LIGHT GUN'!R134","v":0},0,"99",558,"DQ",null,{"$f":"IF('Competitor List'!K113=\"Y\",'Competitor List'!C113,\" \")","v":" "},{"$f":"'HEAVY GUN'!P134","v":0},{"$f":"'HEAVY GUN'!Q134","v":0},{"$f":"'HEAVY GUN'!R134","v":0},0,"99",558,"DQ",null,{"$f":"'TACTICAL GUN'!B134","v":0},{"$f":"'TACTICAL GUN'!P134","v":0},{"$f":"'TACTICAL GUN'!Q134","v":0},{"$f":"'TACTICAL GUN'!R134","v":0},0,"99",558,"DQ"]
[559,"target 4",{"$f":"IF('Competitor List'!J114=\"Y\",'Competitor List'!B114,\" \")","v":" "},{"$f":"'LIGHT GUN'!P135","v":0},{"$f":"'LIGHT GUN'!Q135","v":0},{"$f":"'LIGHT GUN'!R135","v":0},0,"99",559,"DQ",null,{"$f":"IF('Competitor List'!K114=\"Y\",'Competitor List'!C114,\" \")","v":" "},{"$f":"'HEAVY GUN'!P135","v":0},{"$f":"'HEAVY GUN'!Q135","v":0},{"$f":"'HEAVY GUN'!R135","v":0},0,"99",559,"DQ",null,{"$f":"'TACTICAL GUN'!B135","v":0},{"$f":"'TACTICAL GUN'!P135","v":0},{"$f":"'TACTICAL GUN'!Q135","v":0},{"$f":"'TACTICAL GUN'!R135","v":0},0,"99",559,"DQ"]
[560,"target 4",{"$f":"IF('Competitor List'!J115=\"Y\",'Competitor List'!B115,\" \")","v":" "},{"$f":"'LIGHT GUN'!P136","v":0},{"$f":"'LIGHT GUN'!Q136","v":0},{"$f":"'LIGHT GUN'!R136","v":0},0,"99",560,"DQ",null,{"$f":"IF('Competitor List'!K115=\"Y\",'Competitor List'!C115,\" \")","v":" "},{"$f":"'HEAVY GUN'!P136","v":0},{"$f":"'HEAVY GUN'!Q136","v":0},{"$f":"'HEAVY GUN'!R136","v":0},0,"99",560,"DQ",null,{"$f":"'TACTICAL GUN'!B136","v":0},{"$f":"'TACTICAL GUN'!P136","v":0},{"$f":"'TACTICAL GUN'!Q136","v":0},{"$f":"'TACTICAL GUN'!R136","v":0},0,"99",560,"DQ"]
[561,"target 4",{"$f":"IF('Competitor List'!J116=\"Y\",'Competitor List'!B116,\" \")","v":" "},{"$f":"'LIGHT GUN'!P137","v":0},{"$f":"'LIGHT GUN'!Q137","v":0},{"$f":"'LIGHT GUN'!R137","v":0},0,"99",561,"DQ",null,{"$f":"IF('Competitor List'!K116=\"Y\",'Competitor List'!C116,\" \")","v":" "},{"$f":"'HEAVY GUN'!P137","v":0},{"$f":"'HEAVY GUN'!Q137","v":0},{"$f":"'HEAVY GUN'!R137","v":0},0,"99",561,"DQ",null,{"$f":"'TACTICAL GUN'!B137","v":0},{"$f":"'TACTICAL GUN'!P137","v":0},{"$f":"'TACTICAL GUN'!Q137","v":0},{"$f":"'TACTICAL GUN'!R137","v":0},0,"99",561,"DQ"]
[562,"target 4",{"$f":"IF('Competitor List'!J117=\"Y\",'Competitor List'!B117,\" \")","v":" "},{"$f":"'LIGHT GUN'!P138","v":0},{"$f":"'LIGHT GUN'!Q138","v":0},{"$f":"'LIGHT GUN'!R138","v":0},0,"99",562,"DQ",null,{"$f":"IF('Competitor List'!K117=\"Y\",'Competitor List'!C117,\" \")","v":" "},{"$f":"'HEAVY GUN'!P138","v":0},{"$f":"'HEAVY GUN'!Q138","v":0},{"$f":"'HEAVY GUN'!R138","v":0},0,"99",562,"DQ",null,{"$f":"'TACTICAL GUN'!B138","v":0},{"$f":"'TACTICAL GUN'!P138","v":0},{"$f":"'TACTICAL GUN'!Q138","v":0},{"$f":"'TACTICAL GUN'!R138","v":0},0,"99",562,"DQ"]
[563,"target 4",{"$f":"IF('Competitor List'!J118=\"Y\",'Competitor List'!B118,\" \")","v":" "},{"$f":"'LIGHT GUN'!P139","v":0},{"$f":"'LIGHT GUN'!Q139","v":0},{"$f":"'LIGHT GUN'!R139","v":0},0,"99",563,"DQ",null,{"$f":"IF('Competitor List'!K118=\"Y\",'Competitor List'!C118,\" \")","v":" "},{"$f":"'HEAVY GUN'!P139","v":0},{"$f":"'HEAVY GUN'!Q139","v":0},{"$f":"'HEAVY GUN'!R139","v":0},0,"99",563,"DQ",null,{"$f":"'TACTICAL GUN'!B139","v":0},{"$f":"'TACTICAL GUN'!P139","v":0},{"$f":"'TACTICAL GUN'!Q139","v":0},{"$f":"'TACTICAL GUN'!R139","v":0},0,"99",563,"DQ"]
[564,"target 4",{"$f":"IF('Competitor List'!J119=\"Y\",'Competitor List'!B119,\" \")","v":" "},{"$f":"'LIGHT GUN'!P140","v":0},{"$f":"'LIGHT GUN'!Q140","v":0},{"$f":"'LIGHT GUN'!R140","v":0},0,"99",564,"DQ",null,{"$f":"IF('Competitor List'!K119=\"Y\",'Competitor List'!C119,\" \")","v":" "},{"$f":"'HEAVY GUN'!P140","v":0},{"$f":"'HEAVY GUN'!Q140","v":0},{"$f":"'HEAVY GUN'!R140","v":0},0,"99",564,"DQ",null,{"$f":"'TACTICAL GUN'!B140","v":0},{"$f":"'TACTICAL GUN'!P140","v":0},{"$f":"'TACTICAL GUN'!Q140","v":0},{"$f":"'TACTICAL GUN'!R140","v":0},0,"99",564,"DQ"]
[565,"target 4",{"$f":"IF('Competitor List'!J120=\"Y\",'Competitor List'!B120,\" \")","v":" "},{"$f":"'LIGHT GUN'!P141","v":0},{"$f":"'LIGHT GUN'!Q141","v":0},{"$f":"'LIGHT GUN'!R141","v":0},0,"99",565,"DQ",null,{"$f":"IF('Competitor List'!K120=\"Y\",'Competitor List'!C120,\" \")","v":" "},{"$f":"'HEAVY GUN'!P141","v":0},{"$f":"'HEAVY GUN'!Q141","v":0},{"$f":"'HEAVY GUN'!R141","v":0},0,"99",565,"DQ",null,{"$f":"'TACTICAL GUN'!B141","v":0},{"$f":"'TACTICAL GUN'!P141","v":0},{"$f":"'TACTICAL GUN'!Q141","v":0},{"$f":"'TACTICAL GUN'!R141","v":0},0,"99",565,"DQ"]
[566,"target 4",{"$f":"IF('Competitor List'!J121=\"Y\",'Competitor List'!B121,\" \")","v":" "},{"$f":"'LIGHT GUN'!P142","v":0},{"$f":"'LIGHT GUN'!Q142","v":0},{"$f":"'LIGHT GUN'!R142","v":0},0,"99",566,"DQ",null,{"$f":"IF('Competitor List'!K121=\"Y\",'Competitor List'!C121,\" \")","v":" "},{"$f":"'HEAVY GUN'!P142","v":0},{"$f":"'HEAVY GUN'!Q142","v":0},{"$f":"'HEAVY GUN'!R142","v":0},0,"99",566,"DQ",null,{"$f":"'TACTICAL GUN'!B142","v":0},{"$f":"'TACTICAL GUN'!P142","v":0},{"$f":"'TACTICAL GUN'!Q142","v":0},{"$f":"'TACTICAL GUN'!R142","v":0},0,"99",566,"DQ"]
[567,"target 4",{"$f":"IF('Competitor List'!J122=\"Y\",'Competitor List'!B122,\" \")","v":" "},{"$f":"'LIGHT GUN'!P143","v":0},{"$f":"'LIGHT GUN'!Q143","v":0},{"$f":"'LIGHT GUN'!R143","v":0},0,"99",567,"DQ",null,{"$f":"IF('Competitor List'!K122=\"Y\",'Competitor List'!C122,\" \")","v":" "},{"$f":"'HEAVY GUN'!P143","v":0},{"$f":"'HEAVY GUN'!Q143","v":0},{"$f":"'HEAVY GUN'!R143","v":0},0,"99",567,"DQ",null,{"$f":"'TACTICAL GUN'!B143","v":0},{"$f":"'TACTICAL GUN'!P143","v":0},{"$f":"'TACTICAL GUN'!Q143","v":0},{"$f":"'TACTICAL GUN'!R143","v":0},0,"99",567,"DQ"]
[568,"target 4",{"$f":"IF('Competitor List'!J123=\"Y\",'Competitor List'!B123,\" \")","v":" "},{"$f":"'LIGHT GUN'!P144","v":0},{"$f":"'LIGHT GUN'!Q144","v":0},{"$f":"'LIGHT GUN'!R144","v":0},0,"99",568,"DQ",null,{"$f":"IF('Competitor List'!K123=\"Y\",'Competitor List'!C123,\" \")","v":" "},{"$f":"'HEAVY GUN'!P144","v":0},{"$f":"'HEAVY GUN'!Q144","v":0},{"$f":"'HEAVY GUN'!R144","v":0},0,"99",568,"DQ",null,{"$f":"'TACTICAL GUN'!B144","v":0},{"$f":"'TACTICAL GUN'!P144","v":0},{"$f":"'TACTICAL GUN'!Q144","v":0},{"$f":"'TACTICAL GUN'!R144","v":0},0,"99",568,"DQ"]
[569,"target 4",{"$f":"IF('Competitor List'!J124=\"Y\",'Competitor List'!B124,\" \")","v":" "},{"$f":"'LIGHT GUN'!P145","v":0},{"$f":"'LIGHT GUN'!Q145","v":0},{"$f":"'LIGHT GUN'!R145","v":0},0,"99",569,"DQ",null,{"$f":"IF('Competitor List'!K124=\"Y\",'Competitor List'!C124,\" \")","v":" "},{"$f":"'HEAVY GUN'!P145","v":0},{"$f":"'HEAVY GUN'!Q145","v":0},{"$f":"'HEAVY GUN'!R145","v":0},0,"99",569,"DQ",null,{"$f":"'TACTICAL GUN'!B145","v":0},{"$f":"'TACTICAL GUN'!P145","v":0},{"$f":"'TACTICAL GUN'!Q145","v":0},{"$f":"'TACTICAL GUN'!R145","v":0},0,"99",569,"DQ"]
[570,"target 4",{"$f":"IF('Competitor List'!J125=\"Y\",'Competitor List'!B125,\" \")","v":" "},{"$f":"'LIGHT GUN'!P146","v":0},{"$f":"'LIGHT GUN'!Q146","v":0},{"$f":"'LIGHT GUN'!R146","v":0},0,"99",570,"DQ",null,{"$f":"IF('Competitor List'!K125=\"Y\",'Competitor List'!C125,\" \")","v":" "},{"$f":"'HEAVY GUN'!P146","v":0},{"$f":"'HEAVY GUN'!Q146","v":0},{"$f":"'HEAVY GUN'!R146","v":0},0,"99",570,"DQ",null,{"$f":"'TACTICAL GUN'!B146","v":0},{"$f":"'TACTICAL GUN'!P146","v":0},{"$f":"'TACTICAL GUN'!Q146","v":0},{"$f":"'TACTICAL GUN'!R146","v":0},0,"99",570,"DQ"]
[571,"target 4",{"$f":"IF('Competitor List'!J126=\"Y\",'Competitor List'!B126,\" \")","v":" "},{"$f":"'LIGHT GUN'!P147","v":0},{"$f":"'LIGHT GUN'!Q147","v":0},{"$f":"'LIGHT GUN'!R147","v":0},0,"99",571,"DQ",null,{"$f":"IF('Competitor List'!K126=\"Y\",'Competitor List'!C126,\" \")","v":" "},{"$f":"'HEAVY GUN'!P147","v":0},{"$f":"'HEAVY GUN'!Q147","v":0},{"$f":"'HEAVY GUN'!R147","v":0},0,"99",571,"DQ",null,{"$f":"'TACTICAL GUN'!B147","v":0},{"$f":"'TACTICAL GUN'!P147","v":0},{"$f":"'TACTICAL GUN'!Q147","v":0},{"$f":"'TACTICAL GUN'!R147","v":0},0,"99",571,"DQ"]
[572,"target 4",{"$f":"IF('Competitor List'!J127=\"Y\",'Competitor List'!B127,\" \")","v":" "},{"$f":"'LIGHT GUN'!P148","v":0},{"$f":"'LIGHT GUN'!Q148","v":0},{"$f":"'LIGHT GUN'!R148","v":0},0,"99",572,"DQ",null,{"$f":"IF('Competitor List'!K127=\"Y\",'Competitor List'!C127,\" \")","v":" "},{"$f":"'HEAVY GUN'!P148","v":0},{"$f":"'HEAVY GUN'!Q148","v":0},{"$f":"'HEAVY GUN'!R148","v":0},0,"99",572,"DQ",null,{"$f":"'TACTICAL GUN'!B148","v":0},{"$f":"'TACTICAL GUN'!P148","v":0},{"$f":"'TACTICAL GUN'!Q148","v":0},{"$f":"'TACTICAL GUN'!R148","v":0},0,"99",572,"DQ"]
[573,"target 4",{"$f":"IF('Competitor List'!J128=\"Y\",'Competitor List'!B128,\" \")","v":" "},{"$f":"'LIGHT GUN'!P149","v":0},{"$f":"'LIGHT GUN'!Q149","v":0},{"$f":"'LIGHT GUN'!R149","v":0},0,"99",573,"DQ",null,{"$f":"IF('Competitor List'!K128=\"Y\",'Competitor List'!C128,\" \")","v":" "},{"$f":"'HEAVY GUN'!P149","v":0},{"$f":"'HEAVY GUN'!Q149","v":0},{"$f":"'HEAVY GUN'!R149","v":0},0,"99",573,"DQ",null,{"$f":"'TACTICAL GUN'!B149","v":0},{"$f":"'TACTICAL GUN'!P149","v":0},{"$f":"'TACTICAL GUN'!Q149","v":0},{"$f":"'TACTICAL GUN'!R149","v":0},0,"99",573,"DQ"]
[574,"target 4",{"$f":"IF('Competitor List'!J129=\"Y\",'Competitor List'!B129,\" \")","v":" "},{"$f":"'LIGHT GUN'!P150","v":0},{"$f":"'LIGHT GUN'!Q150","v":0},{"$f":"'LIGHT GUN'!R150","v":0},0,"99",574,"DQ",null,{"$f":"IF('Competitor List'!K129=\"Y\",'Competitor List'!C129,\" \")","v":" "},{"$f":"'HEAVY GUN'!P150","v":0},{"$f":"'HEAVY GUN'!Q150","v":0},{"$f":"'HEAVY GUN'!R150","v":0},0,"99",574,"DQ",null,{"$f":"'TACTICAL GUN'!B150","v":0},{"$f":"'TACTICAL GUN'!P150","v":0},{"$f":"'TACTICAL GUN'!Q150","v":0},{"$f":"'TACTICAL GUN'!R150","v":0},0,"99",574,"DQ"]
[575,"target 4",{"$f":"IF('Competitor List'!J130=\"Y\",'Competitor List'!B130,\" \")","v":" "},{"$f":"'LIGHT GUN'!P151","v":0},{"$f":"'LIGHT GUN'!Q151","v":0},{"$f":"'LIGHT GUN'!R151","v":0},0,"99",575,"DQ",null,{"$f":"IF('Competitor List'!K130=\"Y\",'Competitor List'!C130,\" \")","v":" "},{"$f":"'HEAVY GUN'!P151","v":0},{"$f":"'HEAVY GUN'!Q151","v":0},{"$f":"'HEAVY GUN'!R151","v":0},0,"99",575,"DQ",null,{"$f":"'TACTICAL GUN'!B151","v":0},{"$f":"'TACTICAL GUN'!P151","v":0},{"$f":"'TACTICAL GUN'!Q151","v":0},{"$f":"'TACTICAL GUN'!R151","v":0},0,"99",575,"DQ"]
[576,"target 4",{"$f":"IF('Competitor List'!J131=\"Y\",'Competitor List'!B131,\" \")","v":" "},{"$f":"'LIGHT GUN'!P152","v":0},{"$f":"'LIGHT GUN'!Q152","v":0},{"$f":"'LIGHT GUN'!R152","v":0},0,"99",576,"DQ",null,{"$f":"IF('Competitor List'!K131=\"Y\",'Competitor List'!C131,\" \")","v":" "},{"$f":"'HEAVY GUN'!P152","v":0},{"$f":"'HEAVY GUN'!Q152","v":0},{"$f":"'HEAVY GUN'!R152","v":0},0,"99",576,"DQ",null,{"$f":"'TACTICAL GUN'!B152","v":0},{"$f":"'TACTICAL GUN'!P152","v":0},{"$f":"'TACTICAL GUN'!Q152","v":0},{"$f":"'TACTICAL GUN'!R152","v":0},0,"99",576,"DQ"]
[577,"target 4",{"$f":"IF('Competitor List'!J132=\"Y\",'Competitor List'!B132,\" \")","v":" "},{"$f":"'LIGHT GUN'!P153","v":0},{"$f":"'LIGHT GUN'!Q153","v":0},{"$f":"'LIGHT GUN'!R153","v":0},0,"99",577,"DQ",null,{"$f":"IF('Competitor List'!K132=\"Y\",'Competitor List'!C132,\" \")","v":" "},{"$f":"'HEAVY GUN'!P153","v":0},{"$f":"'HEAVY GUN'!Q153","v":0},{"$f":"'HEAVY GUN'!R153","v":0},0,"99",577,"DQ",null,{"$f":"'TACTICAL GUN'!B153","v":0},{"$f":"'TACTICAL GUN'!P153","v":0},{"$f":"'TACTICAL GUN'!Q153","v":0},{"$f":"'TACTICAL GUN'!R153","v":0},0,"99",577,"DQ"]
[578,"target 4",{"$f":"IF('Competitor List'!J133=\"Y\",'Competitor List'!B133,\" \")","v":" "},{"$f":"'LIGHT GUN'!P154","v":0},{"$f":"'LIGHT GUN'!Q154","v":0},{"$f":"'LIGHT GUN'!R154","v":0},{"$f":"IF(ISNUMBER(F584),SUM(F584),\"99\")","v":0},{"$f":"IF(G584=0,\"99\",G584)","v":"99"},{"$f":" IF(AND(ISNUMBER(D584)),RANK(D584,$D$7:$D$606,0)+SUMPRODUCT(($D$7:$D$606=D584)*($F$7:$F$606<F584))+SUMPRODUCT(($D$7:$D$606=D584)*($F$7:$F$606=F584)*($E$7:$E$606>E584))+SUMPRODUCT(($D$7:$D$606=D584)*($F$7:$F$606=F584)*($E$7:$E$606=E584)*($A$7:$A$606<A584)),\"DQ\")","v":578},{"$f":" IF(AND(ISNUMBER(H584)),RANK(H584,$H$7:$H$606,1)+SUMPRODUCT(($H$7:$H$606=H584)*($D$7:$D$606>D584))+SUMPRODUCT(($H$7:$H$606=H584)*($D$7:$D$606=D584)*($E$7:$E$606>E584))+SUMPRODUCT(($H$7:$H$606=H584)*($D$7:$D$606=D584)*($E$7:$E$606=E584)*($A$7:$A$606<A584)),\"DQ\")","v":"DQ"},null,{"$f":"IF('Competitor List'!K133=\"Y\",'Competitor List'!C133,\" \")","v":" "},{"$f":"'HEAVY GUN'!P154","v":0},{"$f":"'HEAVY GUN'!Q154","v":0},{"$f":"'HEAVY GUN'!R154","v":0},{"$f":"IF(ISNUMBER(O584),SUM(O584),\"99\")","v":0},{"$f":"IF(P584=0,\"99\",P584)","v":"99"},{"$f":" IF(AND(ISNUMBER(M584)),RANK(M584,$M$7:$M$606,0)+SUMPRODUCT(($M$7:$M$606=M584)*($O$7:$O$606<O584))+SUMPRODUCT(($M$7:$M$606=M584)*($O$7:$O$606=O584)*($N$7:$N$606>N584))+SUMPRODUCT(($M$7:$M$606=M584)*($O$7:$O$606=O584)*($N$7:$N$606=N584)*($A$7:$A$606<A584)),\"DQ\")","v":578},{"$f":" IF(AND(Q584>0,ISNUMBER(Q584)),RANK(Q584,$Q$7:$Q$606,1)+SUMPRODUCT(($Q$7:$Q$606=Q584)*($M$7:$M$606>M584))+SUMPRODUCT(($Q$7:$Q$606=Q584)*($M$7:$M$606=M584)*($N$7:$N$606>N584))+SUMPRODUCT(($Q$7:$Q$606=Q584)*($M$7:$M$606=M584)*($N$7:$N$606=N584)*($A$7:$A$606<A584)),\"DQ\")","v":"DQ"},null,{"$f":"'TACTICAL GUN'!B154","v":0},{"$f":"'TACTICAL GUN'!P154","v":0},{"$f":"'TACTICAL GUN'!Q154","v":0},{"$f":"'TACTICAL GUN'!R154","v":0},{"$f":"IF(ISNUMBER(X584),SUM(X584),\"99\")","v":0},{"$f":"IF(Y584=0,\"99\",Y584)","v":"99"},578,"DQ"]
[579,"target 4",{"$f":"IF('Competitor List'!J134=\"Y\",'Competitor List'!B134,\" \")","v":" "},{"$f":"'LIGHT GUN'!P155","v":0},{"$f":"'LIGHT GUN'!Q155","v":0},{"$f":"'LIGHT GUN'!R155","v":0},0,"99",579,"DQ",null,{"$f":"IF('Competitor List'!K134=\"Y\",'Competitor List'!C134,\" \")","v":" "},{"$f":"'HEAVY GUN'!P155","v":0},{"$f":"'HEAVY GUN'!Q155","v":0},{"$f":"'HEAVY GUN'!R155","v":0},0,"99",579,"DQ",null,{"$f":"'TACTICAL GUN'!B155","v":0},{"$f":"'TACTICAL GUN'!P155","v":0},{"$f":"'TACTICAL GUN'!Q155","v":0},{"$f":"'TACTICAL GUN'!R155","v":0},0,"99",579,"DQ"]
[580,"target 4",{"$f":"IF('Competitor List'!J135=\"Y\",'Competitor List'!B135,\" \")","v":" "},{"$f":"'LIGHT GUN'!P156","v":0},{"$f":"'LIGHT GUN'!Q156","v":0},{"$f":"'LIGHT GUN'!R156","v":0},0,"99",580,"DQ",null,{"$f":"IF('Competitor List'!K135=\"Y\",'Competitor List'!C135,\" \")","v":" "},{"$f":"'HEAVY GUN'!P156","v":0},{"$f":"'HEAVY GUN'!Q156","v":0},{"$f":"'HEAVY GUN'!R156","v":0},0,"99",580,"DQ",null,{"$f":"'TACTICAL GUN'!B156","v":0},{"$f":"'TACTICAL GUN'!P156","v":0},{"$f":"'TACTICAL GUN'!Q156","v":0},{"$f":"'TACTICAL GUN'!R156","v":0},0,"99",{"$f":" IF(AND(ISNUMBER(V586)),RANK(V586,$V$7:$V$606,0)+SUMPRODUCT(($V$7:$V$606=V586)*($X$7:$X$606<X586))+SUMPRODUCT(($V$7:$V$606=V586)*($X$7:$X$606=X586)*($W$7:$W$606>W586))+SUMPRODUCT(($V$7:$V$606=V586)*($X$7:$X$606=X586)*($W$7:$W$606=W586)*($A$7:$A$606<A586)),\"DQ\")","v":580},{"$f":" IF(AND(Z586>0,ISNUMBER(Z586)),RANK(Z586,$Z$7:$Z$606,1)+SUMPRODUCT(($Z$7:$Z$606=Z586)*($V$7:$V$606>V586))+SUMPRODUCT(($Z$7:$Z$606=Z586)*($V$7:$V$606=V586)*($W$7:$W$606>W586))+SUMPRODUCT(($Z$7:$Z$606=Z586)*($V$7:$V$606=V586)*($W$7:$W$606=W586)*($A$7:$A$606<A586)),\"DQ\")","v":"DQ"}]
[581,"target 4",{"$f":"IF('Competitor List'!J136=\"Y\",'Competitor List'!B136,\" \")","v":" "},{"$f":"'LIGHT GUN'!P157","v":0},{"$f":"'LIGHT GUN'!Q157","v":0},{"$f":"'LIGHT GUN'!R157","v":0},0,"99",581,"DQ",null,{"$f":"IF('Competitor List'!K136=\"Y\",'Competitor List'!C136,\" \")","v":" "},{"$f":"'HEAVY GUN'!P157","v":0},{"$f":"'HEAVY GUN'!Q157","v":0},{"$f":"'HEAVY GUN'!R157","v":0},0,"99",581,"DQ",null,{"$f":"'TACTICAL GUN'!B157","v":0},{"$f":"'TACTICAL GUN'!P157","v":0},{"$f":"'TACTICAL GUN'!Q157","v":0},{"$f":"'TACTICAL GUN'!R157","v":0},0,"99",581,"DQ"]
[582,"target 4",{"$f":"IF('Competitor List'!J137=\"Y\",'Competitor List'!B137,\" \")","v":" "},{"$f":"'LIGHT GUN'!P158","v":0},{"$f":"'LIGHT GUN'!Q158","v":0},{"$f":"'LIGHT GUN'!R158","v":0},0,"99",582,"DQ",null,{"$f":"IF('Competitor List'!K137=\"Y\",'Competitor List'!C137,\" \")","v":" "},{"$f":"'HEAVY GUN'!P158","v":0},{"$f":"'HEAVY GUN'!Q158","v":0},{"$f":"'HEAVY GUN'!R158","v":0},0,"99",582,"DQ",null,{"$f":"'TACTICAL GUN'!B158","v":0},{"$f":"'TACTICAL GUN'!P158","v":0},{"$f":"'TACTICAL GUN'!Q158","v":0},{"$f":"'TACTICAL GUN'!R158","v":0},0,"99",582,"DQ"]
[583,"target 4",{"$f":"IF('Competitor List'!J138=\"Y\",'Competitor List'!B138,\" \")","v":" "},{"$f":"'LIGHT GUN'!P159","v":0},{"$f":"'LIGHT GUN'!Q159","v":0},{"$f":"'LIGHT GUN'!R159","v":0},0,"99",583,"DQ",null,{"$f":"IF('Competitor List'!K138=\"Y\",'Competitor List'!C138,\" \")","v":" "},{"$f":"'HEAVY GUN'!P159","v":0},{"$f":"'HEAVY GUN'!Q159","v":0},{"$f":"'HEAVY GUN'!R159","v":0},0,"99",583,"DQ",null,{"$f":"'TACTICAL GUN'!B159","v":0},{"$f":"'TACTICAL GUN'!P159","v":0},{"$f":"'TACTICAL GUN'!Q159","v":0},{"$f":"'TACTICAL GUN'!R159","v":0},0,"99",583,"DQ"]
[584,"target 4",{"$f":"IF('Competitor List'!J139=\"Y\",'Competitor List'!B139,\" \")","v":" "},{"$f":"'LIGHT GUN'!P160","v":0},{"$f":"'LIGHT GUN'!Q160","v":0},{"$f":"'LIGHT GUN'!R160","v":0},0,"99",584,"DQ",null,{"$f":"IF('Competitor List'!K139=\"Y\",'Competitor List'!C139,\" \")","v":" "},{"$f":"'HEAVY GUN'!P160","v":0},{"$f":"'HEAVY GUN'!Q160","v":0},{"$f":"'HEAVY GUN'!R160","v":0},0,"99",584,"DQ",null,{"$f":"'TACTICAL GUN'!B160","v":0},{"$f":"'TACTICAL GUN'!P160","v":0},{"$f":"'TACTICAL GUN'!Q160","v":0},{"$f":"'TACTICAL GUN'!R160","v":0},0,"99",584,"DQ"]
[585,"target 4",{"$f":"IF('Competitor List'!J140=\"Y\",'Competitor List'!B140,\" \")","v":" "},{"$f":"'LIGHT GUN'!P161","v":0},{"$f":"'LIGHT GUN'!Q161","v":0},{"$f":"'LIGHT GUN'!R161","v":0},0,"99",585,"DQ",null,{"$f":"IF('Competitor List'!K140=\"Y\",'Competitor List'!C140,\" \")","v":" "},{"$f":"'HEAVY GUN'!P161","v":0},{"$f":"'HEAVY GUN'!Q161","v":0},{"$f":"'HEAVY GUN'!R161","v":0},0,"99",585,"DQ",null,{"$f":"'TACTICAL GUN'!B161","v":0},{"$f":"'TACTICAL GUN'!P161","v":0},{"$f":"'TACTICAL GUN'!Q161","v":0},{"$f":"'TACTICAL GUN'!R161","v":0},0,"99",585,"DQ"]
[586,"target 4",{"$f":"IF('Competitor List'!J141=\"Y\",'Competitor List'!B141,\" \")","v":" "},{"$f":"'LIGHT GUN'!P162","v":0},{"$f":"'LIGHT GUN'!Q162","v":0},{"$f":"'LIGHT GUN'!R162","v":0},0,"99",586,"DQ",null,{"$f":"IF('Competitor List'!K141=\"Y\",'Competitor List'!C141,\" \")","v":" "},{"$f":"'HEAVY GUN'!P162","v":0},{"$f":"'HEAVY GUN'!Q162","v":0},{"$f":"'HEAVY GUN'!R162","v":0},0,"99",586,"DQ",null,{"$f":"'TACTICAL GUN'!B162","v":0},{"$f":"'TACTICAL GUN'!P162","v":0},{"$f":"'TACTICAL GUN'!Q162","v":0},{"$f":"'TACTICAL GUN'!R162","v":0},0,"99",586,"DQ"]
[587,"target 4",{"$f":"IF('Competitor List'!J142=\"Y\",'Competitor List'!B142,\" \")","v":" "},{"$f":"'LIGHT GUN'!P163","v":0},{"$f":"'LIGHT GUN'!Q163","v":0},{"$f":"'LIGHT GUN'!R163","v":0},0,"99",587,"DQ",null,{"$f":"IF('Competitor List'!K142=\"Y\",'Competitor List'!C142,\" \")","v":" "},{"$f":"'HEAVY GUN'!P163","v":0},{"$f":"'HEAVY GUN'!Q163","v":0},{"$f":"'HEAVY GUN'!R163","v":0},0,"99",587,"DQ",null,{"$f":"'TACTICAL GUN'!B163","v":0},{"$f":"'TACTICAL GUN'!P163","v":0},{"$f":"'TACTICAL GUN'!Q163","v":0},{"$f":"'TACTICAL GUN'!R163","v":0},0,"99",587,"DQ"]
[588,"target 4",{"$f":"IF('Competitor List'!J143=\"Y\",'Competitor List'!B143,\" \")","v":" "},{"$f":"'LIGHT GUN'!P164","v":0},{"$f":"'LIGHT GUN'!Q164","v":0},{"$f":"'LIGHT GUN'!R164","v":0},0,"99",588,"DQ",null,{"$f":"IF('Competitor List'!K143=\"Y\",'Competitor List'!C143,\" \")","v":" "},{"$f":"'HEAVY GUN'!P164","v":0},{"$f":"'HEAVY GUN'!Q164","v":0},{"$f":"'HEAVY GUN'!R164","v":0},0,"99",588,"DQ",null,{"$f":"'TACTICAL GUN'!B164","v":0},{"$f":"'TACTICAL GUN'!P164","v":0},{"$f":"'TACTICAL GUN'!Q164","v":0},{"$f":"'TACTICAL GUN'!R164","v":0},0,"99",588,"DQ"]
[589,"target 4",{"$f":"IF('Competitor List'!J144=\"Y\",'Competitor List'!B144,\" \")","v":" "},{"$f":"'LIGHT GUN'!P165","v":0},{"$f":"'LIGHT GUN'!Q165","v":0},{"$f":"'LIGHT GUN'!R165","v":0},0,"99",589,"DQ",null,{"$f":"IF('Competitor List'!K144=\"Y\",'Competitor List'!C144,\" \")","v":" "},{"$f":"'HEAVY GUN'!P165","v":0},{"$f":"'HEAVY GUN'!Q165","v":0},{"$f":"'HEAVY GUN'!R165","v":0},0,"99",589,"DQ",null,{"$f":"'TACTICAL GUN'!B165","v":0},{"$f":"'TACTICAL GUN'!P165","v":0},{"$f":"'TACTICAL GUN'!Q165","v":0},{"$f":"'TACTICAL GUN'!R165","v":0},0,"99",589,"DQ"]
[590,"target 4",{"$f":"IF('Competitor List'!J145=\"Y\",'Competitor List'!B145,\" \")","v":" "},{"$f":"'LIGHT GUN'!P166","v":0},{"$f":"'LIGHT GUN'!Q166","v":0},{"$f":"'LIGHT GUN'!R166","v":0},0,"99",590,"DQ",null,{"$f":"IF('Competitor List'!K145=\"Y\",'Competitor List'!C145,\" \")","v":" "},{"$f":"'HEAVY GUN'!P166","v":0},{"$f":"'HEAVY GUN'!Q166","v":0},{"$f":"'HEAVY GUN'!R166","v":0},0,"99",590,"DQ",null,{"$f":"'TACTICAL GUN'!B166","v":0},{"$f":"'TACTICAL GUN'!P166","v":0},{"$f":"'TACTICAL GUN'!Q166","v":0},{"$f":"'TACTICAL GUN'!R166","v":0},0,"99",590,"DQ"]
[591,"target 4",{"$f":"IF('Competitor List'!J146=\"Y\",'Competitor List'!B146,\" \")","v":" "},{"$f":"'LIGHT GUN'!P167","v":0},{"$f":"'LIGHT GUN'!Q167","v":0},{"$f":"'LIGHT GUN'!R167","v":0},0,"99",591,"DQ",null,{"$f":"IF('Competitor List'!K146=\"Y\",'Competitor List'!C146,\" \")","v":" "},{"$f":"'HEAVY GUN'!P167","v":0},{"$f":"'HEAVY GUN'!Q167","v":0},{"$f":"'HEAVY GUN'!R167","v":0},0,"99",591,"DQ",null,{"$f":"'TACTICAL GUN'!B167","v":0},{"$f":"'TACTICAL GUN'!P167","v":0},{"$f":"'TACTICAL GUN'!Q167","v":0},{"$f":"'TACTICAL GUN'!R167","v":0},0,"99",591,"DQ"]
[592,"target 4",{"$f":"IF('Competitor List'!J147=\"Y\",'Competitor List'!B147,\" \")","v":" "},{"$f":"'LIGHT GUN'!P168","v":0},{"$f":"'LIGHT GUN'!Q168","v":0},{"$f":"'LIGHT GUN'!R168","v":0},0,"99",592,"DQ",null,{"$f":"IF('Competitor List'!K147=\"Y\",'Competitor List'!C147,\" \")","v":" "},{"$f":"'HEAVY GUN'!P168","v":0},{"$f":"'HEAVY GUN'!Q168","v":0},{"$f":"'HEAVY GUN'!R168","v":0},0,"99",592,"DQ",null,{"$f":"'TACTICAL GUN'!B168","v":0},{"$f":"'TACTICAL GUN'!P168","v":0},{"$f":"'TACTICAL GUN'!Q168","v":0},{"$f":"'TACTICAL GUN'!R168","v":0},0,"99",592,"DQ"]
[593,"target 4",{"$f":"IF('Competitor List'!J148=\"Y\",'Competitor List'!B148,\" \")","v":" "},{"$f":"'LIGHT GUN'!P169","v":0},{"$f":"'LIGHT GUN'!Q169","v":0},{"$f":"'LIGHT GUN'!R169","v":0},0,"99",593,"DQ",null,{"$f":"IF('Competitor List'!K148=\"Y\",'Competitor List'!C148,\" \")","v":" "},{"$f":"'HEAVY GUN'!P169","v":0},{"$f":"'HEAVY GUN'!Q169","v":0},{"$f":"'HEAVY GUN'!R169","v":0},0,"99",593,"DQ",null,{"$f":"'TACTICAL GUN'!B169","v":0},{"$f":"'TACTICAL GUN'!P169","v":0},{"$f":"'TACTICAL GUN'!Q169","v":0},{"$f":"'TACTICAL GUN'!R169","v":0},0,"99",593,"DQ"]
[594,"target 4",{"$f":"IF('Competitor List'!J149=\"Y\",'Competitor List'!B149,\" \")","v":" "},{"$f":"'LIGHT GUN'!P170","v":0},{"$f":"'LIGHT GUN'!Q170","v":0},{"$f":"'LIGHT GUN'!R170","v":0},0,"99",594,"DQ",null,{"$f":"IF('Competitor List'!K149=\"Y\",'Competitor List'!C149,\" \")","v":" "},{"$f":"'HEAVY GUN'!P170","v":0},{"$f":"'HEAVY GUN'!Q170","v":0},{"$f":"'HEAVY GUN'!R170","v":0},0,"99",594,"DQ",null,{"$f":"'TACTICAL GUN'!B170","v":0},{"$f":"'TACTICAL GUN'!P170","v":0},{"$f":"'TACTICAL GUN'!Q170","v":0},{"$f":"'TACTICAL GUN'!R170","v":0},0,"99",594,"DQ"]
[595,"target 4",{"$f":"IF('Competitor List'!J150=\"Y\",'Competitor List'!B150,\" \")","v":" "},{"$f":"'LIGHT GUN'!P171","v":0},{"$f":"'LIGHT GUN'!Q171","v":0},{"$f":"'LIGHT GUN'!R171","v":0},0,"99",595,"DQ",null,{"$f":"IF('Competitor List'!K150=\"Y\",'Competitor List'!C150,\" \")","v":" "},{"$f":"'HEAVY GUN'!P171","v":0},{"$f":"'HEAVY GUN'!Q171","v":0},{"$f":"'HEAVY GUN'!R171","v":0},0,"99",595,"DQ",null,{"$f":"'TACTICAL GUN'!B171","v":0},{"$f":"'TACTICAL GUN'!P171","v":0},{"$f":"'TACTICAL GUN'!Q171","v":0},{"$f":"'TACTICAL GUN'!R171","v":0},0,"99",595,"DQ"]
[596,"target 4",{"$f":"IF('Competitor List'!J151=\"Y\",'Competitor List'!B151,\" \")","v":" "},{"$f":"'LIGHT GUN'!P172","v":0},{"$f":"'LIGHT GUN'!Q172","v":0},{"$f":"'LIGHT GUN'!R172","v":0},0,"99",596,"DQ",null,{"$f":"IF('Competitor List'!K151=\"Y\",'Competitor List'!C151,\" \")","v":" "},{"$f":"'HEAVY GUN'!P172","v":0},{"$f":"'HEAVY GUN'!Q172","v":0},{"$f":"'HEAVY GUN'!R172","v":0},0,"99",596,"DQ",null,{"$f":"'TACTICAL GUN'!B172","v":0},{"$f":"'TACTICAL GUN'!P172","v":0},{"$f":"'TACTICAL GUN'!Q172","v":0},{"$f":"'TACTICAL GUN'!R172","v":0},0,"99",596,"DQ"]
[597,"target 4",{"$f":"IF('Competitor List'!J152=\"Y\",'Competitor List'!B152,\" \")","v":" "},{"$f":"'LIGHT GUN'!P173","v":0},{"$f":"'LIGHT GUN'!Q173","v":0},{"$f":"'LIGHT GUN'!R173","v":0},0,"99",597,"DQ",null,{"$f":"IF('Competitor List'!K152=\"Y\",'Competitor List'!C152,\" \")","v":" "},{"$f":"'HEAVY GUN'!P173","v":0},{"$f":"'HEAVY GUN'!Q173","v":0},{"$f":"'HEAVY GUN'!R173","v":0},0,"99",597,"DQ",null,{"$f":"'TACTICAL GUN'!B173","v":0},{"$f":"'TACTICAL GUN'!P173","v":0},{"$f":"'TACTICAL GUN'!Q173","v":0},{"$f":"'TACTICAL GUN'!R173","v":0},0,"99",597,"DQ"]
[598,"target 4",{"$f":"IF('Competitor List'!J153=\"Y\",'Competitor List'!B153,\" \")","v":" "},{"$f":"'LIGHT GUN'!P174","v":0},{"$f":"'LIGHT GUN'!Q174","v":0},{"$f":"'LIGHT GUN'!R174","v":0},0,"99",598,"DQ",null,{"$f":"IF('Competitor List'!K153=\"Y\",'Competitor List'!C153,\" \")","v":" "},{"$f":"'HEAVY GUN'!P174","v":0},{"$f":"'HEAVY GUN'!Q174","v":0},{"$f":"'HEAVY GUN'!R174","v":0},0,"99",598,"DQ",null,{"$f":"'TACTICAL GUN'!B174","v":0},{"$f":"'TACTICAL GUN'!P174","v":0},{"$f":"'TACTICAL GUN'!Q174","v":0},{"$f":"'TACTICAL GUN'!R174","v":0},0,"99",598,"DQ"]
[599,"target 4",{"$f":"IF('Competitor List'!J154=\"Y\",'Competitor List'!B154,\" \")","v":" "},{"$f":"'LIGHT GUN'!P175","v":0},{"$f":"'LIGHT GUN'!Q175","v":0},{"$f":"'LIGHT GUN'!R175","v":0},0,"99",599,"DQ",null,{"$f":"IF('Competitor List'!K154=\"Y\",'Competitor List'!C154,\" \")","v":" "},{"$f":"'HEAVY GUN'!P175","v":0},{"$f":"'HEAVY GUN'!Q175","v":0},{"$f":"'HEAVY GUN'!R175","v":0},0,"99",599,"DQ",null,{"$f":"'TACTICAL GUN'!B175","v":0},{"$f":"'TACTICAL GUN'!P175","v":0},{"$f":"'TACTICAL GUN'!Q175","v":0},{"$f":"'TACTICAL GUN'!R175","v":0},0,"99",599,"DQ"]
[600,"target 4",{"$f":"IF('Competitor List'!J155=\"Y\",'Competitor List'!B155,\" \")","v":" "},{"$f":"'LIGHT GUN'!P176","v":0},{"$f":"'LIGHT GUN'!Q176","v":0},{"$f":"'LIGHT GUN'!R176","v":0},0,"99",600,"DQ",null,{"$f":"IF('Competitor List'!K155=\"Y\",'Competitor List'!C155,\" \")","v":" "},{"$f":"'HEAVY GUN'!P176","v":0},{"$f":"'HEAVY GUN'!Q176","v":0},{"$f":"'HEAVY GUN'!R176","v":0},0,"99",600,"DQ",null,{"$f":"'TACTICAL GUN'!B176","v":0},{"$f":"'TACTICAL GUN'!P176","v":0},{"$f":"'TACTICAL GUN'!Q176","v":0},{"$f":"'TACTICAL GUN'!R176","v":0},0,"99",600,"DQ"]